{"text_format":"1","workbook":"xlsx","n_sheets":7,"sheets":["Cadastros","Passagens","Frequência CP","Abordagens","Consulta Usuário","Relatório Mensal","Sobre"],"not_rendered":{"charts":4,"images":1,"macros":1,"external_links":0,"defined_names":4,"comments":0,"pivot_tables":4},"unopened":[],"bounds":{"document_bytes":16777216,"sheet_cells":100000,"rows_first":2000,"rows_last":500,"rows_between":2000,"halvings":0,"cell_chars":16384,"cell_head_chars":4096},"cells_cut":0,"cells_raw":0,"read":"whole","date_system":"1900"}

{"sheet":"Cadastros","index":0,"n_rows":41,"n_cols":13,"rows_kept":41,"cut":false,"hidden":false,"merged":[]}
["ID","Nome","Documento","Data","CP ou M","Sexo","Cidade de referência","Data de Nascimento","Drogas","D.  Ment.","Comentários","Última passagem","id2"]
[{"$f":"ROW(A1)","v":1},"Maria do Carmo","Não apresentou","2014-05-23","CP","F","Conselheiro Lafaiete-MG","1995-01-03","N","N",null,{"$f":"LOOKUP(2,1/(Tabela.passagens[id]=Tabela.cadastro[[#This Row],[ID]]),Tabela.passagens[Data])","v":"2014-08-30"},{"$f":"Tabela.cadastro[[#This Row],[ID]]","v":1}]
[2,"José Augusto","BO: 1128-2014-0009999","2014-05-23","M","M","Rio de Janeiro ","1982-10-10","N","N",null,{"$f":"LOOKUP(2,1/(Tabela.passagens[id]=Tabela.cadastro[[#This Row],[ID]]),Tabela.passagens[Data])","v":"2014-09-04"},{"$f":"Tabela.cadastro[[#This Row],[ID]]","v":2}]
[3,"Joana Silva","BO: 1128-2014-0009998","2014-05-23","M","F","Salvador-BA","1984-08-13","N","N",null,{"$f":"LOOKUP(2,1/(Tabela.passagens[id]=Tabela.cadastro[[#This Row],[ID]]),Tabela.passagens[Data])","v":{"$error":"#N/A"}},{"$f":"Tabela.cadastro[[#This Row],[ID]]","v":3}]
[4,"João Pereira","BO: 1128-2014-0009997","2014-05-23","M","M","Murundu-BA","1972-10-09","N","N",null,{"$f":"LOOKUP(2,1/(Tabela.passagens[id]=Tabela.cadastro[[#This Row],[ID]]),Tabela.passagens[Data])","v":"2015-02-01"},{"$f":"Tabela.cadastro[[#This Row],[ID]]","v":4}]
[5,"Maria Almeida","CPF: 111.222.333-44","2014-05-27","CP","F","Ibirapuera-SP/Conselheiro Lafaiete-MG","1945-03-04","N","S",null,{"$f":"LOOKUP(2,1/(Tabela.passagens[id]=Tabela.cadastro[[#This Row],[ID]]),Tabela.passagens[Data])","v":{"$error":"#N/A"}},{"$f":"Tabela.cadastro[[#This Row],[ID]]","v":5}]
[6,"Marcos Costa","Não apresentou","2014-05-30","CP","M","Conselheiro Lafaiete-MG","2000-01-01","S","S",null,{"$f":"LOOKUP(2,1/(Tabela.passagens[id]=Tabela.cadastro[[#This Row],[ID]]),Tabela.passagens[Data])","v":"2014-09-01"},{"$f":"Tabela.cadastro[[#This Row],[ID]]","v":6}]
[7,"Alan Gomes","Não apresentou","2014-06-02","CP","M","Não quis informar","1940-01-01","S","S",null,{"$f":"LOOKUP(2,1/(Tabela.passagens[id]=Tabela.cadastro[[#This Row],[ID]]),Tabela.passagens[Data])","v":{"$error":"#N/A"}},{"$f":"Tabela.cadastro[[#This Row],[ID]]","v":7}]
[8,"Luiz Souza","RG: 11.222.333 MG","2014-06-02","M","M","Juiz de Fora-MG","1987-03-24","N","N",null,{"$f":"LOOKUP(2,1/(Tabela.passagens[id]=Tabela.cadastro[[#This Row],[ID]]),Tabela.passagens[Data])","v":"2015-01-01"},{"$f":"Tabela.cadastro[[#This Row],[ID]]","v":8}]
[9,"Tatiane Costa","RG: 11.222.333 MG","2014-06-03","M","F","Ipatinga-MG","1970-02-05","N","N",null,{"$f":"LOOKUP(2,1/(Tabela.passagens[id]=Tabela.cadastro[[#This Row],[ID]]),Tabela.passagens[Data])","v":{"$error":"#N/A"}},{"$f":"Tabela.cadastro[[#This Row],[ID]]","v":9}]
[10,"Maicon Silva","RG: 11.222.333 MG","2014-06-03","M","M","Rio de Janeiro-MG","1983-05-16","N","N",null,{"$f":"LOOKUP(2,1/(Tabela.passagens[id]=Tabela.cadastro[[#This Row],[ID]]),Tabela.passagens[Data])","v":{"$error":"#N/A"}},{"$f":"Tabela.cadastro[[#This Row],[ID]]","v":10}]
[11,"Rodolfo Gonçalvez","CPF: 111.222.333-44","2014-06-04","M","M","Barroso-MG","1982-10-06","S","N",null,{"$f":"LOOKUP(2,1/(Tabela.passagens[id]=Tabela.cadastro[[#This Row],[ID]]),Tabela.passagens[Data])","v":{"$error":"#N/A"}},{"$f":"Tabela.cadastro[[#This Row],[ID]]","v":11}]
[12,"Marina Rodrigues","RG: 11.222.333 MG","2014-06-04","M","F","Não tem","1989-03-03","S","S",null,{"$f":"LOOKUP(2,1/(Tabela.passagens[id]=Tabela.cadastro[[#This Row],[ID]]),Tabela.passagens[Data])","v":"2014-09-05"},{"$f":"Tabela.cadastro[[#This Row],[ID]]","v":12}]
[13,"Valdecir Castro","RG: 11.222.333 MG","2014-06-04","M","M","Juiz de Fora-MG","1992-12-02",null,"N",null,{"$f":"LOOKUP(2,1/(Tabela.passagens[id]=Tabela.cadastro[[#This Row],[ID]]),Tabela.passagens[Data])","v":{"$error":"#N/A"}},{"$f":"Tabela.cadastro[[#This Row],[ID]]","v":13}]
[14,"Lucas Cabral","RG: 11.222.333 MG","2014-06-04","M","F","Juiz de Fora-MG","1994-05-09","N","N",null,{"$f":"LOOKUP(2,1/(Tabela.passagens[id]=Tabela.cadastro[[#This Row],[ID]]),Tabela.passagens[Data])","v":{"$error":"#N/A"}},{"$f":"Tabela.cadastro[[#This Row],[ID]]","v":14}]
[15,"Dione Silva","CPF: 111.222.333-44","2014-06-04","M","F","Vitória- ES","1977-10-30","N","N",null,{"$f":"LOOKUP(2,1/(Tabela.passagens[id]=Tabela.cadastro[[#This Row],[ID]]),Tabela.passagens[Data])","v":{"$error":"#N/A"}},{"$f":"Tabela.cadastro[[#This Row],[ID]]","v":15}]
[16,"Vicente Pereira","RG: 11.222.333 MG","2014-06-05","M","M","Maravilhas-MG","1987-07-14","S","N",null,{"$f":"LOOKUP(2,1/(Tabela.passagens[id]=Tabela.cadastro[[#This Row],[ID]]),Tabela.passagens[Data])","v":{"$error":"#N/A"}},{"$f":"Tabela.cadastro[[#This Row],[ID]]","v":16}]
[17,"Douglas Bragança","RG: MG-8.090.047","2014-06-05","CP","M","Conselheiro Lafaiete-MG","1983-03-09","S","N",null,{"$f":"LOOKUP(2,1/(Tabela.passagens[id]=Tabela.cadastro[[#This Row],[ID]]),Tabela.passagens[Data])","v":{"$error":"#N/A"}},{"$f":"Tabela.cadastro[[#This Row],[ID]]","v":17}]
[18,"Eduardo Costa","RG: 11.222.333 MG","2014-06-05","M","M","Congonhas-MG","1980-01-01","S","S",null,{"$f":"LOOKUP(2,1/(Tabela.passagens[id]=Tabela.cadastro[[#This Row],[ID]]),Tabela.passagens[Data])","v":{"$error":"#N/A"}},{"$f":"Tabela.cadastro[[#This Row],[ID]]","v":18}]
[19,"Antonieta Belém","CPF: 111.222.333-44","2014-06-06","M","F","Espanha","1985-06-02","N","N",null,{"$f":"LOOKUP(2,1/(Tabela.passagens[id]=Tabela.cadastro[[#This Row],[ID]]),Tabela.passagens[Data])","v":{"$error":"#N/A"}},{"$f":"Tabela.cadastro[[#This Row],[ID]]","v":19}]
[20,"Josefina Andrade","RG: 11.222.333 MG","2014-06-09","M","F","N/D","1970-01-24","N","N",null,{"$f":"LOOKUP(2,1/(Tabela.passagens[id]=Tabela.cadastro[[#This Row],[ID]]),Tabela.passagens[Data])","v":"2015-03-01"},{"$f":"Tabela.cadastro[[#This Row],[ID]]","v":20}]
[21,null,null,null,null,null,null,null,null,null,null,{"$f":"LOOKUP(2,1/(Tabela.passagens[id]=Tabela.cadastro[[#This Row],[ID]]),Tabela.passagens[Data])","v":{"$error":"#N/A"}},{"$f":"Tabela.cadastro[[#This Row],[ID]]","v":21}]
[22,null,null,null,null,null,null,null,null,null,null,{"$f":"LOOKUP(2,1/(Tabela.passagens[id]=Tabela.cadastro[[#This Row],[ID]]),Tabela.passagens[Data])","v":{"$error":"#N/A"}},{"$f":"Tabela.cadastro[[#This Row],[ID]]","v":22}]
[23,null,null,null,null,null,null,null,null,null,null,{"$f":"LOOKUP(2,1/(Tabela.passagens[id]=Tabela.cadastro[[#This Row],[ID]]),Tabela.passagens[Data])","v":{"$error":"#N/A"}},{"$f":"Tabela.cadastro[[#This Row],[ID]]","v":23}]
[24,null,null,null,null,null,null,null,null,null,null,{"$f":"LOOKUP(2,1/(Tabela.passagens[id]=Tabela.cadastro[[#This Row],[ID]]),Tabela.passagens[Data])","v":{"$error":"#N/A"}},{"$f":"Tabela.cadastro[[#This Row],[ID]]","v":24}]
[25,null,null,null,null,null,null,null,null,null,null,{"$f":"LOOKUP(2,1/(Tabela.passagens[id]=Tabela.cadastro[[#This Row],[ID]]),Tabela.passagens[Data])","v":{"$error":"#N/A"}},{"$f":"Tabela.cadastro[[#This Row],[ID]]","v":25}]
[26,null,null,null,null,null,null,null,null,null,null,{"$f":"LOOKUP(2,1/(Tabela.passagens[id]=Tabela.cadastro[[#This Row],[ID]]),Tabela.passagens[Data])","v":{"$error":"#N/A"}},{"$f":"Tabela.cadastro[[#This Row],[ID]]","v":26}]
[27,null,null,null,null,null,null,null,null,null,null,{"$f":"LOOKUP(2,1/(Tabela.passagens[id]=Tabela.cadastro[[#This Row],[ID]]),Tabela.passagens[Data])","v":{"$error":"#N/A"}},{"$f":"Tabela.cadastro[[#This Row],[ID]]","v":27}]
[28,null,null,null,null,null,null,null,null,null,null,{"$f":"LOOKUP(2,1/(Tabela.passagens[id]=Tabela.cadastro[[#This Row],[ID]]),Tabela.passagens[Data])","v":{"$error":"#N/A"}},{"$f":"Tabela.cadastro[[#This Row],[ID]]","v":28}]
[29,null,null,null,null,null,null,null,null,null,null,{"$f":"LOOKUP(2,1/(Tabela.passagens[id]=Tabela.cadastro[[#This Row],[ID]]),Tabela.passagens[Data])","v":{"$error":"#N/A"}},{"$f":"Tabela.cadastro[[#This Row],[ID]]","v":29}]
[30,null,null,null,null,null,null,null,null,null,null,{"$f":"LOOKUP(2,1/(Tabela.passagens[id]=Tabela.cadastro[[#This Row],[ID]]),Tabela.passagens[Data])","v":{"$error":"#N/A"}},{"$f":"Tabela.cadastro[[#This Row],[ID]]","v":30}]
[31,null,null,null,null,null,null,null,null,null,null,{"$f":"LOOKUP(2,1/(Tabela.passagens[id]=Tabela.cadastro[[#This Row],[ID]]),Tabela.passagens[Data])","v":{"$error":"#N/A"}},{"$f":"Tabela.cadastro[[#This Row],[ID]]","v":31}]
[32,null,null,null,null,null,null,null,null,null,null,{"$f":"LOOKUP(2,1/(Tabela.passagens[id]=Tabela.cadastro[[#This Row],[ID]]),Tabela.passagens[Data])","v":{"$error":"#N/A"}},{"$f":"Tabela.cadastro[[#This Row],[ID]]","v":32}]
[33,null,null,null,null,null,null,null,null,null,null,{"$f":"LOOKUP(2,1/(Tabela.passagens[id]=Tabela.cadastro[[#This Row],[ID]]),Tabela.passagens[Data])","v":{"$error":"#N/A"}},{"$f":"Tabela.cadastro[[#This Row],[ID]]","v":33}]
[34,null,null,null,null,null,null,null,null,null,null,{"$f":"LOOKUP(2,1/(Tabela.passagens[id]=Tabela.cadastro[[#This Row],[ID]]),Tabela.passagens[Data])","v":{"$error":"#N/A"}},{"$f":"Tabela.cadastro[[#This Row],[ID]]","v":34}]
[{"$f":"ROW(A35)","v":35},null,null,null,null,null,null,null,null,null,null,{"$f":"LOOKUP(2,1/(Tabela.passagens[id]=Tabela.cadastro[[#This Row],[ID]]),Tabela.passagens[Data])","v":{"$error":"#N/A"}},{"$f":"Tabela.cadastro[[#This Row],[ID]]","v":35}]
[36,null,null,null,null,null,null,null,null,null,null,{"$f":"LOOKUP(2,1/(Tabela.passagens[id]=Tabela.cadastro[[#This Row],[ID]]),Tabela.passagens[Data])","v":{"$error":"#N/A"}},{"$f":"Tabela.cadastro[[#This Row],[ID]]","v":36}]
[37,null,null,null,null,null,null,null,null,null,null,{"$f":"LOOKUP(2,1/(Tabela.passagens[id]=Tabela.cadastro[[#This Row],[ID]]),Tabela.passagens[Data])","v":{"$error":"#N/A"}},{"$f":"Tabela.cadastro[[#This Row],[ID]]","v":37}]
[38,null,null,null,null,null,null,null,null,null,null,{"$f":"LOOKUP(2,1/(Tabela.passagens[id]=Tabela.cadastro[[#This Row],[ID]]),Tabela.passagens[Data])","v":{"$error":"#N/A"}},{"$f":"Tabela.cadastro[[#This Row],[ID]]","v":38}]
[39,null,null,null,null,null,null,null,null,null,null,{"$f":"LOOKUP(2,1/(Tabela.passagens[id]=Tabela.cadastro[[#This Row],[ID]]),Tabela.passagens[Data])","v":{"$error":"#N/A"}},{"$f":"Tabela.cadastro[[#This Row],[ID]]","v":39}]
[40,null,null,null,null,null,null,null,null,null,null,{"$f":"LOOKUP(2,1/(Tabela.passagens[id]=Tabela.cadastro[[#This Row],[ID]]),Tabela.passagens[Data])","v":{"$error":"#N/A"}},{"$f":"Tabela.cadastro[[#This Row],[ID]]","v":40}]

{"sheet":"Passagens","index":1,"n_rows":32,"n_cols":7,"rows_kept":32,"cut":false,"hidden":false,"merged":[]}
["id","Nome","Documento","Nº passagem","Destino","Data","Observações"]
[1,{"$f":"VLOOKUP(Tabela.passagens[[#This Row],[id]],Tabela.cadastro[],2)","v":"Maria do Carmo"},{"$f":"VLOOKUP(Tabela.passagens[[#This Row],[id]],Tabela.cadastro[],3)","v":"Não apresentou"},5733,"Juiz de Fora","2014-08-30"]
[4,{"$f":"VLOOKUP(Tabela.passagens[[#This Row],[id]],Tabela.cadastro[],2)","v":"João Pereira"},{"$f":"VLOOKUP(Tabela.passagens[[#This Row],[id]],Tabela.cadastro[],3)","v":"BO: 1128-2014-0009997"},5734,"Belo horizonte","2014-08-31"]
[6,{"$f":"VLOOKUP(Tabela.passagens[[#This Row],[id]],Tabela.cadastro[],2)","v":"Marcos Costa"},{"$f":"VLOOKUP(Tabela.passagens[[#This Row],[id]],Tabela.cadastro[],3)","v":"Não apresentou"},5735,"Barbacena","2014-09-01"]
[8,{"$f":"VLOOKUP(Tabela.passagens[[#This Row],[id]],Tabela.cadastro[],2)","v":"Luiz Souza"},{"$f":"VLOOKUP(Tabela.passagens[[#This Row],[id]],Tabela.cadastro[],3)","v":"RG: 11.222.333 MG"},5736,"Congonhas","2014-09-02"]
[4,{"$f":"VLOOKUP(Tabela.passagens[[#This Row],[id]],Tabela.cadastro[],2)","v":"João Pereira"},{"$f":"VLOOKUP(Tabela.passagens[[#This Row],[id]],Tabela.cadastro[],3)","v":"BO: 1128-2014-0009997"},5737,"Juiz de Fora","2014-09-03"]
[2,{"$f":"VLOOKUP(Tabela.passagens[[#This Row],[id]],Tabela.cadastro[],2)","v":"José Augusto"},{"$f":"VLOOKUP(Tabela.passagens[[#This Row],[id]],Tabela.cadastro[],3)","v":"BO: 1128-2014-0009999"},5738,"Belo horizonte","2014-09-04"]
[12,{"$f":"VLOOKUP(Tabela.passagens[[#This Row],[id]],Tabela.cadastro[],2)","v":"Marina Rodrigues"},{"$f":"VLOOKUP(Tabela.passagens[[#This Row],[id]],Tabela.cadastro[],3)","v":"RG: 11.222.333 MG"},5739,"Barbacena","2014-09-05"]
[8,{"$f":"VLOOKUP(Tabela.passagens[[#This Row],[id]],Tabela.cadastro[],2)","v":"Luiz Souza"},{"$f":"VLOOKUP(Tabela.passagens[[#This Row],[id]],Tabela.cadastro[],3)","v":"RG: 11.222.333 MG"},5740,"Congonhas","2015-01-01"]
[4,{"$f":"VLOOKUP(Tabela.passagens[[#This Row],[id]],Tabela.cadastro[],2)","v":"João Pereira"},{"$f":"VLOOKUP(Tabela.passagens[[#This Row],[id]],Tabela.cadastro[],3)","v":"BO: 1128-2014-0009997"},5741,"Juiz de Fora","2015-02-01"]
[20,{"$f":"VLOOKUP(Tabela.passagens[[#This Row],[id]],Tabela.cadastro[],2)","v":"Josefina Andrade"},{"$f":"VLOOKUP(Tabela.passagens[[#This Row],[id]],Tabela.cadastro[],3)","v":"RG: 11.222.333 MG"},5742,"Belo horizonte","2015-03-01"]
[null,{"$f":"VLOOKUP(Tabela.passagens[[#This Row],[id]],Tabela.cadastro[],2)","v":{"$error":"#N/A"}},{"$f":"VLOOKUP(Tabela.passagens[[#This Row],[id]],Tabela.cadastro[],3)","v":{"$error":"#N/A"}},5743]
[null,{"$f":"VLOOKUP(Tabela.passagens[[#This Row],[id]],Tabela.cadastro[],2)","v":{"$error":"#N/A"}},{"$f":"VLOOKUP(Tabela.passagens[[#This Row],[id]],Tabela.cadastro[],3)","v":{"$error":"#N/A"}},5744]
[null,{"$f":"VLOOKUP(Tabela.passagens[[#This Row],[id]],Tabela.cadastro[],2)","v":{"$error":"#N/A"}},{"$f":"VLOOKUP(Tabela.passagens[[#This Row],[id]],Tabela.cadastro[],3)","v":{"$error":"#N/A"}},5745]
[null,{"$f":"VLOOKUP(Tabela.passagens[[#This Row],[id]],Tabela.cadastro[],2)","v":{"$error":"#N/A"}},{"$f":"VLOOKUP(Tabela.passagens[[#This Row],[id]],Tabela.cadastro[],3)","v":{"$error":"#N/A"}},5746]
[null,{"$f":"VLOOKUP(Tabela.passagens[[#This Row],[id]],Tabela.cadastro[],2)","v":{"$error":"#N/A"}},{"$f":"VLOOKUP(Tabela.passagens[[#This Row],[id]],Tabela.cadastro[],3)","v":{"$error":"#N/A"}},5747]
[null,{"$f":"VLOOKUP(Tabela.passagens[[#This Row],[id]],Tabela.cadastro[],2)","v":{"$error":"#N/A"}},{"$f":"VLOOKUP(Tabela.passagens[[#This Row],[id]],Tabela.cadastro[],3)","v":{"$error":"#N/A"}},5748]
[null,{"$f":"VLOOKUP(Tabela.passagens[[#This Row],[id]],Tabela.cadastro[],2)","v":{"$error":"#N/A"}},{"$f":"VLOOKUP(Tabela.passagens[[#This Row],[id]],Tabela.cadastro[],3)","v":{"$error":"#N/A"}},5749]
[null,{"$f":"VLOOKUP(Tabela.passagens[[#This Row],[id]],Tabela.cadastro[],2)","v":{"$error":"#N/A"}},{"$f":"VLOOKUP(Tabela.passagens[[#This Row],[id]],Tabela.cadastro[],3)","v":{"$error":"#N/A"}},5750]
[null,{"$f":"VLOOKUP(Tabela.passagens[[#This Row],[id]],Tabela.cadastro[],2)","v":{"$error":"#N/A"}},{"$f":"VLOOKUP(Tabela.passagens[[#This Row],[id]],Tabela.cadastro[],3)","v":{"$error":"#N/A"}},5751]
[null,{"$f":"VLOOKUP(Tabela.passagens[[#This Row],[id]],Tabela.cadastro[],2)","v":{"$error":"#N/A"}},{"$f":"VLOOKUP(Tabela.passagens[[#This Row],[id]],Tabela.cadastro[],3)","v":{"$error":"#N/A"}},5752]
[null,{"$f":"VLOOKUP(Tabela.passagens[[#This Row],[id]],Tabela.cadastro[],2)","v":{"$error":"#N/A"}},{"$f":"VLOOKUP(Tabela.passagens[[#This Row],[id]],Tabela.cadastro[],3)","v":{"$error":"#N/A"}},5753]
[null,{"$f":"VLOOKUP(Tabela.passagens[[#This Row],[id]],Tabela.cadastro[],2)","v":{"$error":"#N/A"}},{"$f":"VLOOKUP(Tabela.passagens[[#This Row],[id]],Tabela.cadastro[],3)","v":{"$error":"#N/A"}},5754]
[null,{"$f":"VLOOKUP(Tabela.passagens[[#This Row],[id]],Tabela.cadastro[],2)","v":{"$error":"#N/A"}},{"$f":"VLOOKUP(Tabela.passagens[[#This Row],[id]],Tabela.cadastro[],3)","v":{"$error":"#N/A"}},5755]
[null,{"$f":"VLOOKUP(Tabela.passagens[[#This Row],[id]],Tabela.cadastro[],2)","v":{"$error":"#N/A"}},{"$f":"VLOOKUP(Tabela.passagens[[#This Row],[id]],Tabela.cadastro[],3)","v":{"$error":"#N/A"}},5756]
[null,{"$f":"VLOOKUP(Tabela.passagens[[#This Row],[id]],Tabela.cadastro[],2)","v":{"$error":"#N/A"}},{"$f":"VLOOKUP(Tabela.passagens[[#This Row],[id]],Tabela.cadastro[],3)","v":{"$error":"#N/A"}},5757]
[null,{"$f":"VLOOKUP(Tabela.passagens[[#This Row],[id]],Tabela.cadastro[],2)","v":{"$error":"#N/A"}},{"$f":"VLOOKUP(Tabela.passagens[[#This Row],[id]],Tabela.cadastro[],3)","v":{"$error":"#N/A"}},5758]
[null,{"$f":"VLOOKUP(Tabela.passagens[[#This Row],[id]],Tabela.cadastro[],2)","v":{"$error":"#N/A"}},{"$f":"VLOOKUP(Tabela.passagens[[#This Row],[id]],Tabela.cadastro[],3)","v":{"$error":"#N/A"}},5759]
[null,{"$f":"VLOOKUP(Tabela.passagens[[#This Row],[id]],Tabela.cadastro[],2)","v":{"$error":"#N/A"}},{"$f":"VLOOKUP(Tabela.passagens[[#This Row],[id]],Tabela.cadastro[],3)","v":{"$error":"#N/A"}},5760]
[null,{"$f":"VLOOKUP(Tabela.passagens[[#This Row],[id]],Tabela.cadastro[],2)","v":{"$error":"#N/A"}},{"$f":"VLOOKUP(Tabela.passagens[[#This Row],[id]],Tabela.cadastro[],3)","v":{"$error":"#N/A"}},5761]
[null,{"$f":"VLOOKUP(Tabela.passagens[[#This Row],[id]],Tabela.cadastro[],2)","v":{"$error":"#N/A"}},{"$f":"VLOOKUP(Tabela.passagens[[#This Row],[id]],Tabela.cadastro[],3)","v":{"$error":"#N/A"}},5762]
[null,{"$f":"VLOOKUP(Tabela.passagens[[#This Row],[id]],Tabela.cadastro[],2)","v":{"$error":"#N/A"}},{"$f":"VLOOKUP(Tabela.passagens[[#This Row],[id]],Tabela.cadastro[],3)","v":{"$error":"#N/A"}}]

{"sheet":"Frequência CP","index":2,"n_rows":212,"n_cols":5,"rows_kept":212,"cut":false,"hidden":false,"merged":[]}
["id","Usuário","Data","Idade","Mês"]
[{"$f":"IFERROR(VLOOKUP(Tabela.frequencia[[#This Row],[Usuário]],Tabela.cadastro[[Nome]:[id2]],12,0),\"\")","v":1},"Maria do Carmo","2014-07-01",{"$f":"ROUNDDOWN(((Tabela.frequencia[[#This Row],[Data]]-VLOOKUP(Tabela.frequencia[[#This Row],[Usuário]],Tabela.cadastro[[Nome]:[id2]],7,0))/365.25),0)","v":19},{"$f":"IF(LOWER(TEXT(Tabela.frequencia[[#This Row],[Data]],\"MMMM\")) & \"/\" & YEAR(Tabela.frequencia[[#This Row],[Data]])=\"janeiro/1900\",\"\",LOWER(TEXT(Tabela.frequencia[[#This Row],[Data]],\"MMM\")) & \"/\" & TEXT(Tabela.frequencia[[#This Row],[Data]],\"AA\"))","v":"jul/14"}]
[{"$f":"IFERROR(VLOOKUP(Tabela.frequencia[[#This Row],[Usuário]],Tabela.cadastro[[Nome]:[id2]],12,0),\"\")","v":2},"José Augusto","2014-07-01",{"$f":"ROUNDDOWN(((Tabela.frequencia[[#This Row],[Data]]-VLOOKUP(Tabela.frequencia[[#This Row],[Usuário]],Tabela.cadastro[[Nome]:[id2]],7,0))/365.25),0)","v":31},{"$f":"IF(LOWER(TEXT(Tabela.frequencia[[#This Row],[Data]],\"MMMM\")) & \"/\" & YEAR(Tabela.frequencia[[#This Row],[Data]])=\"janeiro/1900\",\"\",LOWER(TEXT(Tabela.frequencia[[#This Row],[Data]],\"MMM\")) & \"/\" & TEXT(Tabela.frequencia[[#This Row],[Data]],\"AA\"))","v":"jul/14"}]
[{"$f":"IFERROR(VLOOKUP(Tabela.frequencia[[#This Row],[Usuário]],Tabela.cadastro[[Nome]:[id2]],12,0),\"\")","v":3},"Joana Silva","2014-07-01",{"$f":"ROUNDDOWN(((Tabela.frequencia[[#This Row],[Data]]-VLOOKUP(Tabela.frequencia[[#This Row],[Usuário]],Tabela.cadastro[[Nome]:[id2]],7,0))/365.25),0)","v":29},{"$f":"IF(LOWER(TEXT(Tabela.frequencia[[#This Row],[Data]],\"MMMM\")) & \"/\" & YEAR(Tabela.frequencia[[#This Row],[Data]])=\"janeiro/1900\",\"\",LOWER(TEXT(Tabela.frequencia[[#This Row],[Data]],\"MMM\")) & \"/\" & TEXT(Tabela.frequencia[[#This Row],[Data]],\"AA\"))","v":"jul/14"}]
[{"$f":"IFERROR(VLOOKUP(Tabela.frequencia[[#This Row],[Usuário]],Tabela.cadastro[[Nome]:[id2]],12,0),\"\")","v":4},"João Pereira","2014-07-01",{"$f":"ROUNDDOWN(((Tabela.frequencia[[#This Row],[Data]]-VLOOKUP(Tabela.frequencia[[#This Row],[Usuário]],Tabela.cadastro[[Nome]:[id2]],7,0))/365.25),0)","v":41},{"$f":"IF(LOWER(TEXT(Tabela.frequencia[[#This Row],[Data]],\"MMMM\")) & \"/\" & YEAR(Tabela.frequencia[[#This Row],[Data]])=\"janeiro/1900\",\"\",LOWER(TEXT(Tabela.frequencia[[#This Row],[Data]],\"MMM\")) & \"/\" & TEXT(Tabela.frequencia[[#This Row],[Data]],\"AA\"))","v":"jul/14"}]
[{"$f":"IFERROR(VLOOKUP(Tabela.frequencia[[#This Row],[Usuário]],Tabela.cadastro[[Nome]:[id2]],12,0),\"\")","v":5},"Maria Almeida","2014-07-01",{"$f":"ROUNDDOWN(((Tabela.frequencia[[#This Row],[Data]]-VLOOKUP(Tabela.frequencia[[#This Row],[Usuário]],Tabela.cadastro[[Nome]:[id2]],7,0))/365.25),0)","v":69},{"$f":"IF(LOWER(TEXT(Tabela.frequencia[[#This Row],[Data]],\"MMMM\")) & \"/\" & YEAR(Tabela.frequencia[[#This Row],[Data]])=\"janeiro/1900\",\"\",LOWER(TEXT(Tabela.frequencia[[#This Row],[Data]],\"MMM\")) & \"/\" & TEXT(Tabela.frequencia[[#This Row],[Data]],\"AA\"))","v":"jul/14"}]
[{"$f":"IFERROR(VLOOKUP(Tabela.frequencia[[#This Row],[Usuário]],Tabela.cadastro[[Nome]:[id2]],12,0),\"\")","v":6},"Marcos Costa","2014-07-01",{"$f":"ROUNDDOWN(((Tabela.frequencia[[#This Row],[Data]]-VLOOKUP(Tabela.frequencia[[#This Row],[Usuário]],Tabela.cadastro[[Nome]:[id2]],7,0))/365.25),0)","v":14},{"$f":"IF(LOWER(TEXT(Tabela.frequencia[[#This Row],[Data]],\"MMMM\")) & \"/\" & YEAR(Tabela.frequencia[[#This Row],[Data]])=\"janeiro/1900\",\"\",LOWER(TEXT(Tabela.frequencia[[#This Row],[Data]],\"MMM\")) & \"/\" & TEXT(Tabela.frequencia[[#This Row],[Data]],\"AA\"))","v":"jul/14"}]
[{"$f":"IFERROR(VLOOKUP(Tabela.frequencia[[#This Row],[Usuário]],Tabela.cadastro[[Nome]:[id2]],12,0),\"\")","v":7},"Alan Gomes","2014-07-01",{"$f":"ROUNDDOWN(((Tabela.frequencia[[#This Row],[Data]]-VLOOKUP(Tabela.frequencia[[#This Row],[Usuário]],Tabela.cadastro[[Nome]:[id2]],7,0))/365.25),0)","v":74},{"$f":"IF(LOWER(TEXT(Tabela.frequencia[[#This Row],[Data]],\"MMMM\")) & \"/\" & YEAR(Tabela.frequencia[[#This Row],[Data]])=\"janeiro/1900\",\"\",LOWER(TEXT(Tabela.frequencia[[#This Row],[Data]],\"MMM\")) & \"/\" & TEXT(Tabela.frequencia[[#This Row],[Data]],\"AA\"))","v":"jul/14"}]
[{"$f":"IFERROR(VLOOKUP(Tabela.frequencia[[#This Row],[Usuário]],Tabela.cadastro[[Nome]:[id2]],12,0),\"\")","v":8},"Luiz Souza","2014-07-01",{"$f":"ROUNDDOWN(((Tabela.frequencia[[#This Row],[Data]]-VLOOKUP(Tabela.frequencia[[#This Row],[Usuário]],Tabela.cadastro[[Nome]:[id2]],7,0))/365.25),0)","v":27},{"$f":"IF(LOWER(TEXT(Tabela.frequencia[[#This Row],[Data]],\"MMMM\")) & \"/\" & YEAR(Tabela.frequencia[[#This Row],[Data]])=\"janeiro/1900\",\"\",LOWER(TEXT(Tabela.frequencia[[#This Row],[Data]],\"MMM\")) & \"/\" & TEXT(Tabela.frequencia[[#This Row],[Data]],\"AA\"))","v":"jul/14"}]
[{"$f":"IFERROR(VLOOKUP(Tabela.frequencia[[#This Row],[Usuário]],Tabela.cadastro[[Nome]:[id2]],12,0),\"\")","v":9},"Tatiane Costa","2014-07-01",{"$f":"ROUNDDOWN(((Tabela.frequencia[[#This Row],[Data]]-VLOOKUP(Tabela.frequencia[[#This Row],[Usuário]],Tabela.cadastro[[Nome]:[id2]],7,0))/365.25),0)","v":44},{"$f":"IF(LOWER(TEXT(Tabela.frequencia[[#This Row],[Data]],\"MMMM\")) & \"/\" & YEAR(Tabela.frequencia[[#This Row],[Data]])=\"janeiro/1900\",\"\",LOWER(TEXT(Tabela.frequencia[[#This Row],[Data]],\"MMM\")) & \"/\" & TEXT(Tabela.frequencia[[#This Row],[Data]],\"AA\"))","v":"jul/14"}]
[{"$f":"IFERROR(VLOOKUP(Tabela.frequencia[[#This Row],[Usuário]],Tabela.cadastro[[Nome]:[id2]],12,0),\"\")","v":10},"Maicon Silva","2014-07-01",{"$f":"ROUNDDOWN(((Tabela.frequencia[[#This Row],[Data]]-VLOOKUP(Tabela.frequencia[[#This Row],[Usuário]],Tabela.cadastro[[Nome]:[id2]],7,0))/365.25),0)","v":31},{"$f":"IF(LOWER(TEXT(Tabela.frequencia[[#This Row],[Data]],\"MMMM\")) & \"/\" & YEAR(Tabela.frequencia[[#This Row],[Data]])=\"janeiro/1900\",\"\",LOWER(TEXT(Tabela.frequencia[[#This Row],[Data]],\"MMM\")) & \"/\" & TEXT(Tabela.frequencia[[#This Row],[Data]],\"AA\"))","v":"jul/14"}]
[{"$f":"IFERROR(VLOOKUP(Tabela.frequencia[[#This Row],[Usuário]],Tabela.cadastro[[Nome]:[id2]],12,0),\"\")","v":11},"Rodolfo Gonçalvez","2014-07-01",{"$f":"ROUNDDOWN(((Tabela.frequencia[[#This Row],[Data]]-VLOOKUP(Tabela.frequencia[[#This Row],[Usuário]],Tabela.cadastro[[Nome]:[id2]],7,0))/365.25),0)","v":31},{"$f":"IF(LOWER(TEXT(Tabela.frequencia[[#This Row],[Data]],\"MMMM\")) & \"/\" & YEAR(Tabela.frequencia[[#This Row],[Data]])=\"janeiro/1900\",\"\",LOWER(TEXT(Tabela.frequencia[[#This Row],[Data]],\"MMM\")) & \"/\" & TEXT(Tabela.frequencia[[#This Row],[Data]],\"AA\"))","v":"jul/14"}]
[{"$f":"IFERROR(VLOOKUP(Tabela.frequencia[[#This Row],[Usuário]],Tabela.cadastro[[Nome]:[id2]],12,0),\"\")","v":12},"Marina Rodrigues","2014-07-01",{"$f":"ROUNDDOWN(((Tabela.frequencia[[#This Row],[Data]]-VLOOKUP(Tabela.frequencia[[#This Row],[Usuário]],Tabela.cadastro[[Nome]:[id2]],7,0))/365.25),0)","v":25},{"$f":"IF(LOWER(TEXT(Tabela.frequencia[[#This Row],[Data]],\"MMMM\")) & \"/\" & YEAR(Tabela.frequencia[[#This Row],[Data]])=\"janeiro/1900\",\"\",LOWER(TEXT(Tabela.frequencia[[#This Row],[Data]],\"MMM\")) & \"/\" & TEXT(Tabela.frequencia[[#This Row],[Data]],\"AA\"))","v":"jul/14"}]
[{"$f":"IFERROR(VLOOKUP(Tabela.frequencia[[#This Row],[Usuário]],Tabela.cadastro[[Nome]:[id2]],12,0),\"\")","v":13},"Valdecir Castro","2014-07-01",{"$f":"ROUNDDOWN(((Tabela.frequencia[[#This Row],[Data]]-VLOOKUP(Tabela.frequencia[[#This Row],[Usuário]],Tabela.cadastro[[Nome]:[id2]],7,0))/365.25),0)","v":21},{"$f":"IF(LOWER(TEXT(Tabela.frequencia[[#This Row],[Data]],\"MMMM\")) & \"/\" & YEAR(Tabela.frequencia[[#This Row],[Data]])=\"janeiro/1900\",\"\",LOWER(TEXT(Tabela.frequencia[[#This Row],[Data]],\"MMM\")) & \"/\" & TEXT(Tabela.frequencia[[#This Row],[Data]],\"AA\"))","v":"jul/14"}]
[{"$f":"IFERROR(VLOOKUP(Tabela.frequencia[[#This Row],[Usuário]],Tabela.cadastro[[Nome]:[id2]],12,0),\"\")","v":14},"Lucas Cabral","2014-07-01",{"$f":"ROUNDDOWN(((Tabela.frequencia[[#This Row],[Data]]-VLOOKUP(Tabela.frequencia[[#This Row],[Usuário]],Tabela.cadastro[[Nome]:[id2]],7,0))/365.25),0)","v":20},{"$f":"IF(LOWER(TEXT(Tabela.frequencia[[#This Row],[Data]],\"MMMM\")) & \"/\" & YEAR(Tabela.frequencia[[#This Row],[Data]])=\"janeiro/1900\",\"\",LOWER(TEXT(Tabela.frequencia[[#This Row],[Data]],\"MMM\")) & \"/\" & TEXT(Tabela.frequencia[[#This Row],[Data]],\"AA\"))","v":"jul/14"}]
[{"$f":"IFERROR(VLOOKUP(Tabela.frequencia[[#This Row],[Usuário]],Tabela.cadastro[[Nome]:[id2]],12,0),\"\")","v":15},"Dione Silva","2014-07-01",{"$f":"ROUNDDOWN(((Tabela.frequencia[[#This Row],[Data]]-VLOOKUP(Tabela.frequencia[[#This Row],[Usuário]],Tabela.cadastro[[Nome]:[id2]],7,0))/365.25),0)","v":36},{"$f":"IF(LOWER(TEXT(Tabela.frequencia[[#This Row],[Data]],\"MMMM\")) & \"/\" & YEAR(Tabela.frequencia[[#This Row],[Data]])=\"janeiro/1900\",\"\",LOWER(TEXT(Tabela.frequencia[[#This Row],[Data]],\"MMM\")) & \"/\" & TEXT(Tabela.frequencia[[#This Row],[Data]],\"AA\"))","v":"jul/14"}]
[{"$f":"IFERROR(VLOOKUP(Tabela.frequencia[[#This Row],[Usuário]],Tabela.cadastro[[Nome]:[id2]],12,0),\"\")","v":16},"Vicente Pereira","2014-07-01",{"$f":"ROUNDDOWN(((Tabela.frequencia[[#This Row],[Data]]-VLOOKUP(Tabela.frequencia[[#This Row],[Usuário]],Tabela.cadastro[[Nome]:[id2]],7,0))/365.25),0)","v":26},{"$f":"IF(LOWER(TEXT(Tabela.frequencia[[#This Row],[Data]],\"MMMM\")) & \"/\" & YEAR(Tabela.frequencia[[#This Row],[Data]])=\"janeiro/1900\",\"\",LOWER(TEXT(Tabela.frequencia[[#This Row],[Data]],\"MMM\")) & \"/\" & TEXT(Tabela.frequencia[[#This Row],[Data]],\"AA\"))","v":"jul/14"}]
[{"$f":"IFERROR(VLOOKUP(Tabela.frequencia[[#This Row],[Usuário]],Tabela.cadastro[[Nome]:[id2]],12,0),\"\")","v":17},"Douglas Bragança","2014-07-01",{"$f":"ROUNDDOWN(((Tabela.frequencia[[#This Row],[Data]]-VLOOKUP(Tabela.frequencia[[#This Row],[Usuário]],Tabela.cadastro[[Nome]:[id2]],7,0))/365.25),0)","v":31},{"$f":"IF(LOWER(TEXT(Tabela.frequencia[[#This Row],[Data]],\"MMMM\")) & \"/\" & YEAR(Tabela.frequencia[[#This Row],[Data]])=\"janeiro/1900\",\"\",LOWER(TEXT(Tabela.frequencia[[#This Row],[Data]],\"MMM\")) & \"/\" & TEXT(Tabela.frequencia[[#This Row],[Data]],\"AA\"))","v":"jul/14"}]
[{"$f":"IFERROR(VLOOKUP(Tabela.frequencia[[#This Row],[Usuário]],Tabela.cadastro[[Nome]:[id2]],12,0),\"\")","v":18},"Eduardo Costa","2014-07-01",{"$f":"ROUNDDOWN(((Tabela.frequencia[[#This Row],[Data]]-VLOOKUP(Tabela.frequencia[[#This Row],[Usuário]],Tabela.cadastro[[Nome]:[id2]],7,0))/365.25),0)","v":34},{"$f":"IF(LOWER(TEXT(Tabela.frequencia[[#This Row],[Data]],\"MMMM\")) & \"/\" & YEAR(Tabela.frequencia[[#This Row],[Data]])=\"janeiro/1900\",\"\",LOWER(TEXT(Tabela.frequencia[[#This Row],[Data]],\"MMM\")) & \"/\" & TEXT(Tabela.frequencia[[#This Row],[Data]],\"AA\"))","v":"jul/14"}]
[{"$f":"IFERROR(VLOOKUP(Tabela.frequencia[[#This Row],[Usuário]],Tabela.cadastro[[Nome]:[id2]],12,0),\"\")","v":19},"Antonieta Belém","2014-07-01",{"$f":"ROUNDDOWN(((Tabela.frequencia[[#This Row],[Data]]-VLOOKUP(Tabela.frequencia[[#This Row],[Usuário]],Tabela.cadastro[[Nome]:[id2]],7,0))/365.25),0)","v":29},{"$f":"IF(LOWER(TEXT(Tabela.frequencia[[#This Row],[Data]],\"MMMM\")) & \"/\" & YEAR(Tabela.frequencia[[#This Row],[Data]])=\"janeiro/1900\",\"\",LOWER(TEXT(Tabela.frequencia[[#This Row],[Data]],\"MMM\")) & \"/\" & TEXT(Tabela.frequencia[[#This Row],[Data]],\"AA\"))","v":"jul/14"}]
[{"$f":"IFERROR(VLOOKUP(Tabela.frequencia[[#This Row],[Usuário]],Tabela.cadastro[[Nome]:[id2]],12,0),\"\")","v":20},"Josefina Andrade","2014-07-02",{"$f":"ROUNDDOWN(((Tabela.frequencia[[#This Row],[Data]]-VLOOKUP(Tabela.frequencia[[#This Row],[Usuário]],Tabela.cadastro[[Nome]:[id2]],7,0))/365.25),0)","v":44},{"$f":"IF(LOWER(TEXT(Tabela.frequencia[[#This Row],[Data]],\"MMMM\")) & \"/\" & YEAR(Tabela.frequencia[[#This Row],[Data]])=\"janeiro/1900\",\"\",LOWER(TEXT(Tabela.frequencia[[#This Row],[Data]],\"MMM\")) & \"/\" & TEXT(Tabela.frequencia[[#This Row],[Data]],\"AA\"))","v":"jul/14"}]
[{"$f":"IFERROR(VLOOKUP(Tabela.frequencia[[#This Row],[Usuário]],Tabela.cadastro[[Nome]:[id2]],12,0),\"\")","v":1},"Maria do Carmo","2014-07-02",{"$f":"ROUNDDOWN(((Tabela.frequencia[[#This Row],[Data]]-VLOOKUP(Tabela.frequencia[[#This Row],[Usuário]],Tabela.cadastro[[Nome]:[id2]],7,0))/365.25),0)","v":19},{"$f":"IF(LOWER(TEXT(Tabela.frequencia[[#This Row],[Data]],\"MMMM\")) & \"/\" & YEAR(Tabela.frequencia[[#This Row],[Data]])=\"janeiro/1900\",\"\",LOWER(TEXT(Tabela.frequencia[[#This Row],[Data]],\"MMM\")) & \"/\" & TEXT(Tabela.frequencia[[#This Row],[Data]],\"AA\"))","v":"jul/14"}]
[{"$f":"IFERROR(VLOOKUP(Tabela.frequencia[[#This Row],[Usuário]],Tabela.cadastro[[Nome]:[id2]],12,0),\"\")","v":2},"José Augusto","2014-07-02",{"$f":"ROUNDDOWN(((Tabela.frequencia[[#This Row],[Data]]-VLOOKUP(Tabela.frequencia[[#This Row],[Usuário]],Tabela.cadastro[[Nome]:[id2]],7,0))/365.25),0)","v":31},{"$f":"IF(LOWER(TEXT(Tabela.frequencia[[#This Row],[Data]],\"MMMM\")) & \"/\" & YEAR(Tabela.frequencia[[#This Row],[Data]])=\"janeiro/1900\",\"\",LOWER(TEXT(Tabela.frequencia[[#This Row],[Data]],\"MMM\")) & \"/\" & TEXT(Tabela.frequencia[[#This Row],[Data]],\"AA\"))","v":"jul/14"}]
[{"$f":"IFERROR(VLOOKUP(Tabela.frequencia[[#This Row],[Usuário]],Tabela.cadastro[[Nome]:[id2]],12,0),\"\")","v":3},"Joana Silva","2014-07-02",{"$f":"ROUNDDOWN(((Tabela.frequencia[[#This Row],[Data]]-VLOOKUP(Tabela.frequencia[[#This Row],[Usuário]],Tabela.cadastro[[Nome]:[id2]],7,0))/365.25),0)","v":29},{"$f":"IF(LOWER(TEXT(Tabela.frequencia[[#This Row],[Data]],\"MMMM\")) & \"/\" & YEAR(Tabela.frequencia[[#This Row],[Data]])=\"janeiro/1900\",\"\",LOWER(TEXT(Tabela.frequencia[[#This Row],[Data]],\"MMM\")) & \"/\" & TEXT(Tabela.frequencia[[#This Row],[Data]],\"AA\"))","v":"jul/14"}]
[{"$f":"IFERROR(VLOOKUP(Tabela.frequencia[[#This Row],[Usuário]],Tabela.cadastro[[Nome]:[id2]],12,0),\"\")","v":4},"João Pereira","2014-07-02",{"$f":"ROUNDDOWN(((Tabela.frequencia[[#This Row],[Data]]-VLOOKUP(Tabela.frequencia[[#This Row],[Usuário]],Tabela.cadastro[[Nome]:[id2]],7,0))/365.25),0)","v":41},{"$f":"IF(LOWER(TEXT(Tabela.frequencia[[#This Row],[Data]],\"MMMM\")) & \"/\" & YEAR(Tabela.frequencia[[#This Row],[Data]])=\"janeiro/1900\",\"\",LOWER(TEXT(Tabela.frequencia[[#This Row],[Data]],\"MMM\")) & \"/\" & TEXT(Tabela.frequencia[[#This Row],[Data]],\"AA\"))","v":"jul/14"}]
[{"$f":"IFERROR(VLOOKUP(Tabela.frequencia[[#This Row],[Usuário]],Tabela.cadastro[[Nome]:[id2]],12,0),\"\")","v":5},"Maria Almeida","2014-07-02",{"$f":"ROUNDDOWN(((Tabela.frequencia[[#This Row],[Data]]-VLOOKUP(Tabela.frequencia[[#This Row],[Usuário]],Tabela.cadastro[[Nome]:[id2]],7,0))/365.25),0)","v":69},{"$f":"IF(LOWER(TEXT(Tabela.frequencia[[#This Row],[Data]],\"MMMM\")) & \"/\" & YEAR(Tabela.frequencia[[#This Row],[Data]])=\"janeiro/1900\",\"\",LOWER(TEXT(Tabela.frequencia[[#This Row],[Data]],\"MMM\")) & \"/\" & TEXT(Tabela.frequencia[[#This Row],[Data]],\"AA\"))","v":"jul/14"}]
[{"$f":"IFERROR(VLOOKUP(Tabela.frequencia[[#This Row],[Usuário]],Tabela.cadastro[[Nome]:[id2]],12,0),\"\")","v":6},"Marcos Costa","2014-07-02",{"$f":"ROUNDDOWN(((Tabela.frequencia[[#This Row],[Data]]-VLOOKUP(Tabela.frequencia[[#This Row],[Usuário]],Tabela.cadastro[[Nome]:[id2]],7,0))/365.25),0)","v":14},{"$f":"IF(LOWER(TEXT(Tabela.frequencia[[#This Row],[Data]],\"MMMM\")) & \"/\" & YEAR(Tabela.frequencia[[#This Row],[Data]])=\"janeiro/1900\",\"\",LOWER(TEXT(Tabela.frequencia[[#This Row],[Data]],\"MMM\")) & \"/\" & TEXT(Tabela.frequencia[[#This Row],[Data]],\"AA\"))","v":"jul/14"}]
[{"$f":"IFERROR(VLOOKUP(Tabela.frequencia[[#This Row],[Usuário]],Tabela.cadastro[[Nome]:[id2]],12,0),\"\")","v":7},"Alan Gomes","2014-07-02",{"$f":"ROUNDDOWN(((Tabela.frequencia[[#This Row],[Data]]-VLOOKUP(Tabela.frequencia[[#This Row],[Usuário]],Tabela.cadastro[[Nome]:[id2]],7,0))/365.25),0)","v":74},{"$f":"IF(LOWER(TEXT(Tabela.frequencia[[#This Row],[Data]],\"MMMM\")) & \"/\" & YEAR(Tabela.frequencia[[#This Row],[Data]])=\"janeiro/1900\",\"\",LOWER(TEXT(Tabela.frequencia[[#This Row],[Data]],\"MMM\")) & \"/\" & TEXT(Tabela.frequencia[[#This Row],[Data]],\"AA\"))","v":"jul/14"}]
[{"$f":"IFERROR(VLOOKUP(Tabela.frequencia[[#This Row],[Usuário]],Tabela.cadastro[[Nome]:[id2]],12,0),\"\")","v":8},"Luiz Souza","2014-07-02",{"$f":"ROUNDDOWN(((Tabela.frequencia[[#This Row],[Data]]-VLOOKUP(Tabela.frequencia[[#This Row],[Usuário]],Tabela.cadastro[[Nome]:[id2]],7,0))/365.25),0)","v":27},{"$f":"IF(LOWER(TEXT(Tabela.frequencia[[#This Row],[Data]],\"MMMM\")) & \"/\" & YEAR(Tabela.frequencia[[#This Row],[Data]])=\"janeiro/1900\",\"\",LOWER(TEXT(Tabela.frequencia[[#This Row],[Data]],\"MMM\")) & \"/\" & TEXT(Tabela.frequencia[[#This Row],[Data]],\"AA\"))","v":"jul/14"}]
[{"$f":"IFERROR(VLOOKUP(Tabela.frequencia[[#This Row],[Usuário]],Tabela.cadastro[[Nome]:[id2]],12,0),\"\")","v":12},"Marina Rodrigues","2014-07-03",{"$f":"ROUNDDOWN(((Tabela.frequencia[[#This Row],[Data]]-VLOOKUP(Tabela.frequencia[[#This Row],[Usuário]],Tabela.cadastro[[Nome]:[id2]],7,0))/365.25),0)","v":25},{"$f":"IF(LOWER(TEXT(Tabela.frequencia[[#This Row],[Data]],\"MMMM\")) & \"/\" & YEAR(Tabela.frequencia[[#This Row],[Data]])=\"janeiro/1900\",\"\",LOWER(TEXT(Tabela.frequencia[[#This Row],[Data]],\"MMM\")) & \"/\" & TEXT(Tabela.frequencia[[#This Row],[Data]],\"AA\"))","v":"jul/14"}]
[{"$f":"IFERROR(VLOOKUP(Tabela.frequencia[[#This Row],[Usuário]],Tabela.cadastro[[Nome]:[id2]],12,0),\"\")","v":13},"Valdecir Castro","2014-07-03",{"$f":"ROUNDDOWN(((Tabela.frequencia[[#This Row],[Data]]-VLOOKUP(Tabela.frequencia[[#This Row],[Usuário]],Tabela.cadastro[[Nome]:[id2]],7,0))/365.25),0)","v":21},{"$f":"IF(LOWER(TEXT(Tabela.frequencia[[#This Row],[Data]],\"MMMM\")) & \"/\" & YEAR(Tabela.frequencia[[#This Row],[Data]])=\"janeiro/1900\",\"\",LOWER(TEXT(Tabela.frequencia[[#This Row],[Data]],\"MMM\")) & \"/\" & TEXT(Tabela.frequencia[[#This Row],[Data]],\"AA\"))","v":"jul/14"}]
[{"$f":"IFERROR(VLOOKUP(Tabela.frequencia[[#This Row],[Usuário]],Tabela.cadastro[[Nome]:[id2]],12,0),\"\")","v":14},"Lucas Cabral","2014-07-03",{"$f":"ROUNDDOWN(((Tabela.frequencia[[#This Row],[Data]]-VLOOKUP(Tabela.frequencia[[#This Row],[Usuário]],Tabela.cadastro[[Nome]:[id2]],7,0))/365.25),0)","v":20},{"$f":"IF(LOWER(TEXT(Tabela.frequencia[[#This Row],[Data]],\"MMMM\")) & \"/\" & YEAR(Tabela.frequencia[[#This Row],[Data]])=\"janeiro/1900\",\"\",LOWER(TEXT(Tabela.frequencia[[#This Row],[Data]],\"MMM\")) & \"/\" & TEXT(Tabela.frequencia[[#This Row],[Data]],\"AA\"))","v":"jul/14"}]
[{"$f":"IFERROR(VLOOKUP(Tabela.frequencia[[#This Row],[Usuário]],Tabela.cadastro[[Nome]:[id2]],12,0),\"\")","v":15},"Dione Silva","2014-07-03",{"$f":"ROUNDDOWN(((Tabela.frequencia[[#This Row],[Data]]-VLOOKUP(Tabela.frequencia[[#This Row],[Usuário]],Tabela.cadastro[[Nome]:[id2]],7,0))/365.25),0)","v":36},{"$f":"IF(LOWER(TEXT(Tabela.frequencia[[#This Row],[Data]],\"MMMM\")) & \"/\" & YEAR(Tabela.frequencia[[#This Row],[Data]])=\"janeiro/1900\",\"\",LOWER(TEXT(Tabela.frequencia[[#This Row],[Data]],\"MMM\")) & \"/\" & TEXT(Tabela.frequencia[[#This Row],[Data]],\"AA\"))","v":"jul/14"}]
[{"$f":"IFERROR(VLOOKUP(Tabela.frequencia[[#This Row],[Usuário]],Tabela.cadastro[[Nome]:[id2]],12,0),\"\")","v":16},"Vicente Pereira","2014-07-03",{"$f":"ROUNDDOWN(((Tabela.frequencia[[#This Row],[Data]]-VLOOKUP(Tabela.frequencia[[#This Row],[Usuário]],Tabela.cadastro[[Nome]:[id2]],7,0))/365.25),0)","v":26},{"$f":"IF(LOWER(TEXT(Tabela.frequencia[[#This Row],[Data]],\"MMMM\")) & \"/\" & YEAR(Tabela.frequencia[[#This Row],[Data]])=\"janeiro/1900\",\"\",LOWER(TEXT(Tabela.frequencia[[#This Row],[Data]],\"MMM\")) & \"/\" & TEXT(Tabela.frequencia[[#This Row],[Data]],\"AA\"))","v":"jul/14"}]
[{"$f":"IFERROR(VLOOKUP(Tabela.frequencia[[#This Row],[Usuário]],Tabela.cadastro[[Nome]:[id2]],12,0),\"\")","v":17},"Douglas Bragança","2014-07-03",{"$f":"ROUNDDOWN(((Tabela.frequencia[[#This Row],[Data]]-VLOOKUP(Tabela.frequencia[[#This Row],[Usuário]],Tabela.cadastro[[Nome]:[id2]],7,0))/365.25),0)","v":31},{"$f":"IF(LOWER(TEXT(Tabela.frequencia[[#This Row],[Data]],\"MMMM\")) & \"/\" & YEAR(Tabela.frequencia[[#This Row],[Data]])=\"janeiro/1900\",\"\",LOWER(TEXT(Tabela.frequencia[[#This Row],[Data]],\"MMM\")) & \"/\" & TEXT(Tabela.frequencia[[#This Row],[Data]],\"AA\"))","v":"jul/14"}]
[{"$f":"IFERROR(VLOOKUP(Tabela.frequencia[[#This Row],[Usuário]],Tabela.cadastro[[Nome]:[id2]],12,0),\"\")","v":18},"Eduardo Costa","2014-07-03",{"$f":"ROUNDDOWN(((Tabela.frequencia[[#This Row],[Data]]-VLOOKUP(Tabela.frequencia[[#This Row],[Usuário]],Tabela.cadastro[[Nome]:[id2]],7,0))/365.25),0)","v":34},{"$f":"IF(LOWER(TEXT(Tabela.frequencia[[#This Row],[Data]],\"MMMM\")) & \"/\" & YEAR(Tabela.frequencia[[#This Row],[Data]])=\"janeiro/1900\",\"\",LOWER(TEXT(Tabela.frequencia[[#This Row],[Data]],\"MMM\")) & \"/\" & TEXT(Tabela.frequencia[[#This Row],[Data]],\"AA\"))","v":"jul/14"}]
[{"$f":"IFERROR(VLOOKUP(Tabela.frequencia[[#This Row],[Usuário]],Tabela.cadastro[[Nome]:[id2]],12,0),\"\")","v":19},"Antonieta Belém","2014-07-03",{"$f":"ROUNDDOWN(((Tabela.frequencia[[#This Row],[Data]]-VLOOKUP(Tabela.frequencia[[#This Row],[Usuário]],Tabela.cadastro[[Nome]:[id2]],7,0))/365.25),0)","v":29},{"$f":"IF(LOWER(TEXT(Tabela.frequencia[[#This Row],[Data]],\"MMMM\")) & \"/\" & YEAR(Tabela.frequencia[[#This Row],[Data]])=\"janeiro/1900\",\"\",LOWER(TEXT(Tabela.frequencia[[#This Row],[Data]],\"MMM\")) & \"/\" & TEXT(Tabela.frequencia[[#This Row],[Data]],\"AA\"))","v":"jul/14"}]
[{"$f":"IFERROR(VLOOKUP(Tabela.frequencia[[#This Row],[Usuário]],Tabela.cadastro[[Nome]:[id2]],12,0),\"\")","v":20},"Josefina Andrade","2014-07-03",{"$f":"ROUNDDOWN(((Tabela.frequencia[[#This Row],[Data]]-VLOOKUP(Tabela.frequencia[[#This Row],[Usuário]],Tabela.cadastro[[Nome]:[id2]],7,0))/365.25),0)","v":44},{"$f":"IF(LOWER(TEXT(Tabela.frequencia[[#This Row],[Data]],\"MMMM\")) & \"/\" & YEAR(Tabela.frequencia[[#This Row],[Data]])=\"janeiro/1900\",\"\",LOWER(TEXT(Tabela.frequencia[[#This Row],[Data]],\"MMM\")) & \"/\" & TEXT(Tabela.frequencia[[#This Row],[Data]],\"AA\"))","v":"jul/14"}]
[{"$f":"IFERROR(VLOOKUP(Tabela.frequencia[[#This Row],[Usuário]],Tabela.cadastro[[Nome]:[id2]],12,0),\"\")","v":1},"Maria do Carmo","2014-07-03",{"$f":"ROUNDDOWN(((Tabela.frequencia[[#This Row],[Data]]-VLOOKUP(Tabela.frequencia[[#This Row],[Usuário]],Tabela.cadastro[[Nome]:[id2]],7,0))/365.25),0)","v":19},{"$f":"IF(LOWER(TEXT(Tabela.frequencia[[#This Row],[Data]],\"MMMM\")) & \"/\" & YEAR(Tabela.frequencia[[#This Row],[Data]])=\"janeiro/1900\",\"\",LOWER(TEXT(Tabela.frequencia[[#This Row],[Data]],\"MMM\")) & \"/\" & TEXT(Tabela.frequencia[[#This Row],[Data]],\"AA\"))","v":"jul/14"}]
[{"$f":"IFERROR(VLOOKUP(Tabela.frequencia[[#This Row],[Usuário]],Tabela.cadastro[[Nome]:[id2]],12,0),\"\")","v":2},"José Augusto","2014-07-03",{"$f":"ROUNDDOWN(((Tabela.frequencia[[#This Row],[Data]]-VLOOKUP(Tabela.frequencia[[#This Row],[Usuário]],Tabela.cadastro[[Nome]:[id2]],7,0))/365.25),0)","v":31},{"$f":"IF(LOWER(TEXT(Tabela.frequencia[[#This Row],[Data]],\"MMMM\")) & \"/\" & YEAR(Tabela.frequencia[[#This Row],[Data]])=\"janeiro/1900\",\"\",LOWER(TEXT(Tabela.frequencia[[#This Row],[Data]],\"MMM\")) & \"/\" & TEXT(Tabela.frequencia[[#This Row],[Data]],\"AA\"))","v":"jul/14"}]
[{"$f":"IFERROR(VLOOKUP(Tabela.frequencia[[#This Row],[Usuário]],Tabela.cadastro[[Nome]:[id2]],12,0),\"\")","v":6},"Marcos Costa","2014-07-04",{"$f":"ROUNDDOWN(((Tabela.frequencia[[#This Row],[Data]]-VLOOKUP(Tabela.frequencia[[#This Row],[Usuário]],Tabela.cadastro[[Nome]:[id2]],7,0))/365.25),0)","v":14},{"$f":"IF(LOWER(TEXT(Tabela.frequencia[[#This Row],[Data]],\"MMMM\")) & \"/\" & YEAR(Tabela.frequencia[[#This Row],[Data]])=\"janeiro/1900\",\"\",LOWER(TEXT(Tabela.frequencia[[#This Row],[Data]],\"MMM\")) & \"/\" & TEXT(Tabela.frequencia[[#This Row],[Data]],\"AA\"))","v":"jul/14"}]
[{"$f":"IFERROR(VLOOKUP(Tabela.frequencia[[#This Row],[Usuário]],Tabela.cadastro[[Nome]:[id2]],12,0),\"\")","v":7},"Alan Gomes","2014-07-04",{"$f":"ROUNDDOWN(((Tabela.frequencia[[#This Row],[Data]]-VLOOKUP(Tabela.frequencia[[#This Row],[Usuário]],Tabela.cadastro[[Nome]:[id2]],7,0))/365.25),0)","v":74},{"$f":"IF(LOWER(TEXT(Tabela.frequencia[[#This Row],[Data]],\"MMMM\")) & \"/\" & YEAR(Tabela.frequencia[[#This Row],[Data]])=\"janeiro/1900\",\"\",LOWER(TEXT(Tabela.frequencia[[#This Row],[Data]],\"MMM\")) & \"/\" & TEXT(Tabela.frequencia[[#This Row],[Data]],\"AA\"))","v":"jul/14"}]
[{"$f":"IFERROR(VLOOKUP(Tabela.frequencia[[#This Row],[Usuário]],Tabela.cadastro[[Nome]:[id2]],12,0),\"\")","v":8},"Luiz Souza","2014-07-04",{"$f":"ROUNDDOWN(((Tabela.frequencia[[#This Row],[Data]]-VLOOKUP(Tabela.frequencia[[#This Row],[Usuário]],Tabela.cadastro[[Nome]:[id2]],7,0))/365.25),0)","v":27},{"$f":"IF(LOWER(TEXT(Tabela.frequencia[[#This Row],[Data]],\"MMMM\")) & \"/\" & YEAR(Tabela.frequencia[[#This Row],[Data]])=\"janeiro/1900\",\"\",LOWER(TEXT(Tabela.frequencia[[#This Row],[Data]],\"MMM\")) & \"/\" & TEXT(Tabela.frequencia[[#This Row],[Data]],\"AA\"))","v":"jul/14"}]
[{"$f":"IFERROR(VLOOKUP(Tabela.frequencia[[#This Row],[Usuário]],Tabela.cadastro[[Nome]:[id2]],12,0),\"\")","v":9},"Tatiane Costa","2014-07-04",{"$f":"ROUNDDOWN(((Tabela.frequencia[[#This Row],[Data]]-VLOOKUP(Tabela.frequencia[[#This Row],[Usuário]],Tabela.cadastro[[Nome]:[id2]],7,0))/365.25),0)","v":44},{"$f":"IF(LOWER(TEXT(Tabela.frequencia[[#This Row],[Data]],\"MMMM\")) & \"/\" & YEAR(Tabela.frequencia[[#This Row],[Data]])=\"janeiro/1900\",\"\",LOWER(TEXT(Tabela.frequencia[[#This Row],[Data]],\"MMM\")) & \"/\" & TEXT(Tabela.frequencia[[#This Row],[Data]],\"AA\"))","v":"jul/14"}]
[{"$f":"IFERROR(VLOOKUP(Tabela.frequencia[[#This Row],[Usuário]],Tabela.cadastro[[Nome]:[id2]],12,0),\"\")","v":10},"Maicon Silva","2014-07-04",{"$f":"ROUNDDOWN(((Tabela.frequencia[[#This Row],[Data]]-VLOOKUP(Tabela.frequencia[[#This Row],[Usuário]],Tabela.cadastro[[Nome]:[id2]],7,0))/365.25),0)","v":31},{"$f":"IF(LOWER(TEXT(Tabela.frequencia[[#This Row],[Data]],\"MMMM\")) & \"/\" & YEAR(Tabela.frequencia[[#This Row],[Data]])=\"janeiro/1900\",\"\",LOWER(TEXT(Tabela.frequencia[[#This Row],[Data]],\"MMM\")) & \"/\" & TEXT(Tabela.frequencia[[#This Row],[Data]],\"AA\"))","v":"jul/14"}]
[{"$f":"IFERROR(VLOOKUP(Tabela.frequencia[[#This Row],[Usuário]],Tabela.cadastro[[Nome]:[id2]],12,0),\"\")","v":11},"Rodolfo Gonçalvez","2014-07-04",{"$f":"ROUNDDOWN(((Tabela.frequencia[[#This Row],[Data]]-VLOOKUP(Tabela.frequencia[[#This Row],[Usuário]],Tabela.cadastro[[Nome]:[id2]],7,0))/365.25),0)","v":31},{"$f":"IF(LOWER(TEXT(Tabela.frequencia[[#This Row],[Data]],\"MMMM\")) & \"/\" & YEAR(Tabela.frequencia[[#This Row],[Data]])=\"janeiro/1900\",\"\",LOWER(TEXT(Tabela.frequencia[[#This Row],[Data]],\"MMM\")) & \"/\" & TEXT(Tabela.frequencia[[#This Row],[Data]],\"AA\"))","v":"jul/14"}]
[{"$f":"IFERROR(VLOOKUP(Tabela.frequencia[[#This Row],[Usuário]],Tabela.cadastro[[Nome]:[id2]],12,0),\"\")","v":12},"Marina Rodrigues","2014-07-04",{"$f":"ROUNDDOWN(((Tabela.frequencia[[#This Row],[Data]]-VLOOKUP(Tabela.frequencia[[#This Row],[Usuário]],Tabela.cadastro[[Nome]:[id2]],7,0))/365.25),0)","v":25},{"$f":"IF(LOWER(TEXT(Tabela.frequencia[[#This Row],[Data]],\"MMMM\")) & \"/\" & YEAR(Tabela.frequencia[[#This Row],[Data]])=\"janeiro/1900\",\"\",LOWER(TEXT(Tabela.frequencia[[#This Row],[Data]],\"MMM\")) & \"/\" & TEXT(Tabela.frequencia[[#This Row],[Data]],\"AA\"))","v":"jul/14"}]
[{"$f":"IFERROR(VLOOKUP(Tabela.frequencia[[#This Row],[Usuário]],Tabela.cadastro[[Nome]:[id2]],12,0),\"\")","v":13},"Valdecir Castro","2014-07-04",{"$f":"ROUNDDOWN(((Tabela.frequencia[[#This Row],[Data]]-VLOOKUP(Tabela.frequencia[[#This Row],[Usuário]],Tabela.cadastro[[Nome]:[id2]],7,0))/365.25),0)","v":21},{"$f":"IF(LOWER(TEXT(Tabela.frequencia[[#This Row],[Data]],\"MMMM\")) & \"/\" & YEAR(Tabela.frequencia[[#This Row],[Data]])=\"janeiro/1900\",\"\",LOWER(TEXT(Tabela.frequencia[[#This Row],[Data]],\"MMM\")) & \"/\" & TEXT(Tabela.frequencia[[#This Row],[Data]],\"AA\"))","v":"jul/14"}]
[{"$f":"IFERROR(VLOOKUP(Tabela.frequencia[[#This Row],[Usuário]],Tabela.cadastro[[Nome]:[id2]],12,0),\"\")","v":14},"Lucas Cabral","2014-07-04",{"$f":"ROUNDDOWN(((Tabela.frequencia[[#This Row],[Data]]-VLOOKUP(Tabela.frequencia[[#This Row],[Usuário]],Tabela.cadastro[[Nome]:[id2]],7,0))/365.25),0)","v":20},{"$f":"IF(LOWER(TEXT(Tabela.frequencia[[#This Row],[Data]],\"MMMM\")) & \"/\" & YEAR(Tabela.frequencia[[#This Row],[Data]])=\"janeiro/1900\",\"\",LOWER(TEXT(Tabela.frequencia[[#This Row],[Data]],\"MMM\")) & \"/\" & TEXT(Tabela.frequencia[[#This Row],[Data]],\"AA\"))","v":"jul/14"}]
[{"$f":"IFERROR(VLOOKUP(Tabela.frequencia[[#This Row],[Usuário]],Tabela.cadastro[[Nome]:[id2]],12,0),\"\")","v":15},"Dione Silva","2014-07-04",{"$f":"ROUNDDOWN(((Tabela.frequencia[[#This Row],[Data]]-VLOOKUP(Tabela.frequencia[[#This Row],[Usuário]],Tabela.cadastro[[Nome]:[id2]],7,0))/365.25),0)","v":36},{"$f":"IF(LOWER(TEXT(Tabela.frequencia[[#This Row],[Data]],\"MMMM\")) & \"/\" & YEAR(Tabela.frequencia[[#This Row],[Data]])=\"janeiro/1900\",\"\",LOWER(TEXT(Tabela.frequencia[[#This Row],[Data]],\"MMM\")) & \"/\" & TEXT(Tabela.frequencia[[#This Row],[Data]],\"AA\"))","v":"jul/14"}]
[{"$f":"IFERROR(VLOOKUP(Tabela.frequencia[[#This Row],[Usuário]],Tabela.cadastro[[Nome]:[id2]],12,0),\"\")","v":16},"Vicente Pereira","2014-07-04",{"$f":"ROUNDDOWN(((Tabela.frequencia[[#This Row],[Data]]-VLOOKUP(Tabela.frequencia[[#This Row],[Usuário]],Tabela.cadastro[[Nome]:[id2]],7,0))/365.25),0)","v":26},{"$f":"IF(LOWER(TEXT(Tabela.frequencia[[#This Row],[Data]],\"MMMM\")) & \"/\" & YEAR(Tabela.frequencia[[#This Row],[Data]])=\"janeiro/1900\",\"\",LOWER(TEXT(Tabela.frequencia[[#This Row],[Data]],\"MMM\")) & \"/\" & TEXT(Tabela.frequencia[[#This Row],[Data]],\"AA\"))","v":"jul/14"}]
[{"$f":"IFERROR(VLOOKUP(Tabela.frequencia[[#This Row],[Usuário]],Tabela.cadastro[[Nome]:[id2]],12,0),\"\")","v":17},"Douglas Bragança","2014-07-04",{"$f":"ROUNDDOWN(((Tabela.frequencia[[#This Row],[Data]]-VLOOKUP(Tabela.frequencia[[#This Row],[Usuário]],Tabela.cadastro[[Nome]:[id2]],7,0))/365.25),0)","v":31},{"$f":"IF(LOWER(TEXT(Tabela.frequencia[[#This Row],[Data]],\"MMMM\")) & \"/\" & YEAR(Tabela.frequencia[[#This Row],[Data]])=\"janeiro/1900\",\"\",LOWER(TEXT(Tabela.frequencia[[#This Row],[Data]],\"MMM\")) & \"/\" & TEXT(Tabela.frequencia[[#This Row],[Data]],\"AA\"))","v":"jul/14"}]
[{"$f":"IFERROR(VLOOKUP(Tabela.frequencia[[#This Row],[Usuário]],Tabela.cadastro[[Nome]:[id2]],12,0),\"\")","v":18},"Eduardo Costa","2014-07-04",{"$f":"ROUNDDOWN(((Tabela.frequencia[[#This Row],[Data]]-VLOOKUP(Tabela.frequencia[[#This Row],[Usuário]],Tabela.cadastro[[Nome]:[id2]],7,0))/365.25),0)","v":34},{"$f":"IF(LOWER(TEXT(Tabela.frequencia[[#This Row],[Data]],\"MMMM\")) & \"/\" & YEAR(Tabela.frequencia[[#This Row],[Data]])=\"janeiro/1900\",\"\",LOWER(TEXT(Tabela.frequencia[[#This Row],[Data]],\"MMM\")) & \"/\" & TEXT(Tabela.frequencia[[#This Row],[Data]],\"AA\"))","v":"jul/14"}]
[{"$f":"IFERROR(VLOOKUP(Tabela.frequencia[[#This Row],[Usuário]],Tabela.cadastro[[Nome]:[id2]],12,0),\"\")","v":19},"Antonieta Belém","2014-07-04",{"$f":"ROUNDDOWN(((Tabela.frequencia[[#This Row],[Data]]-VLOOKUP(Tabela.frequencia[[#This Row],[Usuário]],Tabela.cadastro[[Nome]:[id2]],7,0))/365.25),0)","v":29},{"$f":"IF(LOWER(TEXT(Tabela.frequencia[[#This Row],[Data]],\"MMMM\")) & \"/\" & YEAR(Tabela.frequencia[[#This Row],[Data]])=\"janeiro/1900\",\"\",LOWER(TEXT(Tabela.frequencia[[#This Row],[Data]],\"MMM\")) & \"/\" & TEXT(Tabela.frequencia[[#This Row],[Data]],\"AA\"))","v":"jul/14"}]
[{"$f":"IFERROR(VLOOKUP(Tabela.frequencia[[#This Row],[Usuário]],Tabela.cadastro[[Nome]:[id2]],12,0),\"\")","v":20},"Josefina Andrade","2014-07-04",{"$f":"ROUNDDOWN(((Tabela.frequencia[[#This Row],[Data]]-VLOOKUP(Tabela.frequencia[[#This Row],[Usuário]],Tabela.cadastro[[Nome]:[id2]],7,0))/365.25),0)","v":44},{"$f":"IF(LOWER(TEXT(Tabela.frequencia[[#This Row],[Data]],\"MMMM\")) & \"/\" & YEAR(Tabela.frequencia[[#This Row],[Data]])=\"janeiro/1900\",\"\",LOWER(TEXT(Tabela.frequencia[[#This Row],[Data]],\"MMM\")) & \"/\" & TEXT(Tabela.frequencia[[#This Row],[Data]],\"AA\"))","v":"jul/14"}]
[{"$f":"IFERROR(VLOOKUP(Tabela.frequencia[[#This Row],[Usuário]],Tabela.cadastro[[Nome]:[id2]],12,0),\"\")","v":1},"Maria do Carmo","2014-07-04",{"$f":"ROUNDDOWN(((Tabela.frequencia[[#This Row],[Data]]-VLOOKUP(Tabela.frequencia[[#This Row],[Usuário]],Tabela.cadastro[[Nome]:[id2]],7,0))/365.25),0)","v":19},{"$f":"IF(LOWER(TEXT(Tabela.frequencia[[#This Row],[Data]],\"MMMM\")) & \"/\" & YEAR(Tabela.frequencia[[#This Row],[Data]])=\"janeiro/1900\",\"\",LOWER(TEXT(Tabela.frequencia[[#This Row],[Data]],\"MMM\")) & \"/\" & TEXT(Tabela.frequencia[[#This Row],[Data]],\"AA\"))","v":"jul/14"}]
[{"$f":"IFERROR(VLOOKUP(Tabela.frequencia[[#This Row],[Usuário]],Tabela.cadastro[[Nome]:[id2]],12,0),\"\")","v":2},"José Augusto","2014-07-04",{"$f":"ROUNDDOWN(((Tabela.frequencia[[#This Row],[Data]]-VLOOKUP(Tabela.frequencia[[#This Row],[Usuário]],Tabela.cadastro[[Nome]:[id2]],7,0))/365.25),0)","v":31},{"$f":"IF(LOWER(TEXT(Tabela.frequencia[[#This Row],[Data]],\"MMMM\")) & \"/\" & YEAR(Tabela.frequencia[[#This Row],[Data]])=\"janeiro/1900\",\"\",LOWER(TEXT(Tabela.frequencia[[#This Row],[Data]],\"MMM\")) & \"/\" & TEXT(Tabela.frequencia[[#This Row],[Data]],\"AA\"))","v":"jul/14"}]
[{"$f":"IFERROR(VLOOKUP(Tabela.frequencia[[#This Row],[Usuário]],Tabela.cadastro[[Nome]:[id2]],12,0),\"\")","v":3},"Joana Silva","2014-07-04",{"$f":"ROUNDDOWN(((Tabela.frequencia[[#This Row],[Data]]-VLOOKUP(Tabela.frequencia[[#This Row],[Usuário]],Tabela.cadastro[[Nome]:[id2]],7,0))/365.25),0)","v":29},{"$f":"IF(LOWER(TEXT(Tabela.frequencia[[#This Row],[Data]],\"MMMM\")) & \"/\" & YEAR(Tabela.frequencia[[#This Row],[Data]])=\"janeiro/1900\",\"\",LOWER(TEXT(Tabela.frequencia[[#This Row],[Data]],\"MMM\")) & \"/\" & TEXT(Tabela.frequencia[[#This Row],[Data]],\"AA\"))","v":"jul/14"}]
[{"$f":"IFERROR(VLOOKUP(Tabela.frequencia[[#This Row],[Usuário]],Tabela.cadastro[[Nome]:[id2]],12,0),\"\")","v":4},"João Pereira","2014-07-04",{"$f":"ROUNDDOWN(((Tabela.frequencia[[#This Row],[Data]]-VLOOKUP(Tabela.frequencia[[#This Row],[Usuário]],Tabela.cadastro[[Nome]:[id2]],7,0))/365.25),0)","v":41},{"$f":"IF(LOWER(TEXT(Tabela.frequencia[[#This Row],[Data]],\"MMMM\")) & \"/\" & YEAR(Tabela.frequencia[[#This Row],[Data]])=\"janeiro/1900\",\"\",LOWER(TEXT(Tabela.frequencia[[#This Row],[Data]],\"MMM\")) & \"/\" & TEXT(Tabela.frequencia[[#This Row],[Data]],\"AA\"))","v":"jul/14"}]
[{"$f":"IFERROR(VLOOKUP(Tabela.frequencia[[#This Row],[Usuário]],Tabela.cadastro[[Nome]:[id2]],12,0),\"\")","v":5},"Maria Almeida","2014-07-04",{"$f":"ROUNDDOWN(((Tabela.frequencia[[#This Row],[Data]]-VLOOKUP(Tabela.frequencia[[#This Row],[Usuário]],Tabela.cadastro[[Nome]:[id2]],7,0))/365.25),0)","v":69},{"$f":"IF(LOWER(TEXT(Tabela.frequencia[[#This Row],[Data]],\"MMMM\")) & \"/\" & YEAR(Tabela.frequencia[[#This Row],[Data]])=\"janeiro/1900\",\"\",LOWER(TEXT(Tabela.frequencia[[#This Row],[Data]],\"MMM\")) & \"/\" & TEXT(Tabela.frequencia[[#This Row],[Data]],\"AA\"))","v":"jul/14"}]
[{"$f":"IFERROR(VLOOKUP(Tabela.frequencia[[#This Row],[Usuário]],Tabela.cadastro[[Nome]:[id2]],12,0),\"\")","v":9},"Tatiane Costa","2014-08-01",{"$f":"ROUNDDOWN(((Tabela.frequencia[[#This Row],[Data]]-VLOOKUP(Tabela.frequencia[[#This Row],[Usuário]],Tabela.cadastro[[Nome]:[id2]],7,0))/365.25),0)","v":44},{"$f":"IF(LOWER(TEXT(Tabela.frequencia[[#This Row],[Data]],\"MMMM\")) & \"/\" & YEAR(Tabela.frequencia[[#This Row],[Data]])=\"janeiro/1900\",\"\",LOWER(TEXT(Tabela.frequencia[[#This Row],[Data]],\"MMM\")) & \"/\" & TEXT(Tabela.frequencia[[#This Row],[Data]],\"AA\"))","v":"ago/14"}]
[{"$f":"IFERROR(VLOOKUP(Tabela.frequencia[[#This Row],[Usuário]],Tabela.cadastro[[Nome]:[id2]],12,0),\"\")","v":10},"Maicon Silva","2014-08-01",{"$f":"ROUNDDOWN(((Tabela.frequencia[[#This Row],[Data]]-VLOOKUP(Tabela.frequencia[[#This Row],[Usuário]],Tabela.cadastro[[Nome]:[id2]],7,0))/365.25),0)","v":31},{"$f":"IF(LOWER(TEXT(Tabela.frequencia[[#This Row],[Data]],\"MMMM\")) & \"/\" & YEAR(Tabela.frequencia[[#This Row],[Data]])=\"janeiro/1900\",\"\",LOWER(TEXT(Tabela.frequencia[[#This Row],[Data]],\"MMM\")) & \"/\" & TEXT(Tabela.frequencia[[#This Row],[Data]],\"AA\"))","v":"ago/14"}]
[{"$f":"IFERROR(VLOOKUP(Tabela.frequencia[[#This Row],[Usuário]],Tabela.cadastro[[Nome]:[id2]],12,0),\"\")","v":11},"Rodolfo Gonçalvez","2014-08-01",{"$f":"ROUNDDOWN(((Tabela.frequencia[[#This Row],[Data]]-VLOOKUP(Tabela.frequencia[[#This Row],[Usuário]],Tabela.cadastro[[Nome]:[id2]],7,0))/365.25),0)","v":31},{"$f":"IF(LOWER(TEXT(Tabela.frequencia[[#This Row],[Data]],\"MMMM\")) & \"/\" & YEAR(Tabela.frequencia[[#This Row],[Data]])=\"janeiro/1900\",\"\",LOWER(TEXT(Tabela.frequencia[[#This Row],[Data]],\"MMM\")) & \"/\" & TEXT(Tabela.frequencia[[#This Row],[Data]],\"AA\"))","v":"ago/14"}]
[{"$f":"IFERROR(VLOOKUP(Tabela.frequencia[[#This Row],[Usuário]],Tabela.cadastro[[Nome]:[id2]],12,0),\"\")","v":12},"Marina Rodrigues","2014-08-01",{"$f":"ROUNDDOWN(((Tabela.frequencia[[#This Row],[Data]]-VLOOKUP(Tabela.frequencia[[#This Row],[Usuário]],Tabela.cadastro[[Nome]:[id2]],7,0))/365.25),0)","v":25},{"$f":"IF(LOWER(TEXT(Tabela.frequencia[[#This Row],[Data]],\"MMMM\")) & \"/\" & YEAR(Tabela.frequencia[[#This Row],[Data]])=\"janeiro/1900\",\"\",LOWER(TEXT(Tabela.frequencia[[#This Row],[Data]],\"MMM\")) & \"/\" & TEXT(Tabela.frequencia[[#This Row],[Data]],\"AA\"))","v":"ago/14"}]
[{"$f":"IFERROR(VLOOKUP(Tabela.frequencia[[#This Row],[Usuário]],Tabela.cadastro[[Nome]:[id2]],12,0),\"\")","v":13},"Valdecir Castro","2014-08-01",{"$f":"ROUNDDOWN(((Tabela.frequencia[[#This Row],[Data]]-VLOOKUP(Tabela.frequencia[[#This Row],[Usuário]],Tabela.cadastro[[Nome]:[id2]],7,0))/365.25),0)","v":21},{"$f":"IF(LOWER(TEXT(Tabela.frequencia[[#This Row],[Data]],\"MMMM\")) & \"/\" & YEAR(Tabela.frequencia[[#This Row],[Data]])=\"janeiro/1900\",\"\",LOWER(TEXT(Tabela.frequencia[[#This Row],[Data]],\"MMM\")) & \"/\" & TEXT(Tabela.frequencia[[#This Row],[Data]],\"AA\"))","v":"ago/14"}]
[{"$f":"IFERROR(VLOOKUP(Tabela.frequencia[[#This Row],[Usuário]],Tabela.cadastro[[Nome]:[id2]],12,0),\"\")","v":14},"Lucas Cabral","2014-08-01",{"$f":"ROUNDDOWN(((Tabela.frequencia[[#This Row],[Data]]-VLOOKUP(Tabela.frequencia[[#This Row],[Usuário]],Tabela.cadastro[[Nome]:[id2]],7,0))/365.25),0)","v":20},{"$f":"IF(LOWER(TEXT(Tabela.frequencia[[#This Row],[Data]],\"MMMM\")) & \"/\" & YEAR(Tabela.frequencia[[#This Row],[Data]])=\"janeiro/1900\",\"\",LOWER(TEXT(Tabela.frequencia[[#This Row],[Data]],\"MMM\")) & \"/\" & TEXT(Tabela.frequencia[[#This Row],[Data]],\"AA\"))","v":"ago/14"}]
[{"$f":"IFERROR(VLOOKUP(Tabela.frequencia[[#This Row],[Usuário]],Tabela.cadastro[[Nome]:[id2]],12,0),\"\")","v":15},"Dione Silva","2014-08-01",{"$f":"ROUNDDOWN(((Tabela.frequencia[[#This Row],[Data]]-VLOOKUP(Tabela.frequencia[[#This Row],[Usuário]],Tabela.cadastro[[Nome]:[id2]],7,0))/365.25),0)","v":36},{"$f":"IF(LOWER(TEXT(Tabela.frequencia[[#This Row],[Data]],\"MMMM\")) & \"/\" & YEAR(Tabela.frequencia[[#This Row],[Data]])=\"janeiro/1900\",\"\",LOWER(TEXT(Tabela.frequencia[[#This Row],[Data]],\"MMM\")) & \"/\" & TEXT(Tabela.frequencia[[#This Row],[Data]],\"AA\"))","v":"ago/14"}]
[{"$f":"IFERROR(VLOOKUP(Tabela.frequencia[[#This Row],[Usuário]],Tabela.cadastro[[Nome]:[id2]],12,0),\"\")","v":16},"Vicente Pereira","2014-08-01",{"$f":"ROUNDDOWN(((Tabela.frequencia[[#This Row],[Data]]-VLOOKUP(Tabela.frequencia[[#This Row],[Usuário]],Tabela.cadastro[[Nome]:[id2]],7,0))/365.25),0)","v":27},{"$f":"IF(LOWER(TEXT(Tabela.frequencia[[#This Row],[Data]],\"MMMM\")) & \"/\" & YEAR(Tabela.frequencia[[#This Row],[Data]])=\"janeiro/1900\",\"\",LOWER(TEXT(Tabela.frequencia[[#This Row],[Data]],\"MMM\")) & \"/\" & TEXT(Tabela.frequencia[[#This Row],[Data]],\"AA\"))","v":"ago/14"}]
[{"$f":"IFERROR(VLOOKUP(Tabela.frequencia[[#This Row],[Usuário]],Tabela.cadastro[[Nome]:[id2]],12,0),\"\")","v":17},"Douglas Bragança","2014-08-01",{"$f":"ROUNDDOWN(((Tabela.frequencia[[#This Row],[Data]]-VLOOKUP(Tabela.frequencia[[#This Row],[Usuário]],Tabela.cadastro[[Nome]:[id2]],7,0))/365.25),0)","v":31},{"$f":"IF(LOWER(TEXT(Tabela.frequencia[[#This Row],[Data]],\"MMMM\")) & \"/\" & YEAR(Tabela.frequencia[[#This Row],[Data]])=\"janeiro/1900\",\"\",LOWER(TEXT(Tabela.frequencia[[#This Row],[Data]],\"MMM\")) & \"/\" & TEXT(Tabela.frequencia[[#This Row],[Data]],\"AA\"))","v":"ago/14"}]
[{"$f":"IFERROR(VLOOKUP(Tabela.frequencia[[#This Row],[Usuário]],Tabela.cadastro[[Nome]:[id2]],12,0),\"\")","v":18},"Eduardo Costa","2014-08-01",{"$f":"ROUNDDOWN(((Tabela.frequencia[[#This Row],[Data]]-VLOOKUP(Tabela.frequencia[[#This Row],[Usuário]],Tabela.cadastro[[Nome]:[id2]],7,0))/365.25),0)","v":34},{"$f":"IF(LOWER(TEXT(Tabela.frequencia[[#This Row],[Data]],\"MMMM\")) & \"/\" & YEAR(Tabela.frequencia[[#This Row],[Data]])=\"janeiro/1900\",\"\",LOWER(TEXT(Tabela.frequencia[[#This Row],[Data]],\"MMM\")) & \"/\" & TEXT(Tabela.frequencia[[#This Row],[Data]],\"AA\"))","v":"ago/14"}]
[{"$f":"IFERROR(VLOOKUP(Tabela.frequencia[[#This Row],[Usuário]],Tabela.cadastro[[Nome]:[id2]],12,0),\"\")","v":19},"Antonieta Belém","2014-08-01",{"$f":"ROUNDDOWN(((Tabela.frequencia[[#This Row],[Data]]-VLOOKUP(Tabela.frequencia[[#This Row],[Usuário]],Tabela.cadastro[[Nome]:[id2]],7,0))/365.25),0)","v":29},{"$f":"IF(LOWER(TEXT(Tabela.frequencia[[#This Row],[Data]],\"MMMM\")) & \"/\" & YEAR(Tabela.frequencia[[#This Row],[Data]])=\"janeiro/1900\",\"\",LOWER(TEXT(Tabela.frequencia[[#This Row],[Data]],\"MMM\")) & \"/\" & TEXT(Tabela.frequencia[[#This Row],[Data]],\"AA\"))","v":"ago/14"}]
[{"$f":"IFERROR(VLOOKUP(Tabela.frequencia[[#This Row],[Usuário]],Tabela.cadastro[[Nome]:[id2]],12,0),\"\")","v":20},"Josefina Andrade","2014-08-01",{"$f":"ROUNDDOWN(((Tabela.frequencia[[#This Row],[Data]]-VLOOKUP(Tabela.frequencia[[#This Row],[Usuário]],Tabela.cadastro[[Nome]:[id2]],7,0))/365.25),0)","v":44},{"$f":"IF(LOWER(TEXT(Tabela.frequencia[[#This Row],[Data]],\"MMMM\")) & \"/\" & YEAR(Tabela.frequencia[[#This Row],[Data]])=\"janeiro/1900\",\"\",LOWER(TEXT(Tabela.frequencia[[#This Row],[Data]],\"MMM\")) & \"/\" & TEXT(Tabela.frequencia[[#This Row],[Data]],\"AA\"))","v":"ago/14"}]
[{"$f":"IFERROR(VLOOKUP(Tabela.frequencia[[#This Row],[Usuário]],Tabela.cadastro[[Nome]:[id2]],12,0),\"\")","v":1},"Maria do Carmo","2014-08-01",{"$f":"ROUNDDOWN(((Tabela.frequencia[[#This Row],[Data]]-VLOOKUP(Tabela.frequencia[[#This Row],[Usuário]],Tabela.cadastro[[Nome]:[id2]],7,0))/365.25),0)","v":19},{"$f":"IF(LOWER(TEXT(Tabela.frequencia[[#This Row],[Data]],\"MMMM\")) & \"/\" & YEAR(Tabela.frequencia[[#This Row],[Data]])=\"janeiro/1900\",\"\",LOWER(TEXT(Tabela.frequencia[[#This Row],[Data]],\"MMM\")) & \"/\" & TEXT(Tabela.frequencia[[#This Row],[Data]],\"AA\"))","v":"ago/14"}]
[{"$f":"IFERROR(VLOOKUP(Tabela.frequencia[[#This Row],[Usuário]],Tabela.cadastro[[Nome]:[id2]],12,0),\"\")","v":2},"José Augusto","2014-08-01",{"$f":"ROUNDDOWN(((Tabela.frequencia[[#This Row],[Data]]-VLOOKUP(Tabela.frequencia[[#This Row],[Usuário]],Tabela.cadastro[[Nome]:[id2]],7,0))/365.25),0)","v":31},{"$f":"IF(LOWER(TEXT(Tabela.frequencia[[#This Row],[Data]],\"MMMM\")) & \"/\" & YEAR(Tabela.frequencia[[#This Row],[Data]])=\"janeiro/1900\",\"\",LOWER(TEXT(Tabela.frequencia[[#This Row],[Data]],\"MMM\")) & \"/\" & TEXT(Tabela.frequencia[[#This Row],[Data]],\"AA\"))","v":"ago/14"}]
[{"$f":"IFERROR(VLOOKUP(Tabela.frequencia[[#This Row],[Usuário]],Tabela.cadastro[[Nome]:[id2]],12,0),\"\")","v":3},"Joana Silva","2014-08-01",{"$f":"ROUNDDOWN(((Tabela.frequencia[[#This Row],[Data]]-VLOOKUP(Tabela.frequencia[[#This Row],[Usuário]],Tabela.cadastro[[Nome]:[id2]],7,0))/365.25),0)","v":29},{"$f":"IF(LOWER(TEXT(Tabela.frequencia[[#This Row],[Data]],\"MMMM\")) & \"/\" & YEAR(Tabela.frequencia[[#This Row],[Data]])=\"janeiro/1900\",\"\",LOWER(TEXT(Tabela.frequencia[[#This Row],[Data]],\"MMM\")) & \"/\" & TEXT(Tabela.frequencia[[#This Row],[Data]],\"AA\"))","v":"ago/14"}]
[{"$f":"IFERROR(VLOOKUP(Tabela.frequencia[[#This Row],[Usuário]],Tabela.cadastro[[Nome]:[id2]],12,0),\"\")","v":4},"João Pereira","2014-08-01",{"$f":"ROUNDDOWN(((Tabela.frequencia[[#This Row],[Data]]-VLOOKUP(Tabela.frequencia[[#This Row],[Usuário]],Tabela.cadastro[[Nome]:[id2]],7,0))/365.25),0)","v":41},{"$f":"IF(LOWER(TEXT(Tabela.frequencia[[#This Row],[Data]],\"MMMM\")) & \"/\" & YEAR(Tabela.frequencia[[#This Row],[Data]])=\"janeiro/1900\",\"\",LOWER(TEXT(Tabela.frequencia[[#This Row],[Data]],\"MMM\")) & \"/\" & TEXT(Tabela.frequencia[[#This Row],[Data]],\"AA\"))","v":"ago/14"}]
[{"$f":"IFERROR(VLOOKUP(Tabela.frequencia[[#This Row],[Usuário]],Tabela.cadastro[[Nome]:[id2]],12,0),\"\")","v":5},"Maria Almeida","2014-08-01",{"$f":"ROUNDDOWN(((Tabela.frequencia[[#This Row],[Data]]-VLOOKUP(Tabela.frequencia[[#This Row],[Usuário]],Tabela.cadastro[[Nome]:[id2]],7,0))/365.25),0)","v":69},{"$f":"IF(LOWER(TEXT(Tabela.frequencia[[#This Row],[Data]],\"MMMM\")) & \"/\" & YEAR(Tabela.frequencia[[#This Row],[Data]])=\"janeiro/1900\",\"\",LOWER(TEXT(Tabela.frequencia[[#This Row],[Data]],\"MMM\")) & \"/\" & TEXT(Tabela.frequencia[[#This Row],[Data]],\"AA\"))","v":"ago/14"}]
[{"$f":"IFERROR(VLOOKUP(Tabela.frequencia[[#This Row],[Usuário]],Tabela.cadastro[[Nome]:[id2]],12,0),\"\")","v":6},"Marcos Costa","2014-08-01",{"$f":"ROUNDDOWN(((Tabela.frequencia[[#This Row],[Data]]-VLOOKUP(Tabela.frequencia[[#This Row],[Usuário]],Tabela.cadastro[[Nome]:[id2]],7,0))/365.25),0)","v":14},{"$f":"IF(LOWER(TEXT(Tabela.frequencia[[#This Row],[Data]],\"MMMM\")) & \"/\" & YEAR(Tabela.frequencia[[#This Row],[Data]])=\"janeiro/1900\",\"\",LOWER(TEXT(Tabela.frequencia[[#This Row],[Data]],\"MMM\")) & \"/\" & TEXT(Tabela.frequencia[[#This Row],[Data]],\"AA\"))","v":"ago/14"}]
[{"$f":"IFERROR(VLOOKUP(Tabela.frequencia[[#This Row],[Usuário]],Tabela.cadastro[[Nome]:[id2]],12,0),\"\")","v":7},"Alan Gomes","2014-08-01",{"$f":"ROUNDDOWN(((Tabela.frequencia[[#This Row],[Data]]-VLOOKUP(Tabela.frequencia[[#This Row],[Usuário]],Tabela.cadastro[[Nome]:[id2]],7,0))/365.25),0)","v":74},{"$f":"IF(LOWER(TEXT(Tabela.frequencia[[#This Row],[Data]],\"MMMM\")) & \"/\" & YEAR(Tabela.frequencia[[#This Row],[Data]])=\"janeiro/1900\",\"\",LOWER(TEXT(Tabela.frequencia[[#This Row],[Data]],\"MMM\")) & \"/\" & TEXT(Tabela.frequencia[[#This Row],[Data]],\"AA\"))","v":"ago/14"}]
[{"$f":"IFERROR(VLOOKUP(Tabela.frequencia[[#This Row],[Usuário]],Tabela.cadastro[[Nome]:[id2]],12,0),\"\")","v":8},"Luiz Souza","2014-08-01",{"$f":"ROUNDDOWN(((Tabela.frequencia[[#This Row],[Data]]-VLOOKUP(Tabela.frequencia[[#This Row],[Usuário]],Tabela.cadastro[[Nome]:[id2]],7,0))/365.25),0)","v":27},{"$f":"IF(LOWER(TEXT(Tabela.frequencia[[#This Row],[Data]],\"MMMM\")) & \"/\" & YEAR(Tabela.frequencia[[#This Row],[Data]])=\"janeiro/1900\",\"\",LOWER(TEXT(Tabela.frequencia[[#This Row],[Data]],\"MMM\")) & \"/\" & TEXT(Tabela.frequencia[[#This Row],[Data]],\"AA\"))","v":"ago/14"}]
[{"$f":"IFERROR(VLOOKUP(Tabela.frequencia[[#This Row],[Usuário]],Tabela.cadastro[[Nome]:[id2]],12,0),\"\")","v":12},"Marina Rodrigues","2014-08-01",{"$f":"ROUNDDOWN(((Tabela.frequencia[[#This Row],[Data]]-VLOOKUP(Tabela.frequencia[[#This Row],[Usuário]],Tabela.cadastro[[Nome]:[id2]],7,0))/365.25),0)","v":25},{"$f":"IF(LOWER(TEXT(Tabela.frequencia[[#This Row],[Data]],\"MMMM\")) & \"/\" & YEAR(Tabela.frequencia[[#This Row],[Data]])=\"janeiro/1900\",\"\",LOWER(TEXT(Tabela.frequencia[[#This Row],[Data]],\"MMM\")) & \"/\" & TEXT(Tabela.frequencia[[#This Row],[Data]],\"AA\"))","v":"ago/14"}]
[{"$f":"IFERROR(VLOOKUP(Tabela.frequencia[[#This Row],[Usuário]],Tabela.cadastro[[Nome]:[id2]],12,0),\"\")","v":13},"Valdecir Castro","2014-08-01",{"$f":"ROUNDDOWN(((Tabela.frequencia[[#This Row],[Data]]-VLOOKUP(Tabela.frequencia[[#This Row],[Usuário]],Tabela.cadastro[[Nome]:[id2]],7,0))/365.25),0)","v":21},{"$f":"IF(LOWER(TEXT(Tabela.frequencia[[#This Row],[Data]],\"MMMM\")) & \"/\" & YEAR(Tabela.frequencia[[#This Row],[Data]])=\"janeiro/1900\",\"\",LOWER(TEXT(Tabela.frequencia[[#This Row],[Data]],\"MMM\")) & \"/\" & TEXT(Tabela.frequencia[[#This Row],[Data]],\"AA\"))","v":"ago/14"}]
[{"$f":"IFERROR(VLOOKUP(Tabela.frequencia[[#This Row],[Usuário]],Tabela.cadastro[[Nome]:[id2]],12,0),\"\")","v":14},"Lucas Cabral","2014-08-01",{"$f":"ROUNDDOWN(((Tabela.frequencia[[#This Row],[Data]]-VLOOKUP(Tabela.frequencia[[#This Row],[Usuário]],Tabela.cadastro[[Nome]:[id2]],7,0))/365.25),0)","v":20},{"$f":"IF(LOWER(TEXT(Tabela.frequencia[[#This Row],[Data]],\"MMMM\")) & \"/\" & YEAR(Tabela.frequencia[[#This Row],[Data]])=\"janeiro/1900\",\"\",LOWER(TEXT(Tabela.frequencia[[#This Row],[Data]],\"MMM\")) & \"/\" & TEXT(Tabela.frequencia[[#This Row],[Data]],\"AA\"))","v":"ago/14"}]
[{"$f":"IFERROR(VLOOKUP(Tabela.frequencia[[#This Row],[Usuário]],Tabela.cadastro[[Nome]:[id2]],12,0),\"\")","v":15},"Dione Silva","2014-08-01",{"$f":"ROUNDDOWN(((Tabela.frequencia[[#This Row],[Data]]-VLOOKUP(Tabela.frequencia[[#This Row],[Usuário]],Tabela.cadastro[[Nome]:[id2]],7,0))/365.25),0)","v":36},{"$f":"IF(LOWER(TEXT(Tabela.frequencia[[#This Row],[Data]],\"MMMM\")) & \"/\" & YEAR(Tabela.frequencia[[#This Row],[Data]])=\"janeiro/1900\",\"\",LOWER(TEXT(Tabela.frequencia[[#This Row],[Data]],\"MMM\")) & \"/\" & TEXT(Tabela.frequencia[[#This Row],[Data]],\"AA\"))","v":"ago/14"}]
[{"$f":"IFERROR(VLOOKUP(Tabela.frequencia[[#This Row],[Usuário]],Tabela.cadastro[[Nome]:[id2]],12,0),\"\")","v":16},"Vicente Pereira","2014-08-01",{"$f":"ROUNDDOWN(((Tabela.frequencia[[#This Row],[Data]]-VLOOKUP(Tabela.frequencia[[#This Row],[Usuário]],Tabela.cadastro[[Nome]:[id2]],7,0))/365.25),0)","v":27},{"$f":"IF(LOWER(TEXT(Tabela.frequencia[[#This Row],[Data]],\"MMMM\")) & \"/\" & YEAR(Tabela.frequencia[[#This Row],[Data]])=\"janeiro/1900\",\"\",LOWER(TEXT(Tabela.frequencia[[#This Row],[Data]],\"MMM\")) & \"/\" & TEXT(Tabela.frequencia[[#This Row],[Data]],\"AA\"))","v":"ago/14"}]
[{"$f":"IFERROR(VLOOKUP(Tabela.frequencia[[#This Row],[Usuário]],Tabela.cadastro[[Nome]:[id2]],12,0),\"\")","v":16},"Vicente Pereira","2014-08-02",{"$f":"ROUNDDOWN(((Tabela.frequencia[[#This Row],[Data]]-VLOOKUP(Tabela.frequencia[[#This Row],[Usuário]],Tabela.cadastro[[Nome]:[id2]],7,0))/365.25),0)","v":27},{"$f":"IF(LOWER(TEXT(Tabela.frequencia[[#This Row],[Data]],\"MMMM\")) & \"/\" & YEAR(Tabela.frequencia[[#This Row],[Data]])=\"janeiro/1900\",\"\",LOWER(TEXT(Tabela.frequencia[[#This Row],[Data]],\"MMM\")) & \"/\" & TEXT(Tabela.frequencia[[#This Row],[Data]],\"AA\"))","v":"ago/14"}]
[{"$f":"IFERROR(VLOOKUP(Tabela.frequencia[[#This Row],[Usuário]],Tabela.cadastro[[Nome]:[id2]],12,0),\"\")","v":16},"Vicente Pereira","2014-08-03",{"$f":"ROUNDDOWN(((Tabela.frequencia[[#This Row],[Data]]-VLOOKUP(Tabela.frequencia[[#This Row],[Usuário]],Tabela.cadastro[[Nome]:[id2]],7,0))/365.25),0)","v":27},{"$f":"IF(LOWER(TEXT(Tabela.frequencia[[#This Row],[Data]],\"MMMM\")) & \"/\" & YEAR(Tabela.frequencia[[#This Row],[Data]])=\"janeiro/1900\",\"\",LOWER(TEXT(Tabela.frequencia[[#This Row],[Data]],\"MMM\")) & \"/\" & TEXT(Tabela.frequencia[[#This Row],[Data]],\"AA\"))","v":"ago/14"}]
[{"$f":"IFERROR(VLOOKUP(Tabela.frequencia[[#This Row],[Usuário]],Tabela.cadastro[[Nome]:[id2]],12,0),\"\")","v":16},"Vicente Pereira","2014-08-04",{"$f":"ROUNDDOWN(((Tabela.frequencia[[#This Row],[Data]]-VLOOKUP(Tabela.frequencia[[#This Row],[Usuário]],Tabela.cadastro[[Nome]:[id2]],7,0))/365.25),0)","v":27},{"$f":"IF(LOWER(TEXT(Tabela.frequencia[[#This Row],[Data]],\"MMMM\")) & \"/\" & YEAR(Tabela.frequencia[[#This Row],[Data]])=\"janeiro/1900\",\"\",LOWER(TEXT(Tabela.frequencia[[#This Row],[Data]],\"MMM\")) & \"/\" & TEXT(Tabela.frequencia[[#This Row],[Data]],\"AA\"))","v":"ago/14"}]
[{"$f":"IFERROR(VLOOKUP(Tabela.frequencia[[#This Row],[Usuário]],Tabela.cadastro[[Nome]:[id2]],12,0),\"\")","v":16},"Vicente Pereira","2014-08-05",{"$f":"ROUNDDOWN(((Tabela.frequencia[[#This Row],[Data]]-VLOOKUP(Tabela.frequencia[[#This Row],[Usuário]],Tabela.cadastro[[Nome]:[id2]],7,0))/365.25),0)","v":27},{"$f":"IF(LOWER(TEXT(Tabela.frequencia[[#This Row],[Data]],\"MMMM\")) & \"/\" & YEAR(Tabela.frequencia[[#This Row],[Data]])=\"janeiro/1900\",\"\",LOWER(TEXT(Tabela.frequencia[[#This Row],[Data]],\"MMM\")) & \"/\" & TEXT(Tabela.frequencia[[#This Row],[Data]],\"AA\"))","v":"ago/14"}]
[{"$f":"IFERROR(VLOOKUP(Tabela.frequencia[[#This Row],[Usuário]],Tabela.cadastro[[Nome]:[id2]],12,0),\"\")","v":16},"Vicente Pereira","2014-08-06",{"$f":"ROUNDDOWN(((Tabela.frequencia[[#This Row],[Data]]-VLOOKUP(Tabela.frequencia[[#This Row],[Usuário]],Tabela.cadastro[[Nome]:[id2]],7,0))/365.25),0)","v":27},{"$f":"IF(LOWER(TEXT(Tabela.frequencia[[#This Row],[Data]],\"MMMM\")) & \"/\" & YEAR(Tabela.frequencia[[#This Row],[Data]])=\"janeiro/1900\",\"\",LOWER(TEXT(Tabela.frequencia[[#This Row],[Data]],\"MMM\")) & \"/\" & TEXT(Tabela.frequencia[[#This Row],[Data]],\"AA\"))","v":"ago/14"}]
[{"$f":"IFERROR(VLOOKUP(Tabela.frequencia[[#This Row],[Usuário]],Tabela.cadastro[[Nome]:[id2]],12,0),\"\")","v":16},"Vicente Pereira","2014-08-07",{"$f":"ROUNDDOWN(((Tabela.frequencia[[#This Row],[Data]]-VLOOKUP(Tabela.frequencia[[#This Row],[Usuário]],Tabela.cadastro[[Nome]:[id2]],7,0))/365.25),0)","v":27},{"$f":"IF(LOWER(TEXT(Tabela.frequencia[[#This Row],[Data]],\"MMMM\")) & \"/\" & YEAR(Tabela.frequencia[[#This Row],[Data]])=\"janeiro/1900\",\"\",LOWER(TEXT(Tabela.frequencia[[#This Row],[Data]],\"MMM\")) & \"/\" & TEXT(Tabela.frequencia[[#This Row],[Data]],\"AA\"))","v":"ago/14"}]
[{"$f":"IFERROR(VLOOKUP(Tabela.frequencia[[#This Row],[Usuário]],Tabela.cadastro[[Nome]:[id2]],12,0),\"\")","v":16},"Vicente Pereira","2014-08-08",{"$f":"ROUNDDOWN(((Tabela.frequencia[[#This Row],[Data]]-VLOOKUP(Tabela.frequencia[[#This Row],[Usuário]],Tabela.cadastro[[Nome]:[id2]],7,0))/365.25),0)","v":27},{"$f":"IF(LOWER(TEXT(Tabela.frequencia[[#This Row],[Data]],\"MMMM\")) & \"/\" & YEAR(Tabela.frequencia[[#This Row],[Data]])=\"janeiro/1900\",\"\",LOWER(TEXT(Tabela.frequencia[[#This Row],[Data]],\"MMM\")) & \"/\" & TEXT(Tabela.frequencia[[#This Row],[Data]],\"AA\"))","v":"ago/14"}]
[{"$f":"IFERROR(VLOOKUP(Tabela.frequencia[[#This Row],[Usuário]],Tabela.cadastro[[Nome]:[id2]],12,0),\"\")","v":16},"Vicente Pereira","2014-08-09",{"$f":"ROUNDDOWN(((Tabela.frequencia[[#This Row],[Data]]-VLOOKUP(Tabela.frequencia[[#This Row],[Usuário]],Tabela.cadastro[[Nome]:[id2]],7,0))/365.25),0)","v":27},{"$f":"IF(LOWER(TEXT(Tabela.frequencia[[#This Row],[Data]],\"MMMM\")) & \"/\" & YEAR(Tabela.frequencia[[#This Row],[Data]])=\"janeiro/1900\",\"\",LOWER(TEXT(Tabela.frequencia[[#This Row],[Data]],\"MMM\")) & \"/\" & TEXT(Tabela.frequencia[[#This Row],[Data]],\"AA\"))","v":"ago/14"}]
[{"$f":"IFERROR(VLOOKUP(Tabela.frequencia[[#This Row],[Usuário]],Tabela.cadastro[[Nome]:[id2]],12,0),\"\")","v":16},"Vicente Pereira","2014-08-10",{"$f":"ROUNDDOWN(((Tabela.frequencia[[#This Row],[Data]]-VLOOKUP(Tabela.frequencia[[#This Row],[Usuário]],Tabela.cadastro[[Nome]:[id2]],7,0))/365.25),0)","v":27},{"$f":"IF(LOWER(TEXT(Tabela.frequencia[[#This Row],[Data]],\"MMMM\")) & \"/\" & YEAR(Tabela.frequencia[[#This Row],[Data]])=\"janeiro/1900\",\"\",LOWER(TEXT(Tabela.frequencia[[#This Row],[Data]],\"MMM\")) & \"/\" & TEXT(Tabela.frequencia[[#This Row],[Data]],\"AA\"))","v":"ago/14"}]
[{"$f":"IFERROR(VLOOKUP(Tabela.frequencia[[#This Row],[Usuário]],Tabela.cadastro[[Nome]:[id2]],12,0),\"\")","v":16},"Vicente Pereira","2014-08-11",{"$f":"ROUNDDOWN(((Tabela.frequencia[[#This Row],[Data]]-VLOOKUP(Tabela.frequencia[[#This Row],[Usuário]],Tabela.cadastro[[Nome]:[id2]],7,0))/365.25),0)","v":27},{"$f":"IF(LOWER(TEXT(Tabela.frequencia[[#This Row],[Data]],\"MMMM\")) & \"/\" & YEAR(Tabela.frequencia[[#This Row],[Data]])=\"janeiro/1900\",\"\",LOWER(TEXT(Tabela.frequencia[[#This Row],[Data]],\"MMM\")) & \"/\" & TEXT(Tabela.frequencia[[#This Row],[Data]],\"AA\"))","v":"ago/14"}]
[{"$f":"IFERROR(VLOOKUP(Tabela.frequencia[[#This Row],[Usuário]],Tabela.cadastro[[Nome]:[id2]],12,0),\"\")","v":16},"Vicente Pereira","2014-08-12",{"$f":"ROUNDDOWN(((Tabela.frequencia[[#This Row],[Data]]-VLOOKUP(Tabela.frequencia[[#This Row],[Usuário]],Tabela.cadastro[[Nome]:[id2]],7,0))/365.25),0)","v":27},{"$f":"IF(LOWER(TEXT(Tabela.frequencia[[#This Row],[Data]],\"MMMM\")) & \"/\" & YEAR(Tabela.frequencia[[#This Row],[Data]])=\"janeiro/1900\",\"\",LOWER(TEXT(Tabela.frequencia[[#This Row],[Data]],\"MMM\")) & \"/\" & TEXT(Tabela.frequencia[[#This Row],[Data]],\"AA\"))","v":"ago/14"}]
[{"$f":"IFERROR(VLOOKUP(Tabela.frequencia[[#This Row],[Usuário]],Tabela.cadastro[[Nome]:[id2]],12,0),\"\")","v":16},"Vicente Pereira","2014-08-13",{"$f":"ROUNDDOWN(((Tabela.frequencia[[#This Row],[Data]]-VLOOKUP(Tabela.frequencia[[#This Row],[Usuário]],Tabela.cadastro[[Nome]:[id2]],7,0))/365.25),0)","v":27},{"$f":"IF(LOWER(TEXT(Tabela.frequencia[[#This Row],[Data]],\"MMMM\")) & \"/\" & YEAR(Tabela.frequencia[[#This Row],[Data]])=\"janeiro/1900\",\"\",LOWER(TEXT(Tabela.frequencia[[#This Row],[Data]],\"MMM\")) & \"/\" & TEXT(Tabela.frequencia[[#This Row],[Data]],\"AA\"))","v":"ago/14"}]
[{"$f":"IFERROR(VLOOKUP(Tabela.frequencia[[#This Row],[Usuário]],Tabela.cadastro[[Nome]:[id2]],12,0),\"\")","v":15},"Dione Silva","2014-08-14",{"$f":"ROUNDDOWN(((Tabela.frequencia[[#This Row],[Data]]-VLOOKUP(Tabela.frequencia[[#This Row],[Usuário]],Tabela.cadastro[[Nome]:[id2]],7,0))/365.25),0)","v":36},{"$f":"IF(LOWER(TEXT(Tabela.frequencia[[#This Row],[Data]],\"MMMM\")) & \"/\" & YEAR(Tabela.frequencia[[#This Row],[Data]])=\"janeiro/1900\",\"\",LOWER(TEXT(Tabela.frequencia[[#This Row],[Data]],\"MMM\")) & \"/\" & TEXT(Tabela.frequencia[[#This Row],[Data]],\"AA\"))","v":"ago/14"}]
[{"$f":"IFERROR(VLOOKUP(Tabela.frequencia[[#This Row],[Usuário]],Tabela.cadastro[[Nome]:[id2]],12,0),\"\")","v":15},"Dione Silva","2014-08-15",{"$f":"ROUNDDOWN(((Tabela.frequencia[[#This Row],[Data]]-VLOOKUP(Tabela.frequencia[[#This Row],[Usuário]],Tabela.cadastro[[Nome]:[id2]],7,0))/365.25),0)","v":36},{"$f":"IF(LOWER(TEXT(Tabela.frequencia[[#This Row],[Data]],\"MMMM\")) & \"/\" & YEAR(Tabela.frequencia[[#This Row],[Data]])=\"janeiro/1900\",\"\",LOWER(TEXT(Tabela.frequencia[[#This Row],[Data]],\"MMM\")) & \"/\" & TEXT(Tabela.frequencia[[#This Row],[Data]],\"AA\"))","v":"ago/14"}]
[{"$f":"IFERROR(VLOOKUP(Tabela.frequencia[[#This Row],[Usuário]],Tabela.cadastro[[Nome]:[id2]],12,0),\"\")","v":15},"Dione Silva","2014-08-16",{"$f":"ROUNDDOWN(((Tabela.frequencia[[#This Row],[Data]]-VLOOKUP(Tabela.frequencia[[#This Row],[Usuário]],Tabela.cadastro[[Nome]:[id2]],7,0))/365.25),0)","v":36},{"$f":"IF(LOWER(TEXT(Tabela.frequencia[[#This Row],[Data]],\"MMMM\")) & \"/\" & YEAR(Tabela.frequencia[[#This Row],[Data]])=\"janeiro/1900\",\"\",LOWER(TEXT(Tabela.frequencia[[#This Row],[Data]],\"MMM\")) & \"/\" & TEXT(Tabela.frequencia[[#This Row],[Data]],\"AA\"))","v":"ago/14"}]
[{"$f":"IFERROR(VLOOKUP(Tabela.frequencia[[#This Row],[Usuário]],Tabela.cadastro[[Nome]:[id2]],12,0),\"\")","v":15},"Dione Silva","2014-08-17",{"$f":"ROUNDDOWN(((Tabela.frequencia[[#This Row],[Data]]-VLOOKUP(Tabela.frequencia[[#This Row],[Usuário]],Tabela.cadastro[[Nome]:[id2]],7,0))/365.25),0)","v":36},{"$f":"IF(LOWER(TEXT(Tabela.frequencia[[#This Row],[Data]],\"MMMM\")) & \"/\" & YEAR(Tabela.frequencia[[#This Row],[Data]])=\"janeiro/1900\",\"\",LOWER(TEXT(Tabela.frequencia[[#This Row],[Data]],\"MMM\")) & \"/\" & TEXT(Tabela.frequencia[[#This Row],[Data]],\"AA\"))","v":"ago/14"}]
[{"$f":"IFERROR(VLOOKUP(Tabela.frequencia[[#This Row],[Usuário]],Tabela.cadastro[[Nome]:[id2]],12,0),\"\")","v":15},"Dione Silva","2014-08-18",{"$f":"ROUNDDOWN(((Tabela.frequencia[[#This Row],[Data]]-VLOOKUP(Tabela.frequencia[[#This Row],[Usuário]],Tabela.cadastro[[Nome]:[id2]],7,0))/365.25),0)","v":36},{"$f":"IF(LOWER(TEXT(Tabela.frequencia[[#This Row],[Data]],\"MMMM\")) & \"/\" & YEAR(Tabela.frequencia[[#This Row],[Data]])=\"janeiro/1900\",\"\",LOWER(TEXT(Tabela.frequencia[[#This Row],[Data]],\"MMM\")) & \"/\" & TEXT(Tabela.frequencia[[#This Row],[Data]],\"AA\"))","v":"ago/14"}]
[{"$f":"IFERROR(VLOOKUP(Tabela.frequencia[[#This Row],[Usuário]],Tabela.cadastro[[Nome]:[id2]],12,0),\"\")","v":15},"Dione Silva","2014-08-19",{"$f":"ROUNDDOWN(((Tabela.frequencia[[#This Row],[Data]]-VLOOKUP(Tabela.frequencia[[#This Row],[Usuário]],Tabela.cadastro[[Nome]:[id2]],7,0))/365.25),0)","v":36},{"$f":"IF(LOWER(TEXT(Tabela.frequencia[[#This Row],[Data]],\"MMMM\")) & \"/\" & YEAR(Tabela.frequencia[[#This Row],[Data]])=\"janeiro/1900\",\"\",LOWER(TEXT(Tabela.frequencia[[#This Row],[Data]],\"MMM\")) & \"/\" & TEXT(Tabela.frequencia[[#This Row],[Data]],\"AA\"))","v":"ago/14"}]
[{"$f":"IFERROR(VLOOKUP(Tabela.frequencia[[#This Row],[Usuário]],Tabela.cadastro[[Nome]:[id2]],12,0),\"\")","v":15},"Dione Silva","2014-08-20",{"$f":"ROUNDDOWN(((Tabela.frequencia[[#This Row],[Data]]-VLOOKUP(Tabela.frequencia[[#This Row],[Usuário]],Tabela.cadastro[[Nome]:[id2]],7,0))/365.25),0)","v":36},{"$f":"IF(LOWER(TEXT(Tabela.frequencia[[#This Row],[Data]],\"MMMM\")) & \"/\" & YEAR(Tabela.frequencia[[#This Row],[Data]])=\"janeiro/1900\",\"\",LOWER(TEXT(Tabela.frequencia[[#This Row],[Data]],\"MMM\")) & \"/\" & TEXT(Tabela.frequencia[[#This Row],[Data]],\"AA\"))","v":"ago/14"}]
[{"$f":"IFERROR(VLOOKUP(Tabela.frequencia[[#This Row],[Usuário]],Tabela.cadastro[[Nome]:[id2]],12,0),\"\")","v":15},"Dione Silva","2014-08-21",{"$f":"ROUNDDOWN(((Tabela.frequencia[[#This Row],[Data]]-VLOOKUP(Tabela.frequencia[[#This Row],[Usuário]],Tabela.cadastro[[Nome]:[id2]],7,0))/365.25),0)","v":36},{"$f":"IF(LOWER(TEXT(Tabela.frequencia[[#This Row],[Data]],\"MMMM\")) & \"/\" & YEAR(Tabela.frequencia[[#This Row],[Data]])=\"janeiro/1900\",\"\",LOWER(TEXT(Tabela.frequencia[[#This Row],[Data]],\"MMM\")) & \"/\" & TEXT(Tabela.frequencia[[#This Row],[Data]],\"AA\"))","v":"ago/14"}]
[{"$f":"IFERROR(VLOOKUP(Tabela.frequencia[[#This Row],[Usuário]],Tabela.cadastro[[Nome]:[id2]],12,0),\"\")","v":15},"Dione Silva","2014-08-22",{"$f":"ROUNDDOWN(((Tabela.frequencia[[#This Row],[Data]]-VLOOKUP(Tabela.frequencia[[#This Row],[Usuário]],Tabela.cadastro[[Nome]:[id2]],7,0))/365.25),0)","v":36},{"$f":"IF(LOWER(TEXT(Tabela.frequencia[[#This Row],[Data]],\"MMMM\")) & \"/\" & YEAR(Tabela.frequencia[[#This Row],[Data]])=\"janeiro/1900\",\"\",LOWER(TEXT(Tabela.frequencia[[#This Row],[Data]],\"MMM\")) & \"/\" & TEXT(Tabela.frequencia[[#This Row],[Data]],\"AA\"))","v":"ago/14"}]
[{"$f":"IFERROR(VLOOKUP(Tabela.frequencia[[#This Row],[Usuário]],Tabela.cadastro[[Nome]:[id2]],12,0),\"\")","v":12},"Marina Rodrigues","2014-08-23",{"$f":"ROUNDDOWN(((Tabela.frequencia[[#This Row],[Data]]-VLOOKUP(Tabela.frequencia[[#This Row],[Usuário]],Tabela.cadastro[[Nome]:[id2]],7,0))/365.25),0)","v":25},{"$f":"IF(LOWER(TEXT(Tabela.frequencia[[#This Row],[Data]],\"MMMM\")) & \"/\" & YEAR(Tabela.frequencia[[#This Row],[Data]])=\"janeiro/1900\",\"\",LOWER(TEXT(Tabela.frequencia[[#This Row],[Data]],\"MMM\")) & \"/\" & TEXT(Tabela.frequencia[[#This Row],[Data]],\"AA\"))","v":"ago/14"}]
[{"$f":"IFERROR(VLOOKUP(Tabela.frequencia[[#This Row],[Usuário]],Tabela.cadastro[[Nome]:[id2]],12,0),\"\")","v":12},"Marina Rodrigues","2014-08-24",{"$f":"ROUNDDOWN(((Tabela.frequencia[[#This Row],[Data]]-VLOOKUP(Tabela.frequencia[[#This Row],[Usuário]],Tabela.cadastro[[Nome]:[id2]],7,0))/365.25),0)","v":25},{"$f":"IF(LOWER(TEXT(Tabela.frequencia[[#This Row],[Data]],\"MMMM\")) & \"/\" & YEAR(Tabela.frequencia[[#This Row],[Data]])=\"janeiro/1900\",\"\",LOWER(TEXT(Tabela.frequencia[[#This Row],[Data]],\"MMM\")) & \"/\" & TEXT(Tabela.frequencia[[#This Row],[Data]],\"AA\"))","v":"ago/14"}]
[{"$f":"IFERROR(VLOOKUP(Tabela.frequencia[[#This Row],[Usuário]],Tabela.cadastro[[Nome]:[id2]],12,0),\"\")","v":12},"Marina Rodrigues","2014-08-25",{"$f":"ROUNDDOWN(((Tabela.frequencia[[#This Row],[Data]]-VLOOKUP(Tabela.frequencia[[#This Row],[Usuário]],Tabela.cadastro[[Nome]:[id2]],7,0))/365.25),0)","v":25},{"$f":"IF(LOWER(TEXT(Tabela.frequencia[[#This Row],[Data]],\"MMMM\")) & \"/\" & YEAR(Tabela.frequencia[[#This Row],[Data]])=\"janeiro/1900\",\"\",LOWER(TEXT(Tabela.frequencia[[#This Row],[Data]],\"MMM\")) & \"/\" & TEXT(Tabela.frequencia[[#This Row],[Data]],\"AA\"))","v":"ago/14"}]
[{"$f":"IFERROR(VLOOKUP(Tabela.frequencia[[#This Row],[Usuário]],Tabela.cadastro[[Nome]:[id2]],12,0),\"\")","v":12},"Marina Rodrigues","2014-08-26",{"$f":"ROUNDDOWN(((Tabela.frequencia[[#This Row],[Data]]-VLOOKUP(Tabela.frequencia[[#This Row],[Usuário]],Tabela.cadastro[[Nome]:[id2]],7,0))/365.25),0)","v":25},{"$f":"IF(LOWER(TEXT(Tabela.frequencia[[#This Row],[Data]],\"MMMM\")) & \"/\" & YEAR(Tabela.frequencia[[#This Row],[Data]])=\"janeiro/1900\",\"\",LOWER(TEXT(Tabela.frequencia[[#This Row],[Data]],\"MMM\")) & \"/\" & TEXT(Tabela.frequencia[[#This Row],[Data]],\"AA\"))","v":"ago/14"}]
[{"$f":"IFERROR(VLOOKUP(Tabela.frequencia[[#This Row],[Usuário]],Tabela.cadastro[[Nome]:[id2]],12,0),\"\")","v":1},"Maria do Carmo","2015-01-01",{"$f":"ROUNDDOWN(((Tabela.frequencia[[#This Row],[Data]]-VLOOKUP(Tabela.frequencia[[#This Row],[Usuário]],Tabela.cadastro[[Nome]:[id2]],7,0))/365.25),0)","v":19},{"$f":"IF(LOWER(TEXT(Tabela.frequencia[[#This Row],[Data]],\"MMMM\")) & \"/\" & YEAR(Tabela.frequencia[[#This Row],[Data]])=\"janeiro/1900\",\"\",LOWER(TEXT(Tabela.frequencia[[#This Row],[Data]],\"MMM\")) & \"/\" & TEXT(Tabela.frequencia[[#This Row],[Data]],\"AA\"))","v":"jan/15"}]
[{"$f":"IFERROR(VLOOKUP(Tabela.frequencia[[#This Row],[Usuário]],Tabela.cadastro[[Nome]:[id2]],12,0),\"\")","v":2},"José Augusto","2015-01-01",{"$f":"ROUNDDOWN(((Tabela.frequencia[[#This Row],[Data]]-VLOOKUP(Tabela.frequencia[[#This Row],[Usuário]],Tabela.cadastro[[Nome]:[id2]],7,0))/365.25),0)","v":32},{"$f":"IF(LOWER(TEXT(Tabela.frequencia[[#This Row],[Data]],\"MMMM\")) & \"/\" & YEAR(Tabela.frequencia[[#This Row],[Data]])=\"janeiro/1900\",\"\",LOWER(TEXT(Tabela.frequencia[[#This Row],[Data]],\"MMM\")) & \"/\" & TEXT(Tabela.frequencia[[#This Row],[Data]],\"AA\"))","v":"jan/15"}]
[{"$f":"IFERROR(VLOOKUP(Tabela.frequencia[[#This Row],[Usuário]],Tabela.cadastro[[Nome]:[id2]],12,0),\"\")","v":3},"Joana Silva","2015-01-01",{"$f":"ROUNDDOWN(((Tabela.frequencia[[#This Row],[Data]]-VLOOKUP(Tabela.frequencia[[#This Row],[Usuário]],Tabela.cadastro[[Nome]:[id2]],7,0))/365.25),0)","v":30},{"$f":"IF(LOWER(TEXT(Tabela.frequencia[[#This Row],[Data]],\"MMMM\")) & \"/\" & YEAR(Tabela.frequencia[[#This Row],[Data]])=\"janeiro/1900\",\"\",LOWER(TEXT(Tabela.frequencia[[#This Row],[Data]],\"MMM\")) & \"/\" & TEXT(Tabela.frequencia[[#This Row],[Data]],\"AA\"))","v":"jan/15"}]
[{"$f":"IFERROR(VLOOKUP(Tabela.frequencia[[#This Row],[Usuário]],Tabela.cadastro[[Nome]:[id2]],12,0),\"\")","v":4},"João Pereira","2015-01-01",{"$f":"ROUNDDOWN(((Tabela.frequencia[[#This Row],[Data]]-VLOOKUP(Tabela.frequencia[[#This Row],[Usuário]],Tabela.cadastro[[Nome]:[id2]],7,0))/365.25),0)","v":42},{"$f":"IF(LOWER(TEXT(Tabela.frequencia[[#This Row],[Data]],\"MMMM\")) & \"/\" & YEAR(Tabela.frequencia[[#This Row],[Data]])=\"janeiro/1900\",\"\",LOWER(TEXT(Tabela.frequencia[[#This Row],[Data]],\"MMM\")) & \"/\" & TEXT(Tabela.frequencia[[#This Row],[Data]],\"AA\"))","v":"jan/15"}]
[{"$f":"IFERROR(VLOOKUP(Tabela.frequencia[[#This Row],[Usuário]],Tabela.cadastro[[Nome]:[id2]],12,0),\"\")","v":5},"Maria Almeida","2015-01-01",{"$f":"ROUNDDOWN(((Tabela.frequencia[[#This Row],[Data]]-VLOOKUP(Tabela.frequencia[[#This Row],[Usuário]],Tabela.cadastro[[Nome]:[id2]],7,0))/365.25),0)","v":69},{"$f":"IF(LOWER(TEXT(Tabela.frequencia[[#This Row],[Data]],\"MMMM\")) & \"/\" & YEAR(Tabela.frequencia[[#This Row],[Data]])=\"janeiro/1900\",\"\",LOWER(TEXT(Tabela.frequencia[[#This Row],[Data]],\"MMM\")) & \"/\" & TEXT(Tabela.frequencia[[#This Row],[Data]],\"AA\"))","v":"jan/15"}]
[{"$f":"IFERROR(VLOOKUP(Tabela.frequencia[[#This Row],[Usuário]],Tabela.cadastro[[Nome]:[id2]],12,0),\"\")","v":6},"Marcos Costa","2015-01-01",{"$f":"ROUNDDOWN(((Tabela.frequencia[[#This Row],[Data]]-VLOOKUP(Tabela.frequencia[[#This Row],[Usuário]],Tabela.cadastro[[Nome]:[id2]],7,0))/365.25),0)","v":15},{"$f":"IF(LOWER(TEXT(Tabela.frequencia[[#This Row],[Data]],\"MMMM\")) & \"/\" & YEAR(Tabela.frequencia[[#This Row],[Data]])=\"janeiro/1900\",\"\",LOWER(TEXT(Tabela.frequencia[[#This Row],[Data]],\"MMM\")) & \"/\" & TEXT(Tabela.frequencia[[#This Row],[Data]],\"AA\"))","v":"jan/15"}]
[{"$f":"IFERROR(VLOOKUP(Tabela.frequencia[[#This Row],[Usuário]],Tabela.cadastro[[Nome]:[id2]],12,0),\"\")","v":7},"Alan Gomes","2015-01-01",{"$f":"ROUNDDOWN(((Tabela.frequencia[[#This Row],[Data]]-VLOOKUP(Tabela.frequencia[[#This Row],[Usuário]],Tabela.cadastro[[Nome]:[id2]],7,0))/365.25),0)","v":75},{"$f":"IF(LOWER(TEXT(Tabela.frequencia[[#This Row],[Data]],\"MMMM\")) & \"/\" & YEAR(Tabela.frequencia[[#This Row],[Data]])=\"janeiro/1900\",\"\",LOWER(TEXT(Tabela.frequencia[[#This Row],[Data]],\"MMM\")) & \"/\" & TEXT(Tabela.frequencia[[#This Row],[Data]],\"AA\"))","v":"jan/15"}]
[{"$f":"IFERROR(VLOOKUP(Tabela.frequencia[[#This Row],[Usuário]],Tabela.cadastro[[Nome]:[id2]],12,0),\"\")","v":8},"Luiz Souza","2015-01-01",{"$f":"ROUNDDOWN(((Tabela.frequencia[[#This Row],[Data]]-VLOOKUP(Tabela.frequencia[[#This Row],[Usuário]],Tabela.cadastro[[Nome]:[id2]],7,0))/365.25),0)","v":27},{"$f":"IF(LOWER(TEXT(Tabela.frequencia[[#This Row],[Data]],\"MMMM\")) & \"/\" & YEAR(Tabela.frequencia[[#This Row],[Data]])=\"janeiro/1900\",\"\",LOWER(TEXT(Tabela.frequencia[[#This Row],[Data]],\"MMM\")) & \"/\" & TEXT(Tabela.frequencia[[#This Row],[Data]],\"AA\"))","v":"jan/15"}]
[{"$f":"IFERROR(VLOOKUP(Tabela.frequencia[[#This Row],[Usuário]],Tabela.cadastro[[Nome]:[id2]],12,0),\"\")","v":9},"Tatiane Costa","2015-01-01",{"$f":"ROUNDDOWN(((Tabela.frequencia[[#This Row],[Data]]-VLOOKUP(Tabela.frequencia[[#This Row],[Usuário]],Tabela.cadastro[[Nome]:[id2]],7,0))/365.25),0)","v":44},{"$f":"IF(LOWER(TEXT(Tabela.frequencia[[#This Row],[Data]],\"MMMM\")) & \"/\" & YEAR(Tabela.frequencia[[#This Row],[Data]])=\"janeiro/1900\",\"\",LOWER(TEXT(Tabela.frequencia[[#This Row],[Data]],\"MMM\")) & \"/\" & TEXT(Tabela.frequencia[[#This Row],[Data]],\"AA\"))","v":"jan/15"}]
[{"$f":"IFERROR(VLOOKUP(Tabela.frequencia[[#This Row],[Usuário]],Tabela.cadastro[[Nome]:[id2]],12,0),\"\")","v":10},"Maicon Silva","2015-01-01",{"$f":"ROUNDDOWN(((Tabela.frequencia[[#This Row],[Data]]-VLOOKUP(Tabela.frequencia[[#This Row],[Usuário]],Tabela.cadastro[[Nome]:[id2]],7,0))/365.25),0)","v":31},{"$f":"IF(LOWER(TEXT(Tabela.frequencia[[#This Row],[Data]],\"MMMM\")) & \"/\" & YEAR(Tabela.frequencia[[#This Row],[Data]])=\"janeiro/1900\",\"\",LOWER(TEXT(Tabela.frequencia[[#This Row],[Data]],\"MMM\")) & \"/\" & TEXT(Tabela.frequencia[[#This Row],[Data]],\"AA\"))","v":"jan/15"}]
[{"$f":"IFERROR(VLOOKUP(Tabela.frequencia[[#This Row],[Usuário]],Tabela.cadastro[[Nome]:[id2]],12,0),\"\")","v":11},"Rodolfo Gonçalvez","2015-01-01",{"$f":"ROUNDDOWN(((Tabela.frequencia[[#This Row],[Data]]-VLOOKUP(Tabela.frequencia[[#This Row],[Usuário]],Tabela.cadastro[[Nome]:[id2]],7,0))/365.25),0)","v":32},{"$f":"IF(LOWER(TEXT(Tabela.frequencia[[#This Row],[Data]],\"MMMM\")) & \"/\" & YEAR(Tabela.frequencia[[#This Row],[Data]])=\"janeiro/1900\",\"\",LOWER(TEXT(Tabela.frequencia[[#This Row],[Data]],\"MMM\")) & \"/\" & TEXT(Tabela.frequencia[[#This Row],[Data]],\"AA\"))","v":"jan/15"}]
[{"$f":"IFERROR(VLOOKUP(Tabela.frequencia[[#This Row],[Usuário]],Tabela.cadastro[[Nome]:[id2]],12,0),\"\")","v":12},"Marina Rodrigues","2015-01-01",{"$f":"ROUNDDOWN(((Tabela.frequencia[[#This Row],[Data]]-VLOOKUP(Tabela.frequencia[[#This Row],[Usuário]],Tabela.cadastro[[Nome]:[id2]],7,0))/365.25),0)","v":25},{"$f":"IF(LOWER(TEXT(Tabela.frequencia[[#This Row],[Data]],\"MMMM\")) & \"/\" & YEAR(Tabela.frequencia[[#This Row],[Data]])=\"janeiro/1900\",\"\",LOWER(TEXT(Tabela.frequencia[[#This Row],[Data]],\"MMM\")) & \"/\" & TEXT(Tabela.frequencia[[#This Row],[Data]],\"AA\"))","v":"jan/15"}]
[{"$f":"IFERROR(VLOOKUP(Tabela.frequencia[[#This Row],[Usuário]],Tabela.cadastro[[Nome]:[id2]],12,0),\"\")","v":13},"Valdecir Castro","2015-01-01",{"$f":"ROUNDDOWN(((Tabela.frequencia[[#This Row],[Data]]-VLOOKUP(Tabela.frequencia[[#This Row],[Usuário]],Tabela.cadastro[[Nome]:[id2]],7,0))/365.25),0)","v":22},{"$f":"IF(LOWER(TEXT(Tabela.frequencia[[#This Row],[Data]],\"MMMM\")) & \"/\" & YEAR(Tabela.frequencia[[#This Row],[Data]])=\"janeiro/1900\",\"\",LOWER(TEXT(Tabela.frequencia[[#This Row],[Data]],\"MMM\")) & \"/\" & TEXT(Tabela.frequencia[[#This Row],[Data]],\"AA\"))","v":"jan/15"}]
[{"$f":"IFERROR(VLOOKUP(Tabela.frequencia[[#This Row],[Usuário]],Tabela.cadastro[[Nome]:[id2]],12,0),\"\")","v":14},"Lucas Cabral","2015-01-01",{"$f":"ROUNDDOWN(((Tabela.frequencia[[#This Row],[Data]]-VLOOKUP(Tabela.frequencia[[#This Row],[Usuário]],Tabela.cadastro[[Nome]:[id2]],7,0))/365.25),0)","v":20},{"$f":"IF(LOWER(TEXT(Tabela.frequencia[[#This Row],[Data]],\"MMMM\")) & \"/\" & YEAR(Tabela.frequencia[[#This Row],[Data]])=\"janeiro/1900\",\"\",LOWER(TEXT(Tabela.frequencia[[#This Row],[Data]],\"MMM\")) & \"/\" & TEXT(Tabela.frequencia[[#This Row],[Data]],\"AA\"))","v":"jan/15"}]
[{"$f":"IFERROR(VLOOKUP(Tabela.frequencia[[#This Row],[Usuário]],Tabela.cadastro[[Nome]:[id2]],12,0),\"\")","v":15},"Dione Silva","2015-01-01",{"$f":"ROUNDDOWN(((Tabela.frequencia[[#This Row],[Data]]-VLOOKUP(Tabela.frequencia[[#This Row],[Usuário]],Tabela.cadastro[[Nome]:[id2]],7,0))/365.25),0)","v":37},{"$f":"IF(LOWER(TEXT(Tabela.frequencia[[#This Row],[Data]],\"MMMM\")) & \"/\" & YEAR(Tabela.frequencia[[#This Row],[Data]])=\"janeiro/1900\",\"\",LOWER(TEXT(Tabela.frequencia[[#This Row],[Data]],\"MMM\")) & \"/\" & TEXT(Tabela.frequencia[[#This Row],[Data]],\"AA\"))","v":"jan/15"}]
[{"$f":"IFERROR(VLOOKUP(Tabela.frequencia[[#This Row],[Usuário]],Tabela.cadastro[[Nome]:[id2]],12,0),\"\")","v":3},"Joana Silva","2015-06-01",{"$f":"ROUNDDOWN(((Tabela.frequencia[[#This Row],[Data]]-VLOOKUP(Tabela.frequencia[[#This Row],[Usuário]],Tabela.cadastro[[Nome]:[id2]],7,0))/365.25),0)","v":30},{"$f":"IF(LOWER(TEXT(Tabela.frequencia[[#This Row],[Data]],\"MMMM\")) & \"/\" & YEAR(Tabela.frequencia[[#This Row],[Data]])=\"janeiro/1900\",\"\",LOWER(TEXT(Tabela.frequencia[[#This Row],[Data]],\"MMM\")) & \"/\" & TEXT(Tabela.frequencia[[#This Row],[Data]],\"AA\"))","v":"jun/15"}]
[{"$f":"IFERROR(VLOOKUP(Tabela.frequencia[[#This Row],[Usuário]],Tabela.cadastro[[Nome]:[id2]],12,0),\"\")","v":4},"João Pereira","2015-06-01",{"$f":"ROUNDDOWN(((Tabela.frequencia[[#This Row],[Data]]-VLOOKUP(Tabela.frequencia[[#This Row],[Usuário]],Tabela.cadastro[[Nome]:[id2]],7,0))/365.25),0)","v":42},{"$f":"IF(LOWER(TEXT(Tabela.frequencia[[#This Row],[Data]],\"MMMM\")) & \"/\" & YEAR(Tabela.frequencia[[#This Row],[Data]])=\"janeiro/1900\",\"\",LOWER(TEXT(Tabela.frequencia[[#This Row],[Data]],\"MMM\")) & \"/\" & TEXT(Tabela.frequencia[[#This Row],[Data]],\"AA\"))","v":"jun/15"}]
[{"$f":"IFERROR(VLOOKUP(Tabela.frequencia[[#This Row],[Usuário]],Tabela.cadastro[[Nome]:[id2]],12,0),\"\")","v":5},"Maria Almeida","2015-06-01",{"$f":"ROUNDDOWN(((Tabela.frequencia[[#This Row],[Data]]-VLOOKUP(Tabela.frequencia[[#This Row],[Usuário]],Tabela.cadastro[[Nome]:[id2]],7,0))/365.25),0)","v":70},{"$f":"IF(LOWER(TEXT(Tabela.frequencia[[#This Row],[Data]],\"MMMM\")) & \"/\" & YEAR(Tabela.frequencia[[#This Row],[Data]])=\"janeiro/1900\",\"\",LOWER(TEXT(Tabela.frequencia[[#This Row],[Data]],\"MMM\")) & \"/\" & TEXT(Tabela.frequencia[[#This Row],[Data]],\"AA\"))","v":"jun/15"}]
[{"$f":"IFERROR(VLOOKUP(Tabela.frequencia[[#This Row],[Usuário]],Tabela.cadastro[[Nome]:[id2]],12,0),\"\")","v":9},"Tatiane Costa","2015-06-01",{"$f":"ROUNDDOWN(((Tabela.frequencia[[#This Row],[Data]]-VLOOKUP(Tabela.frequencia[[#This Row],[Usuário]],Tabela.cadastro[[Nome]:[id2]],7,0))/365.25),0)","v":45},{"$f":"IF(LOWER(TEXT(Tabela.frequencia[[#This Row],[Data]],\"MMMM\")) & \"/\" & YEAR(Tabela.frequencia[[#This Row],[Data]])=\"janeiro/1900\",\"\",LOWER(TEXT(Tabela.frequencia[[#This Row],[Data]],\"MMM\")) & \"/\" & TEXT(Tabela.frequencia[[#This Row],[Data]],\"AA\"))","v":"jun/15"}]
[{"$f":"IFERROR(VLOOKUP(Tabela.frequencia[[#This Row],[Usuário]],Tabela.cadastro[[Nome]:[id2]],12,0),\"\")","v":10},"Maicon Silva","2015-06-01",{"$f":"ROUNDDOWN(((Tabela.frequencia[[#This Row],[Data]]-VLOOKUP(Tabela.frequencia[[#This Row],[Usuário]],Tabela.cadastro[[Nome]:[id2]],7,0))/365.25),0)","v":32},{"$f":"IF(LOWER(TEXT(Tabela.frequencia[[#This Row],[Data]],\"MMMM\")) & \"/\" & YEAR(Tabela.frequencia[[#This Row],[Data]])=\"janeiro/1900\",\"\",LOWER(TEXT(Tabela.frequencia[[#This Row],[Data]],\"MMM\")) & \"/\" & TEXT(Tabela.frequencia[[#This Row],[Data]],\"AA\"))","v":"jun/15"}]
[{"$f":"IFERROR(VLOOKUP(Tabela.frequencia[[#This Row],[Usuário]],Tabela.cadastro[[Nome]:[id2]],12,0),\"\")","v":11},"Rodolfo Gonçalvez","2015-06-01",{"$f":"ROUNDDOWN(((Tabela.frequencia[[#This Row],[Data]]-VLOOKUP(Tabela.frequencia[[#This Row],[Usuário]],Tabela.cadastro[[Nome]:[id2]],7,0))/365.25),0)","v":32},{"$f":"IF(LOWER(TEXT(Tabela.frequencia[[#This Row],[Data]],\"MMMM\")) & \"/\" & YEAR(Tabela.frequencia[[#This Row],[Data]])=\"janeiro/1900\",\"\",LOWER(TEXT(Tabela.frequencia[[#This Row],[Data]],\"MMM\")) & \"/\" & TEXT(Tabela.frequencia[[#This Row],[Data]],\"AA\"))","v":"jun/15"}]
[{"$f":"IFERROR(VLOOKUP(Tabela.frequencia[[#This Row],[Usuário]],Tabela.cadastro[[Nome]:[id2]],12,0),\"\")","v":12},"Marina Rodrigues","2015-06-01",{"$f":"ROUNDDOWN(((Tabela.frequencia[[#This Row],[Data]]-VLOOKUP(Tabela.frequencia[[#This Row],[Usuário]],Tabela.cadastro[[Nome]:[id2]],7,0))/365.25),0)","v":26},{"$f":"IF(LOWER(TEXT(Tabela.frequencia[[#This Row],[Data]],\"MMMM\")) & \"/\" & YEAR(Tabela.frequencia[[#This Row],[Data]])=\"janeiro/1900\",\"\",LOWER(TEXT(Tabela.frequencia[[#This Row],[Data]],\"MMM\")) & \"/\" & TEXT(Tabela.frequencia[[#This Row],[Data]],\"AA\"))","v":"jun/15"}]
[{"$f":"IFERROR(VLOOKUP(Tabela.frequencia[[#This Row],[Usuário]],Tabela.cadastro[[Nome]:[id2]],12,0),\"\")","v":13},"Valdecir Castro","2015-06-01",{"$f":"ROUNDDOWN(((Tabela.frequencia[[#This Row],[Data]]-VLOOKUP(Tabela.frequencia[[#This Row],[Usuário]],Tabela.cadastro[[Nome]:[id2]],7,0))/365.25),0)","v":22},{"$f":"IF(LOWER(TEXT(Tabela.frequencia[[#This Row],[Data]],\"MMMM\")) & \"/\" & YEAR(Tabela.frequencia[[#This Row],[Data]])=\"janeiro/1900\",\"\",LOWER(TEXT(Tabela.frequencia[[#This Row],[Data]],\"MMM\")) & \"/\" & TEXT(Tabela.frequencia[[#This Row],[Data]],\"AA\"))","v":"jun/15"}]
[{"$f":"IFERROR(VLOOKUP(Tabela.frequencia[[#This Row],[Usuário]],Tabela.cadastro[[Nome]:[id2]],12,0),\"\")","v":14},"Lucas Cabral","2015-06-01",{"$f":"ROUNDDOWN(((Tabela.frequencia[[#This Row],[Data]]-VLOOKUP(Tabela.frequencia[[#This Row],[Usuário]],Tabela.cadastro[[Nome]:[id2]],7,0))/365.25),0)","v":21},{"$f":"IF(LOWER(TEXT(Tabela.frequencia[[#This Row],[Data]],\"MMMM\")) & \"/\" & YEAR(Tabela.frequencia[[#This Row],[Data]])=\"janeiro/1900\",\"\",LOWER(TEXT(Tabela.frequencia[[#This Row],[Data]],\"MMM\")) & \"/\" & TEXT(Tabela.frequencia[[#This Row],[Data]],\"AA\"))","v":"jun/15"}]
[{"$f":"IFERROR(VLOOKUP(Tabela.frequencia[[#This Row],[Usuário]],Tabela.cadastro[[Nome]:[id2]],12,0),\"\")","v":15},"Dione Silva","2015-06-01",{"$f":"ROUNDDOWN(((Tabela.frequencia[[#This Row],[Data]]-VLOOKUP(Tabela.frequencia[[#This Row],[Usuário]],Tabela.cadastro[[Nome]:[id2]],7,0))/365.25),0)","v":37},{"$f":"IF(LOWER(TEXT(Tabela.frequencia[[#This Row],[Data]],\"MMMM\")) & \"/\" & YEAR(Tabela.frequencia[[#This Row],[Data]])=\"janeiro/1900\",\"\",LOWER(TEXT(Tabela.frequencia[[#This Row],[Data]],\"MMM\")) & \"/\" & TEXT(Tabela.frequencia[[#This Row],[Data]],\"AA\"))","v":"jun/15"}]
[{"$f":"IFERROR(VLOOKUP(Tabela.frequencia[[#This Row],[Usuário]],Tabela.cadastro[[Nome]:[id2]],12,0),\"\")","v":16},"Vicente Pereira","2015-06-01",{"$f":"ROUNDDOWN(((Tabela.frequencia[[#This Row],[Data]]-VLOOKUP(Tabela.frequencia[[#This Row],[Usuário]],Tabela.cadastro[[Nome]:[id2]],7,0))/365.25),0)","v":27},{"$f":"IF(LOWER(TEXT(Tabela.frequencia[[#This Row],[Data]],\"MMMM\")) & \"/\" & YEAR(Tabela.frequencia[[#This Row],[Data]])=\"janeiro/1900\",\"\",LOWER(TEXT(Tabela.frequencia[[#This Row],[Data]],\"MMM\")) & \"/\" & TEXT(Tabela.frequencia[[#This Row],[Data]],\"AA\"))","v":"jun/15"}]
[{"$f":"IFERROR(VLOOKUP(Tabela.frequencia[[#This Row],[Usuário]],Tabela.cadastro[[Nome]:[id2]],12,0),\"\")","v":17},"Douglas Bragança","2015-06-01",{"$f":"ROUNDDOWN(((Tabela.frequencia[[#This Row],[Data]]-VLOOKUP(Tabela.frequencia[[#This Row],[Usuário]],Tabela.cadastro[[Nome]:[id2]],7,0))/365.25),0)","v":32},{"$f":"IF(LOWER(TEXT(Tabela.frequencia[[#This Row],[Data]],\"MMMM\")) & \"/\" & YEAR(Tabela.frequencia[[#This Row],[Data]])=\"janeiro/1900\",\"\",LOWER(TEXT(Tabela.frequencia[[#This Row],[Data]],\"MMM\")) & \"/\" & TEXT(Tabela.frequencia[[#This Row],[Data]],\"AA\"))","v":"jun/15"}]
[{"$f":"IFERROR(VLOOKUP(Tabela.frequencia[[#This Row],[Usuário]],Tabela.cadastro[[Nome]:[id2]],12,0),\"\")","v":18},"Eduardo Costa","2015-06-01",{"$f":"ROUNDDOWN(((Tabela.frequencia[[#This Row],[Data]]-VLOOKUP(Tabela.frequencia[[#This Row],[Usuário]],Tabela.cadastro[[Nome]:[id2]],7,0))/365.25),0)","v":35},{"$f":"IF(LOWER(TEXT(Tabela.frequencia[[#This Row],[Data]],\"MMMM\")) & \"/\" & YEAR(Tabela.frequencia[[#This Row],[Data]])=\"janeiro/1900\",\"\",LOWER(TEXT(Tabela.frequencia[[#This Row],[Data]],\"MMM\")) & \"/\" & TEXT(Tabela.frequencia[[#This Row],[Data]],\"AA\"))","v":"jun/15"}]
[{"$f":"IFERROR(VLOOKUP(Tabela.frequencia[[#This Row],[Usuário]],Tabela.cadastro[[Nome]:[id2]],12,0),\"\")","v":19},"Antonieta Belém","2015-06-01",{"$f":"ROUNDDOWN(((Tabela.frequencia[[#This Row],[Data]]-VLOOKUP(Tabela.frequencia[[#This Row],[Usuário]],Tabela.cadastro[[Nome]:[id2]],7,0))/365.25),0)","v":29},{"$f":"IF(LOWER(TEXT(Tabela.frequencia[[#This Row],[Data]],\"MMMM\")) & \"/\" & YEAR(Tabela.frequencia[[#This Row],[Data]])=\"janeiro/1900\",\"\",LOWER(TEXT(Tabela.frequencia[[#This Row],[Data]],\"MMM\")) & \"/\" & TEXT(Tabela.frequencia[[#This Row],[Data]],\"AA\"))","v":"jun/15"}]
[{"$f":"IFERROR(VLOOKUP(Tabela.frequencia[[#This Row],[Usuário]],Tabela.cadastro[[Nome]:[id2]],12,0),\"\")","v":20},"Josefina Andrade","2015-06-01",{"$f":"ROUNDDOWN(((Tabela.frequencia[[#This Row],[Data]]-VLOOKUP(Tabela.frequencia[[#This Row],[Usuário]],Tabela.cadastro[[Nome]:[id2]],7,0))/365.25),0)","v":45},{"$f":"IF(LOWER(TEXT(Tabela.frequencia[[#This Row],[Data]],\"MMMM\")) & \"/\" & YEAR(Tabela.frequencia[[#This Row],[Data]])=\"janeiro/1900\",\"\",LOWER(TEXT(Tabela.frequencia[[#This Row],[Data]],\"MMM\")) & \"/\" & TEXT(Tabela.frequencia[[#This Row],[Data]],\"AA\"))","v":"jun/15"}]
[{"$f":"IFERROR(VLOOKUP(Tabela.frequencia[[#This Row],[Usuário]],Tabela.cadastro[[Nome]:[id2]],12,0),\"\")","v":1},"Maria do Carmo","2015-06-01",{"$f":"ROUNDDOWN(((Tabela.frequencia[[#This Row],[Data]]-VLOOKUP(Tabela.frequencia[[#This Row],[Usuário]],Tabela.cadastro[[Nome]:[id2]],7,0))/365.25),0)","v":20},{"$f":"IF(LOWER(TEXT(Tabela.frequencia[[#This Row],[Data]],\"MMMM\")) & \"/\" & YEAR(Tabela.frequencia[[#This Row],[Data]])=\"janeiro/1900\",\"\",LOWER(TEXT(Tabela.frequencia[[#This Row],[Data]],\"MMM\")) & \"/\" & TEXT(Tabela.frequencia[[#This Row],[Data]],\"AA\"))","v":"jun/15"}]
[{"$f":"IFERROR(VLOOKUP(Tabela.frequencia[[#This Row],[Usuário]],Tabela.cadastro[[Nome]:[id2]],12,0),\"\")","v":2},"José Augusto","2015-06-01",{"$f":"ROUNDDOWN(((Tabela.frequencia[[#This Row],[Data]]-VLOOKUP(Tabela.frequencia[[#This Row],[Usuário]],Tabela.cadastro[[Nome]:[id2]],7,0))/365.25),0)","v":32},{"$f":"IF(LOWER(TEXT(Tabela.frequencia[[#This Row],[Data]],\"MMMM\")) & \"/\" & YEAR(Tabela.frequencia[[#This Row],[Data]])=\"janeiro/1900\",\"\",LOWER(TEXT(Tabela.frequencia[[#This Row],[Data]],\"MMM\")) & \"/\" & TEXT(Tabela.frequencia[[#This Row],[Data]],\"AA\"))","v":"jun/15"}]
[{"$f":"IFERROR(VLOOKUP(Tabela.frequencia[[#This Row],[Usuário]],Tabela.cadastro[[Nome]:[id2]],12,0),\"\")","v":15},"Dione Silva","2016-01-01",{"$f":"ROUNDDOWN(((Tabela.frequencia[[#This Row],[Data]]-VLOOKUP(Tabela.frequencia[[#This Row],[Usuário]],Tabela.cadastro[[Nome]:[id2]],7,0))/365.25),0)","v":38},{"$f":"IF(LOWER(TEXT(Tabela.frequencia[[#This Row],[Data]],\"MMMM\")) & \"/\" & YEAR(Tabela.frequencia[[#This Row],[Data]])=\"janeiro/1900\",\"\",LOWER(TEXT(Tabela.frequencia[[#This Row],[Data]],\"MMM\")) & \"/\" & TEXT(Tabela.frequencia[[#This Row],[Data]],\"AA\"))","v":"jan/16"}]
[{"$f":"IFERROR(VLOOKUP(Tabela.frequencia[[#This Row],[Usuário]],Tabela.cadastro[[Nome]:[id2]],12,0),\"\")","v":16},"Vicente Pereira","2016-01-01",{"$f":"ROUNDDOWN(((Tabela.frequencia[[#This Row],[Data]]-VLOOKUP(Tabela.frequencia[[#This Row],[Usuário]],Tabela.cadastro[[Nome]:[id2]],7,0))/365.25),0)","v":28},{"$f":"IF(LOWER(TEXT(Tabela.frequencia[[#This Row],[Data]],\"MMMM\")) & \"/\" & YEAR(Tabela.frequencia[[#This Row],[Data]])=\"janeiro/1900\",\"\",LOWER(TEXT(Tabela.frequencia[[#This Row],[Data]],\"MMM\")) & \"/\" & TEXT(Tabela.frequencia[[#This Row],[Data]],\"AA\"))","v":"jan/16"}]
[{"$f":"IFERROR(VLOOKUP(Tabela.frequencia[[#This Row],[Usuário]],Tabela.cadastro[[Nome]:[id2]],12,0),\"\")","v":17},"Douglas Bragança","2016-01-01",{"$f":"ROUNDDOWN(((Tabela.frequencia[[#This Row],[Data]]-VLOOKUP(Tabela.frequencia[[#This Row],[Usuário]],Tabela.cadastro[[Nome]:[id2]],7,0))/365.25),0)","v":32},{"$f":"IF(LOWER(TEXT(Tabela.frequencia[[#This Row],[Data]],\"MMMM\")) & \"/\" & YEAR(Tabela.frequencia[[#This Row],[Data]])=\"janeiro/1900\",\"\",LOWER(TEXT(Tabela.frequencia[[#This Row],[Data]],\"MMM\")) & \"/\" & TEXT(Tabela.frequencia[[#This Row],[Data]],\"AA\"))","v":"jan/16"}]
[{"$f":"IFERROR(VLOOKUP(Tabela.frequencia[[#This Row],[Usuário]],Tabela.cadastro[[Nome]:[id2]],12,0),\"\")","v":18},"Eduardo Costa","2016-01-01",{"$f":"ROUNDDOWN(((Tabela.frequencia[[#This Row],[Data]]-VLOOKUP(Tabela.frequencia[[#This Row],[Usuário]],Tabela.cadastro[[Nome]:[id2]],7,0))/365.25),0)","v":36},{"$f":"IF(LOWER(TEXT(Tabela.frequencia[[#This Row],[Data]],\"MMMM\")) & \"/\" & YEAR(Tabela.frequencia[[#This Row],[Data]])=\"janeiro/1900\",\"\",LOWER(TEXT(Tabela.frequencia[[#This Row],[Data]],\"MMM\")) & \"/\" & TEXT(Tabela.frequencia[[#This Row],[Data]],\"AA\"))","v":"jan/16"}]
[{"$f":"IFERROR(VLOOKUP(Tabela.frequencia[[#This Row],[Usuário]],Tabela.cadastro[[Nome]:[id2]],12,0),\"\")","v":19},"Antonieta Belém","2016-01-01",{"$f":"ROUNDDOWN(((Tabela.frequencia[[#This Row],[Data]]-VLOOKUP(Tabela.frequencia[[#This Row],[Usuário]],Tabela.cadastro[[Nome]:[id2]],7,0))/365.25),0)","v":30},{"$f":"IF(LOWER(TEXT(Tabela.frequencia[[#This Row],[Data]],\"MMMM\")) & \"/\" & YEAR(Tabela.frequencia[[#This Row],[Data]])=\"janeiro/1900\",\"\",LOWER(TEXT(Tabela.frequencia[[#This Row],[Data]],\"MMM\")) & \"/\" & TEXT(Tabela.frequencia[[#This Row],[Data]],\"AA\"))","v":"jan/16"}]
[{"$f":"IFERROR(VLOOKUP(Tabela.frequencia[[#This Row],[Usuário]],Tabela.cadastro[[Nome]:[id2]],12,0),\"\")","v":20},"Josefina Andrade","2016-01-01",{"$f":"ROUNDDOWN(((Tabela.frequencia[[#This Row],[Data]]-VLOOKUP(Tabela.frequencia[[#This Row],[Usuário]],Tabela.cadastro[[Nome]:[id2]],7,0))/365.25),0)","v":45},{"$f":"IF(LOWER(TEXT(Tabela.frequencia[[#This Row],[Data]],\"MMMM\")) & \"/\" & YEAR(Tabela.frequencia[[#This Row],[Data]])=\"janeiro/1900\",\"\",LOWER(TEXT(Tabela.frequencia[[#This Row],[Data]],\"MMM\")) & \"/\" & TEXT(Tabela.frequencia[[#This Row],[Data]],\"AA\"))","v":"jan/16"}]
[{"$f":"IFERROR(VLOOKUP(Tabela.frequencia[[#This Row],[Usuário]],Tabela.cadastro[[Nome]:[id2]],12,0),\"\")","v":1},"Maria do Carmo","2016-01-01",{"$f":"ROUNDDOWN(((Tabela.frequencia[[#This Row],[Data]]-VLOOKUP(Tabela.frequencia[[#This Row],[Usuário]],Tabela.cadastro[[Nome]:[id2]],7,0))/365.25),0)","v":20},{"$f":"IF(LOWER(TEXT(Tabela.frequencia[[#This Row],[Data]],\"MMMM\")) & \"/\" & YEAR(Tabela.frequencia[[#This Row],[Data]])=\"janeiro/1900\",\"\",LOWER(TEXT(Tabela.frequencia[[#This Row],[Data]],\"MMM\")) & \"/\" & TEXT(Tabela.frequencia[[#This Row],[Data]],\"AA\"))","v":"jan/16"}]
[{"$f":"IFERROR(VLOOKUP(Tabela.frequencia[[#This Row],[Usuário]],Tabela.cadastro[[Nome]:[id2]],12,0),\"\")","v":2},"José Augusto","2016-01-01",{"$f":"ROUNDDOWN(((Tabela.frequencia[[#This Row],[Data]]-VLOOKUP(Tabela.frequencia[[#This Row],[Usuário]],Tabela.cadastro[[Nome]:[id2]],7,0))/365.25),0)","v":33},{"$f":"IF(LOWER(TEXT(Tabela.frequencia[[#This Row],[Data]],\"MMMM\")) & \"/\" & YEAR(Tabela.frequencia[[#This Row],[Data]])=\"janeiro/1900\",\"\",LOWER(TEXT(Tabela.frequencia[[#This Row],[Data]],\"MMM\")) & \"/\" & TEXT(Tabela.frequencia[[#This Row],[Data]],\"AA\"))","v":"jan/16"}]
[{"$f":"IFERROR(VLOOKUP(Tabela.frequencia[[#This Row],[Usuário]],Tabela.cadastro[[Nome]:[id2]],12,0),\"\")","v":3},"Joana Silva","2016-01-01",{"$f":"ROUNDDOWN(((Tabela.frequencia[[#This Row],[Data]]-VLOOKUP(Tabela.frequencia[[#This Row],[Usuário]],Tabela.cadastro[[Nome]:[id2]],7,0))/365.25),0)","v":31},{"$f":"IF(LOWER(TEXT(Tabela.frequencia[[#This Row],[Data]],\"MMMM\")) & \"/\" & YEAR(Tabela.frequencia[[#This Row],[Data]])=\"janeiro/1900\",\"\",LOWER(TEXT(Tabela.frequencia[[#This Row],[Data]],\"MMM\")) & \"/\" & TEXT(Tabela.frequencia[[#This Row],[Data]],\"AA\"))","v":"jan/16"}]
[{"$f":"IFERROR(VLOOKUP(Tabela.frequencia[[#This Row],[Usuário]],Tabela.cadastro[[Nome]:[id2]],12,0),\"\")","v":4},"João Pereira","2016-01-01",{"$f":"ROUNDDOWN(((Tabela.frequencia[[#This Row],[Data]]-VLOOKUP(Tabela.frequencia[[#This Row],[Usuário]],Tabela.cadastro[[Nome]:[id2]],7,0))/365.25),0)","v":43},{"$f":"IF(LOWER(TEXT(Tabela.frequencia[[#This Row],[Data]],\"MMMM\")) & \"/\" & YEAR(Tabela.frequencia[[#This Row],[Data]])=\"janeiro/1900\",\"\",LOWER(TEXT(Tabela.frequencia[[#This Row],[Data]],\"MMM\")) & \"/\" & TEXT(Tabela.frequencia[[#This Row],[Data]],\"AA\"))","v":"jan/16"}]
[{"$f":"IFERROR(VLOOKUP(Tabela.frequencia[[#This Row],[Usuário]],Tabela.cadastro[[Nome]:[id2]],12,0),\"\")","v":5},"Maria Almeida","2016-01-01",{"$f":"ROUNDDOWN(((Tabela.frequencia[[#This Row],[Data]]-VLOOKUP(Tabela.frequencia[[#This Row],[Usuário]],Tabela.cadastro[[Nome]:[id2]],7,0))/365.25),0)","v":70},{"$f":"IF(LOWER(TEXT(Tabela.frequencia[[#This Row],[Data]],\"MMMM\")) & \"/\" & YEAR(Tabela.frequencia[[#This Row],[Data]])=\"janeiro/1900\",\"\",LOWER(TEXT(Tabela.frequencia[[#This Row],[Data]],\"MMM\")) & \"/\" & TEXT(Tabela.frequencia[[#This Row],[Data]],\"AA\"))","v":"jan/16"}]
[{"$f":"IFERROR(VLOOKUP(Tabela.frequencia[[#This Row],[Usuário]],Tabela.cadastro[[Nome]:[id2]],12,0),\"\")","v":9},"Tatiane Costa","2016-01-01",{"$f":"ROUNDDOWN(((Tabela.frequencia[[#This Row],[Data]]-VLOOKUP(Tabela.frequencia[[#This Row],[Usuário]],Tabela.cadastro[[Nome]:[id2]],7,0))/365.25),0)","v":45},{"$f":"IF(LOWER(TEXT(Tabela.frequencia[[#This Row],[Data]],\"MMMM\")) & \"/\" & YEAR(Tabela.frequencia[[#This Row],[Data]])=\"janeiro/1900\",\"\",LOWER(TEXT(Tabela.frequencia[[#This Row],[Data]],\"MMM\")) & \"/\" & TEXT(Tabela.frequencia[[#This Row],[Data]],\"AA\"))","v":"jan/16"}]
[{"$f":"IFERROR(VLOOKUP(Tabela.frequencia[[#This Row],[Usuário]],Tabela.cadastro[[Nome]:[id2]],12,0),\"\")","v":10},"Maicon Silva","2016-01-01",{"$f":"ROUNDDOWN(((Tabela.frequencia[[#This Row],[Data]]-VLOOKUP(Tabela.frequencia[[#This Row],[Usuário]],Tabela.cadastro[[Nome]:[id2]],7,0))/365.25),0)","v":32},{"$f":"IF(LOWER(TEXT(Tabela.frequencia[[#This Row],[Data]],\"MMMM\")) & \"/\" & YEAR(Tabela.frequencia[[#This Row],[Data]])=\"janeiro/1900\",\"\",LOWER(TEXT(Tabela.frequencia[[#This Row],[Data]],\"MMM\")) & \"/\" & TEXT(Tabela.frequencia[[#This Row],[Data]],\"AA\"))","v":"jan/16"}]
[{"$f":"IFERROR(VLOOKUP(Tabela.frequencia[[#This Row],[Usuário]],Tabela.cadastro[[Nome]:[id2]],12,0),\"\")","v":15},"Dione Silva","2017-01-01",{"$f":"ROUNDDOWN(((Tabela.frequencia[[#This Row],[Data]]-VLOOKUP(Tabela.frequencia[[#This Row],[Usuário]],Tabela.cadastro[[Nome]:[id2]],7,0))/365.25),0)","v":39},{"$f":"IF(LOWER(TEXT(Tabela.frequencia[[#This Row],[Data]],\"MMMM\")) & \"/\" & YEAR(Tabela.frequencia[[#This Row],[Data]])=\"janeiro/1900\",\"\",LOWER(TEXT(Tabela.frequencia[[#This Row],[Data]],\"MMM\")) & \"/\" & TEXT(Tabela.frequencia[[#This Row],[Data]],\"AA\"))","v":"jan/17"}]
[{"$f":"IFERROR(VLOOKUP(Tabela.frequencia[[#This Row],[Usuário]],Tabela.cadastro[[Nome]:[id2]],12,0),\"\")","v":16},"Vicente Pereira","2017-01-01",{"$f":"ROUNDDOWN(((Tabela.frequencia[[#This Row],[Data]]-VLOOKUP(Tabela.frequencia[[#This Row],[Usuário]],Tabela.cadastro[[Nome]:[id2]],7,0))/365.25),0)","v":29},{"$f":"IF(LOWER(TEXT(Tabela.frequencia[[#This Row],[Data]],\"MMMM\")) & \"/\" & YEAR(Tabela.frequencia[[#This Row],[Data]])=\"janeiro/1900\",\"\",LOWER(TEXT(Tabela.frequencia[[#This Row],[Data]],\"MMM\")) & \"/\" & TEXT(Tabela.frequencia[[#This Row],[Data]],\"AA\"))","v":"jan/17"}]
[{"$f":"IFERROR(VLOOKUP(Tabela.frequencia[[#This Row],[Usuário]],Tabela.cadastro[[Nome]:[id2]],12,0),\"\")","v":17},"Douglas Bragança","2017-01-01",{"$f":"ROUNDDOWN(((Tabela.frequencia[[#This Row],[Data]]-VLOOKUP(Tabela.frequencia[[#This Row],[Usuário]],Tabela.cadastro[[Nome]:[id2]],7,0))/365.25),0)","v":33},{"$f":"IF(LOWER(TEXT(Tabela.frequencia[[#This Row],[Data]],\"MMMM\")) & \"/\" & YEAR(Tabela.frequencia[[#This Row],[Data]])=\"janeiro/1900\",\"\",LOWER(TEXT(Tabela.frequencia[[#This Row],[Data]],\"MMM\")) & \"/\" & TEXT(Tabela.frequencia[[#This Row],[Data]],\"AA\"))","v":"jan/17"}]
[{"$f":"IFERROR(VLOOKUP(Tabela.frequencia[[#This Row],[Usuário]],Tabela.cadastro[[Nome]:[id2]],12,0),\"\")","v":18},"Eduardo Costa","2017-01-01",{"$f":"ROUNDDOWN(((Tabela.frequencia[[#This Row],[Data]]-VLOOKUP(Tabela.frequencia[[#This Row],[Usuário]],Tabela.cadastro[[Nome]:[id2]],7,0))/365.25),0)","v":37},{"$f":"IF(LOWER(TEXT(Tabela.frequencia[[#This Row],[Data]],\"MMMM\")) & \"/\" & YEAR(Tabela.frequencia[[#This Row],[Data]])=\"janeiro/1900\",\"\",LOWER(TEXT(Tabela.frequencia[[#This Row],[Data]],\"MMM\")) & \"/\" & TEXT(Tabela.frequencia[[#This Row],[Data]],\"AA\"))","v":"jan/17"}]
[{"$f":"IFERROR(VLOOKUP(Tabela.frequencia[[#This Row],[Usuário]],Tabela.cadastro[[Nome]:[id2]],12,0),\"\")","v":19},"Antonieta Belém","2017-01-01",{"$f":"ROUNDDOWN(((Tabela.frequencia[[#This Row],[Data]]-VLOOKUP(Tabela.frequencia[[#This Row],[Usuário]],Tabela.cadastro[[Nome]:[id2]],7,0))/365.25),0)","v":31},{"$f":"IF(LOWER(TEXT(Tabela.frequencia[[#This Row],[Data]],\"MMMM\")) & \"/\" & YEAR(Tabela.frequencia[[#This Row],[Data]])=\"janeiro/1900\",\"\",LOWER(TEXT(Tabela.frequencia[[#This Row],[Data]],\"MMM\")) & \"/\" & TEXT(Tabela.frequencia[[#This Row],[Data]],\"AA\"))","v":"jan/17"}]
[{"$f":"IFERROR(VLOOKUP(Tabela.frequencia[[#This Row],[Usuário]],Tabela.cadastro[[Nome]:[id2]],12,0),\"\")","v":20},"Josefina Andrade","2017-01-01",{"$f":"ROUNDDOWN(((Tabela.frequencia[[#This Row],[Data]]-VLOOKUP(Tabela.frequencia[[#This Row],[Usuário]],Tabela.cadastro[[Nome]:[id2]],7,0))/365.25),0)","v":46},{"$f":"IF(LOWER(TEXT(Tabela.frequencia[[#This Row],[Data]],\"MMMM\")) & \"/\" & YEAR(Tabela.frequencia[[#This Row],[Data]])=\"janeiro/1900\",\"\",LOWER(TEXT(Tabela.frequencia[[#This Row],[Data]],\"MMM\")) & \"/\" & TEXT(Tabela.frequencia[[#This Row],[Data]],\"AA\"))","v":"jan/17"}]
[{"$f":"IFERROR(VLOOKUP(Tabela.frequencia[[#This Row],[Usuário]],Tabela.cadastro[[Nome]:[id2]],12,0),\"\")","v":1},"Maria do Carmo","2017-01-01",{"$f":"ROUNDDOWN(((Tabela.frequencia[[#This Row],[Data]]-VLOOKUP(Tabela.frequencia[[#This Row],[Usuário]],Tabela.cadastro[[Nome]:[id2]],7,0))/365.25),0)","v":21},{"$f":"IF(LOWER(TEXT(Tabela.frequencia[[#This Row],[Data]],\"MMMM\")) & \"/\" & YEAR(Tabela.frequencia[[#This Row],[Data]])=\"janeiro/1900\",\"\",LOWER(TEXT(Tabela.frequencia[[#This Row],[Data]],\"MMM\")) & \"/\" & TEXT(Tabela.frequencia[[#This Row],[Data]],\"AA\"))","v":"jan/17"}]
[{"$f":"IFERROR(VLOOKUP(Tabela.frequencia[[#This Row],[Usuário]],Tabela.cadastro[[Nome]:[id2]],12,0),\"\")","v":2},"José Augusto","2017-01-01",{"$f":"ROUNDDOWN(((Tabela.frequencia[[#This Row],[Data]]-VLOOKUP(Tabela.frequencia[[#This Row],[Usuário]],Tabela.cadastro[[Nome]:[id2]],7,0))/365.25),0)","v":34},{"$f":"IF(LOWER(TEXT(Tabela.frequencia[[#This Row],[Data]],\"MMMM\")) & \"/\" & YEAR(Tabela.frequencia[[#This Row],[Data]])=\"janeiro/1900\",\"\",LOWER(TEXT(Tabela.frequencia[[#This Row],[Data]],\"MMM\")) & \"/\" & TEXT(Tabela.frequencia[[#This Row],[Data]],\"AA\"))","v":"jan/17"}]
[{"$f":"IFERROR(VLOOKUP(Tabela.frequencia[[#This Row],[Usuário]],Tabela.cadastro[[Nome]:[id2]],12,0),\"\")","v":3},"Joana Silva","2017-01-01",{"$f":"ROUNDDOWN(((Tabela.frequencia[[#This Row],[Data]]-VLOOKUP(Tabela.frequencia[[#This Row],[Usuário]],Tabela.cadastro[[Nome]:[id2]],7,0))/365.25),0)","v":32},{"$f":"IF(LOWER(TEXT(Tabela.frequencia[[#This Row],[Data]],\"MMMM\")) & \"/\" & YEAR(Tabela.frequencia[[#This Row],[Data]])=\"janeiro/1900\",\"\",LOWER(TEXT(Tabela.frequencia[[#This Row],[Data]],\"MMM\")) & \"/\" & TEXT(Tabela.frequencia[[#This Row],[Data]],\"AA\"))","v":"jan/17"}]
[{"$f":"IFERROR(VLOOKUP(Tabela.frequencia[[#This Row],[Usuário]],Tabela.cadastro[[Nome]:[id2]],12,0),\"\")","v":4},"João Pereira","2017-01-01",{"$f":"ROUNDDOWN(((Tabela.frequencia[[#This Row],[Data]]-VLOOKUP(Tabela.frequencia[[#This Row],[Usuário]],Tabela.cadastro[[Nome]:[id2]],7,0))/365.25),0)","v":44},{"$f":"IF(LOWER(TEXT(Tabela.frequencia[[#This Row],[Data]],\"MMMM\")) & \"/\" & YEAR(Tabela.frequencia[[#This Row],[Data]])=\"janeiro/1900\",\"\",LOWER(TEXT(Tabela.frequencia[[#This Row],[Data]],\"MMM\")) & \"/\" & TEXT(Tabela.frequencia[[#This Row],[Data]],\"AA\"))","v":"jan/17"}]
[{"$f":"IFERROR(VLOOKUP(Tabela.frequencia[[#This Row],[Usuário]],Tabela.cadastro[[Nome]:[id2]],12,0),\"\")","v":5},"Maria Almeida","2017-01-01",{"$f":"ROUNDDOWN(((Tabela.frequencia[[#This Row],[Data]]-VLOOKUP(Tabela.frequencia[[#This Row],[Usuário]],Tabela.cadastro[[Nome]:[id2]],7,0))/365.25),0)","v":71},{"$f":"IF(LOWER(TEXT(Tabela.frequencia[[#This Row],[Data]],\"MMMM\")) & \"/\" & YEAR(Tabela.frequencia[[#This Row],[Data]])=\"janeiro/1900\",\"\",LOWER(TEXT(Tabela.frequencia[[#This Row],[Data]],\"MMM\")) & \"/\" & TEXT(Tabela.frequencia[[#This Row],[Data]],\"AA\"))","v":"jan/17"}]
[{"$f":"IFERROR(VLOOKUP(Tabela.frequencia[[#This Row],[Usuário]],Tabela.cadastro[[Nome]:[id2]],12,0),\"\")","v":9},"Tatiane Costa","2017-01-01",{"$f":"ROUNDDOWN(((Tabela.frequencia[[#This Row],[Data]]-VLOOKUP(Tabela.frequencia[[#This Row],[Usuário]],Tabela.cadastro[[Nome]:[id2]],7,0))/365.25),0)","v":46},{"$f":"IF(LOWER(TEXT(Tabela.frequencia[[#This Row],[Data]],\"MMMM\")) & \"/\" & YEAR(Tabela.frequencia[[#This Row],[Data]])=\"janeiro/1900\",\"\",LOWER(TEXT(Tabela.frequencia[[#This Row],[Data]],\"MMM\")) & \"/\" & TEXT(Tabela.frequencia[[#This Row],[Data]],\"AA\"))","v":"jan/17"}]
[{"$f":"IFERROR(VLOOKUP(Tabela.frequencia[[#This Row],[Usuário]],Tabela.cadastro[[Nome]:[id2]],12,0),\"\")","v":10},"Maicon Silva","2017-01-01",{"$f":"ROUNDDOWN(((Tabela.frequencia[[#This Row],[Data]]-VLOOKUP(Tabela.frequencia[[#This Row],[Usuário]],Tabela.cadastro[[Nome]:[id2]],7,0))/365.25),0)","v":33},{"$f":"IF(LOWER(TEXT(Tabela.frequencia[[#This Row],[Data]],\"MMMM\")) & \"/\" & YEAR(Tabela.frequencia[[#This Row],[Data]])=\"janeiro/1900\",\"\",LOWER(TEXT(Tabela.frequencia[[#This Row],[Data]],\"MMM\")) & \"/\" & TEXT(Tabela.frequencia[[#This Row],[Data]],\"AA\"))","v":"jan/17"}]
[{"$f":"IFERROR(VLOOKUP(Tabela.frequencia[[#This Row],[Usuário]],Tabela.cadastro[[Nome]:[id2]],12,0),\"\")","v":1},"Maria do Carmo","2017-02-01",{"$f":"ROUNDDOWN(((Tabela.frequencia[[#This Row],[Data]]-VLOOKUP(Tabela.frequencia[[#This Row],[Usuário]],Tabela.cadastro[[Nome]:[id2]],7,0))/365.25),0)","v":22},{"$f":"IF(LOWER(TEXT(Tabela.frequencia[[#This Row],[Data]],\"MMMM\")) & \"/\" & YEAR(Tabela.frequencia[[#This Row],[Data]])=\"janeiro/1900\",\"\",LOWER(TEXT(Tabela.frequencia[[#This Row],[Data]],\"MMM\")) & \"/\" & TEXT(Tabela.frequencia[[#This Row],[Data]],\"AA\"))","v":"fev/17"}]
[{"$f":"IFERROR(VLOOKUP(Tabela.frequencia[[#This Row],[Usuário]],Tabela.cadastro[[Nome]:[id2]],12,0),\"\")","v":2},"José Augusto","2017-02-01",{"$f":"ROUNDDOWN(((Tabela.frequencia[[#This Row],[Data]]-VLOOKUP(Tabela.frequencia[[#This Row],[Usuário]],Tabela.cadastro[[Nome]:[id2]],7,0))/365.25),0)","v":34},{"$f":"IF(LOWER(TEXT(Tabela.frequencia[[#This Row],[Data]],\"MMMM\")) & \"/\" & YEAR(Tabela.frequencia[[#This Row],[Data]])=\"janeiro/1900\",\"\",LOWER(TEXT(Tabela.frequencia[[#This Row],[Data]],\"MMM\")) & \"/\" & TEXT(Tabela.frequencia[[#This Row],[Data]],\"AA\"))","v":"fev/17"}]
[{"$f":"IFERROR(VLOOKUP(Tabela.frequencia[[#This Row],[Usuário]],Tabela.cadastro[[Nome]:[id2]],12,0),\"\")","v":3},"Joana Silva","2017-02-01",{"$f":"ROUNDDOWN(((Tabela.frequencia[[#This Row],[Data]]-VLOOKUP(Tabela.frequencia[[#This Row],[Usuário]],Tabela.cadastro[[Nome]:[id2]],7,0))/365.25),0)","v":32},{"$f":"IF(LOWER(TEXT(Tabela.frequencia[[#This Row],[Data]],\"MMMM\")) & \"/\" & YEAR(Tabela.frequencia[[#This Row],[Data]])=\"janeiro/1900\",\"\",LOWER(TEXT(Tabela.frequencia[[#This Row],[Data]],\"MMM\")) & \"/\" & TEXT(Tabela.frequencia[[#This Row],[Data]],\"AA\"))","v":"fev/17"}]
[{"$f":"IFERROR(VLOOKUP(Tabela.frequencia[[#This Row],[Usuário]],Tabela.cadastro[[Nome]:[id2]],12,0),\"\")","v":4},"João Pereira","2017-02-01",{"$f":"ROUNDDOWN(((Tabela.frequencia[[#This Row],[Data]]-VLOOKUP(Tabela.frequencia[[#This Row],[Usuário]],Tabela.cadastro[[Nome]:[id2]],7,0))/365.25),0)","v":44},{"$f":"IF(LOWER(TEXT(Tabela.frequencia[[#This Row],[Data]],\"MMMM\")) & \"/\" & YEAR(Tabela.frequencia[[#This Row],[Data]])=\"janeiro/1900\",\"\",LOWER(TEXT(Tabela.frequencia[[#This Row],[Data]],\"MMM\")) & \"/\" & TEXT(Tabela.frequencia[[#This Row],[Data]],\"AA\"))","v":"fev/17"}]
[{"$f":"IFERROR(VLOOKUP(Tabela.frequencia[[#This Row],[Usuário]],Tabela.cadastro[[Nome]:[id2]],12,0),\"\")","v":5},"Maria Almeida","2017-02-01",{"$f":"ROUNDDOWN(((Tabela.frequencia[[#This Row],[Data]]-VLOOKUP(Tabela.frequencia[[#This Row],[Usuário]],Tabela.cadastro[[Nome]:[id2]],7,0))/365.25),0)","v":71},{"$f":"IF(LOWER(TEXT(Tabela.frequencia[[#This Row],[Data]],\"MMMM\")) & \"/\" & YEAR(Tabela.frequencia[[#This Row],[Data]])=\"janeiro/1900\",\"\",LOWER(TEXT(Tabela.frequencia[[#This Row],[Data]],\"MMM\")) & \"/\" & TEXT(Tabela.frequencia[[#This Row],[Data]],\"AA\"))","v":"fev/17"}]
[{"$f":"IFERROR(VLOOKUP(Tabela.frequencia[[#This Row],[Usuário]],Tabela.cadastro[[Nome]:[id2]],12,0),\"\")","v":6},"Marcos Costa","2017-02-01",{"$f":"ROUNDDOWN(((Tabela.frequencia[[#This Row],[Data]]-VLOOKUP(Tabela.frequencia[[#This Row],[Usuário]],Tabela.cadastro[[Nome]:[id2]],7,0))/365.25),0)","v":17},{"$f":"IF(LOWER(TEXT(Tabela.frequencia[[#This Row],[Data]],\"MMMM\")) & \"/\" & YEAR(Tabela.frequencia[[#This Row],[Data]])=\"janeiro/1900\",\"\",LOWER(TEXT(Tabela.frequencia[[#This Row],[Data]],\"MMM\")) & \"/\" & TEXT(Tabela.frequencia[[#This Row],[Data]],\"AA\"))","v":"fev/17"}]
[{"$f":"IFERROR(VLOOKUP(Tabela.frequencia[[#This Row],[Usuário]],Tabela.cadastro[[Nome]:[id2]],12,0),\"\")","v":7},"Alan Gomes","2017-02-01",{"$f":"ROUNDDOWN(((Tabela.frequencia[[#This Row],[Data]]-VLOOKUP(Tabela.frequencia[[#This Row],[Usuário]],Tabela.cadastro[[Nome]:[id2]],7,0))/365.25),0)","v":77},{"$f":"IF(LOWER(TEXT(Tabela.frequencia[[#This Row],[Data]],\"MMMM\")) & \"/\" & YEAR(Tabela.frequencia[[#This Row],[Data]])=\"janeiro/1900\",\"\",LOWER(TEXT(Tabela.frequencia[[#This Row],[Data]],\"MMM\")) & \"/\" & TEXT(Tabela.frequencia[[#This Row],[Data]],\"AA\"))","v":"fev/17"}]
[{"$f":"IFERROR(VLOOKUP(Tabela.frequencia[[#This Row],[Usuário]],Tabela.cadastro[[Nome]:[id2]],12,0),\"\")","v":8},"Luiz Souza","2017-02-01",{"$f":"ROUNDDOWN(((Tabela.frequencia[[#This Row],[Data]]-VLOOKUP(Tabela.frequencia[[#This Row],[Usuário]],Tabela.cadastro[[Nome]:[id2]],7,0))/365.25),0)","v":29},{"$f":"IF(LOWER(TEXT(Tabela.frequencia[[#This Row],[Data]],\"MMMM\")) & \"/\" & YEAR(Tabela.frequencia[[#This Row],[Data]])=\"janeiro/1900\",\"\",LOWER(TEXT(Tabela.frequencia[[#This Row],[Data]],\"MMM\")) & \"/\" & TEXT(Tabela.frequencia[[#This Row],[Data]],\"AA\"))","v":"fev/17"}]
[{"$f":"IFERROR(VLOOKUP(Tabela.frequencia[[#This Row],[Usuário]],Tabela.cadastro[[Nome]:[id2]],12,0),\"\")","v":9},"Tatiane Costa","2017-02-01",{"$f":"ROUNDDOWN(((Tabela.frequencia[[#This Row],[Data]]-VLOOKUP(Tabela.frequencia[[#This Row],[Usuário]],Tabela.cadastro[[Nome]:[id2]],7,0))/365.25),0)","v":46},{"$f":"IF(LOWER(TEXT(Tabela.frequencia[[#This Row],[Data]],\"MMMM\")) & \"/\" & YEAR(Tabela.frequencia[[#This Row],[Data]])=\"janeiro/1900\",\"\",LOWER(TEXT(Tabela.frequencia[[#This Row],[Data]],\"MMM\")) & \"/\" & TEXT(Tabela.frequencia[[#This Row],[Data]],\"AA\"))","v":"fev/17"}]
[{"$f":"IFERROR(VLOOKUP(Tabela.frequencia[[#This Row],[Usuário]],Tabela.cadastro[[Nome]:[id2]],12,0),\"\")","v":10},"Maicon Silva","2017-02-01",{"$f":"ROUNDDOWN(((Tabela.frequencia[[#This Row],[Data]]-VLOOKUP(Tabela.frequencia[[#This Row],[Usuário]],Tabela.cadastro[[Nome]:[id2]],7,0))/365.25),0)","v":33},{"$f":"IF(LOWER(TEXT(Tabela.frequencia[[#This Row],[Data]],\"MMMM\")) & \"/\" & YEAR(Tabela.frequencia[[#This Row],[Data]])=\"janeiro/1900\",\"\",LOWER(TEXT(Tabela.frequencia[[#This Row],[Data]],\"MMM\")) & \"/\" & TEXT(Tabela.frequencia[[#This Row],[Data]],\"AA\"))","v":"fev/17"}]
[{"$f":"IFERROR(VLOOKUP(Tabela.frequencia[[#This Row],[Usuário]],Tabela.cadastro[[Nome]:[id2]],12,0),\"\")","v":11},"Rodolfo Gonçalvez","2017-02-01",{"$f":"ROUNDDOWN(((Tabela.frequencia[[#This Row],[Data]]-VLOOKUP(Tabela.frequencia[[#This Row],[Usuário]],Tabela.cadastro[[Nome]:[id2]],7,0))/365.25),0)","v":34},{"$f":"IF(LOWER(TEXT(Tabela.frequencia[[#This Row],[Data]],\"MMMM\")) & \"/\" & YEAR(Tabela.frequencia[[#This Row],[Data]])=\"janeiro/1900\",\"\",LOWER(TEXT(Tabela.frequencia[[#This Row],[Data]],\"MMM\")) & \"/\" & TEXT(Tabela.frequencia[[#This Row],[Data]],\"AA\"))","v":"fev/17"}]
[{"$f":"IFERROR(VLOOKUP(Tabela.frequencia[[#This Row],[Usuário]],Tabela.cadastro[[Nome]:[id2]],12,0),\"\")","v":12},"Marina Rodrigues","2017-02-01",{"$f":"ROUNDDOWN(((Tabela.frequencia[[#This Row],[Data]]-VLOOKUP(Tabela.frequencia[[#This Row],[Usuário]],Tabela.cadastro[[Nome]:[id2]],7,0))/365.25),0)","v":27},{"$f":"IF(LOWER(TEXT(Tabela.frequencia[[#This Row],[Data]],\"MMMM\")) & \"/\" & YEAR(Tabela.frequencia[[#This Row],[Data]])=\"janeiro/1900\",\"\",LOWER(TEXT(Tabela.frequencia[[#This Row],[Data]],\"MMM\")) & \"/\" & TEXT(Tabela.frequencia[[#This Row],[Data]],\"AA\"))","v":"fev/17"}]
[{"$f":"IFERROR(VLOOKUP(Tabela.frequencia[[#This Row],[Usuário]],Tabela.cadastro[[Nome]:[id2]],12,0),\"\")","v":13},"Valdecir Castro","2017-02-01",{"$f":"ROUNDDOWN(((Tabela.frequencia[[#This Row],[Data]]-VLOOKUP(Tabela.frequencia[[#This Row],[Usuário]],Tabela.cadastro[[Nome]:[id2]],7,0))/365.25),0)","v":24},{"$f":"IF(LOWER(TEXT(Tabela.frequencia[[#This Row],[Data]],\"MMMM\")) & \"/\" & YEAR(Tabela.frequencia[[#This Row],[Data]])=\"janeiro/1900\",\"\",LOWER(TEXT(Tabela.frequencia[[#This Row],[Data]],\"MMM\")) & \"/\" & TEXT(Tabela.frequencia[[#This Row],[Data]],\"AA\"))","v":"fev/17"}]
[{"$f":"IFERROR(VLOOKUP(Tabela.frequencia[[#This Row],[Usuário]],Tabela.cadastro[[Nome]:[id2]],12,0),\"\")","v":14},"Lucas Cabral","2017-02-01",{"$f":"ROUNDDOWN(((Tabela.frequencia[[#This Row],[Data]]-VLOOKUP(Tabela.frequencia[[#This Row],[Usuário]],Tabela.cadastro[[Nome]:[id2]],7,0))/365.25),0)","v":22},{"$f":"IF(LOWER(TEXT(Tabela.frequencia[[#This Row],[Data]],\"MMMM\")) & \"/\" & YEAR(Tabela.frequencia[[#This Row],[Data]])=\"janeiro/1900\",\"\",LOWER(TEXT(Tabela.frequencia[[#This Row],[Data]],\"MMM\")) & \"/\" & TEXT(Tabela.frequencia[[#This Row],[Data]],\"AA\"))","v":"fev/17"}]
[{"$f":"IFERROR(VLOOKUP(Tabela.frequencia[[#This Row],[Usuário]],Tabela.cadastro[[Nome]:[id2]],12,0),\"\")","v":15},"Dione Silva","2017-02-01",{"$f":"ROUNDDOWN(((Tabela.frequencia[[#This Row],[Data]]-VLOOKUP(Tabela.frequencia[[#This Row],[Usuário]],Tabela.cadastro[[Nome]:[id2]],7,0))/365.25),0)","v":39},{"$f":"IF(LOWER(TEXT(Tabela.frequencia[[#This Row],[Data]],\"MMMM\")) & \"/\" & YEAR(Tabela.frequencia[[#This Row],[Data]])=\"janeiro/1900\",\"\",LOWER(TEXT(Tabela.frequencia[[#This Row],[Data]],\"MMM\")) & \"/\" & TEXT(Tabela.frequencia[[#This Row],[Data]],\"AA\"))","v":"fev/17"}]
[{"$f":"IFERROR(VLOOKUP(Tabela.frequencia[[#This Row],[Usuário]],Tabela.cadastro[[Nome]:[id2]],12,0),\"\")","v":16},"Vicente Pereira","2017-02-01",{"$f":"ROUNDDOWN(((Tabela.frequencia[[#This Row],[Data]]-VLOOKUP(Tabela.frequencia[[#This Row],[Usuário]],Tabela.cadastro[[Nome]:[id2]],7,0))/365.25),0)","v":29},{"$f":"IF(LOWER(TEXT(Tabela.frequencia[[#This Row],[Data]],\"MMMM\")) & \"/\" & YEAR(Tabela.frequencia[[#This Row],[Data]])=\"janeiro/1900\",\"\",LOWER(TEXT(Tabela.frequencia[[#This Row],[Data]],\"MMM\")) & \"/\" & TEXT(Tabela.frequencia[[#This Row],[Data]],\"AA\"))","v":"fev/17"}]
[{"$f":"IFERROR(VLOOKUP(Tabela.frequencia[[#This Row],[Usuário]],Tabela.cadastro[[Nome]:[id2]],12,0),\"\")","v":17},"Douglas Bragança","2017-02-01",{"$f":"ROUNDDOWN(((Tabela.frequencia[[#This Row],[Data]]-VLOOKUP(Tabela.frequencia[[#This Row],[Usuário]],Tabela.cadastro[[Nome]:[id2]],7,0))/365.25),0)","v":33},{"$f":"IF(LOWER(TEXT(Tabela.frequencia[[#This Row],[Data]],\"MMMM\")) & \"/\" & YEAR(Tabela.frequencia[[#This Row],[Data]])=\"janeiro/1900\",\"\",LOWER(TEXT(Tabela.frequencia[[#This Row],[Data]],\"MMM\")) & \"/\" & TEXT(Tabela.frequencia[[#This Row],[Data]],\"AA\"))","v":"fev/17"}]
[{"$f":"IFERROR(VLOOKUP(Tabela.frequencia[[#This Row],[Usuário]],Tabela.cadastro[[Nome]:[id2]],12,0),\"\")","v":18},"Eduardo Costa","2017-02-01",{"$f":"ROUNDDOWN(((Tabela.frequencia[[#This Row],[Data]]-VLOOKUP(Tabela.frequencia[[#This Row],[Usuário]],Tabela.cadastro[[Nome]:[id2]],7,0))/365.25),0)","v":37},{"$f":"IF(LOWER(TEXT(Tabela.frequencia[[#This Row],[Data]],\"MMMM\")) & \"/\" & YEAR(Tabela.frequencia[[#This Row],[Data]])=\"janeiro/1900\",\"\",LOWER(TEXT(Tabela.frequencia[[#This Row],[Data]],\"MMM\")) & \"/\" & TEXT(Tabela.frequencia[[#This Row],[Data]],\"AA\"))","v":"fev/17"}]
[{"$f":"IFERROR(VLOOKUP(Tabela.frequencia[[#This Row],[Usuário]],Tabela.cadastro[[Nome]:[id2]],12,0),\"\")","v":19},"Antonieta Belém","2017-02-01",{"$f":"ROUNDDOWN(((Tabela.frequencia[[#This Row],[Data]]-VLOOKUP(Tabela.frequencia[[#This Row],[Usuário]],Tabela.cadastro[[Nome]:[id2]],7,0))/365.25),0)","v":31},{"$f":"IF(LOWER(TEXT(Tabela.frequencia[[#This Row],[Data]],\"MMMM\")) & \"/\" & YEAR(Tabela.frequencia[[#This Row],[Data]])=\"janeiro/1900\",\"\",LOWER(TEXT(Tabela.frequencia[[#This Row],[Data]],\"MMM\")) & \"/\" & TEXT(Tabela.frequencia[[#This Row],[Data]],\"AA\"))","v":"fev/17"}]
[{"$f":"IFERROR(VLOOKUP(Tabela.frequencia[[#This Row],[Usuário]],Tabela.cadastro[[Nome]:[id2]],12,0),\"\")","v":20},"Josefina Andrade","2017-02-01",{"$f":"ROUNDDOWN(((Tabela.frequencia[[#This Row],[Data]]-VLOOKUP(Tabela.frequencia[[#This Row],[Usuário]],Tabela.cadastro[[Nome]:[id2]],7,0))/365.25),0)","v":47},{"$f":"IF(LOWER(TEXT(Tabela.frequencia[[#This Row],[Data]],\"MMMM\")) & \"/\" & YEAR(Tabela.frequencia[[#This Row],[Data]])=\"janeiro/1900\",\"\",LOWER(TEXT(Tabela.frequencia[[#This Row],[Data]],\"MMM\")) & \"/\" & TEXT(Tabela.frequencia[[#This Row],[Data]],\"AA\"))","v":"fev/17"}]
[{"$f":"IFERROR(VLOOKUP(Tabela.frequencia[[#This Row],[Usuário]],Tabela.cadastro[[Nome]:[id2]],12,0),\"\")","v":""},null,null,{"$f":"ROUNDDOWN(((Tabela.frequencia[[#This Row],[Data]]-VLOOKUP(Tabela.frequencia[[#This Row],[Usuário]],Tabela.cadastro[[Nome]:[id2]],7,0))/365.25),0)","v":{"$error":"#N/A"}},{"$f":"IF(LOWER(TEXT(Tabela.frequencia[[#This Row],[Data]],\"MMMM\")) & \"/\" & YEAR(Tabela.frequencia[[#This Row],[Data]])=\"janeiro/1900\",\"\",LOWER(TEXT(Tabela.frequencia[[#This Row],[Data]],\"MMM\")) & \"/\" & TEXT(Tabela.frequencia[[#This Row],[Data]],\"AA\"))","v":""}]
[{"$f":"IFERROR(VLOOKUP(Tabela.frequencia[[#This Row],[Usuário]],Tabela.cadastro[[Nome]:[id2]],12,0),\"\")","v":""},null,null,{"$f":"ROUNDDOWN(((Tabela.frequencia[[#This Row],[Data]]-VLOOKUP(Tabela.frequencia[[#This Row],[Usuário]],Tabela.cadastro[[Nome]:[id2]],7,0))/365.25),0)","v":{"$error":"#N/A"}},{"$f":"IF(LOWER(TEXT(Tabela.frequencia[[#This Row],[Data]],\"MMMM\")) & \"/\" & YEAR(Tabela.frequencia[[#This Row],[Data]])=\"janeiro/1900\",\"\",LOWER(TEXT(Tabela.frequencia[[#This Row],[Data]],\"MMM\")) & \"/\" & TEXT(Tabela.frequencia[[#This Row],[Data]],\"AA\"))","v":""}]
[{"$f":"IFERROR(VLOOKUP(Tabela.frequencia[[#This Row],[Usuário]],Tabela.cadastro[[Nome]:[id2]],12,0),\"\")","v":""},null,null,{"$f":"ROUNDDOWN(((Tabela.frequencia[[#This Row],[Data]]-VLOOKUP(Tabela.frequencia[[#This Row],[Usuário]],Tabela.cadastro[[Nome]:[id2]],7,0))/365.25),0)","v":{"$error":"#N/A"}},{"$f":"IF(LOWER(TEXT(Tabela.frequencia[[#This Row],[Data]],\"MMMM\")) & \"/\" & YEAR(Tabela.frequencia[[#This Row],[Data]])=\"janeiro/1900\",\"\",LOWER(TEXT(Tabela.frequencia[[#This Row],[Data]],\"MMM\")) & \"/\" & TEXT(Tabela.frequencia[[#This Row],[Data]],\"AA\"))","v":""}]
[{"$f":"IFERROR(VLOOKUP(Tabela.frequencia[[#This Row],[Usuário]],Tabela.cadastro[[Nome]:[id2]],12,0),\"\")","v":""},null,null,{"$f":"ROUNDDOWN(((Tabela.frequencia[[#This Row],[Data]]-VLOOKUP(Tabela.frequencia[[#This Row],[Usuário]],Tabela.cadastro[[Nome]:[id2]],7,0))/365.25),0)","v":{"$error":"#N/A"}},{"$f":"IF(LOWER(TEXT(Tabela.frequencia[[#This Row],[Data]],\"MMMM\")) & \"/\" & YEAR(Tabela.frequencia[[#This Row],[Data]])=\"janeiro/1900\",\"\",LOWER(TEXT(Tabela.frequencia[[#This Row],[Data]],\"MMM\")) & \"/\" & TEXT(Tabela.frequencia[[#This Row],[Data]],\"AA\"))","v":""}]
[{"$f":"IFERROR(VLOOKUP(Tabela.frequencia[[#This Row],[Usuário]],Tabela.cadastro[[Nome]:[id2]],12,0),\"\")","v":""},null,null,{"$f":"ROUNDDOWN(((Tabela.frequencia[[#This Row],[Data]]-VLOOKUP(Tabela.frequencia[[#This Row],[Usuário]],Tabela.cadastro[[Nome]:[id2]],7,0))/365.25),0)","v":{"$error":"#N/A"}},{"$f":"IF(LOWER(TEXT(Tabela.frequencia[[#This Row],[Data]],\"MMMM\")) & \"/\" & YEAR(Tabela.frequencia[[#This Row],[Data]])=\"janeiro/1900\",\"\",LOWER(TEXT(Tabela.frequencia[[#This Row],[Data]],\"MMM\")) & \"/\" & TEXT(Tabela.frequencia[[#This Row],[Data]],\"AA\"))","v":""}]
[{"$f":"IFERROR(VLOOKUP(Tabela.frequencia[[#This Row],[Usuário]],Tabela.cadastro[[Nome]:[id2]],12,0),\"\")","v":""},null,null,{"$f":"ROUNDDOWN(((Tabela.frequencia[[#This Row],[Data]]-VLOOKUP(Tabela.frequencia[[#This Row],[Usuário]],Tabela.cadastro[[Nome]:[id2]],7,0))/365.25),0)","v":{"$error":"#N/A"}},{"$f":"IF(LOWER(TEXT(Tabela.frequencia[[#This Row],[Data]],\"MMMM\")) & \"/\" & YEAR(Tabela.frequencia[[#This Row],[Data]])=\"janeiro/1900\",\"\",LOWER(TEXT(Tabela.frequencia[[#This Row],[Data]],\"MMM\")) & \"/\" & TEXT(Tabela.frequencia[[#This Row],[Data]],\"AA\"))","v":""}]
[{"$f":"IFERROR(VLOOKUP(Tabela.frequencia[[#This Row],[Usuário]],Tabela.cadastro[[Nome]:[id2]],12,0),\"\")","v":""},null,null,{"$f":"ROUNDDOWN(((Tabela.frequencia[[#This Row],[Data]]-VLOOKUP(Tabela.frequencia[[#This Row],[Usuário]],Tabela.cadastro[[Nome]:[id2]],7,0))/365.25),0)","v":{"$error":"#N/A"}},{"$f":"IF(LOWER(TEXT(Tabela.frequencia[[#This Row],[Data]],\"MMMM\")) & \"/\" & YEAR(Tabela.frequencia[[#This Row],[Data]])=\"janeiro/1900\",\"\",LOWER(TEXT(Tabela.frequencia[[#This Row],[Data]],\"MMM\")) & \"/\" & TEXT(Tabela.frequencia[[#This Row],[Data]],\"AA\"))","v":""}]
[{"$f":"IFERROR(VLOOKUP(Tabela.frequencia[[#This Row],[Usuário]],Tabela.cadastro[[Nome]:[id2]],12,0),\"\")","v":""},null,null,{"$f":"ROUNDDOWN(((Tabela.frequencia[[#This Row],[Data]]-VLOOKUP(Tabela.frequencia[[#This Row],[Usuário]],Tabela.cadastro[[Nome]:[id2]],7,0))/365.25),0)","v":{"$error":"#N/A"}},{"$f":"IF(LOWER(TEXT(Tabela.frequencia[[#This Row],[Data]],\"MMMM\")) & \"/\" & YEAR(Tabela.frequencia[[#This Row],[Data]])=\"janeiro/1900\",\"\",LOWER(TEXT(Tabela.frequencia[[#This Row],[Data]],\"MMM\")) & \"/\" & TEXT(Tabela.frequencia[[#This Row],[Data]],\"AA\"))","v":""}]
[{"$f":"IFERROR(VLOOKUP(Tabela.frequencia[[#This Row],[Usuário]],Tabela.cadastro[[Nome]:[id2]],12,0),\"\")","v":""},null,null,{"$f":"ROUNDDOWN(((Tabela.frequencia[[#This Row],[Data]]-VLOOKUP(Tabela.frequencia[[#This Row],[Usuário]],Tabela.cadastro[[Nome]:[id2]],7,0))/365.25),0)","v":{"$error":"#N/A"}},{"$f":"IF(LOWER(TEXT(Tabela.frequencia[[#This Row],[Data]],\"MMMM\")) & \"/\" & YEAR(Tabela.frequencia[[#This Row],[Data]])=\"janeiro/1900\",\"\",LOWER(TEXT(Tabela.frequencia[[#This Row],[Data]],\"MMM\")) & \"/\" & TEXT(Tabela.frequencia[[#This Row],[Data]],\"AA\"))","v":""}]
[{"$f":"IFERROR(VLOOKUP(Tabela.frequencia[[#This Row],[Usuário]],Tabela.cadastro[[Nome]:[id2]],12,0),\"\")","v":""},null,null,{"$f":"ROUNDDOWN(((Tabela.frequencia[[#This Row],[Data]]-VLOOKUP(Tabela.frequencia[[#This Row],[Usuário]],Tabela.cadastro[[Nome]:[id2]],7,0))/365.25),0)","v":{"$error":"#N/A"}},{"$f":"IF(LOWER(TEXT(Tabela.frequencia[[#This Row],[Data]],\"MMMM\")) & \"/\" & YEAR(Tabela.frequencia[[#This Row],[Data]])=\"janeiro/1900\",\"\",LOWER(TEXT(Tabela.frequencia[[#This Row],[Data]],\"MMM\")) & \"/\" & TEXT(Tabela.frequencia[[#This Row],[Data]],\"AA\"))","v":""}]
[{"$f":"IFERROR(VLOOKUP(Tabela.frequencia[[#This Row],[Usuário]],Tabela.cadastro[[Nome]:[id2]],12,0),\"\")","v":""},null,null,{"$f":"ROUNDDOWN(((Tabela.frequencia[[#This Row],[Data]]-VLOOKUP(Tabela.frequencia[[#This Row],[Usuário]],Tabela.cadastro[[Nome]:[id2]],7,0))/365.25),0)","v":{"$error":"#N/A"}},{"$f":"IF(LOWER(TEXT(Tabela.frequencia[[#This Row],[Data]],\"MMMM\")) & \"/\" & YEAR(Tabela.frequencia[[#This Row],[Data]])=\"janeiro/1900\",\"\",LOWER(TEXT(Tabela.frequencia[[#This Row],[Data]],\"MMM\")) & \"/\" & TEXT(Tabela.frequencia[[#This Row],[Data]],\"AA\"))","v":""}]
[{"$f":"IFERROR(VLOOKUP(Tabela.frequencia[[#This Row],[Usuário]],Tabela.cadastro[[Nome]:[id2]],12,0),\"\")","v":""},null,null,{"$f":"ROUNDDOWN(((Tabela.frequencia[[#This Row],[Data]]-VLOOKUP(Tabela.frequencia[[#This Row],[Usuário]],Tabela.cadastro[[Nome]:[id2]],7,0))/365.25),0)","v":{"$error":"#N/A"}},{"$f":"IF(LOWER(TEXT(Tabela.frequencia[[#This Row],[Data]],\"MMMM\")) & \"/\" & YEAR(Tabela.frequencia[[#This Row],[Data]])=\"janeiro/1900\",\"\",LOWER(TEXT(Tabela.frequencia[[#This Row],[Data]],\"MMM\")) & \"/\" & TEXT(Tabela.frequencia[[#This Row],[Data]],\"AA\"))","v":""}]
[{"$f":"IFERROR(VLOOKUP(Tabela.frequencia[[#This Row],[Usuário]],Tabela.cadastro[[Nome]:[id2]],12,0),\"\")","v":""},null,null,{"$f":"ROUNDDOWN(((Tabela.frequencia[[#This Row],[Data]]-VLOOKUP(Tabela.frequencia[[#This Row],[Usuário]],Tabela.cadastro[[Nome]:[id2]],7,0))/365.25),0)","v":{"$error":"#N/A"}},{"$f":"IF(LOWER(TEXT(Tabela.frequencia[[#This Row],[Data]],\"MMMM\")) & \"/\" & YEAR(Tabela.frequencia[[#This Row],[Data]])=\"janeiro/1900\",\"\",LOWER(TEXT(Tabela.frequencia[[#This Row],[Data]],\"MMM\")) & \"/\" & TEXT(Tabela.frequencia[[#This Row],[Data]],\"AA\"))","v":""}]
[{"$f":"IFERROR(VLOOKUP(Tabela.frequencia[[#This Row],[Usuário]],Tabela.cadastro[[Nome]:[id2]],12,0),\"\")","v":""},null,null,{"$f":"ROUNDDOWN(((Tabela.frequencia[[#This Row],[Data]]-VLOOKUP(Tabela.frequencia[[#This Row],[Usuário]],Tabela.cadastro[[Nome]:[id2]],7,0))/365.25),0)","v":{"$error":"#N/A"}},{"$f":"IF(LOWER(TEXT(Tabela.frequencia[[#This Row],[Data]],\"MMMM\")) & \"/\" & YEAR(Tabela.frequencia[[#This Row],[Data]])=\"janeiro/1900\",\"\",LOWER(TEXT(Tabela.frequencia[[#This Row],[Data]],\"MMM\")) & \"/\" & TEXT(Tabela.frequencia[[#This Row],[Data]],\"AA\"))","v":""}]
[{"$f":"IFERROR(VLOOKUP(Tabela.frequencia[[#This Row],[Usuário]],Tabela.cadastro[[Nome]:[id2]],12,0),\"\")","v":""},null,null,{"$f":"ROUNDDOWN(((Tabela.frequencia[[#This Row],[Data]]-VLOOKUP(Tabela.frequencia[[#This Row],[Usuário]],Tabela.cadastro[[Nome]:[id2]],7,0))/365.25),0)","v":{"$error":"#N/A"}},{"$f":"IF(LOWER(TEXT(Tabela.frequencia[[#This Row],[Data]],\"MMMM\")) & \"/\" & YEAR(Tabela.frequencia[[#This Row],[Data]])=\"janeiro/1900\",\"\",LOWER(TEXT(Tabela.frequencia[[#This Row],[Data]],\"MMM\")) & \"/\" & TEXT(Tabela.frequencia[[#This Row],[Data]],\"AA\"))","v":""}]
[{"$f":"IFERROR(VLOOKUP(Tabela.frequencia[[#This Row],[Usuário]],Tabela.cadastro[[Nome]:[id2]],12,0),\"\")","v":""},null,null,{"$f":"ROUNDDOWN(((Tabela.frequencia[[#This Row],[Data]]-VLOOKUP(Tabela.frequencia[[#This Row],[Usuário]],Tabela.cadastro[[Nome]:[id2]],7,0))/365.25),0)","v":{"$error":"#N/A"}},{"$f":"IF(LOWER(TEXT(Tabela.frequencia[[#This Row],[Data]],\"MMMM\")) & \"/\" & YEAR(Tabela.frequencia[[#This Row],[Data]])=\"janeiro/1900\",\"\",LOWER(TEXT(Tabela.frequencia[[#This Row],[Data]],\"MMM\")) & \"/\" & TEXT(Tabela.frequencia[[#This Row],[Data]],\"AA\"))","v":""}]
[{"$f":"IFERROR(VLOOKUP(Tabela.frequencia[[#This Row],[Usuário]],Tabela.cadastro[[Nome]:[id2]],12,0),\"\")","v":""},null,null,{"$f":"ROUNDDOWN(((Tabela.frequencia[[#This Row],[Data]]-VLOOKUP(Tabela.frequencia[[#This Row],[Usuário]],Tabela.cadastro[[Nome]:[id2]],7,0))/365.25),0)","v":{"$error":"#N/A"}},{"$f":"IF(LOWER(TEXT(Tabela.frequencia[[#This Row],[Data]],\"MMMM\")) & \"/\" & YEAR(Tabela.frequencia[[#This Row],[Data]])=\"janeiro/1900\",\"\",LOWER(TEXT(Tabela.frequencia[[#This Row],[Data]],\"MMM\")) & \"/\" & TEXT(Tabela.frequencia[[#This Row],[Data]],\"AA\"))","v":""}]
[{"$f":"IFERROR(VLOOKUP(Tabela.frequencia[[#This Row],[Usuário]],Tabela.cadastro[[Nome]:[id2]],12,0),\"\")","v":""},null,null,{"$f":"ROUNDDOWN(((Tabela.frequencia[[#This Row],[Data]]-VLOOKUP(Tabela.frequencia[[#This Row],[Usuário]],Tabela.cadastro[[Nome]:[id2]],7,0))/365.25),0)","v":{"$error":"#N/A"}},{"$f":"IF(LOWER(TEXT(Tabela.frequencia[[#This Row],[Data]],\"MMMM\")) & \"/\" & YEAR(Tabela.frequencia[[#This Row],[Data]])=\"janeiro/1900\",\"\",LOWER(TEXT(Tabela.frequencia[[#This Row],[Data]],\"MMM\")) & \"/\" & TEXT(Tabela.frequencia[[#This Row],[Data]],\"AA\"))","v":""}]
[{"$f":"IFERROR(VLOOKUP(Tabela.frequencia[[#This Row],[Usuário]],Tabela.cadastro[[Nome]:[id2]],12,0),\"\")","v":""},null,null,{"$f":"ROUNDDOWN(((Tabela.frequencia[[#This Row],[Data]]-VLOOKUP(Tabela.frequencia[[#This Row],[Usuário]],Tabela.cadastro[[Nome]:[id2]],7,0))/365.25),0)","v":{"$error":"#N/A"}},{"$f":"IF(LOWER(TEXT(Tabela.frequencia[[#This Row],[Data]],\"MMMM\")) & \"/\" & YEAR(Tabela.frequencia[[#This Row],[Data]])=\"janeiro/1900\",\"\",LOWER(TEXT(Tabela.frequencia[[#This Row],[Data]],\"MMM\")) & \"/\" & TEXT(Tabela.frequencia[[#This Row],[Data]],\"AA\"))","v":""}]
[{"$f":"IFERROR(VLOOKUP(Tabela.frequencia[[#This Row],[Usuário]],Tabela.cadastro[[Nome]:[id2]],12,0),\"\")","v":""},null,null,{"$f":"ROUNDDOWN(((Tabela.frequencia[[#This Row],[Data]]-VLOOKUP(Tabela.frequencia[[#This Row],[Usuário]],Tabela.cadastro[[Nome]:[id2]],7,0))/365.25),0)","v":{"$error":"#N/A"}},{"$f":"IF(LOWER(TEXT(Tabela.frequencia[[#This Row],[Data]],\"MMMM\")) & \"/\" & YEAR(Tabela.frequencia[[#This Row],[Data]])=\"janeiro/1900\",\"\",LOWER(TEXT(Tabela.frequencia[[#This Row],[Data]],\"MMM\")) & \"/\" & TEXT(Tabela.frequencia[[#This Row],[Data]],\"AA\"))","v":""}]
[{"$f":"IFERROR(VLOOKUP(Tabela.frequencia[[#This Row],[Usuário]],Tabela.cadastro[[Nome]:[id2]],12,0),\"\")","v":""},null,null,{"$f":"ROUNDDOWN(((Tabela.frequencia[[#This Row],[Data]]-VLOOKUP(Tabela.frequencia[[#This Row],[Usuário]],Tabela.cadastro[[Nome]:[id2]],7,0))/365.25),0)","v":{"$error":"#N/A"}},{"$f":"IF(LOWER(TEXT(Tabela.frequencia[[#This Row],[Data]],\"MMMM\")) & \"/\" & YEAR(Tabela.frequencia[[#This Row],[Data]])=\"janeiro/1900\",\"\",LOWER(TEXT(Tabela.frequencia[[#This Row],[Data]],\"MMM\")) & \"/\" & TEXT(Tabela.frequencia[[#This Row],[Data]],\"AA\"))","v":""}]
[{"$f":"IFERROR(VLOOKUP(Tabela.frequencia[[#This Row],[Usuário]],Tabela.cadastro[[Nome]:[id2]],12,0),\"\")","v":""},null,null,{"$f":"ROUNDDOWN(((Tabela.frequencia[[#This Row],[Data]]-VLOOKUP(Tabela.frequencia[[#This Row],[Usuário]],Tabela.cadastro[[Nome]:[id2]],7,0))/365.25),0)","v":{"$error":"#N/A"}},{"$f":"IF(LOWER(TEXT(Tabela.frequencia[[#This Row],[Data]],\"MMMM\")) & \"/\" & YEAR(Tabela.frequencia[[#This Row],[Data]])=\"janeiro/1900\",\"\",LOWER(TEXT(Tabela.frequencia[[#This Row],[Data]],\"MMM\")) & \"/\" & TEXT(Tabela.frequencia[[#This Row],[Data]],\"AA\"))","v":""}]
[{"$f":"IFERROR(VLOOKUP(Tabela.frequencia[[#This Row],[Usuário]],Tabela.cadastro[[Nome]:[id2]],12,0),\"\")","v":""},null,null,{"$f":"ROUNDDOWN(((Tabela.frequencia[[#This Row],[Data]]-VLOOKUP(Tabela.frequencia[[#This Row],[Usuário]],Tabela.cadastro[[Nome]:[id2]],7,0))/365.25),0)","v":{"$error":"#N/A"}},{"$f":"IF(LOWER(TEXT(Tabela.frequencia[[#This Row],[Data]],\"MMMM\")) & \"/\" & YEAR(Tabela.frequencia[[#This Row],[Data]])=\"janeiro/1900\",\"\",LOWER(TEXT(Tabela.frequencia[[#This Row],[Data]],\"MMM\")) & \"/\" & TEXT(Tabela.frequencia[[#This Row],[Data]],\"AA\"))","v":""}]
[{"$f":"IFERROR(VLOOKUP(Tabela.frequencia[[#This Row],[Usuário]],Tabela.cadastro[[Nome]:[id2]],12,0),\"\")","v":""},null,null,{"$f":"ROUNDDOWN(((Tabela.frequencia[[#This Row],[Data]]-VLOOKUP(Tabela.frequencia[[#This Row],[Usuário]],Tabela.cadastro[[Nome]:[id2]],7,0))/365.25),0)","v":{"$error":"#N/A"}},{"$f":"IF(LOWER(TEXT(Tabela.frequencia[[#This Row],[Data]],\"MMMM\")) & \"/\" & YEAR(Tabela.frequencia[[#This Row],[Data]])=\"janeiro/1900\",\"\",LOWER(TEXT(Tabela.frequencia[[#This Row],[Data]],\"MMM\")) & \"/\" & TEXT(Tabela.frequencia[[#This Row],[Data]],\"AA\"))","v":""}]

{"sheet":"Abordagens","index":3,"n_rows":112,"n_cols":7,"rows_kept":112,"cut":false,"hidden":false,"merged":[[0,3,0,4]]}
[null,null,null,"Crianças e adolescentes"]
["id","Usuário","Data","Trab. infantil","Exp. Sexual","Idade","Mês"]
[{"$f":"IFERROR(VLOOKUP(Tabela.abordagens[[#This Row],[Usuário]],Tabela.cadastro[[Nome]:[id2]],12,0),\"\")","v":1},"Maria do Carmo","2014-07-01","N","N",{"$f":"ROUNDDOWN(((Tabela.abordagens[[#This Row],[Data]]-VLOOKUP(Tabela.abordagens[[#This Row],[Usuário]],Tabela.cadastro[[Nome]:[id2]],7,0))/365.25),0)","v":19},{"$f":"IF(LOWER(TEXT(Tabela.abordagens[[#This Row],[Data]],\"MMMM\")) & \"/\" & YEAR(Tabela.abordagens[[#This Row],[Data]])=\"janeiro/1900\",\"\",LOWER(TEXT(Tabela.abordagens[[#This Row],[Data]],\"MMM\")) & \"/\" & TEXT(Tabela.abordagens[[#This Row],[Data]],\"AA\"))","v":"jul/14"}]
[{"$f":"IFERROR(VLOOKUP(Tabela.abordagens[[#This Row],[Usuário]],Tabela.cadastro[[Nome]:[id2]],12,0),\"\")","v":2},"José Augusto","2014-07-01","N","N",{"$f":"ROUNDDOWN(((Tabela.abordagens[[#This Row],[Data]]-VLOOKUP(Tabela.abordagens[[#This Row],[Usuário]],Tabela.cadastro[[Nome]:[id2]],7,0))/365.25),0)","v":31},{"$f":"IF(LOWER(TEXT(Tabela.abordagens[[#This Row],[Data]],\"MMMM\")) & \"/\" & YEAR(Tabela.abordagens[[#This Row],[Data]])=\"janeiro/1900\",\"\",LOWER(TEXT(Tabela.abordagens[[#This Row],[Data]],\"MMM\")) & \"/\" & TEXT(Tabela.abordagens[[#This Row],[Data]],\"AA\"))","v":"jul/14"}]
[{"$f":"IFERROR(VLOOKUP(Tabela.abordagens[[#This Row],[Usuário]],Tabela.cadastro[[Nome]:[id2]],12,0),\"\")","v":3},"Joana Silva","2014-07-01","S","S",{"$f":"ROUNDDOWN(((Tabela.abordagens[[#This Row],[Data]]-VLOOKUP(Tabela.abordagens[[#This Row],[Usuário]],Tabela.cadastro[[Nome]:[id2]],7,0))/365.25),0)","v":29},{"$f":"IF(LOWER(TEXT(Tabela.abordagens[[#This Row],[Data]],\"MMMM\")) & \"/\" & YEAR(Tabela.abordagens[[#This Row],[Data]])=\"janeiro/1900\",\"\",LOWER(TEXT(Tabela.abordagens[[#This Row],[Data]],\"MMM\")) & \"/\" & TEXT(Tabela.abordagens[[#This Row],[Data]],\"AA\"))","v":"jul/14"}]
[{"$f":"IFERROR(VLOOKUP(Tabela.abordagens[[#This Row],[Usuário]],Tabela.cadastro[[Nome]:[id2]],12,0),\"\")","v":4},"João Pereira","2014-07-01","N","N",{"$f":"ROUNDDOWN(((Tabela.abordagens[[#This Row],[Data]]-VLOOKUP(Tabela.abordagens[[#This Row],[Usuário]],Tabela.cadastro[[Nome]:[id2]],7,0))/365.25),0)","v":41},{"$f":"IF(LOWER(TEXT(Tabela.abordagens[[#This Row],[Data]],\"MMMM\")) & \"/\" & YEAR(Tabela.abordagens[[#This Row],[Data]])=\"janeiro/1900\",\"\",LOWER(TEXT(Tabela.abordagens[[#This Row],[Data]],\"MMM\")) & \"/\" & TEXT(Tabela.abordagens[[#This Row],[Data]],\"AA\"))","v":"jul/14"}]
[{"$f":"IFERROR(VLOOKUP(Tabela.abordagens[[#This Row],[Usuário]],Tabela.cadastro[[Nome]:[id2]],12,0),\"\")","v":5},"Maria Almeida","2014-07-01","N","N",{"$f":"ROUNDDOWN(((Tabela.abordagens[[#This Row],[Data]]-VLOOKUP(Tabela.abordagens[[#This Row],[Usuário]],Tabela.cadastro[[Nome]:[id2]],7,0))/365.25),0)","v":69},{"$f":"IF(LOWER(TEXT(Tabela.abordagens[[#This Row],[Data]],\"MMMM\")) & \"/\" & YEAR(Tabela.abordagens[[#This Row],[Data]])=\"janeiro/1900\",\"\",LOWER(TEXT(Tabela.abordagens[[#This Row],[Data]],\"MMM\")) & \"/\" & TEXT(Tabela.abordagens[[#This Row],[Data]],\"AA\"))","v":"jul/14"}]
[{"$f":"IFERROR(VLOOKUP(Tabela.abordagens[[#This Row],[Usuário]],Tabela.cadastro[[Nome]:[id2]],12,0),\"\")","v":6},"Marcos Costa","2014-07-01","N","S",{"$f":"ROUNDDOWN(((Tabela.abordagens[[#This Row],[Data]]-VLOOKUP(Tabela.abordagens[[#This Row],[Usuário]],Tabela.cadastro[[Nome]:[id2]],7,0))/365.25),0)","v":14},{"$f":"IF(LOWER(TEXT(Tabela.abordagens[[#This Row],[Data]],\"MMMM\")) & \"/\" & YEAR(Tabela.abordagens[[#This Row],[Data]])=\"janeiro/1900\",\"\",LOWER(TEXT(Tabela.abordagens[[#This Row],[Data]],\"MMM\")) & \"/\" & TEXT(Tabela.abordagens[[#This Row],[Data]],\"AA\"))","v":"jul/14"}]
[{"$f":"IFERROR(VLOOKUP(Tabela.abordagens[[#This Row],[Usuário]],Tabela.cadastro[[Nome]:[id2]],12,0),\"\")","v":7},"Alan Gomes","2014-07-01","N","N",{"$f":"ROUNDDOWN(((Tabela.abordagens[[#This Row],[Data]]-VLOOKUP(Tabela.abordagens[[#This Row],[Usuário]],Tabela.cadastro[[Nome]:[id2]],7,0))/365.25),0)","v":74},{"$f":"IF(LOWER(TEXT(Tabela.abordagens[[#This Row],[Data]],\"MMMM\")) & \"/\" & YEAR(Tabela.abordagens[[#This Row],[Data]])=\"janeiro/1900\",\"\",LOWER(TEXT(Tabela.abordagens[[#This Row],[Data]],\"MMM\")) & \"/\" & TEXT(Tabela.abordagens[[#This Row],[Data]],\"AA\"))","v":"jul/14"}]
[{"$f":"IFERROR(VLOOKUP(Tabela.abordagens[[#This Row],[Usuário]],Tabela.cadastro[[Nome]:[id2]],12,0),\"\")","v":8},"Luiz Souza","2014-07-01","N","N",{"$f":"ROUNDDOWN(((Tabela.abordagens[[#This Row],[Data]]-VLOOKUP(Tabela.abordagens[[#This Row],[Usuário]],Tabela.cadastro[[Nome]:[id2]],7,0))/365.25),0)","v":27},{"$f":"IF(LOWER(TEXT(Tabela.abordagens[[#This Row],[Data]],\"MMMM\")) & \"/\" & YEAR(Tabela.abordagens[[#This Row],[Data]])=\"janeiro/1900\",\"\",LOWER(TEXT(Tabela.abordagens[[#This Row],[Data]],\"MMM\")) & \"/\" & TEXT(Tabela.abordagens[[#This Row],[Data]],\"AA\"))","v":"jul/14"}]
[{"$f":"IFERROR(VLOOKUP(Tabela.abordagens[[#This Row],[Usuário]],Tabela.cadastro[[Nome]:[id2]],12,0),\"\")","v":9},"Tatiane Costa","2014-07-01","N","N",{"$f":"ROUNDDOWN(((Tabela.abordagens[[#This Row],[Data]]-VLOOKUP(Tabela.abordagens[[#This Row],[Usuário]],Tabela.cadastro[[Nome]:[id2]],7,0))/365.25),0)","v":44},{"$f":"IF(LOWER(TEXT(Tabela.abordagens[[#This Row],[Data]],\"MMMM\")) & \"/\" & YEAR(Tabela.abordagens[[#This Row],[Data]])=\"janeiro/1900\",\"\",LOWER(TEXT(Tabela.abordagens[[#This Row],[Data]],\"MMM\")) & \"/\" & TEXT(Tabela.abordagens[[#This Row],[Data]],\"AA\"))","v":"jul/14"}]
[{"$f":"IFERROR(VLOOKUP(Tabela.abordagens[[#This Row],[Usuário]],Tabela.cadastro[[Nome]:[id2]],12,0),\"\")","v":10},"Maicon Silva","2014-07-01","N","N",{"$f":"ROUNDDOWN(((Tabela.abordagens[[#This Row],[Data]]-VLOOKUP(Tabela.abordagens[[#This Row],[Usuário]],Tabela.cadastro[[Nome]:[id2]],7,0))/365.25),0)","v":31},{"$f":"IF(LOWER(TEXT(Tabela.abordagens[[#This Row],[Data]],\"MMMM\")) & \"/\" & YEAR(Tabela.abordagens[[#This Row],[Data]])=\"janeiro/1900\",\"\",LOWER(TEXT(Tabela.abordagens[[#This Row],[Data]],\"MMM\")) & \"/\" & TEXT(Tabela.abordagens[[#This Row],[Data]],\"AA\"))","v":"jul/14"}]
[{"$f":"IFERROR(VLOOKUP(Tabela.abordagens[[#This Row],[Usuário]],Tabela.cadastro[[Nome]:[id2]],12,0),\"\")","v":11},"Rodolfo Gonçalvez","2014-07-01","N","N",{"$f":"ROUNDDOWN(((Tabela.abordagens[[#This Row],[Data]]-VLOOKUP(Tabela.abordagens[[#This Row],[Usuário]],Tabela.cadastro[[Nome]:[id2]],7,0))/365.25),0)","v":31},{"$f":"IF(LOWER(TEXT(Tabela.abordagens[[#This Row],[Data]],\"MMMM\")) & \"/\" & YEAR(Tabela.abordagens[[#This Row],[Data]])=\"janeiro/1900\",\"\",LOWER(TEXT(Tabela.abordagens[[#This Row],[Data]],\"MMM\")) & \"/\" & TEXT(Tabela.abordagens[[#This Row],[Data]],\"AA\"))","v":"jul/14"}]
[{"$f":"IFERROR(VLOOKUP(Tabela.abordagens[[#This Row],[Usuário]],Tabela.cadastro[[Nome]:[id2]],12,0),\"\")","v":12},"Marina Rodrigues","2014-07-01","S","N",{"$f":"ROUNDDOWN(((Tabela.abordagens[[#This Row],[Data]]-VLOOKUP(Tabela.abordagens[[#This Row],[Usuário]],Tabela.cadastro[[Nome]:[id2]],7,0))/365.25),0)","v":25},{"$f":"IF(LOWER(TEXT(Tabela.abordagens[[#This Row],[Data]],\"MMMM\")) & \"/\" & YEAR(Tabela.abordagens[[#This Row],[Data]])=\"janeiro/1900\",\"\",LOWER(TEXT(Tabela.abordagens[[#This Row],[Data]],\"MMM\")) & \"/\" & TEXT(Tabela.abordagens[[#This Row],[Data]],\"AA\"))","v":"jul/14"}]
[{"$f":"IFERROR(VLOOKUP(Tabela.abordagens[[#This Row],[Usuário]],Tabela.cadastro[[Nome]:[id2]],12,0),\"\")","v":13},"Valdecir Castro","2014-07-01","N","N",{"$f":"ROUNDDOWN(((Tabela.abordagens[[#This Row],[Data]]-VLOOKUP(Tabela.abordagens[[#This Row],[Usuário]],Tabela.cadastro[[Nome]:[id2]],7,0))/365.25),0)","v":21},{"$f":"IF(LOWER(TEXT(Tabela.abordagens[[#This Row],[Data]],\"MMMM\")) & \"/\" & YEAR(Tabela.abordagens[[#This Row],[Data]])=\"janeiro/1900\",\"\",LOWER(TEXT(Tabela.abordagens[[#This Row],[Data]],\"MMM\")) & \"/\" & TEXT(Tabela.abordagens[[#This Row],[Data]],\"AA\"))","v":"jul/14"}]
[{"$f":"IFERROR(VLOOKUP(Tabela.abordagens[[#This Row],[Usuário]],Tabela.cadastro[[Nome]:[id2]],12,0),\"\")","v":14},"Lucas Cabral","2014-07-01","N","N",{"$f":"ROUNDDOWN(((Tabela.abordagens[[#This Row],[Data]]-VLOOKUP(Tabela.abordagens[[#This Row],[Usuário]],Tabela.cadastro[[Nome]:[id2]],7,0))/365.25),0)","v":20},{"$f":"IF(LOWER(TEXT(Tabela.abordagens[[#This Row],[Data]],\"MMMM\")) & \"/\" & YEAR(Tabela.abordagens[[#This Row],[Data]])=\"janeiro/1900\",\"\",LOWER(TEXT(Tabela.abordagens[[#This Row],[Data]],\"MMM\")) & \"/\" & TEXT(Tabela.abordagens[[#This Row],[Data]],\"AA\"))","v":"jul/14"}]
[{"$f":"IFERROR(VLOOKUP(Tabela.abordagens[[#This Row],[Usuário]],Tabela.cadastro[[Nome]:[id2]],12,0),\"\")","v":15},"Dione Silva","2014-07-01","N","N",{"$f":"ROUNDDOWN(((Tabela.abordagens[[#This Row],[Data]]-VLOOKUP(Tabela.abordagens[[#This Row],[Usuário]],Tabela.cadastro[[Nome]:[id2]],7,0))/365.25),0)","v":36},{"$f":"IF(LOWER(TEXT(Tabela.abordagens[[#This Row],[Data]],\"MMMM\")) & \"/\" & YEAR(Tabela.abordagens[[#This Row],[Data]])=\"janeiro/1900\",\"\",LOWER(TEXT(Tabela.abordagens[[#This Row],[Data]],\"MMM\")) & \"/\" & TEXT(Tabela.abordagens[[#This Row],[Data]],\"AA\"))","v":"jul/14"}]
[{"$f":"IFERROR(VLOOKUP(Tabela.abordagens[[#This Row],[Usuário]],Tabela.cadastro[[Nome]:[id2]],12,0),\"\")","v":16},"Vicente Pereira","2014-07-01","N","N",{"$f":"ROUNDDOWN(((Tabela.abordagens[[#This Row],[Data]]-VLOOKUP(Tabela.abordagens[[#This Row],[Usuário]],Tabela.cadastro[[Nome]:[id2]],7,0))/365.25),0)","v":26},{"$f":"IF(LOWER(TEXT(Tabela.abordagens[[#This Row],[Data]],\"MMMM\")) & \"/\" & YEAR(Tabela.abordagens[[#This Row],[Data]])=\"janeiro/1900\",\"\",LOWER(TEXT(Tabela.abordagens[[#This Row],[Data]],\"MMM\")) & \"/\" & TEXT(Tabela.abordagens[[#This Row],[Data]],\"AA\"))","v":"jul/14"}]
[{"$f":"IFERROR(VLOOKUP(Tabela.abordagens[[#This Row],[Usuário]],Tabela.cadastro[[Nome]:[id2]],12,0),\"\")","v":17},"Douglas Bragança","2014-07-01","N","N",{"$f":"ROUNDDOWN(((Tabela.abordagens[[#This Row],[Data]]-VLOOKUP(Tabela.abordagens[[#This Row],[Usuário]],Tabela.cadastro[[Nome]:[id2]],7,0))/365.25),0)","v":31},{"$f":"IF(LOWER(TEXT(Tabela.abordagens[[#This Row],[Data]],\"MMMM\")) & \"/\" & YEAR(Tabela.abordagens[[#This Row],[Data]])=\"janeiro/1900\",\"\",LOWER(TEXT(Tabela.abordagens[[#This Row],[Data]],\"MMM\")) & \"/\" & TEXT(Tabela.abordagens[[#This Row],[Data]],\"AA\"))","v":"jul/14"}]
[{"$f":"IFERROR(VLOOKUP(Tabela.abordagens[[#This Row],[Usuário]],Tabela.cadastro[[Nome]:[id2]],12,0),\"\")","v":18},"Eduardo Costa","2014-07-01","N","S",{"$f":"ROUNDDOWN(((Tabela.abordagens[[#This Row],[Data]]-VLOOKUP(Tabela.abordagens[[#This Row],[Usuário]],Tabela.cadastro[[Nome]:[id2]],7,0))/365.25),0)","v":34},{"$f":"IF(LOWER(TEXT(Tabela.abordagens[[#This Row],[Data]],\"MMMM\")) & \"/\" & YEAR(Tabela.abordagens[[#This Row],[Data]])=\"janeiro/1900\",\"\",LOWER(TEXT(Tabela.abordagens[[#This Row],[Data]],\"MMM\")) & \"/\" & TEXT(Tabela.abordagens[[#This Row],[Data]],\"AA\"))","v":"jul/14"}]
[{"$f":"IFERROR(VLOOKUP(Tabela.abordagens[[#This Row],[Usuário]],Tabela.cadastro[[Nome]:[id2]],12,0),\"\")","v":19},"Antonieta Belém","2014-07-01","S","N",{"$f":"ROUNDDOWN(((Tabela.abordagens[[#This Row],[Data]]-VLOOKUP(Tabela.abordagens[[#This Row],[Usuário]],Tabela.cadastro[[Nome]:[id2]],7,0))/365.25),0)","v":29},{"$f":"IF(LOWER(TEXT(Tabela.abordagens[[#This Row],[Data]],\"MMMM\")) & \"/\" & YEAR(Tabela.abordagens[[#This Row],[Data]])=\"janeiro/1900\",\"\",LOWER(TEXT(Tabela.abordagens[[#This Row],[Data]],\"MMM\")) & \"/\" & TEXT(Tabela.abordagens[[#This Row],[Data]],\"AA\"))","v":"jul/14"}]
[{"$f":"IFERROR(VLOOKUP(Tabela.abordagens[[#This Row],[Usuário]],Tabela.cadastro[[Nome]:[id2]],12,0),\"\")","v":20},"Josefina Andrade","2014-07-02","N","N",{"$f":"ROUNDDOWN(((Tabela.abordagens[[#This Row],[Data]]-VLOOKUP(Tabela.abordagens[[#This Row],[Usuário]],Tabela.cadastro[[Nome]:[id2]],7,0))/365.25),0)","v":44},{"$f":"IF(LOWER(TEXT(Tabela.abordagens[[#This Row],[Data]],\"MMMM\")) & \"/\" & YEAR(Tabela.abordagens[[#This Row],[Data]])=\"janeiro/1900\",\"\",LOWER(TEXT(Tabela.abordagens[[#This Row],[Data]],\"MMM\")) & \"/\" & TEXT(Tabela.abordagens[[#This Row],[Data]],\"AA\"))","v":"jul/14"}]
[{"$f":"IFERROR(VLOOKUP(Tabela.abordagens[[#This Row],[Usuário]],Tabela.cadastro[[Nome]:[id2]],12,0),\"\")","v":1},"Maria do Carmo","2014-07-02","N","N",{"$f":"ROUNDDOWN(((Tabela.abordagens[[#This Row],[Data]]-VLOOKUP(Tabela.abordagens[[#This Row],[Usuário]],Tabela.cadastro[[Nome]:[id2]],7,0))/365.25),0)","v":19},{"$f":"IF(LOWER(TEXT(Tabela.abordagens[[#This Row],[Data]],\"MMMM\")) & \"/\" & YEAR(Tabela.abordagens[[#This Row],[Data]])=\"janeiro/1900\",\"\",LOWER(TEXT(Tabela.abordagens[[#This Row],[Data]],\"MMM\")) & \"/\" & TEXT(Tabela.abordagens[[#This Row],[Data]],\"AA\"))","v":"jul/14"}]
[{"$f":"IFERROR(VLOOKUP(Tabela.abordagens[[#This Row],[Usuário]],Tabela.cadastro[[Nome]:[id2]],12,0),\"\")","v":2},"José Augusto","2014-07-02","N","N",{"$f":"ROUNDDOWN(((Tabela.abordagens[[#This Row],[Data]]-VLOOKUP(Tabela.abordagens[[#This Row],[Usuário]],Tabela.cadastro[[Nome]:[id2]],7,0))/365.25),0)","v":31},{"$f":"IF(LOWER(TEXT(Tabela.abordagens[[#This Row],[Data]],\"MMMM\")) & \"/\" & YEAR(Tabela.abordagens[[#This Row],[Data]])=\"janeiro/1900\",\"\",LOWER(TEXT(Tabela.abordagens[[#This Row],[Data]],\"MMM\")) & \"/\" & TEXT(Tabela.abordagens[[#This Row],[Data]],\"AA\"))","v":"jul/14"}]
[{"$f":"IFERROR(VLOOKUP(Tabela.abordagens[[#This Row],[Usuário]],Tabela.cadastro[[Nome]:[id2]],12,0),\"\")","v":3},"Joana Silva","2014-07-02","N","N",{"$f":"ROUNDDOWN(((Tabela.abordagens[[#This Row],[Data]]-VLOOKUP(Tabela.abordagens[[#This Row],[Usuário]],Tabela.cadastro[[Nome]:[id2]],7,0))/365.25),0)","v":29},{"$f":"IF(LOWER(TEXT(Tabela.abordagens[[#This Row],[Data]],\"MMMM\")) & \"/\" & YEAR(Tabela.abordagens[[#This Row],[Data]])=\"janeiro/1900\",\"\",LOWER(TEXT(Tabela.abordagens[[#This Row],[Data]],\"MMM\")) & \"/\" & TEXT(Tabela.abordagens[[#This Row],[Data]],\"AA\"))","v":"jul/14"}]
[{"$f":"IFERROR(VLOOKUP(Tabela.abordagens[[#This Row],[Usuário]],Tabela.cadastro[[Nome]:[id2]],12,0),\"\")","v":4},"João Pereira","2014-07-02","N","N",{"$f":"ROUNDDOWN(((Tabela.abordagens[[#This Row],[Data]]-VLOOKUP(Tabela.abordagens[[#This Row],[Usuário]],Tabela.cadastro[[Nome]:[id2]],7,0))/365.25),0)","v":41},{"$f":"IF(LOWER(TEXT(Tabela.abordagens[[#This Row],[Data]],\"MMMM\")) & \"/\" & YEAR(Tabela.abordagens[[#This Row],[Data]])=\"janeiro/1900\",\"\",LOWER(TEXT(Tabela.abordagens[[#This Row],[Data]],\"MMM\")) & \"/\" & TEXT(Tabela.abordagens[[#This Row],[Data]],\"AA\"))","v":"jul/14"}]
[{"$f":"IFERROR(VLOOKUP(Tabela.abordagens[[#This Row],[Usuário]],Tabela.cadastro[[Nome]:[id2]],12,0),\"\")","v":5},"Maria Almeida","2014-07-02","N","N",{"$f":"ROUNDDOWN(((Tabela.abordagens[[#This Row],[Data]]-VLOOKUP(Tabela.abordagens[[#This Row],[Usuário]],Tabela.cadastro[[Nome]:[id2]],7,0))/365.25),0)","v":69},{"$f":"IF(LOWER(TEXT(Tabela.abordagens[[#This Row],[Data]],\"MMMM\")) & \"/\" & YEAR(Tabela.abordagens[[#This Row],[Data]])=\"janeiro/1900\",\"\",LOWER(TEXT(Tabela.abordagens[[#This Row],[Data]],\"MMM\")) & \"/\" & TEXT(Tabela.abordagens[[#This Row],[Data]],\"AA\"))","v":"jul/14"}]
[{"$f":"IFERROR(VLOOKUP(Tabela.abordagens[[#This Row],[Usuário]],Tabela.cadastro[[Nome]:[id2]],12,0),\"\")","v":6},"Marcos Costa","2014-07-02","S","N",{"$f":"ROUNDDOWN(((Tabela.abordagens[[#This Row],[Data]]-VLOOKUP(Tabela.abordagens[[#This Row],[Usuário]],Tabela.cadastro[[Nome]:[id2]],7,0))/365.25),0)","v":14},{"$f":"IF(LOWER(TEXT(Tabela.abordagens[[#This Row],[Data]],\"MMMM\")) & \"/\" & YEAR(Tabela.abordagens[[#This Row],[Data]])=\"janeiro/1900\",\"\",LOWER(TEXT(Tabela.abordagens[[#This Row],[Data]],\"MMM\")) & \"/\" & TEXT(Tabela.abordagens[[#This Row],[Data]],\"AA\"))","v":"jul/14"}]
[{"$f":"IFERROR(VLOOKUP(Tabela.abordagens[[#This Row],[Usuário]],Tabela.cadastro[[Nome]:[id2]],12,0),\"\")","v":7},"Alan Gomes","2014-07-02","N","N",{"$f":"ROUNDDOWN(((Tabela.abordagens[[#This Row],[Data]]-VLOOKUP(Tabela.abordagens[[#This Row],[Usuário]],Tabela.cadastro[[Nome]:[id2]],7,0))/365.25),0)","v":74},{"$f":"IF(LOWER(TEXT(Tabela.abordagens[[#This Row],[Data]],\"MMMM\")) & \"/\" & YEAR(Tabela.abordagens[[#This Row],[Data]])=\"janeiro/1900\",\"\",LOWER(TEXT(Tabela.abordagens[[#This Row],[Data]],\"MMM\")) & \"/\" & TEXT(Tabela.abordagens[[#This Row],[Data]],\"AA\"))","v":"jul/14"}]
[{"$f":"IFERROR(VLOOKUP(Tabela.abordagens[[#This Row],[Usuário]],Tabela.cadastro[[Nome]:[id2]],12,0),\"\")","v":8},"Luiz Souza","2014-07-02","N","N",{"$f":"ROUNDDOWN(((Tabela.abordagens[[#This Row],[Data]]-VLOOKUP(Tabela.abordagens[[#This Row],[Usuário]],Tabela.cadastro[[Nome]:[id2]],7,0))/365.25),0)","v":27},{"$f":"IF(LOWER(TEXT(Tabela.abordagens[[#This Row],[Data]],\"MMMM\")) & \"/\" & YEAR(Tabela.abordagens[[#This Row],[Data]])=\"janeiro/1900\",\"\",LOWER(TEXT(Tabela.abordagens[[#This Row],[Data]],\"MMM\")) & \"/\" & TEXT(Tabela.abordagens[[#This Row],[Data]],\"AA\"))","v":"jul/14"}]
[{"$f":"IFERROR(VLOOKUP(Tabela.abordagens[[#This Row],[Usuário]],Tabela.cadastro[[Nome]:[id2]],12,0),\"\")","v":12},"Marina Rodrigues","2014-07-03","N","N",{"$f":"ROUNDDOWN(((Tabela.abordagens[[#This Row],[Data]]-VLOOKUP(Tabela.abordagens[[#This Row],[Usuário]],Tabela.cadastro[[Nome]:[id2]],7,0))/365.25),0)","v":25},{"$f":"IF(LOWER(TEXT(Tabela.abordagens[[#This Row],[Data]],\"MMMM\")) & \"/\" & YEAR(Tabela.abordagens[[#This Row],[Data]])=\"janeiro/1900\",\"\",LOWER(TEXT(Tabela.abordagens[[#This Row],[Data]],\"MMM\")) & \"/\" & TEXT(Tabela.abordagens[[#This Row],[Data]],\"AA\"))","v":"jul/14"}]
[{"$f":"IFERROR(VLOOKUP(Tabela.abordagens[[#This Row],[Usuário]],Tabela.cadastro[[Nome]:[id2]],12,0),\"\")","v":13},"Valdecir Castro","2014-07-03","N","N",{"$f":"ROUNDDOWN(((Tabela.abordagens[[#This Row],[Data]]-VLOOKUP(Tabela.abordagens[[#This Row],[Usuário]],Tabela.cadastro[[Nome]:[id2]],7,0))/365.25),0)","v":21},{"$f":"IF(LOWER(TEXT(Tabela.abordagens[[#This Row],[Data]],\"MMMM\")) & \"/\" & YEAR(Tabela.abordagens[[#This Row],[Data]])=\"janeiro/1900\",\"\",LOWER(TEXT(Tabela.abordagens[[#This Row],[Data]],\"MMM\")) & \"/\" & TEXT(Tabela.abordagens[[#This Row],[Data]],\"AA\"))","v":"jul/14"}]
[{"$f":"IFERROR(VLOOKUP(Tabela.abordagens[[#This Row],[Usuário]],Tabela.cadastro[[Nome]:[id2]],12,0),\"\")","v":14},"Lucas Cabral","2014-07-03","N","N",{"$f":"ROUNDDOWN(((Tabela.abordagens[[#This Row],[Data]]-VLOOKUP(Tabela.abordagens[[#This Row],[Usuário]],Tabela.cadastro[[Nome]:[id2]],7,0))/365.25),0)","v":20},{"$f":"IF(LOWER(TEXT(Tabela.abordagens[[#This Row],[Data]],\"MMMM\")) & \"/\" & YEAR(Tabela.abordagens[[#This Row],[Data]])=\"janeiro/1900\",\"\",LOWER(TEXT(Tabela.abordagens[[#This Row],[Data]],\"MMM\")) & \"/\" & TEXT(Tabela.abordagens[[#This Row],[Data]],\"AA\"))","v":"jul/14"}]
[{"$f":"IFERROR(VLOOKUP(Tabela.abordagens[[#This Row],[Usuário]],Tabela.cadastro[[Nome]:[id2]],12,0),\"\")","v":15},"Dione Silva","2014-07-03","N","N",{"$f":"ROUNDDOWN(((Tabela.abordagens[[#This Row],[Data]]-VLOOKUP(Tabela.abordagens[[#This Row],[Usuário]],Tabela.cadastro[[Nome]:[id2]],7,0))/365.25),0)","v":36},{"$f":"IF(LOWER(TEXT(Tabela.abordagens[[#This Row],[Data]],\"MMMM\")) & \"/\" & YEAR(Tabela.abordagens[[#This Row],[Data]])=\"janeiro/1900\",\"\",LOWER(TEXT(Tabela.abordagens[[#This Row],[Data]],\"MMM\")) & \"/\" & TEXT(Tabela.abordagens[[#This Row],[Data]],\"AA\"))","v":"jul/14"}]
[{"$f":"IFERROR(VLOOKUP(Tabela.abordagens[[#This Row],[Usuário]],Tabela.cadastro[[Nome]:[id2]],12,0),\"\")","v":16},"Vicente Pereira","2014-07-03","N","N",{"$f":"ROUNDDOWN(((Tabela.abordagens[[#This Row],[Data]]-VLOOKUP(Tabela.abordagens[[#This Row],[Usuário]],Tabela.cadastro[[Nome]:[id2]],7,0))/365.25),0)","v":26},{"$f":"IF(LOWER(TEXT(Tabela.abordagens[[#This Row],[Data]],\"MMMM\")) & \"/\" & YEAR(Tabela.abordagens[[#This Row],[Data]])=\"janeiro/1900\",\"\",LOWER(TEXT(Tabela.abordagens[[#This Row],[Data]],\"MMM\")) & \"/\" & TEXT(Tabela.abordagens[[#This Row],[Data]],\"AA\"))","v":"jul/14"}]
[{"$f":"IFERROR(VLOOKUP(Tabela.abordagens[[#This Row],[Usuário]],Tabela.cadastro[[Nome]:[id2]],12,0),\"\")","v":17},"Douglas Bragança","2014-07-03","N","S",{"$f":"ROUNDDOWN(((Tabela.abordagens[[#This Row],[Data]]-VLOOKUP(Tabela.abordagens[[#This Row],[Usuário]],Tabela.cadastro[[Nome]:[id2]],7,0))/365.25),0)","v":31},{"$f":"IF(LOWER(TEXT(Tabela.abordagens[[#This Row],[Data]],\"MMMM\")) & \"/\" & YEAR(Tabela.abordagens[[#This Row],[Data]])=\"janeiro/1900\",\"\",LOWER(TEXT(Tabela.abordagens[[#This Row],[Data]],\"MMM\")) & \"/\" & TEXT(Tabela.abordagens[[#This Row],[Data]],\"AA\"))","v":"jul/14"}]
[{"$f":"IFERROR(VLOOKUP(Tabela.abordagens[[#This Row],[Usuário]],Tabela.cadastro[[Nome]:[id2]],12,0),\"\")","v":18},"Eduardo Costa","2014-07-03","N","N",{"$f":"ROUNDDOWN(((Tabela.abordagens[[#This Row],[Data]]-VLOOKUP(Tabela.abordagens[[#This Row],[Usuário]],Tabela.cadastro[[Nome]:[id2]],7,0))/365.25),0)","v":34},{"$f":"IF(LOWER(TEXT(Tabela.abordagens[[#This Row],[Data]],\"MMMM\")) & \"/\" & YEAR(Tabela.abordagens[[#This Row],[Data]])=\"janeiro/1900\",\"\",LOWER(TEXT(Tabela.abordagens[[#This Row],[Data]],\"MMM\")) & \"/\" & TEXT(Tabela.abordagens[[#This Row],[Data]],\"AA\"))","v":"jul/14"}]
[{"$f":"IFERROR(VLOOKUP(Tabela.abordagens[[#This Row],[Usuário]],Tabela.cadastro[[Nome]:[id2]],12,0),\"\")","v":19},"Antonieta Belém","2014-07-03","N","N",{"$f":"ROUNDDOWN(((Tabela.abordagens[[#This Row],[Data]]-VLOOKUP(Tabela.abordagens[[#This Row],[Usuário]],Tabela.cadastro[[Nome]:[id2]],7,0))/365.25),0)","v":29},{"$f":"IF(LOWER(TEXT(Tabela.abordagens[[#This Row],[Data]],\"MMMM\")) & \"/\" & YEAR(Tabela.abordagens[[#This Row],[Data]])=\"janeiro/1900\",\"\",LOWER(TEXT(Tabela.abordagens[[#This Row],[Data]],\"MMM\")) & \"/\" & TEXT(Tabela.abordagens[[#This Row],[Data]],\"AA\"))","v":"jul/14"}]
[{"$f":"IFERROR(VLOOKUP(Tabela.abordagens[[#This Row],[Usuário]],Tabela.cadastro[[Nome]:[id2]],12,0),\"\")","v":20},"Josefina Andrade","2014-07-03","N","S",{"$f":"ROUNDDOWN(((Tabela.abordagens[[#This Row],[Data]]-VLOOKUP(Tabela.abordagens[[#This Row],[Usuário]],Tabela.cadastro[[Nome]:[id2]],7,0))/365.25),0)","v":44},{"$f":"IF(LOWER(TEXT(Tabela.abordagens[[#This Row],[Data]],\"MMMM\")) & \"/\" & YEAR(Tabela.abordagens[[#This Row],[Data]])=\"janeiro/1900\",\"\",LOWER(TEXT(Tabela.abordagens[[#This Row],[Data]],\"MMM\")) & \"/\" & TEXT(Tabela.abordagens[[#This Row],[Data]],\"AA\"))","v":"jul/14"}]
[{"$f":"IFERROR(VLOOKUP(Tabela.abordagens[[#This Row],[Usuário]],Tabela.cadastro[[Nome]:[id2]],12,0),\"\")","v":1},"Maria do Carmo","2014-07-03","N","N",{"$f":"ROUNDDOWN(((Tabela.abordagens[[#This Row],[Data]]-VLOOKUP(Tabela.abordagens[[#This Row],[Usuário]],Tabela.cadastro[[Nome]:[id2]],7,0))/365.25),0)","v":19},{"$f":"IF(LOWER(TEXT(Tabela.abordagens[[#This Row],[Data]],\"MMMM\")) & \"/\" & YEAR(Tabela.abordagens[[#This Row],[Data]])=\"janeiro/1900\",\"\",LOWER(TEXT(Tabela.abordagens[[#This Row],[Data]],\"MMM\")) & \"/\" & TEXT(Tabela.abordagens[[#This Row],[Data]],\"AA\"))","v":"jul/14"}]
[{"$f":"IFERROR(VLOOKUP(Tabela.abordagens[[#This Row],[Usuário]],Tabela.cadastro[[Nome]:[id2]],12,0),\"\")","v":2},"José Augusto","2014-07-03","N","N",{"$f":"ROUNDDOWN(((Tabela.abordagens[[#This Row],[Data]]-VLOOKUP(Tabela.abordagens[[#This Row],[Usuário]],Tabela.cadastro[[Nome]:[id2]],7,0))/365.25),0)","v":31},{"$f":"IF(LOWER(TEXT(Tabela.abordagens[[#This Row],[Data]],\"MMMM\")) & \"/\" & YEAR(Tabela.abordagens[[#This Row],[Data]])=\"janeiro/1900\",\"\",LOWER(TEXT(Tabela.abordagens[[#This Row],[Data]],\"MMM\")) & \"/\" & TEXT(Tabela.abordagens[[#This Row],[Data]],\"AA\"))","v":"jul/14"}]
[{"$f":"IFERROR(VLOOKUP(Tabela.abordagens[[#This Row],[Usuário]],Tabela.cadastro[[Nome]:[id2]],12,0),\"\")","v":6},"Marcos Costa","2014-07-04","N","N",{"$f":"ROUNDDOWN(((Tabela.abordagens[[#This Row],[Data]]-VLOOKUP(Tabela.abordagens[[#This Row],[Usuário]],Tabela.cadastro[[Nome]:[id2]],7,0))/365.25),0)","v":14},{"$f":"IF(LOWER(TEXT(Tabela.abordagens[[#This Row],[Data]],\"MMMM\")) & \"/\" & YEAR(Tabela.abordagens[[#This Row],[Data]])=\"janeiro/1900\",\"\",LOWER(TEXT(Tabela.abordagens[[#This Row],[Data]],\"MMM\")) & \"/\" & TEXT(Tabela.abordagens[[#This Row],[Data]],\"AA\"))","v":"jul/14"}]
[{"$f":"IFERROR(VLOOKUP(Tabela.abordagens[[#This Row],[Usuário]],Tabela.cadastro[[Nome]:[id2]],12,0),\"\")","v":7},"Alan Gomes","2014-07-04","S","N",{"$f":"ROUNDDOWN(((Tabela.abordagens[[#This Row],[Data]]-VLOOKUP(Tabela.abordagens[[#This Row],[Usuário]],Tabela.cadastro[[Nome]:[id2]],7,0))/365.25),0)","v":74},{"$f":"IF(LOWER(TEXT(Tabela.abordagens[[#This Row],[Data]],\"MMMM\")) & \"/\" & YEAR(Tabela.abordagens[[#This Row],[Data]])=\"janeiro/1900\",\"\",LOWER(TEXT(Tabela.abordagens[[#This Row],[Data]],\"MMM\")) & \"/\" & TEXT(Tabela.abordagens[[#This Row],[Data]],\"AA\"))","v":"jul/14"}]
[{"$f":"IFERROR(VLOOKUP(Tabela.abordagens[[#This Row],[Usuário]],Tabela.cadastro[[Nome]:[id2]],12,0),\"\")","v":8},"Luiz Souza","2014-07-04","N","N",{"$f":"ROUNDDOWN(((Tabela.abordagens[[#This Row],[Data]]-VLOOKUP(Tabela.abordagens[[#This Row],[Usuário]],Tabela.cadastro[[Nome]:[id2]],7,0))/365.25),0)","v":27},{"$f":"IF(LOWER(TEXT(Tabela.abordagens[[#This Row],[Data]],\"MMMM\")) & \"/\" & YEAR(Tabela.abordagens[[#This Row],[Data]])=\"janeiro/1900\",\"\",LOWER(TEXT(Tabela.abordagens[[#This Row],[Data]],\"MMM\")) & \"/\" & TEXT(Tabela.abordagens[[#This Row],[Data]],\"AA\"))","v":"jul/14"}]
[{"$f":"IFERROR(VLOOKUP(Tabela.abordagens[[#This Row],[Usuário]],Tabela.cadastro[[Nome]:[id2]],12,0),\"\")","v":9},"Tatiane Costa","2014-07-04","N","N",{"$f":"ROUNDDOWN(((Tabela.abordagens[[#This Row],[Data]]-VLOOKUP(Tabela.abordagens[[#This Row],[Usuário]],Tabela.cadastro[[Nome]:[id2]],7,0))/365.25),0)","v":44},{"$f":"IF(LOWER(TEXT(Tabela.abordagens[[#This Row],[Data]],\"MMMM\")) & \"/\" & YEAR(Tabela.abordagens[[#This Row],[Data]])=\"janeiro/1900\",\"\",LOWER(TEXT(Tabela.abordagens[[#This Row],[Data]],\"MMM\")) & \"/\" & TEXT(Tabela.abordagens[[#This Row],[Data]],\"AA\"))","v":"jul/14"}]
[{"$f":"IFERROR(VLOOKUP(Tabela.abordagens[[#This Row],[Usuário]],Tabela.cadastro[[Nome]:[id2]],12,0),\"\")","v":10},"Maicon Silva","2014-07-04","N","N",{"$f":"ROUNDDOWN(((Tabela.abordagens[[#This Row],[Data]]-VLOOKUP(Tabela.abordagens[[#This Row],[Usuário]],Tabela.cadastro[[Nome]:[id2]],7,0))/365.25),0)","v":31},{"$f":"IF(LOWER(TEXT(Tabela.abordagens[[#This Row],[Data]],\"MMMM\")) & \"/\" & YEAR(Tabela.abordagens[[#This Row],[Data]])=\"janeiro/1900\",\"\",LOWER(TEXT(Tabela.abordagens[[#This Row],[Data]],\"MMM\")) & \"/\" & TEXT(Tabela.abordagens[[#This Row],[Data]],\"AA\"))","v":"jul/14"}]
[{"$f":"IFERROR(VLOOKUP(Tabela.abordagens[[#This Row],[Usuário]],Tabela.cadastro[[Nome]:[id2]],12,0),\"\")","v":11},"Rodolfo Gonçalvez","2014-07-04","N","N",{"$f":"ROUNDDOWN(((Tabela.abordagens[[#This Row],[Data]]-VLOOKUP(Tabela.abordagens[[#This Row],[Usuário]],Tabela.cadastro[[Nome]:[id2]],7,0))/365.25),0)","v":31},{"$f":"IF(LOWER(TEXT(Tabela.abordagens[[#This Row],[Data]],\"MMMM\")) & \"/\" & YEAR(Tabela.abordagens[[#This Row],[Data]])=\"janeiro/1900\",\"\",LOWER(TEXT(Tabela.abordagens[[#This Row],[Data]],\"MMM\")) & \"/\" & TEXT(Tabela.abordagens[[#This Row],[Data]],\"AA\"))","v":"jul/14"}]
[{"$f":"IFERROR(VLOOKUP(Tabela.abordagens[[#This Row],[Usuário]],Tabela.cadastro[[Nome]:[id2]],12,0),\"\")","v":12},"Marina Rodrigues","2014-07-04","N","N",{"$f":"ROUNDDOWN(((Tabela.abordagens[[#This Row],[Data]]-VLOOKUP(Tabela.abordagens[[#This Row],[Usuário]],Tabela.cadastro[[Nome]:[id2]],7,0))/365.25),0)","v":25},{"$f":"IF(LOWER(TEXT(Tabela.abordagens[[#This Row],[Data]],\"MMMM\")) & \"/\" & YEAR(Tabela.abordagens[[#This Row],[Data]])=\"janeiro/1900\",\"\",LOWER(TEXT(Tabela.abordagens[[#This Row],[Data]],\"MMM\")) & \"/\" & TEXT(Tabela.abordagens[[#This Row],[Data]],\"AA\"))","v":"jul/14"}]
[{"$f":"IFERROR(VLOOKUP(Tabela.abordagens[[#This Row],[Usuário]],Tabela.cadastro[[Nome]:[id2]],12,0),\"\")","v":13},"Valdecir Castro","2014-07-04","N","N",{"$f":"ROUNDDOWN(((Tabela.abordagens[[#This Row],[Data]]-VLOOKUP(Tabela.abordagens[[#This Row],[Usuário]],Tabela.cadastro[[Nome]:[id2]],7,0))/365.25),0)","v":21},{"$f":"IF(LOWER(TEXT(Tabela.abordagens[[#This Row],[Data]],\"MMMM\")) & \"/\" & YEAR(Tabela.abordagens[[#This Row],[Data]])=\"janeiro/1900\",\"\",LOWER(TEXT(Tabela.abordagens[[#This Row],[Data]],\"MMM\")) & \"/\" & TEXT(Tabela.abordagens[[#This Row],[Data]],\"AA\"))","v":"jul/14"}]
[{"$f":"IFERROR(VLOOKUP(Tabela.abordagens[[#This Row],[Usuário]],Tabela.cadastro[[Nome]:[id2]],12,0),\"\")","v":14},"Lucas Cabral","2014-07-04","N","N",{"$f":"ROUNDDOWN(((Tabela.abordagens[[#This Row],[Data]]-VLOOKUP(Tabela.abordagens[[#This Row],[Usuário]],Tabela.cadastro[[Nome]:[id2]],7,0))/365.25),0)","v":20},{"$f":"IF(LOWER(TEXT(Tabela.abordagens[[#This Row],[Data]],\"MMMM\")) & \"/\" & YEAR(Tabela.abordagens[[#This Row],[Data]])=\"janeiro/1900\",\"\",LOWER(TEXT(Tabela.abordagens[[#This Row],[Data]],\"MMM\")) & \"/\" & TEXT(Tabela.abordagens[[#This Row],[Data]],\"AA\"))","v":"jul/14"}]
[{"$f":"IFERROR(VLOOKUP(Tabela.abordagens[[#This Row],[Usuário]],Tabela.cadastro[[Nome]:[id2]],12,0),\"\")","v":15},"Dione Silva","2014-07-04","N","S",{"$f":"ROUNDDOWN(((Tabela.abordagens[[#This Row],[Data]]-VLOOKUP(Tabela.abordagens[[#This Row],[Usuário]],Tabela.cadastro[[Nome]:[id2]],7,0))/365.25),0)","v":36},{"$f":"IF(LOWER(TEXT(Tabela.abordagens[[#This Row],[Data]],\"MMMM\")) & \"/\" & YEAR(Tabela.abordagens[[#This Row],[Data]])=\"janeiro/1900\",\"\",LOWER(TEXT(Tabela.abordagens[[#This Row],[Data]],\"MMM\")) & \"/\" & TEXT(Tabela.abordagens[[#This Row],[Data]],\"AA\"))","v":"jul/14"}]
[{"$f":"IFERROR(VLOOKUP(Tabela.abordagens[[#This Row],[Usuário]],Tabela.cadastro[[Nome]:[id2]],12,0),\"\")","v":16},"Vicente Pereira","2014-07-04","N","N",{"$f":"ROUNDDOWN(((Tabela.abordagens[[#This Row],[Data]]-VLOOKUP(Tabela.abordagens[[#This Row],[Usuário]],Tabela.cadastro[[Nome]:[id2]],7,0))/365.25),0)","v":26},{"$f":"IF(LOWER(TEXT(Tabela.abordagens[[#This Row],[Data]],\"MMMM\")) & \"/\" & YEAR(Tabela.abordagens[[#This Row],[Data]])=\"janeiro/1900\",\"\",LOWER(TEXT(Tabela.abordagens[[#This Row],[Data]],\"MMM\")) & \"/\" & TEXT(Tabela.abordagens[[#This Row],[Data]],\"AA\"))","v":"jul/14"}]
[{"$f":"IFERROR(VLOOKUP(Tabela.abordagens[[#This Row],[Usuário]],Tabela.cadastro[[Nome]:[id2]],12,0),\"\")","v":17},"Douglas Bragança","2014-07-04","N","N",{"$f":"ROUNDDOWN(((Tabela.abordagens[[#This Row],[Data]]-VLOOKUP(Tabela.abordagens[[#This Row],[Usuário]],Tabela.cadastro[[Nome]:[id2]],7,0))/365.25),0)","v":31},{"$f":"IF(LOWER(TEXT(Tabela.abordagens[[#This Row],[Data]],\"MMMM\")) & \"/\" & YEAR(Tabela.abordagens[[#This Row],[Data]])=\"janeiro/1900\",\"\",LOWER(TEXT(Tabela.abordagens[[#This Row],[Data]],\"MMM\")) & \"/\" & TEXT(Tabela.abordagens[[#This Row],[Data]],\"AA\"))","v":"jul/14"}]
[{"$f":"IFERROR(VLOOKUP(Tabela.abordagens[[#This Row],[Usuário]],Tabela.cadastro[[Nome]:[id2]],12,0),\"\")","v":18},"Eduardo Costa","2014-07-04","S","N",{"$f":"ROUNDDOWN(((Tabela.abordagens[[#This Row],[Data]]-VLOOKUP(Tabela.abordagens[[#This Row],[Usuário]],Tabela.cadastro[[Nome]:[id2]],7,0))/365.25),0)","v":34},{"$f":"IF(LOWER(TEXT(Tabela.abordagens[[#This Row],[Data]],\"MMMM\")) & \"/\" & YEAR(Tabela.abordagens[[#This Row],[Data]])=\"janeiro/1900\",\"\",LOWER(TEXT(Tabela.abordagens[[#This Row],[Data]],\"MMM\")) & \"/\" & TEXT(Tabela.abordagens[[#This Row],[Data]],\"AA\"))","v":"jul/14"}]
[{"$f":"IFERROR(VLOOKUP(Tabela.abordagens[[#This Row],[Usuário]],Tabela.cadastro[[Nome]:[id2]],12,0),\"\")","v":19},"Antonieta Belém","2014-07-04","N","N",{"$f":"ROUNDDOWN(((Tabela.abordagens[[#This Row],[Data]]-VLOOKUP(Tabela.abordagens[[#This Row],[Usuário]],Tabela.cadastro[[Nome]:[id2]],7,0))/365.25),0)","v":29},{"$f":"IF(LOWER(TEXT(Tabela.abordagens[[#This Row],[Data]],\"MMMM\")) & \"/\" & YEAR(Tabela.abordagens[[#This Row],[Data]])=\"janeiro/1900\",\"\",LOWER(TEXT(Tabela.abordagens[[#This Row],[Data]],\"MMM\")) & \"/\" & TEXT(Tabela.abordagens[[#This Row],[Data]],\"AA\"))","v":"jul/14"}]
[{"$f":"IFERROR(VLOOKUP(Tabela.abordagens[[#This Row],[Usuário]],Tabela.cadastro[[Nome]:[id2]],12,0),\"\")","v":20},"Josefina Andrade","2014-07-04","N","N",{"$f":"ROUNDDOWN(((Tabela.abordagens[[#This Row],[Data]]-VLOOKUP(Tabela.abordagens[[#This Row],[Usuário]],Tabela.cadastro[[Nome]:[id2]],7,0))/365.25),0)","v":44},{"$f":"IF(LOWER(TEXT(Tabela.abordagens[[#This Row],[Data]],\"MMMM\")) & \"/\" & YEAR(Tabela.abordagens[[#This Row],[Data]])=\"janeiro/1900\",\"\",LOWER(TEXT(Tabela.abordagens[[#This Row],[Data]],\"MMM\")) & \"/\" & TEXT(Tabela.abordagens[[#This Row],[Data]],\"AA\"))","v":"jul/14"}]
[{"$f":"IFERROR(VLOOKUP(Tabela.abordagens[[#This Row],[Usuário]],Tabela.cadastro[[Nome]:[id2]],12,0),\"\")","v":1},"Maria do Carmo","2014-07-04","N","N",{"$f":"ROUNDDOWN(((Tabela.abordagens[[#This Row],[Data]]-VLOOKUP(Tabela.abordagens[[#This Row],[Usuário]],Tabela.cadastro[[Nome]:[id2]],7,0))/365.25),0)","v":19},{"$f":"IF(LOWER(TEXT(Tabela.abordagens[[#This Row],[Data]],\"MMMM\")) & \"/\" & YEAR(Tabela.abordagens[[#This Row],[Data]])=\"janeiro/1900\",\"\",LOWER(TEXT(Tabela.abordagens[[#This Row],[Data]],\"MMM\")) & \"/\" & TEXT(Tabela.abordagens[[#This Row],[Data]],\"AA\"))","v":"jul/14"}]
[{"$f":"IFERROR(VLOOKUP(Tabela.abordagens[[#This Row],[Usuário]],Tabela.cadastro[[Nome]:[id2]],12,0),\"\")","v":2},"José Augusto","2014-07-04","N","N",{"$f":"ROUNDDOWN(((Tabela.abordagens[[#This Row],[Data]]-VLOOKUP(Tabela.abordagens[[#This Row],[Usuário]],Tabela.cadastro[[Nome]:[id2]],7,0))/365.25),0)","v":31},{"$f":"IF(LOWER(TEXT(Tabela.abordagens[[#This Row],[Data]],\"MMMM\")) & \"/\" & YEAR(Tabela.abordagens[[#This Row],[Data]])=\"janeiro/1900\",\"\",LOWER(TEXT(Tabela.abordagens[[#This Row],[Data]],\"MMM\")) & \"/\" & TEXT(Tabela.abordagens[[#This Row],[Data]],\"AA\"))","v":"jul/14"}]
[{"$f":"IFERROR(VLOOKUP(Tabela.abordagens[[#This Row],[Usuário]],Tabela.cadastro[[Nome]:[id2]],12,0),\"\")","v":3},"Joana Silva","2014-07-04","N","N",{"$f":"ROUNDDOWN(((Tabela.abordagens[[#This Row],[Data]]-VLOOKUP(Tabela.abordagens[[#This Row],[Usuário]],Tabela.cadastro[[Nome]:[id2]],7,0))/365.25),0)","v":29},{"$f":"IF(LOWER(TEXT(Tabela.abordagens[[#This Row],[Data]],\"MMMM\")) & \"/\" & YEAR(Tabela.abordagens[[#This Row],[Data]])=\"janeiro/1900\",\"\",LOWER(TEXT(Tabela.abordagens[[#This Row],[Data]],\"MMM\")) & \"/\" & TEXT(Tabela.abordagens[[#This Row],[Data]],\"AA\"))","v":"jul/14"}]
[{"$f":"IFERROR(VLOOKUP(Tabela.abordagens[[#This Row],[Usuário]],Tabela.cadastro[[Nome]:[id2]],12,0),\"\")","v":4},"João Pereira","2014-07-04","N","N",{"$f":"ROUNDDOWN(((Tabela.abordagens[[#This Row],[Data]]-VLOOKUP(Tabela.abordagens[[#This Row],[Usuário]],Tabela.cadastro[[Nome]:[id2]],7,0))/365.25),0)","v":41},{"$f":"IF(LOWER(TEXT(Tabela.abordagens[[#This Row],[Data]],\"MMMM\")) & \"/\" & YEAR(Tabela.abordagens[[#This Row],[Data]])=\"janeiro/1900\",\"\",LOWER(TEXT(Tabela.abordagens[[#This Row],[Data]],\"MMM\")) & \"/\" & TEXT(Tabela.abordagens[[#This Row],[Data]],\"AA\"))","v":"jul/14"}]
[{"$f":"IFERROR(VLOOKUP(Tabela.abordagens[[#This Row],[Usuário]],Tabela.cadastro[[Nome]:[id2]],12,0),\"\")","v":5},"Maria Almeida","2014-07-04","N","N",{"$f":"ROUNDDOWN(((Tabela.abordagens[[#This Row],[Data]]-VLOOKUP(Tabela.abordagens[[#This Row],[Usuário]],Tabela.cadastro[[Nome]:[id2]],7,0))/365.25),0)","v":69},{"$f":"IF(LOWER(TEXT(Tabela.abordagens[[#This Row],[Data]],\"MMMM\")) & \"/\" & YEAR(Tabela.abordagens[[#This Row],[Data]])=\"janeiro/1900\",\"\",LOWER(TEXT(Tabela.abordagens[[#This Row],[Data]],\"MMM\")) & \"/\" & TEXT(Tabela.abordagens[[#This Row],[Data]],\"AA\"))","v":"jul/14"}]
[{"$f":"IFERROR(VLOOKUP(Tabela.abordagens[[#This Row],[Usuário]],Tabela.cadastro[[Nome]:[id2]],12,0),\"\")","v":9},"Tatiane Costa","2014-08-01","N","N",{"$f":"ROUNDDOWN(((Tabela.abordagens[[#This Row],[Data]]-VLOOKUP(Tabela.abordagens[[#This Row],[Usuário]],Tabela.cadastro[[Nome]:[id2]],7,0))/365.25),0)","v":44},{"$f":"IF(LOWER(TEXT(Tabela.abordagens[[#This Row],[Data]],\"MMMM\")) & \"/\" & YEAR(Tabela.abordagens[[#This Row],[Data]])=\"janeiro/1900\",\"\",LOWER(TEXT(Tabela.abordagens[[#This Row],[Data]],\"MMM\")) & \"/\" & TEXT(Tabela.abordagens[[#This Row],[Data]],\"AA\"))","v":"ago/14"}]
[{"$f":"IFERROR(VLOOKUP(Tabela.abordagens[[#This Row],[Usuário]],Tabela.cadastro[[Nome]:[id2]],12,0),\"\")","v":10},"Maicon Silva","2014-08-01","S","N",{"$f":"ROUNDDOWN(((Tabela.abordagens[[#This Row],[Data]]-VLOOKUP(Tabela.abordagens[[#This Row],[Usuário]],Tabela.cadastro[[Nome]:[id2]],7,0))/365.25),0)","v":31},{"$f":"IF(LOWER(TEXT(Tabela.abordagens[[#This Row],[Data]],\"MMMM\")) & \"/\" & YEAR(Tabela.abordagens[[#This Row],[Data]])=\"janeiro/1900\",\"\",LOWER(TEXT(Tabela.abordagens[[#This Row],[Data]],\"MMM\")) & \"/\" & TEXT(Tabela.abordagens[[#This Row],[Data]],\"AA\"))","v":"ago/14"}]
[{"$f":"IFERROR(VLOOKUP(Tabela.abordagens[[#This Row],[Usuário]],Tabela.cadastro[[Nome]:[id2]],12,0),\"\")","v":11},"Rodolfo Gonçalvez","2014-08-01","N","N",{"$f":"ROUNDDOWN(((Tabela.abordagens[[#This Row],[Data]]-VLOOKUP(Tabela.abordagens[[#This Row],[Usuário]],Tabela.cadastro[[Nome]:[id2]],7,0))/365.25),0)","v":31},{"$f":"IF(LOWER(TEXT(Tabela.abordagens[[#This Row],[Data]],\"MMMM\")) & \"/\" & YEAR(Tabela.abordagens[[#This Row],[Data]])=\"janeiro/1900\",\"\",LOWER(TEXT(Tabela.abordagens[[#This Row],[Data]],\"MMM\")) & \"/\" & TEXT(Tabela.abordagens[[#This Row],[Data]],\"AA\"))","v":"ago/14"}]
[{"$f":"IFERROR(VLOOKUP(Tabela.abordagens[[#This Row],[Usuário]],Tabela.cadastro[[Nome]:[id2]],12,0),\"\")","v":12},"Marina Rodrigues","2014-08-01","N","N",{"$f":"ROUNDDOWN(((Tabela.abordagens[[#This Row],[Data]]-VLOOKUP(Tabela.abordagens[[#This Row],[Usuário]],Tabela.cadastro[[Nome]:[id2]],7,0))/365.25),0)","v":25},{"$f":"IF(LOWER(TEXT(Tabela.abordagens[[#This Row],[Data]],\"MMMM\")) & \"/\" & YEAR(Tabela.abordagens[[#This Row],[Data]])=\"janeiro/1900\",\"\",LOWER(TEXT(Tabela.abordagens[[#This Row],[Data]],\"MMM\")) & \"/\" & TEXT(Tabela.abordagens[[#This Row],[Data]],\"AA\"))","v":"ago/14"}]
[{"$f":"IFERROR(VLOOKUP(Tabela.abordagens[[#This Row],[Usuário]],Tabela.cadastro[[Nome]:[id2]],12,0),\"\")","v":13},"Valdecir Castro","2014-08-01","N","N",{"$f":"ROUNDDOWN(((Tabela.abordagens[[#This Row],[Data]]-VLOOKUP(Tabela.abordagens[[#This Row],[Usuário]],Tabela.cadastro[[Nome]:[id2]],7,0))/365.25),0)","v":21},{"$f":"IF(LOWER(TEXT(Tabela.abordagens[[#This Row],[Data]],\"MMMM\")) & \"/\" & YEAR(Tabela.abordagens[[#This Row],[Data]])=\"janeiro/1900\",\"\",LOWER(TEXT(Tabela.abordagens[[#This Row],[Data]],\"MMM\")) & \"/\" & TEXT(Tabela.abordagens[[#This Row],[Data]],\"AA\"))","v":"ago/14"}]
[{"$f":"IFERROR(VLOOKUP(Tabela.abordagens[[#This Row],[Usuário]],Tabela.cadastro[[Nome]:[id2]],12,0),\"\")","v":14},"Lucas Cabral","2014-08-01","S","N",{"$f":"ROUNDDOWN(((Tabela.abordagens[[#This Row],[Data]]-VLOOKUP(Tabela.abordagens[[#This Row],[Usuário]],Tabela.cadastro[[Nome]:[id2]],7,0))/365.25),0)","v":20},{"$f":"IF(LOWER(TEXT(Tabela.abordagens[[#This Row],[Data]],\"MMMM\")) & \"/\" & YEAR(Tabela.abordagens[[#This Row],[Data]])=\"janeiro/1900\",\"\",LOWER(TEXT(Tabela.abordagens[[#This Row],[Data]],\"MMM\")) & \"/\" & TEXT(Tabela.abordagens[[#This Row],[Data]],\"AA\"))","v":"ago/14"}]
[{"$f":"IFERROR(VLOOKUP(Tabela.abordagens[[#This Row],[Usuário]],Tabela.cadastro[[Nome]:[id2]],12,0),\"\")","v":15},"Dione Silva","2014-08-01","N","N",{"$f":"ROUNDDOWN(((Tabela.abordagens[[#This Row],[Data]]-VLOOKUP(Tabela.abordagens[[#This Row],[Usuário]],Tabela.cadastro[[Nome]:[id2]],7,0))/365.25),0)","v":36},{"$f":"IF(LOWER(TEXT(Tabela.abordagens[[#This Row],[Data]],\"MMMM\")) & \"/\" & YEAR(Tabela.abordagens[[#This Row],[Data]])=\"janeiro/1900\",\"\",LOWER(TEXT(Tabela.abordagens[[#This Row],[Data]],\"MMM\")) & \"/\" & TEXT(Tabela.abordagens[[#This Row],[Data]],\"AA\"))","v":"ago/14"}]
[{"$f":"IFERROR(VLOOKUP(Tabela.abordagens[[#This Row],[Usuário]],Tabela.cadastro[[Nome]:[id2]],12,0),\"\")","v":16},"Vicente Pereira","2014-08-01","S","S",{"$f":"ROUNDDOWN(((Tabela.abordagens[[#This Row],[Data]]-VLOOKUP(Tabela.abordagens[[#This Row],[Usuário]],Tabela.cadastro[[Nome]:[id2]],7,0))/365.25),0)","v":27},{"$f":"IF(LOWER(TEXT(Tabela.abordagens[[#This Row],[Data]],\"MMMM\")) & \"/\" & YEAR(Tabela.abordagens[[#This Row],[Data]])=\"janeiro/1900\",\"\",LOWER(TEXT(Tabela.abordagens[[#This Row],[Data]],\"MMM\")) & \"/\" & TEXT(Tabela.abordagens[[#This Row],[Data]],\"AA\"))","v":"ago/14"}]
[{"$f":"IFERROR(VLOOKUP(Tabela.abordagens[[#This Row],[Usuário]],Tabela.cadastro[[Nome]:[id2]],12,0),\"\")","v":17},"Douglas Bragança","2014-08-01","N","S",{"$f":"ROUNDDOWN(((Tabela.abordagens[[#This Row],[Data]]-VLOOKUP(Tabela.abordagens[[#This Row],[Usuário]],Tabela.cadastro[[Nome]:[id2]],7,0))/365.25),0)","v":31},{"$f":"IF(LOWER(TEXT(Tabela.abordagens[[#This Row],[Data]],\"MMMM\")) & \"/\" & YEAR(Tabela.abordagens[[#This Row],[Data]])=\"janeiro/1900\",\"\",LOWER(TEXT(Tabela.abordagens[[#This Row],[Data]],\"MMM\")) & \"/\" & TEXT(Tabela.abordagens[[#This Row],[Data]],\"AA\"))","v":"ago/14"}]
[{"$f":"IFERROR(VLOOKUP(Tabela.abordagens[[#This Row],[Usuário]],Tabela.cadastro[[Nome]:[id2]],12,0),\"\")","v":18},"Eduardo Costa","2014-08-01","N","N",{"$f":"ROUNDDOWN(((Tabela.abordagens[[#This Row],[Data]]-VLOOKUP(Tabela.abordagens[[#This Row],[Usuário]],Tabela.cadastro[[Nome]:[id2]],7,0))/365.25),0)","v":34},{"$f":"IF(LOWER(TEXT(Tabela.abordagens[[#This Row],[Data]],\"MMMM\")) & \"/\" & YEAR(Tabela.abordagens[[#This Row],[Data]])=\"janeiro/1900\",\"\",LOWER(TEXT(Tabela.abordagens[[#This Row],[Data]],\"MMM\")) & \"/\" & TEXT(Tabela.abordagens[[#This Row],[Data]],\"AA\"))","v":"ago/14"}]
[{"$f":"IFERROR(VLOOKUP(Tabela.abordagens[[#This Row],[Usuário]],Tabela.cadastro[[Nome]:[id2]],12,0),\"\")","v":19},"Antonieta Belém","2014-08-01","N","N",{"$f":"ROUNDDOWN(((Tabela.abordagens[[#This Row],[Data]]-VLOOKUP(Tabela.abordagens[[#This Row],[Usuário]],Tabela.cadastro[[Nome]:[id2]],7,0))/365.25),0)","v":29},{"$f":"IF(LOWER(TEXT(Tabela.abordagens[[#This Row],[Data]],\"MMMM\")) & \"/\" & YEAR(Tabela.abordagens[[#This Row],[Data]])=\"janeiro/1900\",\"\",LOWER(TEXT(Tabela.abordagens[[#This Row],[Data]],\"MMM\")) & \"/\" & TEXT(Tabela.abordagens[[#This Row],[Data]],\"AA\"))","v":"ago/14"}]
[{"$f":"IFERROR(VLOOKUP(Tabela.abordagens[[#This Row],[Usuário]],Tabela.cadastro[[Nome]:[id2]],12,0),\"\")","v":20},"Josefina Andrade","2014-08-01","N","N",{"$f":"ROUNDDOWN(((Tabela.abordagens[[#This Row],[Data]]-VLOOKUP(Tabela.abordagens[[#This Row],[Usuário]],Tabela.cadastro[[Nome]:[id2]],7,0))/365.25),0)","v":44},{"$f":"IF(LOWER(TEXT(Tabela.abordagens[[#This Row],[Data]],\"MMMM\")) & \"/\" & YEAR(Tabela.abordagens[[#This Row],[Data]])=\"janeiro/1900\",\"\",LOWER(TEXT(Tabela.abordagens[[#This Row],[Data]],\"MMM\")) & \"/\" & TEXT(Tabela.abordagens[[#This Row],[Data]],\"AA\"))","v":"ago/14"}]
[{"$f":"IFERROR(VLOOKUP(Tabela.abordagens[[#This Row],[Usuário]],Tabela.cadastro[[Nome]:[id2]],12,0),\"\")","v":1},"Maria do Carmo","2014-08-01","N","N",{"$f":"ROUNDDOWN(((Tabela.abordagens[[#This Row],[Data]]-VLOOKUP(Tabela.abordagens[[#This Row],[Usuário]],Tabela.cadastro[[Nome]:[id2]],7,0))/365.25),0)","v":19},{"$f":"IF(LOWER(TEXT(Tabela.abordagens[[#This Row],[Data]],\"MMMM\")) & \"/\" & YEAR(Tabela.abordagens[[#This Row],[Data]])=\"janeiro/1900\",\"\",LOWER(TEXT(Tabela.abordagens[[#This Row],[Data]],\"MMM\")) & \"/\" & TEXT(Tabela.abordagens[[#This Row],[Data]],\"AA\"))","v":"ago/14"}]
[{"$f":"IFERROR(VLOOKUP(Tabela.abordagens[[#This Row],[Usuário]],Tabela.cadastro[[Nome]:[id2]],12,0),\"\")","v":2},"José Augusto","2014-08-01","N","N",{"$f":"ROUNDDOWN(((Tabela.abordagens[[#This Row],[Data]]-VLOOKUP(Tabela.abordagens[[#This Row],[Usuário]],Tabela.cadastro[[Nome]:[id2]],7,0))/365.25),0)","v":31},{"$f":"IF(LOWER(TEXT(Tabela.abordagens[[#This Row],[Data]],\"MMMM\")) & \"/\" & YEAR(Tabela.abordagens[[#This Row],[Data]])=\"janeiro/1900\",\"\",LOWER(TEXT(Tabela.abordagens[[#This Row],[Data]],\"MMM\")) & \"/\" & TEXT(Tabela.abordagens[[#This Row],[Data]],\"AA\"))","v":"ago/14"}]
[{"$f":"IFERROR(VLOOKUP(Tabela.abordagens[[#This Row],[Usuário]],Tabela.cadastro[[Nome]:[id2]],12,0),\"\")","v":3},"Joana Silva","2014-08-01","N","N",{"$f":"ROUNDDOWN(((Tabela.abordagens[[#This Row],[Data]]-VLOOKUP(Tabela.abordagens[[#This Row],[Usuário]],Tabela.cadastro[[Nome]:[id2]],7,0))/365.25),0)","v":29},{"$f":"IF(LOWER(TEXT(Tabela.abordagens[[#This Row],[Data]],\"MMMM\")) & \"/\" & YEAR(Tabela.abordagens[[#This Row],[Data]])=\"janeiro/1900\",\"\",LOWER(TEXT(Tabela.abordagens[[#This Row],[Data]],\"MMM\")) & \"/\" & TEXT(Tabela.abordagens[[#This Row],[Data]],\"AA\"))","v":"ago/14"}]
[{"$f":"IFERROR(VLOOKUP(Tabela.abordagens[[#This Row],[Usuário]],Tabela.cadastro[[Nome]:[id2]],12,0),\"\")","v":4},"João Pereira","2014-08-01","N","N",{"$f":"ROUNDDOWN(((Tabela.abordagens[[#This Row],[Data]]-VLOOKUP(Tabela.abordagens[[#This Row],[Usuário]],Tabela.cadastro[[Nome]:[id2]],7,0))/365.25),0)","v":41},{"$f":"IF(LOWER(TEXT(Tabela.abordagens[[#This Row],[Data]],\"MMMM\")) & \"/\" & YEAR(Tabela.abordagens[[#This Row],[Data]])=\"janeiro/1900\",\"\",LOWER(TEXT(Tabela.abordagens[[#This Row],[Data]],\"MMM\")) & \"/\" & TEXT(Tabela.abordagens[[#This Row],[Data]],\"AA\"))","v":"ago/14"}]
[{"$f":"IFERROR(VLOOKUP(Tabela.abordagens[[#This Row],[Usuário]],Tabela.cadastro[[Nome]:[id2]],12,0),\"\")","v":5},"Maria Almeida","2014-08-01","N","N",{"$f":"ROUNDDOWN(((Tabela.abordagens[[#This Row],[Data]]-VLOOKUP(Tabela.abordagens[[#This Row],[Usuário]],Tabela.cadastro[[Nome]:[id2]],7,0))/365.25),0)","v":69},{"$f":"IF(LOWER(TEXT(Tabela.abordagens[[#This Row],[Data]],\"MMMM\")) & \"/\" & YEAR(Tabela.abordagens[[#This Row],[Data]])=\"janeiro/1900\",\"\",LOWER(TEXT(Tabela.abordagens[[#This Row],[Data]],\"MMM\")) & \"/\" & TEXT(Tabela.abordagens[[#This Row],[Data]],\"AA\"))","v":"ago/14"}]
[{"$f":"IFERROR(VLOOKUP(Tabela.abordagens[[#This Row],[Usuário]],Tabela.cadastro[[Nome]:[id2]],12,0),\"\")","v":6},"Marcos Costa","2014-08-01","N","N",{"$f":"ROUNDDOWN(((Tabela.abordagens[[#This Row],[Data]]-VLOOKUP(Tabela.abordagens[[#This Row],[Usuário]],Tabela.cadastro[[Nome]:[id2]],7,0))/365.25),0)","v":14},{"$f":"IF(LOWER(TEXT(Tabela.abordagens[[#This Row],[Data]],\"MMMM\")) & \"/\" & YEAR(Tabela.abordagens[[#This Row],[Data]])=\"janeiro/1900\",\"\",LOWER(TEXT(Tabela.abordagens[[#This Row],[Data]],\"MMM\")) & \"/\" & TEXT(Tabela.abordagens[[#This Row],[Data]],\"AA\"))","v":"ago/14"}]
[{"$f":"IFERROR(VLOOKUP(Tabela.abordagens[[#This Row],[Usuário]],Tabela.cadastro[[Nome]:[id2]],12,0),\"\")","v":7},"Alan Gomes","2014-08-01","N","N",{"$f":"ROUNDDOWN(((Tabela.abordagens[[#This Row],[Data]]-VLOOKUP(Tabela.abordagens[[#This Row],[Usuário]],Tabela.cadastro[[Nome]:[id2]],7,0))/365.25),0)","v":74},{"$f":"IF(LOWER(TEXT(Tabela.abordagens[[#This Row],[Data]],\"MMMM\")) & \"/\" & YEAR(Tabela.abordagens[[#This Row],[Data]])=\"janeiro/1900\",\"\",LOWER(TEXT(Tabela.abordagens[[#This Row],[Data]],\"MMM\")) & \"/\" & TEXT(Tabela.abordagens[[#This Row],[Data]],\"AA\"))","v":"ago/14"}]
[{"$f":"IFERROR(VLOOKUP(Tabela.abordagens[[#This Row],[Usuário]],Tabela.cadastro[[Nome]:[id2]],12,0),\"\")","v":8},"Luiz Souza","2014-08-01","N","N",{"$f":"ROUNDDOWN(((Tabela.abordagens[[#This Row],[Data]]-VLOOKUP(Tabela.abordagens[[#This Row],[Usuário]],Tabela.cadastro[[Nome]:[id2]],7,0))/365.25),0)","v":27},{"$f":"IF(LOWER(TEXT(Tabela.abordagens[[#This Row],[Data]],\"MMMM\")) & \"/\" & YEAR(Tabela.abordagens[[#This Row],[Data]])=\"janeiro/1900\",\"\",LOWER(TEXT(Tabela.abordagens[[#This Row],[Data]],\"MMM\")) & \"/\" & TEXT(Tabela.abordagens[[#This Row],[Data]],\"AA\"))","v":"ago/14"}]
[{"$f":"IFERROR(VLOOKUP(Tabela.abordagens[[#This Row],[Usuário]],Tabela.cadastro[[Nome]:[id2]],12,0),\"\")","v":12},"Marina Rodrigues","2014-08-01","N","N",{"$f":"ROUNDDOWN(((Tabela.abordagens[[#This Row],[Data]]-VLOOKUP(Tabela.abordagens[[#This Row],[Usuário]],Tabela.cadastro[[Nome]:[id2]],7,0))/365.25),0)","v":25},{"$f":"IF(LOWER(TEXT(Tabela.abordagens[[#This Row],[Data]],\"MMMM\")) & \"/\" & YEAR(Tabela.abordagens[[#This Row],[Data]])=\"janeiro/1900\",\"\",LOWER(TEXT(Tabela.abordagens[[#This Row],[Data]],\"MMM\")) & \"/\" & TEXT(Tabela.abordagens[[#This Row],[Data]],\"AA\"))","v":"ago/14"}]
[{"$f":"IFERROR(VLOOKUP(Tabela.abordagens[[#This Row],[Usuário]],Tabela.cadastro[[Nome]:[id2]],12,0),\"\")","v":13},"Valdecir Castro","2014-08-01","N","N",{"$f":"ROUNDDOWN(((Tabela.abordagens[[#This Row],[Data]]-VLOOKUP(Tabela.abordagens[[#This Row],[Usuário]],Tabela.cadastro[[Nome]:[id2]],7,0))/365.25),0)","v":21},{"$f":"IF(LOWER(TEXT(Tabela.abordagens[[#This Row],[Data]],\"MMMM\")) & \"/\" & YEAR(Tabela.abordagens[[#This Row],[Data]])=\"janeiro/1900\",\"\",LOWER(TEXT(Tabela.abordagens[[#This Row],[Data]],\"MMM\")) & \"/\" & TEXT(Tabela.abordagens[[#This Row],[Data]],\"AA\"))","v":"ago/14"}]
[{"$f":"IFERROR(VLOOKUP(Tabela.abordagens[[#This Row],[Usuário]],Tabela.cadastro[[Nome]:[id2]],12,0),\"\")","v":14},"Lucas Cabral","2014-08-01","N","N",{"$f":"ROUNDDOWN(((Tabela.abordagens[[#This Row],[Data]]-VLOOKUP(Tabela.abordagens[[#This Row],[Usuário]],Tabela.cadastro[[Nome]:[id2]],7,0))/365.25),0)","v":20},{"$f":"IF(LOWER(TEXT(Tabela.abordagens[[#This Row],[Data]],\"MMMM\")) & \"/\" & YEAR(Tabela.abordagens[[#This Row],[Data]])=\"janeiro/1900\",\"\",LOWER(TEXT(Tabela.abordagens[[#This Row],[Data]],\"MMM\")) & \"/\" & TEXT(Tabela.abordagens[[#This Row],[Data]],\"AA\"))","v":"ago/14"}]
[{"$f":"IFERROR(VLOOKUP(Tabela.abordagens[[#This Row],[Usuário]],Tabela.cadastro[[Nome]:[id2]],12,0),\"\")","v":15},"Dione Silva","2014-08-01","N","N",{"$f":"ROUNDDOWN(((Tabela.abordagens[[#This Row],[Data]]-VLOOKUP(Tabela.abordagens[[#This Row],[Usuário]],Tabela.cadastro[[Nome]:[id2]],7,0))/365.25),0)","v":36},{"$f":"IF(LOWER(TEXT(Tabela.abordagens[[#This Row],[Data]],\"MMMM\")) & \"/\" & YEAR(Tabela.abordagens[[#This Row],[Data]])=\"janeiro/1900\",\"\",LOWER(TEXT(Tabela.abordagens[[#This Row],[Data]],\"MMM\")) & \"/\" & TEXT(Tabela.abordagens[[#This Row],[Data]],\"AA\"))","v":"ago/14"}]
[{"$f":"IFERROR(VLOOKUP(Tabela.abordagens[[#This Row],[Usuário]],Tabela.cadastro[[Nome]:[id2]],12,0),\"\")","v":16},"Vicente Pereira","2014-08-01","N","N",{"$f":"ROUNDDOWN(((Tabela.abordagens[[#This Row],[Data]]-VLOOKUP(Tabela.abordagens[[#This Row],[Usuário]],Tabela.cadastro[[Nome]:[id2]],7,0))/365.25),0)","v":27},{"$f":"IF(LOWER(TEXT(Tabela.abordagens[[#This Row],[Data]],\"MMMM\")) & \"/\" & YEAR(Tabela.abordagens[[#This Row],[Data]])=\"janeiro/1900\",\"\",LOWER(TEXT(Tabela.abordagens[[#This Row],[Data]],\"MMM\")) & \"/\" & TEXT(Tabela.abordagens[[#This Row],[Data]],\"AA\"))","v":"ago/14"}]
[{"$f":"IFERROR(VLOOKUP(Tabela.abordagens[[#This Row],[Usuário]],Tabela.cadastro[[Nome]:[id2]],12,0),\"\")","v":1},"Maria do Carmo","2015-01-01","N","N",{"$f":"ROUNDDOWN(((Tabela.abordagens[[#This Row],[Data]]-VLOOKUP(Tabela.abordagens[[#This Row],[Usuário]],Tabela.cadastro[[Nome]:[id2]],7,0))/365.25),0)","v":19},{"$f":"IF(LOWER(TEXT(Tabela.abordagens[[#This Row],[Data]],\"MMMM\")) & \"/\" & YEAR(Tabela.abordagens[[#This Row],[Data]])=\"janeiro/1900\",\"\",LOWER(TEXT(Tabela.abordagens[[#This Row],[Data]],\"MMM\")) & \"/\" & TEXT(Tabela.abordagens[[#This Row],[Data]],\"AA\"))","v":"jan/15"}]
[{"$f":"IFERROR(VLOOKUP(Tabela.abordagens[[#This Row],[Usuário]],Tabela.cadastro[[Nome]:[id2]],12,0),\"\")","v":2},"José Augusto","2015-01-01","N","N",{"$f":"ROUNDDOWN(((Tabela.abordagens[[#This Row],[Data]]-VLOOKUP(Tabela.abordagens[[#This Row],[Usuário]],Tabela.cadastro[[Nome]:[id2]],7,0))/365.25),0)","v":32},{"$f":"IF(LOWER(TEXT(Tabela.abordagens[[#This Row],[Data]],\"MMMM\")) & \"/\" & YEAR(Tabela.abordagens[[#This Row],[Data]])=\"janeiro/1900\",\"\",LOWER(TEXT(Tabela.abordagens[[#This Row],[Data]],\"MMM\")) & \"/\" & TEXT(Tabela.abordagens[[#This Row],[Data]],\"AA\"))","v":"jan/15"}]
[{"$f":"IFERROR(VLOOKUP(Tabela.abordagens[[#This Row],[Usuário]],Tabela.cadastro[[Nome]:[id2]],12,0),\"\")","v":3},"Joana Silva","2015-01-01","N","N",{"$f":"ROUNDDOWN(((Tabela.abordagens[[#This Row],[Data]]-VLOOKUP(Tabela.abordagens[[#This Row],[Usuário]],Tabela.cadastro[[Nome]:[id2]],7,0))/365.25),0)","v":30},{"$f":"IF(LOWER(TEXT(Tabela.abordagens[[#This Row],[Data]],\"MMMM\")) & \"/\" & YEAR(Tabela.abordagens[[#This Row],[Data]])=\"janeiro/1900\",\"\",LOWER(TEXT(Tabela.abordagens[[#This Row],[Data]],\"MMM\")) & \"/\" & TEXT(Tabela.abordagens[[#This Row],[Data]],\"AA\"))","v":"jan/15"}]
[{"$f":"IFERROR(VLOOKUP(Tabela.abordagens[[#This Row],[Usuário]],Tabela.cadastro[[Nome]:[id2]],12,0),\"\")","v":4},"João Pereira","2015-01-01","N","N",{"$f":"ROUNDDOWN(((Tabela.abordagens[[#This Row],[Data]]-VLOOKUP(Tabela.abordagens[[#This Row],[Usuário]],Tabela.cadastro[[Nome]:[id2]],7,0))/365.25),0)","v":42},{"$f":"IF(LOWER(TEXT(Tabela.abordagens[[#This Row],[Data]],\"MMMM\")) & \"/\" & YEAR(Tabela.abordagens[[#This Row],[Data]])=\"janeiro/1900\",\"\",LOWER(TEXT(Tabela.abordagens[[#This Row],[Data]],\"MMM\")) & \"/\" & TEXT(Tabela.abordagens[[#This Row],[Data]],\"AA\"))","v":"jan/15"}]
[{"$f":"IFERROR(VLOOKUP(Tabela.abordagens[[#This Row],[Usuário]],Tabela.cadastro[[Nome]:[id2]],12,0),\"\")","v":5},"Maria Almeida","2015-01-01","N","N",{"$f":"ROUNDDOWN(((Tabela.abordagens[[#This Row],[Data]]-VLOOKUP(Tabela.abordagens[[#This Row],[Usuário]],Tabela.cadastro[[Nome]:[id2]],7,0))/365.25),0)","v":69},{"$f":"IF(LOWER(TEXT(Tabela.abordagens[[#This Row],[Data]],\"MMMM\")) & \"/\" & YEAR(Tabela.abordagens[[#This Row],[Data]])=\"janeiro/1900\",\"\",LOWER(TEXT(Tabela.abordagens[[#This Row],[Data]],\"MMM\")) & \"/\" & TEXT(Tabela.abordagens[[#This Row],[Data]],\"AA\"))","v":"jan/15"}]
[{"$f":"IFERROR(VLOOKUP(Tabela.abordagens[[#This Row],[Usuário]],Tabela.cadastro[[Nome]:[id2]],12,0),\"\")","v":6},"Marcos Costa","2015-01-01","N","N",{"$f":"ROUNDDOWN(((Tabela.abordagens[[#This Row],[Data]]-VLOOKUP(Tabela.abordagens[[#This Row],[Usuário]],Tabela.cadastro[[Nome]:[id2]],7,0))/365.25),0)","v":15},{"$f":"IF(LOWER(TEXT(Tabela.abordagens[[#This Row],[Data]],\"MMMM\")) & \"/\" & YEAR(Tabela.abordagens[[#This Row],[Data]])=\"janeiro/1900\",\"\",LOWER(TEXT(Tabela.abordagens[[#This Row],[Data]],\"MMM\")) & \"/\" & TEXT(Tabela.abordagens[[#This Row],[Data]],\"AA\"))","v":"jan/15"}]
[{"$f":"IFERROR(VLOOKUP(Tabela.abordagens[[#This Row],[Usuário]],Tabela.cadastro[[Nome]:[id2]],12,0),\"\")","v":7},"Alan Gomes","2015-01-01","N","N",{"$f":"ROUNDDOWN(((Tabela.abordagens[[#This Row],[Data]]-VLOOKUP(Tabela.abordagens[[#This Row],[Usuário]],Tabela.cadastro[[Nome]:[id2]],7,0))/365.25),0)","v":75},{"$f":"IF(LOWER(TEXT(Tabela.abordagens[[#This Row],[Data]],\"MMMM\")) & \"/\" & YEAR(Tabela.abordagens[[#This Row],[Data]])=\"janeiro/1900\",\"\",LOWER(TEXT(Tabela.abordagens[[#This Row],[Data]],\"MMM\")) & \"/\" & TEXT(Tabela.abordagens[[#This Row],[Data]],\"AA\"))","v":"jan/15"}]
[{"$f":"IFERROR(VLOOKUP(Tabela.abordagens[[#This Row],[Usuário]],Tabela.cadastro[[Nome]:[id2]],12,0),\"\")","v":8},"Luiz Souza","2015-01-01","N","N",{"$f":"ROUNDDOWN(((Tabela.abordagens[[#This Row],[Data]]-VLOOKUP(Tabela.abordagens[[#This Row],[Usuário]],Tabela.cadastro[[Nome]:[id2]],7,0))/365.25),0)","v":27},{"$f":"IF(LOWER(TEXT(Tabela.abordagens[[#This Row],[Data]],\"MMMM\")) & \"/\" & YEAR(Tabela.abordagens[[#This Row],[Data]])=\"janeiro/1900\",\"\",LOWER(TEXT(Tabela.abordagens[[#This Row],[Data]],\"MMM\")) & \"/\" & TEXT(Tabela.abordagens[[#This Row],[Data]],\"AA\"))","v":"jan/15"}]
[{"$f":"IFERROR(VLOOKUP(Tabela.abordagens[[#This Row],[Usuário]],Tabela.cadastro[[Nome]:[id2]],12,0),\"\")","v":9},"Tatiane Costa","2015-01-01","N","N",{"$f":"ROUNDDOWN(((Tabela.abordagens[[#This Row],[Data]]-VLOOKUP(Tabela.abordagens[[#This Row],[Usuário]],Tabela.cadastro[[Nome]:[id2]],7,0))/365.25),0)","v":44},{"$f":"IF(LOWER(TEXT(Tabela.abordagens[[#This Row],[Data]],\"MMMM\")) & \"/\" & YEAR(Tabela.abordagens[[#This Row],[Data]])=\"janeiro/1900\",\"\",LOWER(TEXT(Tabela.abordagens[[#This Row],[Data]],\"MMM\")) & \"/\" & TEXT(Tabela.abordagens[[#This Row],[Data]],\"AA\"))","v":"jan/15"}]
[{"$f":"IFERROR(VLOOKUP(Tabela.abordagens[[#This Row],[Usuário]],Tabela.cadastro[[Nome]:[id2]],12,0),\"\")","v":10},"Maicon Silva","2015-01-01","N","N",{"$f":"ROUNDDOWN(((Tabela.abordagens[[#This Row],[Data]]-VLOOKUP(Tabela.abordagens[[#This Row],[Usuário]],Tabela.cadastro[[Nome]:[id2]],7,0))/365.25),0)","v":31},{"$f":"IF(LOWER(TEXT(Tabela.abordagens[[#This Row],[Data]],\"MMMM\")) & \"/\" & YEAR(Tabela.abordagens[[#This Row],[Data]])=\"janeiro/1900\",\"\",LOWER(TEXT(Tabela.abordagens[[#This Row],[Data]],\"MMM\")) & \"/\" & TEXT(Tabela.abordagens[[#This Row],[Data]],\"AA\"))","v":"jan/15"}]
[{"$f":"IFERROR(VLOOKUP(Tabela.abordagens[[#This Row],[Usuário]],Tabela.cadastro[[Nome]:[id2]],12,0),\"\")","v":11},"Rodolfo Gonçalvez","2015-01-01","N","N",{"$f":"ROUNDDOWN(((Tabela.abordagens[[#This Row],[Data]]-VLOOKUP(Tabela.abordagens[[#This Row],[Usuário]],Tabela.cadastro[[Nome]:[id2]],7,0))/365.25),0)","v":32},{"$f":"IF(LOWER(TEXT(Tabela.abordagens[[#This Row],[Data]],\"MMMM\")) & \"/\" & YEAR(Tabela.abordagens[[#This Row],[Data]])=\"janeiro/1900\",\"\",LOWER(TEXT(Tabela.abordagens[[#This Row],[Data]],\"MMM\")) & \"/\" & TEXT(Tabela.abordagens[[#This Row],[Data]],\"AA\"))","v":"jan/15"}]
[{"$f":"IFERROR(VLOOKUP(Tabela.abordagens[[#This Row],[Usuário]],Tabela.cadastro[[Nome]:[id2]],12,0),\"\")","v":12},"Marina Rodrigues","2015-01-01","N","N",{"$f":"ROUNDDOWN(((Tabela.abordagens[[#This Row],[Data]]-VLOOKUP(Tabela.abordagens[[#This Row],[Usuário]],Tabela.cadastro[[Nome]:[id2]],7,0))/365.25),0)","v":25},{"$f":"IF(LOWER(TEXT(Tabela.abordagens[[#This Row],[Data]],\"MMMM\")) & \"/\" & YEAR(Tabela.abordagens[[#This Row],[Data]])=\"janeiro/1900\",\"\",LOWER(TEXT(Tabela.abordagens[[#This Row],[Data]],\"MMM\")) & \"/\" & TEXT(Tabela.abordagens[[#This Row],[Data]],\"AA\"))","v":"jan/15"}]
[{"$f":"IFERROR(VLOOKUP(Tabela.abordagens[[#This Row],[Usuário]],Tabela.cadastro[[Nome]:[id2]],12,0),\"\")","v":13},"Valdecir Castro","2015-01-01","N","N",{"$f":"ROUNDDOWN(((Tabela.abordagens[[#This Row],[Data]]-VLOOKUP(Tabela.abordagens[[#This Row],[Usuário]],Tabela.cadastro[[Nome]:[id2]],7,0))/365.25),0)","v":22},{"$f":"IF(LOWER(TEXT(Tabela.abordagens[[#This Row],[Data]],\"MMMM\")) & \"/\" & YEAR(Tabela.abordagens[[#This Row],[Data]])=\"janeiro/1900\",\"\",LOWER(TEXT(Tabela.abordagens[[#This Row],[Data]],\"MMM\")) & \"/\" & TEXT(Tabela.abordagens[[#This Row],[Data]],\"AA\"))","v":"jan/15"}]
[{"$f":"IFERROR(VLOOKUP(Tabela.abordagens[[#This Row],[Usuário]],Tabela.cadastro[[Nome]:[id2]],12,0),\"\")","v":14},"Lucas Cabral","2015-01-01","N","N",{"$f":"ROUNDDOWN(((Tabela.abordagens[[#This Row],[Data]]-VLOOKUP(Tabela.abordagens[[#This Row],[Usuário]],Tabela.cadastro[[Nome]:[id2]],7,0))/365.25),0)","v":20},{"$f":"IF(LOWER(TEXT(Tabela.abordagens[[#This Row],[Data]],\"MMMM\")) & \"/\" & YEAR(Tabela.abordagens[[#This Row],[Data]])=\"janeiro/1900\",\"\",LOWER(TEXT(Tabela.abordagens[[#This Row],[Data]],\"MMM\")) & \"/\" & TEXT(Tabela.abordagens[[#This Row],[Data]],\"AA\"))","v":"jan/15"}]
[{"$f":"IFERROR(VLOOKUP(Tabela.abordagens[[#This Row],[Usuário]],Tabela.cadastro[[Nome]:[id2]],12,0),\"\")","v":""},null,null,null,null,{"$f":"ROUNDDOWN(((Tabela.abordagens[[#This Row],[Data]]-VLOOKUP(Tabela.abordagens[[#This Row],[Usuário]],Tabela.cadastro[[Nome]:[id2]],7,0))/365.25),0)","v":{"$error":"#N/A"}},{"$f":"IF(LOWER(TEXT(Tabela.abordagens[[#This Row],[Data]],\"MMMM\")) & \"/\" & YEAR(Tabela.abordagens[[#This Row],[Data]])=\"janeiro/1900\",\"\",LOWER(TEXT(Tabela.abordagens[[#This Row],[Data]],\"MMM\")) & \"/\" & TEXT(Tabela.abordagens[[#This Row],[Data]],\"AA\"))","v":""}]
[{"$f":"IFERROR(VLOOKUP(Tabela.abordagens[[#This Row],[Usuário]],Tabela.cadastro[[Nome]:[id2]],12,0),\"\")","v":""},null,null,null,null,{"$f":"ROUNDDOWN(((Tabela.abordagens[[#This Row],[Data]]-VLOOKUP(Tabela.abordagens[[#This Row],[Usuário]],Tabela.cadastro[[Nome]:[id2]],7,0))/365.25),0)","v":{"$error":"#N/A"}},{"$f":"IF(LOWER(TEXT(Tabela.abordagens[[#This Row],[Data]],\"MMMM\")) & \"/\" & YEAR(Tabela.abordagens[[#This Row],[Data]])=\"janeiro/1900\",\"\",LOWER(TEXT(Tabela.abordagens[[#This Row],[Data]],\"MMM\")) & \"/\" & TEXT(Tabela.abordagens[[#This Row],[Data]],\"AA\"))","v":""}]
[{"$f":"IFERROR(VLOOKUP(Tabela.abordagens[[#This Row],[Usuário]],Tabela.cadastro[[Nome]:[id2]],12,0),\"\")","v":""},null,null,null,null,{"$f":"ROUNDDOWN(((Tabela.abordagens[[#This Row],[Data]]-VLOOKUP(Tabela.abordagens[[#This Row],[Usuário]],Tabela.cadastro[[Nome]:[id2]],7,0))/365.25),0)","v":{"$error":"#N/A"}},{"$f":"IF(LOWER(TEXT(Tabela.abordagens[[#This Row],[Data]],\"MMMM\")) & \"/\" & YEAR(Tabela.abordagens[[#This Row],[Data]])=\"janeiro/1900\",\"\",LOWER(TEXT(Tabela.abordagens[[#This Row],[Data]],\"MMM\")) & \"/\" & TEXT(Tabela.abordagens[[#This Row],[Data]],\"AA\"))","v":""}]
[{"$f":"IFERROR(VLOOKUP(Tabela.abordagens[[#This Row],[Usuário]],Tabela.cadastro[[Nome]:[id2]],12,0),\"\")","v":""},null,null,null,null,{"$f":"ROUNDDOWN(((Tabela.abordagens[[#This Row],[Data]]-VLOOKUP(Tabela.abordagens[[#This Row],[Usuário]],Tabela.cadastro[[Nome]:[id2]],7,0))/365.25),0)","v":{"$error":"#N/A"}},{"$f":"IF(LOWER(TEXT(Tabela.abordagens[[#This Row],[Data]],\"MMMM\")) & \"/\" & YEAR(Tabela.abordagens[[#This Row],[Data]])=\"janeiro/1900\",\"\",LOWER(TEXT(Tabela.abordagens[[#This Row],[Data]],\"MMM\")) & \"/\" & TEXT(Tabela.abordagens[[#This Row],[Data]],\"AA\"))","v":""}]
[{"$f":"IFERROR(VLOOKUP(Tabela.abordagens[[#This Row],[Usuário]],Tabela.cadastro[[Nome]:[id2]],12,0),\"\")","v":""},null,null,null,null,{"$f":"ROUNDDOWN(((Tabela.abordagens[[#This Row],[Data]]-VLOOKUP(Tabela.abordagens[[#This Row],[Usuário]],Tabela.cadastro[[Nome]:[id2]],7,0))/365.25),0)","v":{"$error":"#N/A"}},{"$f":"IF(LOWER(TEXT(Tabela.abordagens[[#This Row],[Data]],\"MMMM\")) & \"/\" & YEAR(Tabela.abordagens[[#This Row],[Data]])=\"janeiro/1900\",\"\",LOWER(TEXT(Tabela.abordagens[[#This Row],[Data]],\"MMM\")) & \"/\" & TEXT(Tabela.abordagens[[#This Row],[Data]],\"AA\"))","v":""}]
[{"$f":"IFERROR(VLOOKUP(Tabela.abordagens[[#This Row],[Usuário]],Tabela.cadastro[[Nome]:[id2]],12,0),\"\")","v":""},null,null,null,null,{"$f":"ROUNDDOWN(((Tabela.abordagens[[#This Row],[Data]]-VLOOKUP(Tabela.abordagens[[#This Row],[Usuário]],Tabela.cadastro[[Nome]:[id2]],7,0))/365.25),0)","v":{"$error":"#N/A"}},{"$f":"IF(LOWER(TEXT(Tabela.abordagens[[#This Row],[Data]],\"MMMM\")) & \"/\" & YEAR(Tabela.abordagens[[#This Row],[Data]])=\"janeiro/1900\",\"\",LOWER(TEXT(Tabela.abordagens[[#This Row],[Data]],\"MMM\")) & \"/\" & TEXT(Tabela.abordagens[[#This Row],[Data]],\"AA\"))","v":""}]
[{"$f":"IFERROR(VLOOKUP(Tabela.abordagens[[#This Row],[Usuário]],Tabela.cadastro[[Nome]:[id2]],12,0),\"\")","v":""},null,null,null,null,{"$f":"ROUNDDOWN(((Tabela.abordagens[[#This Row],[Data]]-VLOOKUP(Tabela.abordagens[[#This Row],[Usuário]],Tabela.cadastro[[Nome]:[id2]],7,0))/365.25),0)","v":{"$error":"#N/A"}},{"$f":"IF(LOWER(TEXT(Tabela.abordagens[[#This Row],[Data]],\"MMMM\")) & \"/\" & YEAR(Tabela.abordagens[[#This Row],[Data]])=\"janeiro/1900\",\"\",LOWER(TEXT(Tabela.abordagens[[#This Row],[Data]],\"MMM\")) & \"/\" & TEXT(Tabela.abordagens[[#This Row],[Data]],\"AA\"))","v":""}]
[{"$f":"IFERROR(VLOOKUP(Tabela.abordagens[[#This Row],[Usuário]],Tabela.cadastro[[Nome]:[id2]],12,0),\"\")","v":""},null,null,null,null,{"$f":"ROUNDDOWN(((Tabela.abordagens[[#This Row],[Data]]-VLOOKUP(Tabela.abordagens[[#This Row],[Usuário]],Tabela.cadastro[[Nome]:[id2]],7,0))/365.25),0)","v":{"$error":"#N/A"}},{"$f":"IF(LOWER(TEXT(Tabela.abordagens[[#This Row],[Data]],\"MMMM\")) & \"/\" & YEAR(Tabela.abordagens[[#This Row],[Data]])=\"janeiro/1900\",\"\",LOWER(TEXT(Tabela.abordagens[[#This Row],[Data]],\"MMM\")) & \"/\" & TEXT(Tabela.abordagens[[#This Row],[Data]],\"AA\"))","v":""}]
[{"$f":"IFERROR(VLOOKUP(Tabela.abordagens[[#This Row],[Usuário]],Tabela.cadastro[[Nome]:[id2]],12,0),\"\")","v":""},null,null,null,null,{"$f":"ROUNDDOWN(((Tabela.abordagens[[#This Row],[Data]]-VLOOKUP(Tabela.abordagens[[#This Row],[Usuário]],Tabela.cadastro[[Nome]:[id2]],7,0))/365.25),0)","v":{"$error":"#N/A"}},{"$f":"IF(LOWER(TEXT(Tabela.abordagens[[#This Row],[Data]],\"MMMM\")) & \"/\" & YEAR(Tabela.abordagens[[#This Row],[Data]])=\"janeiro/1900\",\"\",LOWER(TEXT(Tabela.abordagens[[#This Row],[Data]],\"MMM\")) & \"/\" & TEXT(Tabela.abordagens[[#This Row],[Data]],\"AA\"))","v":""}]
[{"$f":"IFERROR(VLOOKUP(Tabela.abordagens[[#This Row],[Usuário]],Tabela.cadastro[[Nome]:[id2]],12,0),\"\")","v":""},null,null,null,null,{"$f":"ROUNDDOWN(((Tabela.abordagens[[#This Row],[Data]]-VLOOKUP(Tabela.abordagens[[#This Row],[Usuário]],Tabela.cadastro[[Nome]:[id2]],7,0))/365.25),0)","v":{"$error":"#N/A"}},{"$f":"IF(LOWER(TEXT(Tabela.abordagens[[#This Row],[Data]],\"MMMM\")) & \"/\" & YEAR(Tabela.abordagens[[#This Row],[Data]])=\"janeiro/1900\",\"\",LOWER(TEXT(Tabela.abordagens[[#This Row],[Data]],\"MMM\")) & \"/\" & TEXT(Tabela.abordagens[[#This Row],[Data]],\"AA\"))","v":""}]
[{"$f":"IFERROR(VLOOKUP(Tabela.abordagens[[#This Row],[Usuário]],Tabela.cadastro[[Nome]:[id2]],12,0),\"\")","v":""},null,null,null,null,{"$f":"ROUNDDOWN(((Tabela.abordagens[[#This Row],[Data]]-VLOOKUP(Tabela.abordagens[[#This Row],[Usuário]],Tabela.cadastro[[Nome]:[id2]],7,0))/365.25),0)","v":{"$error":"#N/A"}},{"$f":"IF(LOWER(TEXT(Tabela.abordagens[[#This Row],[Data]],\"MMMM\")) & \"/\" & YEAR(Tabela.abordagens[[#This Row],[Data]])=\"janeiro/1900\",\"\",LOWER(TEXT(Tabela.abordagens[[#This Row],[Data]],\"MMM\")) & \"/\" & TEXT(Tabela.abordagens[[#This Row],[Data]],\"AA\"))","v":""}]
[{"$f":"IFERROR(VLOOKUP(Tabela.abordagens[[#This Row],[Usuário]],Tabela.cadastro[[Nome]:[id2]],12,0),\"\")","v":""},null,null,null,null,{"$f":"ROUNDDOWN(((Tabela.abordagens[[#This Row],[Data]]-VLOOKUP(Tabela.abordagens[[#This Row],[Usuário]],Tabela.cadastro[[Nome]:[id2]],7,0))/365.25),0)","v":{"$error":"#N/A"}},{"$f":"IF(LOWER(TEXT(Tabela.abordagens[[#This Row],[Data]],\"MMMM\")) & \"/\" & YEAR(Tabela.abordagens[[#This Row],[Data]])=\"janeiro/1900\",\"\",LOWER(TEXT(Tabela.abordagens[[#This Row],[Data]],\"MMM\")) & \"/\" & TEXT(Tabela.abordagens[[#This Row],[Data]],\"AA\"))","v":""}]

{"sheet":"Consulta Usuário","index":4,"n_rows":600,"n_cols":31,"rows_kept":600,"cut":false,"hidden":false,"merged":[[12,23,13,25],[12,26,13,27],[14,26,15,27],[10,23,11,27],[22,23,26,27],[18,23,20,24],[18,26,20,27],[14,23,15,24],[25,1,25,18],[44,1,44,3],[45,1,45,3],[46,1,46,3],[47,1,47,3],[40,1,40,3],[55,0,55,19],[54,0,54,19],[41,1,41,3],[42,1,42,3],[43,1,43,3],[48,1,48,3],[49,1,49,3],[50,1,50,3],[51,1,51,3],[1,5,5,15],[21,7,21,8],[15,1,15,8],[15,10,15,12],[15,14,15,18],[6,5,6,15],[18,1,18,8],[18,10,18,12],[21,1,21,5],[18,14,18,16],[21,10,21,12],[10,4,10,5],[8,11,8,18]]}
[]
[null,null,null,null,null,"Prefeitura Municipal de xxx\nSecretaria Municipal de Desenvolvimento Social\nCentro de Referência Especializado para População em Situação de Rua"]
[]
[]
[]
[]
[null,null,null,null,null,"Relatório de frequência e uso do setor"]
[]
[null,null,null,null,null,null,null,null,null,null,null,{"$f":"\"Conselheiro Lafaiete, \"&TEXT(TODAY(),\"dd\"\" de \"\"mmmm\"\" de \"\"aaaa\")","v":"Conselheiro Lafaiete, 03 de outubro de 2020"}]
[]
[null,"ID do usuário",null,null,4]
[]
[null,"Informações cadastrais",null,null,null,null,null,null,null,null,null,null,null,null,null,null,null,null,null,null,null,null,null,null,null,null,null,null,null,null," "]
[]
[null,"Nome",null,null,null,null,null,null,null,null,"Sexo",null,null,null,"Data do cadastro"]
[null,{"$f":"VLOOKUP(E11,Cadastros!A:B,2)","v":"João Pereira"},null,null,null,null,null,null,null,null,{"$f":"IF(VLOOKUP(E11,Cadastros!A2:F21,6)=\"M\",\"Masculino\",IF(VLOOKUP(E11,Cadastros!A2:F21,6)=\"F\",\"Feminino\",\"\"))","v":"Masculino"},null,null,null,{"$f":"VLOOKUP(E11,Tabela.cadastro[],4)","v":"2014-05-23"}]
[]
[null,"Documento apresentado",null,null,null,null,null,null,null,null,"Usuário de drogas",null,null,null,"Migrante"]
[null,{"$f":"VLOOKUP(E11,Cadastros!A:C,3)","v":"BO: 1128-2014-0009997"},null,null,null,null,null,null,null,null,{"$f":"IF(VLOOKUP(E11,Cadastros!A2:I21,9)=\"S\",\"Sim\",IF(VLOOKUP(E11,Cadastros!A2:I21,9)=\"N\",\"Não\",\"\"))","v":"Não"},null,null,null,{"$f":"IF(VLOOKUP(E11,Cadastros!A2:E21,5)=\"M\",\"Sim\",IF(VLOOKUP(E11,Cadastros!A2:E21,5)=\"CP\",\"Não\",\"\"))","v":"Sim"}]
[]
[null,"Data de Nascimento",null,null,null,null,null,"Idade",null,null,"Doença ou transtorno mental"]
[null,{"$f":"IF(VLOOKUP(E11,Cadastros!A:H,8)=\"\",\"\",VLOOKUP(E11,Cadastros!A:H,8))","v":"1972-10-09"},null,null,null,null,null,{"$f":"IFERROR(TEXT((TODAY()-B22)/365.25,0)&\" anos\",\"\")","v":"48 anos"},null,null,{"$f":"IF(VLOOKUP(E11,Cadastros!A2:J21,10)=\"S\",\"Sim\",IF(VLOOKUP(E11,Cadastros!A2:J21,10)=\"N\",\"Não\",\"\"))","v":"Não"}]
[]
[null,"Frequência"]
[]
[null,{"$f":"IFERROR(\"O usuário frequentou o setor pela última vez em \"&TEXT(LOOKUP(2,1/(Tabela.frequencia[id]=E11),Tabela.frequencia[Data]),\"dd\"\" de \"\"mmmm\"\" de \"\"aaaa\")&\".\",\"\")","v":"O usuário frequentou o setor pela última vez em 01 de fevereiro de 2017."}]
[]
[]
[]
[]
[]
[]
[]
[]
[]
[]
[]
[null,"Passagens concedidas"]
[]
[null,"Data",null,null,"Destino"]
[null,{"$f":"IFERROR(INDEX(Tabela.passagens[],LARGE(IF(Tabela.passagens[id]=$E$11,ROW(Tabela.passagens[id])-1),ROW(A1)),6),\"\")","v":"2015-02-01"},null,null,{"$f":"IFERROR(INDEX(Tabela.passagens[],LARGE(IF(Tabela.passagens[id]=$E$11,ROW(Tabela.passagens[id])-1),ROW(E1)),5),\"\")","v":"Juiz de Fora"}]
[null,{"$f":"IFERROR(INDEX(Tabela.passagens[],LARGE(IF(Tabela.passagens[id]=$E$11,ROW(Tabela.passagens[id])-1),ROW(A2)),6),\"\")","v":"2014-09-03"},null,null,{"$f":"IFERROR(INDEX(Tabela.passagens[],LARGE(IF(Tabela.passagens[id]=$E$11,ROW(Tabela.passagens[id])-1),ROW(E2)),5),\"\")","v":"Juiz de Fora"}]
[null,{"$f":"IFERROR(INDEX(Tabela.passagens[],LARGE(IF(Tabela.passagens[id]=$E$11,ROW(Tabela.passagens[id])-1),ROW(A3)),6),\"\")","v":"2014-08-31"},null,null,{"$f":"IFERROR(INDEX(Tabela.passagens[],LARGE(IF(Tabela.passagens[id]=$E$11,ROW(Tabela.passagens[id])-1),ROW(E3)),5),\"\")","v":"Belo horizonte"}]
[null,{"$f":"IFERROR(INDEX(Tabela.passagens[],LARGE(IF(Tabela.passagens[id]=$E$11,ROW(Tabela.passagens[id])-1),ROW(A4)),6),\"\")","v":""},null,null,{"$f":"IFERROR(INDEX(Tabela.passagens[],LARGE(IF(Tabela.passagens[id]=$E$11,ROW(Tabela.passagens[id])-1),ROW(E4)),5),\"\")","v":""}]
[null,{"$f":"IFERROR(INDEX(Tabela.passagens[],LARGE(IF(Tabela.passagens[id]=$E$11,ROW(Tabela.passagens[id])-1),ROW(A5)),6),\"\")","v":""},null,null,{"$f":"IFERROR(INDEX(Tabela.passagens[],LARGE(IF(Tabela.passagens[id]=$E$11,ROW(Tabela.passagens[id])-1),ROW(E5)),5),\"\")","v":""}]
[null,{"$f":"IFERROR(INDEX(Tabela.passagens[],LARGE(IF(Tabela.passagens[id]=$E$11,ROW(Tabela.passagens[id])-1),ROW(A6)),6),\"\")","v":""},null,null,{"$f":"IFERROR(INDEX(Tabela.passagens[],LARGE(IF(Tabela.passagens[id]=$E$11,ROW(Tabela.passagens[id])-1),ROW(E6)),5),\"\")","v":""}]
[null,{"$f":"IFERROR(INDEX(Tabela.passagens[],LARGE(IF(Tabela.passagens[id]=$E$11,ROW(Tabela.passagens[id])-1),ROW(A7)),6),\"\")","v":""},null,null,{"$f":"IFERROR(INDEX(Tabela.passagens[],LARGE(IF(Tabela.passagens[id]=$E$11,ROW(Tabela.passagens[id])-1),ROW(E7)),5),\"\")","v":""}]
[null,{"$f":"IFERROR(INDEX(Tabela.passagens[],LARGE(IF(Tabela.passagens[id]=$E$11,ROW(Tabela.passagens[id])-1),ROW(A8)),6),\"\")","v":""},null,null,{"$f":"IFERROR(INDEX(Tabela.passagens[],LARGE(IF(Tabela.passagens[id]=$E$11,ROW(Tabela.passagens[id])-1),ROW(E8)),5),\"\")","v":""}]
[null,{"$f":"IFERROR(INDEX(Tabela.passagens[],LARGE(IF(Tabela.passagens[id]=$E$11,ROW(Tabela.passagens[id])-1),ROW(A9)),6),\"\")","v":""},null,null,{"$f":"IFERROR(INDEX(Tabela.passagens[],LARGE(IF(Tabela.passagens[id]=$E$11,ROW(Tabela.passagens[id])-1),ROW(E9)),5),\"\")","v":""}]
[null,{"$f":"IFERROR(INDEX(Tabela.passagens[],LARGE(IF(Tabela.passagens[id]=$E$11,ROW(Tabela.passagens[id])-1),ROW(A10)),6),\"\")","v":""},null,null,{"$f":"IFERROR(INDEX(Tabela.passagens[],LARGE(IF(Tabela.passagens[id]=$E$11,ROW(Tabela.passagens[id])-1),ROW(E10)),5),\"\")","v":""}]
[null,{"$f":"IFERROR(INDEX(Tabela.passagens[],LARGE(IF(Tabela.passagens[id]=$E$11,ROW(Tabela.passagens[id])-1),ROW(A11)),6),\"\")","v":""}]
[null,{"$f":"IFERROR(INDEX(Tabela.passagens[],LARGE(IF(Tabela.passagens[id]=$E$11,ROW(Tabela.passagens[id])-1),ROW(A12)),6),\"\")","v":""}]
[]
[]
["Rua XXX, 760 – Santa Efigênia – CEP: 33300-000 – Conselheiro Lafaiete, MG "]
["Telefone: (31) 3333-0000 – e-mail: centropop@XXX.mg.gov.br"]
[]
[null,"Histórico de frequência - Dados brutos",null,null,null,null,null,null,null,null,"→",null,null,null,null,null,null,null,null,null,null,null,null,"Dados Consolidados"]
[null,"Mês/ano de frequência",null,null,null,null,null,null,null,null,null,null,null,null,null,null,null,null,null,null,null,null,null,"Mês","Freq."]
[null,{"$f":"IFERROR(INDEX(Tabela.frequencia[],SMALL(IF(Tabela.frequencia[id]=$E$11,ROW(Tabela.frequencia[id])-1),ROW(A1)),3),DATE(1990,1,1))","v":"2014-07-01"},null,null,null,null,null,null,null,null,null,null,null,null,null,null,null,null,null,null,null,null,null,"2014"]
[null,{"$f":"IFERROR(INDEX(Tabela.frequencia[],SMALL(IF(Tabela.frequencia[id]=$E$11,ROW(Tabela.frequencia[id])-1),ROW(A2)),3),DATE(1990,1,1))","v":"2014-07-02"},null,null,null,null,null,null,null,null,"",null,null,null,null,null,null,null,null,null,null,null,null,"jul",3]
[null,{"$f":"IFERROR(INDEX(Tabela.frequencia[],SMALL(IF(Tabela.frequencia[id]=$E$11,ROW(Tabela.frequencia[id])-1),ROW(A3)),3),DATE(1990,1,1))","v":"2014-07-04"},null,null,null,null,null,null,null,null,null,null,null,null,null,null,null,null,null,null,null,null,null,"ago",1]
[null,{"$f":"IFERROR(INDEX(Tabela.frequencia[],SMALL(IF(Tabela.frequencia[id]=$E$11,ROW(Tabela.frequencia[id])-1),ROW(A4)),3),DATE(1990,1,1))","v":"2014-08-01"},null,null,null,null,null,null,null,null,null,null,null,null,null,null,null,null,null,null,null,null,null,"2015"]
[null,{"$f":"IFERROR(INDEX(Tabela.frequencia[],SMALL(IF(Tabela.frequencia[id]=$E$11,ROW(Tabela.frequencia[id])-1),ROW(A5)),3),DATE(1990,1,1))","v":"2015-01-01"},null,null,null,null,null,null,null,null,null,null,null,null,null,null,null,null,null,null,null,null,null,"jan",1]
[null,{"$f":"IFERROR(INDEX(Tabela.frequencia[],SMALL(IF(Tabela.frequencia[id]=$E$11,ROW(Tabela.frequencia[id])-1),ROW(A6)),3),DATE(1990,1,1))","v":"2015-06-01"},null,null,null,null,null,null,null,null,null,null,null,null,null,null,null,null,null,null,null,null,null,"jun",1]
[null,{"$f":"IFERROR(INDEX(Tabela.frequencia[],SMALL(IF(Tabela.frequencia[id]=$E$11,ROW(Tabela.frequencia[id])-1),ROW(A7)),3),DATE(1990,1,1))","v":"2016-01-01"},null,null,null,null,null,null,null,null,null,null,null,null,null,null,null,null,null,null,null,null,null,"2016"]
[null,{"$f":"IFERROR(INDEX(Tabela.frequencia[],SMALL(IF(Tabela.frequencia[id]=$E$11,ROW(Tabela.frequencia[id])-1),ROW(A8)),3),DATE(1990,1,1))","v":"2017-01-01"},null,null,null,null,null,null,null,null,null,null,null,null,null,null,null,null,null,null,null,null,null,"jan",1]
[null,{"$f":"IFERROR(INDEX(Tabela.frequencia[],SMALL(IF(Tabela.frequencia[id]=$E$11,ROW(Tabela.frequencia[id])-1),ROW(A9)),3),DATE(1990,1,1))","v":"2017-02-01"},null,null,null,null,null,null,null,null,null,null,null,null,null,null,null,null,null,null,null,null,null,"2017"]
[null,{"$f":"IFERROR(INDEX(Tabela.frequencia[],SMALL(IF(Tabela.frequencia[id]=$E$11,ROW(Tabela.frequencia[id])-1),ROW(A10)),3),DATE(1990,1,1))","v":"1990-01-01"},null,null,null,null,null,null,null,null,null,null,null,null,null,null,null,null,null,null,null,null,null,"jan",1]
[null,{"$f":"IFERROR(INDEX(Tabela.frequencia[],SMALL(IF(Tabela.frequencia[id]=$E$11,ROW(Tabela.frequencia[id])-1),ROW(A11)),3),DATE(1990,1,1))","v":"1990-01-01"},null,null,null,null,null,null,null,null,null,null,null,null,null,null,null,null,null,null,null,null,null,"fev",1]
[null,{"$f":"IFERROR(INDEX(Tabela.frequencia[],SMALL(IF(Tabela.frequencia[id]=$E$11,ROW(Tabela.frequencia[id])-1),ROW(A12)),3),DATE(1990,1,1))","v":"1990-01-01"}]
[null,{"$f":"IFERROR(INDEX(Tabela.frequencia[],SMALL(IF(Tabela.frequencia[id]=$E$11,ROW(Tabela.frequencia[id])-1),ROW(A13)),3),DATE(1990,1,1))","v":"1990-01-01"}]
[null,{"$f":"IFERROR(INDEX(Tabela.frequencia[],SMALL(IF(Tabela.frequencia[id]=$E$11,ROW(Tabela.frequencia[id])-1),ROW(A14)),3),DATE(1990,1,1))","v":"1990-01-01"}]
[null,{"$f":"IFERROR(INDEX(Tabela.frequencia[],SMALL(IF(Tabela.frequencia[id]=$E$11,ROW(Tabela.frequencia[id])-1),ROW(A15)),3),DATE(1990,1,1))","v":"1990-01-01"}]
[null,{"$f":"IFERROR(INDEX(Tabela.frequencia[],SMALL(IF(Tabela.frequencia[id]=$E$11,ROW(Tabela.frequencia[id])-1),ROW(A16)),3),DATE(1990,1,1))","v":"1990-01-01"}]
[null,{"$f":"IFERROR(INDEX(Tabela.frequencia[],SMALL(IF(Tabela.frequencia[id]=$E$11,ROW(Tabela.frequencia[id])-1),ROW(A17)),3),DATE(1990,1,1))","v":"1990-01-01"}]
[null,{"$f":"IFERROR(INDEX(Tabela.frequencia[],SMALL(IF(Tabela.frequencia[id]=$E$11,ROW(Tabela.frequencia[id])-1),ROW(A18)),3),DATE(1990,1,1))","v":"1990-01-01"}]
[null,{"$f":"IFERROR(INDEX(Tabela.frequencia[],SMALL(IF(Tabela.frequencia[id]=$E$11,ROW(Tabela.frequencia[id])-1),ROW(A19)),3),DATE(1990,1,1))","v":"1990-01-01"}]
[null,{"$f":"IFERROR(INDEX(Tabela.frequencia[],SMALL(IF(Tabela.frequencia[id]=$E$11,ROW(Tabela.frequencia[id])-1),ROW(A20)),3),DATE(1990,1,1))","v":"1990-01-01"}]
[null,{"$f":"IFERROR(INDEX(Tabela.frequencia[],SMALL(IF(Tabela.frequencia[id]=$E$11,ROW(Tabela.frequencia[id])-1),ROW(A21)),3),DATE(1990,1,1))","v":"1990-01-01"}]
[null,{"$f":"IFERROR(INDEX(Tabela.frequencia[],SMALL(IF(Tabela.frequencia[id]=$E$11,ROW(Tabela.frequencia[id])-1),ROW(A22)),3),DATE(1990,1,1))","v":"1990-01-01"}]
[null,{"$f":"IFERROR(INDEX(Tabela.frequencia[],SMALL(IF(Tabela.frequencia[id]=$E$11,ROW(Tabela.frequencia[id])-1),ROW(A23)),3),DATE(1990,1,1))","v":"1990-01-01"}]
[null,{"$f":"IFERROR(INDEX(Tabela.frequencia[],SMALL(IF(Tabela.frequencia[id]=$E$11,ROW(Tabela.frequencia[id])-1),ROW(A24)),3),DATE(1990,1,1))","v":"1990-01-01"}]
[null,{"$f":"IFERROR(INDEX(Tabela.frequencia[],SMALL(IF(Tabela.frequencia[id]=$E$11,ROW(Tabela.frequencia[id])-1),ROW(A25)),3),DATE(1990,1,1))","v":"1990-01-01"}]
[null,{"$f":"IFERROR(INDEX(Tabela.frequencia[],SMALL(IF(Tabela.frequencia[id]=$E$11,ROW(Tabela.frequencia[id])-1),ROW(A26)),3),DATE(1990,1,1))","v":"1990-01-01"}]
[null,{"$f":"IFERROR(INDEX(Tabela.frequencia[],SMALL(IF(Tabela.frequencia[id]=$E$11,ROW(Tabela.frequencia[id])-1),ROW(A27)),3),DATE(1990,1,1))","v":"1990-01-01"}]
[null,{"$f":"IFERROR(INDEX(Tabela.frequencia[],SMALL(IF(Tabela.frequencia[id]=$E$11,ROW(Tabela.frequencia[id])-1),ROW(A28)),3),DATE(1990,1,1))","v":"1990-01-01"}]
[null,{"$f":"IFERROR(INDEX(Tabela.frequencia[],SMALL(IF(Tabela.frequencia[id]=$E$11,ROW(Tabela.frequencia[id])-1),ROW(A29)),3),DATE(1990,1,1))","v":"1990-01-01"}]
[null,{"$f":"IFERROR(INDEX(Tabela.frequencia[],SMALL(IF(Tabela.frequencia[id]=$E$11,ROW(Tabela.frequencia[id])-1),ROW(A30)),3),DATE(1990,1,1))","v":"1990-01-01"}]
[null,{"$f":"IFERROR(INDEX(Tabela.frequencia[],SMALL(IF(Tabela.frequencia[id]=$E$11,ROW(Tabela.frequencia[id])-1),ROW(A31)),3),DATE(1990,1,1))","v":"1990-01-01"}]
[null,{"$f":"IFERROR(INDEX(Tabela.frequencia[],SMALL(IF(Tabela.frequencia[id]=$E$11,ROW(Tabela.frequencia[id])-1),ROW(A32)),3),DATE(1990,1,1))","v":"1990-01-01"}]
[null,{"$f":"IFERROR(INDEX(Tabela.frequencia[],SMALL(IF(Tabela.frequencia[id]=$E$11,ROW(Tabela.frequencia[id])-1),ROW(A33)),3),DATE(1990,1,1))","v":"1990-01-01"}]
[null,{"$f":"IFERROR(INDEX(Tabela.frequencia[],SMALL(IF(Tabela.frequencia[id]=$E$11,ROW(Tabela.frequencia[id])-1),ROW(A34)),3),DATE(1990,1,1))","v":"1990-01-01"}]
[null,{"$f":"IFERROR(INDEX(Tabela.frequencia[],SMALL(IF(Tabela.frequencia[id]=$E$11,ROW(Tabela.frequencia[id])-1),ROW(A35)),3),DATE(1990,1,1))","v":"1990-01-01"}]
[null,{"$f":"IFERROR(INDEX(Tabela.frequencia[],SMALL(IF(Tabela.frequencia[id]=$E$11,ROW(Tabela.frequencia[id])-1),ROW(A36)),3),DATE(1990,1,1))","v":"1990-01-01"}]
[null,{"$f":"IFERROR(INDEX(Tabela.frequencia[],SMALL(IF(Tabela.frequencia[id]=$E$11,ROW(Tabela.frequencia[id])-1),ROW(A37)),3),DATE(1990,1,1))","v":"1990-01-01"}]
[null,{"$f":"IFERROR(INDEX(Tabela.frequencia[],SMALL(IF(Tabela.frequencia[id]=$E$11,ROW(Tabela.frequencia[id])-1),ROW(A38)),3),DATE(1990,1,1))","v":"1990-01-01"}]
[null,{"$f":"IFERROR(INDEX(Tabela.frequencia[],SMALL(IF(Tabela.frequencia[id]=$E$11,ROW(Tabela.frequencia[id])-1),ROW(A39)),3),DATE(1990,1,1))","v":"1990-01-01"}]
[null,{"$f":"IFERROR(INDEX(Tabela.frequencia[],SMALL(IF(Tabela.frequencia[id]=$E$11,ROW(Tabela.frequencia[id])-1),ROW(A40)),3),DATE(1990,1,1))","v":"1990-01-01"}]
[null,{"$f":"IFERROR(INDEX(Tabela.frequencia[],SMALL(IF(Tabela.frequencia[id]=$E$11,ROW(Tabela.frequencia[id])-1),ROW(A41)),3),DATE(1990,1,1))","v":"1990-01-01"}]
[null,{"$f":"IFERROR(INDEX(Tabela.frequencia[],SMALL(IF(Tabela.frequencia[id]=$E$11,ROW(Tabela.frequencia[id])-1),ROW(A42)),3),DATE(1990,1,1))","v":"1990-01-01"}]
[null,{"$f":"IFERROR(INDEX(Tabela.frequencia[],SMALL(IF(Tabela.frequencia[id]=$E$11,ROW(Tabela.frequencia[id])-1),ROW(A43)),3),DATE(1990,1,1))","v":"1990-01-01"}]
[null,{"$f":"IFERROR(INDEX(Tabela.frequencia[],SMALL(IF(Tabela.frequencia[id]=$E$11,ROW(Tabela.frequencia[id])-1),ROW(A44)),3),DATE(1990,1,1))","v":"1990-01-01"}]
[null,{"$f":"IFERROR(INDEX(Tabela.frequencia[],SMALL(IF(Tabela.frequencia[id]=$E$11,ROW(Tabela.frequencia[id])-1),ROW(A45)),3),DATE(1990,1,1))","v":"1990-01-01"}]
[null,{"$f":"IFERROR(INDEX(Tabela.frequencia[],SMALL(IF(Tabela.frequencia[id]=$E$11,ROW(Tabela.frequencia[id])-1),ROW(A46)),3),DATE(1990,1,1))","v":"1990-01-01"}]
[null,{"$f":"IFERROR(INDEX(Tabela.frequencia[],SMALL(IF(Tabela.frequencia[id]=$E$11,ROW(Tabela.frequencia[id])-1),ROW(A47)),3),DATE(1990,1,1))","v":"1990-01-01"}]
[null,{"$f":"IFERROR(INDEX(Tabela.frequencia[],SMALL(IF(Tabela.frequencia[id]=$E$11,ROW(Tabela.frequencia[id])-1),ROW(A48)),3),DATE(1990,1,1))","v":"1990-01-01"}]
[null,{"$f":"IFERROR(INDEX(Tabela.frequencia[],SMALL(IF(Tabela.frequencia[id]=$E$11,ROW(Tabela.frequencia[id])-1),ROW(A49)),3),DATE(1990,1,1))","v":"1990-01-01"}]
[null,{"$f":"IFERROR(INDEX(Tabela.frequencia[],SMALL(IF(Tabela.frequencia[id]=$E$11,ROW(Tabela.frequencia[id])-1),ROW(A50)),3),DATE(1990,1,1))","v":"1990-01-01"}]
[null,{"$f":"IFERROR(INDEX(Tabela.frequencia[],SMALL(IF(Tabela.frequencia[id]=$E$11,ROW(Tabela.frequencia[id])-1),ROW(A51)),3),DATE(1990,1,1))","v":"1990-01-01"}]
[null,{"$f":"IFERROR(INDEX(Tabela.frequencia[],SMALL(IF(Tabela.frequencia[id]=$E$11,ROW(Tabela.frequencia[id])-1),ROW(A52)),3),DATE(1990,1,1))","v":"1990-01-01"}]
[null,{"$f":"IFERROR(INDEX(Tabela.frequencia[],SMALL(IF(Tabela.frequencia[id]=$E$11,ROW(Tabela.frequencia[id])-1),ROW(A53)),3),DATE(1990,1,1))","v":"1990-01-01"}]
[null,{"$f":"IFERROR(INDEX(Tabela.frequencia[],SMALL(IF(Tabela.frequencia[id]=$E$11,ROW(Tabela.frequencia[id])-1),ROW(A54)),3),DATE(1990,1,1))","v":"1990-01-01"}]
[null,{"$f":"IFERROR(INDEX(Tabela.frequencia[],SMALL(IF(Tabela.frequencia[id]=$E$11,ROW(Tabela.frequencia[id])-1),ROW(A55)),3),DATE(1990,1,1))","v":"1990-01-01"}]
[null,{"$f":"IFERROR(INDEX(Tabela.frequencia[],SMALL(IF(Tabela.frequencia[id]=$E$11,ROW(Tabela.frequencia[id])-1),ROW(A56)),3),DATE(1990,1,1))","v":"1990-01-01"}]
[null,{"$f":"IFERROR(INDEX(Tabela.frequencia[],SMALL(IF(Tabela.frequencia[id]=$E$11,ROW(Tabela.frequencia[id])-1),ROW(A57)),3),DATE(1990,1,1))","v":"1990-01-01"}]
[null,{"$f":"IFERROR(INDEX(Tabela.frequencia[],SMALL(IF(Tabela.frequencia[id]=$E$11,ROW(Tabela.frequencia[id])-1),ROW(A58)),3),DATE(1990,1,1))","v":"1990-01-01"}]
[null,{"$f":"IFERROR(INDEX(Tabela.frequencia[],SMALL(IF(Tabela.frequencia[id]=$E$11,ROW(Tabela.frequencia[id])-1),ROW(A59)),3),DATE(1990,1,1))","v":"1990-01-01"}]
[null,{"$f":"IFERROR(INDEX(Tabela.frequencia[],SMALL(IF(Tabela.frequencia[id]=$E$11,ROW(Tabela.frequencia[id])-1),ROW(A60)),3),DATE(1990,1,1))","v":"1990-01-01"}]
[null,{"$f":"IFERROR(INDEX(Tabela.frequencia[],SMALL(IF(Tabela.frequencia[id]=$E$11,ROW(Tabela.frequencia[id])-1),ROW(A61)),3),DATE(1990,1,1))","v":"1990-01-01"}]
[null,{"$f":"IFERROR(INDEX(Tabela.frequencia[],SMALL(IF(Tabela.frequencia[id]=$E$11,ROW(Tabela.frequencia[id])-1),ROW(A62)),3),DATE(1990,1,1))","v":"1990-01-01"}]
[null,{"$f":"IFERROR(INDEX(Tabela.frequencia[],SMALL(IF(Tabela.frequencia[id]=$E$11,ROW(Tabela.frequencia[id])-1),ROW(A63)),3),DATE(1990,1,1))","v":"1990-01-01"}]
[null,{"$f":"IFERROR(INDEX(Tabela.frequencia[],SMALL(IF(Tabela.frequencia[id]=$E$11,ROW(Tabela.frequencia[id])-1),ROW(A64)),3),DATE(1990,1,1))","v":"1990-01-01"}]
[null,{"$f":"IFERROR(INDEX(Tabela.frequencia[],SMALL(IF(Tabela.frequencia[id]=$E$11,ROW(Tabela.frequencia[id])-1),ROW(A65)),3),DATE(1990,1,1))","v":"1990-01-01"}]
[null,{"$f":"IFERROR(INDEX(Tabela.frequencia[],SMALL(IF(Tabela.frequencia[id]=$E$11,ROW(Tabela.frequencia[id])-1),ROW(A66)),3),DATE(1990,1,1))","v":"1990-01-01"}]
[null,{"$f":"IFERROR(INDEX(Tabela.frequencia[],SMALL(IF(Tabela.frequencia[id]=$E$11,ROW(Tabela.frequencia[id])-1),ROW(A67)),3),DATE(1990,1,1))","v":"1990-01-01"}]
[null,{"$f":"IFERROR(INDEX(Tabela.frequencia[],SMALL(IF(Tabela.frequencia[id]=$E$11,ROW(Tabela.frequencia[id])-1),ROW(A68)),3),DATE(1990,1,1))","v":"1990-01-01"}]
[null,{"$f":"IFERROR(INDEX(Tabela.frequencia[],SMALL(IF(Tabela.frequencia[id]=$E$11,ROW(Tabela.frequencia[id])-1),ROW(A69)),3),DATE(1990,1,1))","v":"1990-01-01"}]
[null,{"$f":"IFERROR(INDEX(Tabela.frequencia[],SMALL(IF(Tabela.frequencia[id]=$E$11,ROW(Tabela.frequencia[id])-1),ROW(A70)),3),DATE(1990,1,1))","v":"1990-01-01"}]
[null,{"$f":"IFERROR(INDEX(Tabela.frequencia[],SMALL(IF(Tabela.frequencia[id]=$E$11,ROW(Tabela.frequencia[id])-1),ROW(A71)),3),DATE(1990,1,1))","v":"1990-01-01"}]
[null,{"$f":"IFERROR(INDEX(Tabela.frequencia[],SMALL(IF(Tabela.frequencia[id]=$E$11,ROW(Tabela.frequencia[id])-1),ROW(A72)),3),DATE(1990,1,1))","v":"1990-01-01"}]
[null,{"$f":"IFERROR(INDEX(Tabela.frequencia[],SMALL(IF(Tabela.frequencia[id]=$E$11,ROW(Tabela.frequencia[id])-1),ROW(A73)),3),DATE(1990,1,1))","v":"1990-01-01"}]
[null,{"$f":"IFERROR(INDEX(Tabela.frequencia[],SMALL(IF(Tabela.frequencia[id]=$E$11,ROW(Tabela.frequencia[id])-1),ROW(A74)),3),DATE(1990,1,1))","v":"1990-01-01"}]
[null,{"$f":"IFERROR(INDEX(Tabela.frequencia[],SMALL(IF(Tabela.frequencia[id]=$E$11,ROW(Tabela.frequencia[id])-1),ROW(A75)),3),DATE(1990,1,1))","v":"1990-01-01"}]
[null,{"$f":"IFERROR(INDEX(Tabela.frequencia[],SMALL(IF(Tabela.frequencia[id]=$E$11,ROW(Tabela.frequencia[id])-1),ROW(A76)),3),DATE(1990,1,1))","v":"1990-01-01"}]
[null,{"$f":"IFERROR(INDEX(Tabela.frequencia[],SMALL(IF(Tabela.frequencia[id]=$E$11,ROW(Tabela.frequencia[id])-1),ROW(A77)),3),DATE(1990,1,1))","v":"1990-01-01"}]
[null,{"$f":"IFERROR(INDEX(Tabela.frequencia[],SMALL(IF(Tabela.frequencia[id]=$E$11,ROW(Tabela.frequencia[id])-1),ROW(A78)),3),DATE(1990,1,1))","v":"1990-01-01"}]
[null,{"$f":"IFERROR(INDEX(Tabela.frequencia[],SMALL(IF(Tabela.frequencia[id]=$E$11,ROW(Tabela.frequencia[id])-1),ROW(A79)),3),DATE(1990,1,1))","v":"1990-01-01"}]
[null,{"$f":"IFERROR(INDEX(Tabela.frequencia[],SMALL(IF(Tabela.frequencia[id]=$E$11,ROW(Tabela.frequencia[id])-1),ROW(A80)),3),DATE(1990,1,1))","v":"1990-01-01"}]
[null,{"$f":"IFERROR(INDEX(Tabela.frequencia[],SMALL(IF(Tabela.frequencia[id]=$E$11,ROW(Tabela.frequencia[id])-1),ROW(A81)),3),DATE(1990,1,1))","v":"1990-01-01"}]
[null,{"$f":"IFERROR(INDEX(Tabela.frequencia[],SMALL(IF(Tabela.frequencia[id]=$E$11,ROW(Tabela.frequencia[id])-1),ROW(A82)),3),DATE(1990,1,1))","v":"1990-01-01"}]
[null,{"$f":"IFERROR(INDEX(Tabela.frequencia[],SMALL(IF(Tabela.frequencia[id]=$E$11,ROW(Tabela.frequencia[id])-1),ROW(A83)),3),DATE(1990,1,1))","v":"1990-01-01"}]
[null,{"$f":"IFERROR(INDEX(Tabela.frequencia[],SMALL(IF(Tabela.frequencia[id]=$E$11,ROW(Tabela.frequencia[id])-1),ROW(A84)),3),DATE(1990,1,1))","v":"1990-01-01"}]
[null,{"$f":"IFERROR(INDEX(Tabela.frequencia[],SMALL(IF(Tabela.frequencia[id]=$E$11,ROW(Tabela.frequencia[id])-1),ROW(A85)),3),DATE(1990,1,1))","v":"1990-01-01"}]
[null,{"$f":"IFERROR(INDEX(Tabela.frequencia[],SMALL(IF(Tabela.frequencia[id]=$E$11,ROW(Tabela.frequencia[id])-1),ROW(A86)),3),DATE(1990,1,1))","v":"1990-01-01"}]
[null,{"$f":"IFERROR(INDEX(Tabela.frequencia[],SMALL(IF(Tabela.frequencia[id]=$E$11,ROW(Tabela.frequencia[id])-1),ROW(A87)),3),DATE(1990,1,1))","v":"1990-01-01"}]
[null,{"$f":"IFERROR(INDEX(Tabela.frequencia[],SMALL(IF(Tabela.frequencia[id]=$E$11,ROW(Tabela.frequencia[id])-1),ROW(A88)),3),DATE(1990,1,1))","v":"1990-01-01"}]
[null,{"$f":"IFERROR(INDEX(Tabela.frequencia[],SMALL(IF(Tabela.frequencia[id]=$E$11,ROW(Tabela.frequencia[id])-1),ROW(A89)),3),DATE(1990,1,1))","v":"1990-01-01"}]
[null,{"$f":"IFERROR(INDEX(Tabela.frequencia[],SMALL(IF(Tabela.frequencia[id]=$E$11,ROW(Tabela.frequencia[id])-1),ROW(A90)),3),DATE(1990,1,1))","v":"1990-01-01"}]
[null,{"$f":"IFERROR(INDEX(Tabela.frequencia[],SMALL(IF(Tabela.frequencia[id]=$E$11,ROW(Tabela.frequencia[id])-1),ROW(A91)),3),DATE(1990,1,1))","v":"1990-01-01"}]
[null,{"$f":"IFERROR(INDEX(Tabela.frequencia[],SMALL(IF(Tabela.frequencia[id]=$E$11,ROW(Tabela.frequencia[id])-1),ROW(A92)),3),DATE(1990,1,1))","v":"1990-01-01"}]
[null,{"$f":"IFERROR(INDEX(Tabela.frequencia[],SMALL(IF(Tabela.frequencia[id]=$E$11,ROW(Tabela.frequencia[id])-1),ROW(A93)),3),DATE(1990,1,1))","v":"1990-01-01"}]
[null,{"$f":"IFERROR(INDEX(Tabela.frequencia[],SMALL(IF(Tabela.frequencia[id]=$E$11,ROW(Tabela.frequencia[id])-1),ROW(A94)),3),DATE(1990,1,1))","v":"1990-01-01"}]
[null,{"$f":"IFERROR(INDEX(Tabela.frequencia[],SMALL(IF(Tabela.frequencia[id]=$E$11,ROW(Tabela.frequencia[id])-1),ROW(A95)),3),DATE(1990,1,1))","v":"1990-01-01"}]
[null,{"$f":"IFERROR(INDEX(Tabela.frequencia[],SMALL(IF(Tabela.frequencia[id]=$E$11,ROW(Tabela.frequencia[id])-1),ROW(A96)),3),DATE(1990,1,1))","v":"1990-01-01"}]
[null,{"$f":"IFERROR(INDEX(Tabela.frequencia[],SMALL(IF(Tabela.frequencia[id]=$E$11,ROW(Tabela.frequencia[id])-1),ROW(A97)),3),DATE(1990,1,1))","v":"1990-01-01"}]
[null,{"$f":"IFERROR(INDEX(Tabela.frequencia[],SMALL(IF(Tabela.frequencia[id]=$E$11,ROW(Tabela.frequencia[id])-1),ROW(A98)),3),DATE(1990,1,1))","v":"1990-01-01"}]
[null,{"$f":"IFERROR(INDEX(Tabela.frequencia[],SMALL(IF(Tabela.frequencia[id]=$E$11,ROW(Tabela.frequencia[id])-1),ROW(A99)),3),DATE(1990,1,1))","v":"1990-01-01"}]
[null,{"$f":"IFERROR(INDEX(Tabela.frequencia[],SMALL(IF(Tabela.frequencia[id]=$E$11,ROW(Tabela.frequencia[id])-1),ROW(A100)),3),DATE(1990,1,1))","v":"1990-01-01"}]
[null,{"$f":"IFERROR(INDEX(Tabela.frequencia[],SMALL(IF(Tabela.frequencia[id]=$E$11,ROW(Tabela.frequencia[id])-1),ROW(A101)),3),DATE(1990,1,1))","v":"1990-01-01"}]
[null,{"$f":"IFERROR(INDEX(Tabela.frequencia[],SMALL(IF(Tabela.frequencia[id]=$E$11,ROW(Tabela.frequencia[id])-1),ROW(A102)),3),DATE(1990,1,1))","v":"1990-01-01"}]
[null,{"$f":"IFERROR(INDEX(Tabela.frequencia[],SMALL(IF(Tabela.frequencia[id]=$E$11,ROW(Tabela.frequencia[id])-1),ROW(A103)),3),DATE(1990,1,1))","v":"1990-01-01"}]
[null,{"$f":"IFERROR(INDEX(Tabela.frequencia[],SMALL(IF(Tabela.frequencia[id]=$E$11,ROW(Tabela.frequencia[id])-1),ROW(A104)),3),DATE(1990,1,1))","v":"1990-01-01"}]
[null,{"$f":"IFERROR(INDEX(Tabela.frequencia[],SMALL(IF(Tabela.frequencia[id]=$E$11,ROW(Tabela.frequencia[id])-1),ROW(A105)),3),DATE(1990,1,1))","v":"1990-01-01"}]
[null,{"$f":"IFERROR(INDEX(Tabela.frequencia[],SMALL(IF(Tabela.frequencia[id]=$E$11,ROW(Tabela.frequencia[id])-1),ROW(A106)),3),DATE(1990,1,1))","v":"1990-01-01"}]
[null,{"$f":"IFERROR(INDEX(Tabela.frequencia[],SMALL(IF(Tabela.frequencia[id]=$E$11,ROW(Tabela.frequencia[id])-1),ROW(A107)),3),DATE(1990,1,1))","v":"1990-01-01"}]
[null,{"$f":"IFERROR(INDEX(Tabela.frequencia[],SMALL(IF(Tabela.frequencia[id]=$E$11,ROW(Tabela.frequencia[id])-1),ROW(A108)),3),DATE(1990,1,1))","v":"1990-01-01"}]
[null,{"$f":"IFERROR(INDEX(Tabela.frequencia[],SMALL(IF(Tabela.frequencia[id]=$E$11,ROW(Tabela.frequencia[id])-1),ROW(A109)),3),DATE(1990,1,1))","v":"1990-01-01"}]
[null,{"$f":"IFERROR(INDEX(Tabela.frequencia[],SMALL(IF(Tabela.frequencia[id]=$E$11,ROW(Tabela.frequencia[id])-1),ROW(A110)),3),DATE(1990,1,1))","v":"1990-01-01"}]
[null,{"$f":"IFERROR(INDEX(Tabela.frequencia[],SMALL(IF(Tabela.frequencia[id]=$E$11,ROW(Tabela.frequencia[id])-1),ROW(A111)),3),DATE(1990,1,1))","v":"1990-01-01"}]
[null,{"$f":"IFERROR(INDEX(Tabela.frequencia[],SMALL(IF(Tabela.frequencia[id]=$E$11,ROW(Tabela.frequencia[id])-1),ROW(A112)),3),DATE(1990,1,1))","v":"1990-01-01"}]
[null,{"$f":"IFERROR(INDEX(Tabela.frequencia[],SMALL(IF(Tabela.frequencia[id]=$E$11,ROW(Tabela.frequencia[id])-1),ROW(A113)),3),DATE(1990,1,1))","v":"1990-01-01"}]
[null,{"$f":"IFERROR(INDEX(Tabela.frequencia[],SMALL(IF(Tabela.frequencia[id]=$E$11,ROW(Tabela.frequencia[id])-1),ROW(A114)),3),DATE(1990,1,1))","v":"1990-01-01"}]
[null,{"$f":"IFERROR(INDEX(Tabela.frequencia[],SMALL(IF(Tabela.frequencia[id]=$E$11,ROW(Tabela.frequencia[id])-1),ROW(A115)),3),DATE(1990,1,1))","v":"1990-01-01"}]
[null,{"$f":"IFERROR(INDEX(Tabela.frequencia[],SMALL(IF(Tabela.frequencia[id]=$E$11,ROW(Tabela.frequencia[id])-1),ROW(A116)),3),DATE(1990,1,1))","v":"1990-01-01"}]
[null,{"$f":"IFERROR(INDEX(Tabela.frequencia[],SMALL(IF(Tabela.frequencia[id]=$E$11,ROW(Tabela.frequencia[id])-1),ROW(A117)),3),DATE(1990,1,1))","v":"1990-01-01"}]
[null,{"$f":"IFERROR(INDEX(Tabela.frequencia[],SMALL(IF(Tabela.frequencia[id]=$E$11,ROW(Tabela.frequencia[id])-1),ROW(A118)),3),DATE(1990,1,1))","v":"1990-01-01"}]
[null,{"$f":"IFERROR(INDEX(Tabela.frequencia[],SMALL(IF(Tabela.frequencia[id]=$E$11,ROW(Tabela.frequencia[id])-1),ROW(A119)),3),DATE(1990,1,1))","v":"1990-01-01"}]
[null,{"$f":"IFERROR(INDEX(Tabela.frequencia[],SMALL(IF(Tabela.frequencia[id]=$E$11,ROW(Tabela.frequencia[id])-1),ROW(A120)),3),DATE(1990,1,1))","v":"1990-01-01"}]
[null,{"$f":"IFERROR(INDEX(Tabela.frequencia[],SMALL(IF(Tabela.frequencia[id]=$E$11,ROW(Tabela.frequencia[id])-1),ROW(A121)),3),DATE(1990,1,1))","v":"1990-01-01"}]
[null,{"$f":"IFERROR(INDEX(Tabela.frequencia[],SMALL(IF(Tabela.frequencia[id]=$E$11,ROW(Tabela.frequencia[id])-1),ROW(A122)),3),DATE(1990,1,1))","v":"1990-01-01"}]
[null,{"$f":"IFERROR(INDEX(Tabela.frequencia[],SMALL(IF(Tabela.frequencia[id]=$E$11,ROW(Tabela.frequencia[id])-1),ROW(A123)),3),DATE(1990,1,1))","v":"1990-01-01"}]
[null,{"$f":"IFERROR(INDEX(Tabela.frequencia[],SMALL(IF(Tabela.frequencia[id]=$E$11,ROW(Tabela.frequencia[id])-1),ROW(A124)),3),DATE(1990,1,1))","v":"1990-01-01"}]
[null,{"$f":"IFERROR(INDEX(Tabela.frequencia[],SMALL(IF(Tabela.frequencia[id]=$E$11,ROW(Tabela.frequencia[id])-1),ROW(A125)),3),DATE(1990,1,1))","v":"1990-01-01"}]
[null,{"$f":"IFERROR(INDEX(Tabela.frequencia[],SMALL(IF(Tabela.frequencia[id]=$E$11,ROW(Tabela.frequencia[id])-1),ROW(A126)),3),DATE(1990,1,1))","v":"1990-01-01"}]
[null,{"$f":"IFERROR(INDEX(Tabela.frequencia[],SMALL(IF(Tabela.frequencia[id]=$E$11,ROW(Tabela.frequencia[id])-1),ROW(A127)),3),DATE(1990,1,1))","v":"1990-01-01"}]
[null,{"$f":"IFERROR(INDEX(Tabela.frequencia[],SMALL(IF(Tabela.frequencia[id]=$E$11,ROW(Tabela.frequencia[id])-1),ROW(A128)),3),DATE(1990,1,1))","v":"1990-01-01"}]
[null,{"$f":"IFERROR(INDEX(Tabela.frequencia[],SMALL(IF(Tabela.frequencia[id]=$E$11,ROW(Tabela.frequencia[id])-1),ROW(A129)),3),DATE(1990,1,1))","v":"1990-01-01"}]
[null,{"$f":"IFERROR(INDEX(Tabela.frequencia[],SMALL(IF(Tabela.frequencia[id]=$E$11,ROW(Tabela.frequencia[id])-1),ROW(A130)),3),DATE(1990,1,1))","v":"1990-01-01"}]
[null,{"$f":"IFERROR(INDEX(Tabela.frequencia[],SMALL(IF(Tabela.frequencia[id]=$E$11,ROW(Tabela.frequencia[id])-1),ROW(A131)),3),DATE(1990,1,1))","v":"1990-01-01"}]
[null,{"$f":"IFERROR(INDEX(Tabela.frequencia[],SMALL(IF(Tabela.frequencia[id]=$E$11,ROW(Tabela.frequencia[id])-1),ROW(A132)),3),DATE(1990,1,1))","v":"1990-01-01"}]
[null,{"$f":"IFERROR(INDEX(Tabela.frequencia[],SMALL(IF(Tabela.frequencia[id]=$E$11,ROW(Tabela.frequencia[id])-1),ROW(A133)),3),DATE(1990,1,1))","v":"1990-01-01"}]
[null,{"$f":"IFERROR(INDEX(Tabela.frequencia[],SMALL(IF(Tabela.frequencia[id]=$E$11,ROW(Tabela.frequencia[id])-1),ROW(A134)),3),DATE(1990,1,1))","v":"1990-01-01"}]
[null,{"$f":"IFERROR(INDEX(Tabela.frequencia[],SMALL(IF(Tabela.frequencia[id]=$E$11,ROW(Tabela.frequencia[id])-1),ROW(A135)),3),DATE(1990,1,1))","v":"1990-01-01"}]
[null,{"$f":"IFERROR(INDEX(Tabela.frequencia[],SMALL(IF(Tabela.frequencia[id]=$E$11,ROW(Tabela.frequencia[id])-1),ROW(A136)),3),DATE(1990,1,1))","v":"1990-01-01"}]
[null,{"$f":"IFERROR(INDEX(Tabela.frequencia[],SMALL(IF(Tabela.frequencia[id]=$E$11,ROW(Tabela.frequencia[id])-1),ROW(A137)),3),DATE(1990,1,1))","v":"1990-01-01"}]
[null,{"$f":"IFERROR(INDEX(Tabela.frequencia[],SMALL(IF(Tabela.frequencia[id]=$E$11,ROW(Tabela.frequencia[id])-1),ROW(A138)),3),DATE(1990,1,1))","v":"1990-01-01"}]
[null,{"$f":"IFERROR(INDEX(Tabela.frequencia[],SMALL(IF(Tabela.frequencia[id]=$E$11,ROW(Tabela.frequencia[id])-1),ROW(A139)),3),DATE(1990,1,1))","v":"1990-01-01"}]
[null,{"$f":"IFERROR(INDEX(Tabela.frequencia[],SMALL(IF(Tabela.frequencia[id]=$E$11,ROW(Tabela.frequencia[id])-1),ROW(A140)),3),DATE(1990,1,1))","v":"1990-01-01"}]
[null,{"$f":"IFERROR(INDEX(Tabela.frequencia[],SMALL(IF(Tabela.frequencia[id]=$E$11,ROW(Tabela.frequencia[id])-1),ROW(A141)),3),DATE(1990,1,1))","v":"1990-01-01"}]
[null,{"$f":"IFERROR(INDEX(Tabela.frequencia[],SMALL(IF(Tabela.frequencia[id]=$E$11,ROW(Tabela.frequencia[id])-1),ROW(A142)),3),DATE(1990,1,1))","v":"1990-01-01"}]
[null,{"$f":"IFERROR(INDEX(Tabela.frequencia[],SMALL(IF(Tabela.frequencia[id]=$E$11,ROW(Tabela.frequencia[id])-1),ROW(A143)),3),DATE(1990,1,1))","v":"1990-01-01"}]
[null,{"$f":"IFERROR(INDEX(Tabela.frequencia[],SMALL(IF(Tabela.frequencia[id]=$E$11,ROW(Tabela.frequencia[id])-1),ROW(A144)),3),DATE(1990,1,1))","v":"1990-01-01"}]
[null,{"$f":"IFERROR(INDEX(Tabela.frequencia[],SMALL(IF(Tabela.frequencia[id]=$E$11,ROW(Tabela.frequencia[id])-1),ROW(A145)),3),DATE(1990,1,1))","v":"1990-01-01"}]
[null,{"$f":"IFERROR(INDEX(Tabela.frequencia[],SMALL(IF(Tabela.frequencia[id]=$E$11,ROW(Tabela.frequencia[id])-1),ROW(A146)),3),DATE(1990,1,1))","v":"1990-01-01"}]
[null,{"$f":"IFERROR(INDEX(Tabela.frequencia[],SMALL(IF(Tabela.frequencia[id]=$E$11,ROW(Tabela.frequencia[id])-1),ROW(A147)),3),DATE(1990,1,1))","v":"1990-01-01"}]
[null,{"$f":"IFERROR(INDEX(Tabela.frequencia[],SMALL(IF(Tabela.frequencia[id]=$E$11,ROW(Tabela.frequencia[id])-1),ROW(A148)),3),DATE(1990,1,1))","v":"1990-01-01"}]
[null,{"$f":"IFERROR(INDEX(Tabela.frequencia[],SMALL(IF(Tabela.frequencia[id]=$E$11,ROW(Tabela.frequencia[id])-1),ROW(A149)),3),DATE(1990,1,1))","v":"1990-01-01"}]
[null,{"$f":"IFERROR(INDEX(Tabela.frequencia[],SMALL(IF(Tabela.frequencia[id]=$E$11,ROW(Tabela.frequencia[id])-1),ROW(A150)),3),DATE(1990,1,1))","v":"1990-01-01"}]
[null,{"$f":"IFERROR(INDEX(Tabela.frequencia[],SMALL(IF(Tabela.frequencia[id]=$E$11,ROW(Tabela.frequencia[id])-1),ROW(A151)),3),DATE(1990,1,1))","v":"1990-01-01"}]
[null,{"$f":"IFERROR(INDEX(Tabela.frequencia[],SMALL(IF(Tabela.frequencia[id]=$E$11,ROW(Tabela.frequencia[id])-1),ROW(A152)),3),DATE(1990,1,1))","v":"1990-01-01"}]
[null,{"$f":"IFERROR(INDEX(Tabela.frequencia[],SMALL(IF(Tabela.frequencia[id]=$E$11,ROW(Tabela.frequencia[id])-1),ROW(A153)),3),DATE(1990,1,1))","v":"1990-01-01"}]
[null,{"$f":"IFERROR(INDEX(Tabela.frequencia[],SMALL(IF(Tabela.frequencia[id]=$E$11,ROW(Tabela.frequencia[id])-1),ROW(A154)),3),DATE(1990,1,1))","v":"1990-01-01"}]
[null,{"$f":"IFERROR(INDEX(Tabela.frequencia[],SMALL(IF(Tabela.frequencia[id]=$E$11,ROW(Tabela.frequencia[id])-1),ROW(A155)),3),DATE(1990,1,1))","v":"1990-01-01"}]
[null,{"$f":"IFERROR(INDEX(Tabela.frequencia[],SMALL(IF(Tabela.frequencia[id]=$E$11,ROW(Tabela.frequencia[id])-1),ROW(A156)),3),DATE(1990,1,1))","v":"1990-01-01"}]
[null,{"$f":"IFERROR(INDEX(Tabela.frequencia[],SMALL(IF(Tabela.frequencia[id]=$E$11,ROW(Tabela.frequencia[id])-1),ROW(A157)),3),DATE(1990,1,1))","v":"1990-01-01"}]
[null,{"$f":"IFERROR(INDEX(Tabela.frequencia[],SMALL(IF(Tabela.frequencia[id]=$E$11,ROW(Tabela.frequencia[id])-1),ROW(A158)),3),DATE(1990,1,1))","v":"1990-01-01"}]
[null,{"$f":"IFERROR(INDEX(Tabela.frequencia[],SMALL(IF(Tabela.frequencia[id]=$E$11,ROW(Tabela.frequencia[id])-1),ROW(A159)),3),DATE(1990,1,1))","v":"1990-01-01"}]
[null,{"$f":"IFERROR(INDEX(Tabela.frequencia[],SMALL(IF(Tabela.frequencia[id]=$E$11,ROW(Tabela.frequencia[id])-1),ROW(A160)),3),DATE(1990,1,1))","v":"1990-01-01"}]
[null,{"$f":"IFERROR(INDEX(Tabela.frequencia[],SMALL(IF(Tabela.frequencia[id]=$E$11,ROW(Tabela.frequencia[id])-1),ROW(A161)),3),DATE(1990,1,1))","v":"1990-01-01"}]
[null,{"$f":"IFERROR(INDEX(Tabela.frequencia[],SMALL(IF(Tabela.frequencia[id]=$E$11,ROW(Tabela.frequencia[id])-1),ROW(A162)),3),DATE(1990,1,1))","v":"1990-01-01"}]
[null,{"$f":"IFERROR(INDEX(Tabela.frequencia[],SMALL(IF(Tabela.frequencia[id]=$E$11,ROW(Tabela.frequencia[id])-1),ROW(A163)),3),DATE(1990,1,1))","v":"1990-01-01"}]
[null,{"$f":"IFERROR(INDEX(Tabela.frequencia[],SMALL(IF(Tabela.frequencia[id]=$E$11,ROW(Tabela.frequencia[id])-1),ROW(A164)),3),DATE(1990,1,1))","v":"1990-01-01"}]
[null,{"$f":"IFERROR(INDEX(Tabela.frequencia[],SMALL(IF(Tabela.frequencia[id]=$E$11,ROW(Tabela.frequencia[id])-1),ROW(A165)),3),DATE(1990,1,1))","v":"1990-01-01"}]
[null,{"$f":"IFERROR(INDEX(Tabela.frequencia[],SMALL(IF(Tabela.frequencia[id]=$E$11,ROW(Tabela.frequencia[id])-1),ROW(A166)),3),DATE(1990,1,1))","v":"1990-01-01"}]
[null,{"$f":"IFERROR(INDEX(Tabela.frequencia[],SMALL(IF(Tabela.frequencia[id]=$E$11,ROW(Tabela.frequencia[id])-1),ROW(A167)),3),DATE(1990,1,1))","v":"1990-01-01"}]
[null,{"$f":"IFERROR(INDEX(Tabela.frequencia[],SMALL(IF(Tabela.frequencia[id]=$E$11,ROW(Tabela.frequencia[id])-1),ROW(A168)),3),DATE(1990,1,1))","v":"1990-01-01"}]
[null,{"$f":"IFERROR(INDEX(Tabela.frequencia[],SMALL(IF(Tabela.frequencia[id]=$E$11,ROW(Tabela.frequencia[id])-1),ROW(A169)),3),DATE(1990,1,1))","v":"1990-01-01"}]
[null,{"$f":"IFERROR(INDEX(Tabela.frequencia[],SMALL(IF(Tabela.frequencia[id]=$E$11,ROW(Tabela.frequencia[id])-1),ROW(A170)),3),DATE(1990,1,1))","v":"1990-01-01"}]
[null,{"$f":"IFERROR(INDEX(Tabela.frequencia[],SMALL(IF(Tabela.frequencia[id]=$E$11,ROW(Tabela.frequencia[id])-1),ROW(A171)),3),DATE(1990,1,1))","v":"1990-01-01"}]
[null,{"$f":"IFERROR(INDEX(Tabela.frequencia[],SMALL(IF(Tabela.frequencia[id]=$E$11,ROW(Tabela.frequencia[id])-1),ROW(A172)),3),DATE(1990,1,1))","v":"1990-01-01"}]
[null,{"$f":"IFERROR(INDEX(Tabela.frequencia[],SMALL(IF(Tabela.frequencia[id]=$E$11,ROW(Tabela.frequencia[id])-1),ROW(A173)),3),DATE(1990,1,1))","v":"1990-01-01"}]
[null,{"$f":"IFERROR(INDEX(Tabela.frequencia[],SMALL(IF(Tabela.frequencia[id]=$E$11,ROW(Tabela.frequencia[id])-1),ROW(A174)),3),DATE(1990,1,1))","v":"1990-01-01"}]
[null,{"$f":"IFERROR(INDEX(Tabela.frequencia[],SMALL(IF(Tabela.frequencia[id]=$E$11,ROW(Tabela.frequencia[id])-1),ROW(A175)),3),DATE(1990,1,1))","v":"1990-01-01"}]
[null,{"$f":"IFERROR(INDEX(Tabela.frequencia[],SMALL(IF(Tabela.frequencia[id]=$E$11,ROW(Tabela.frequencia[id])-1),ROW(A176)),3),DATE(1990,1,1))","v":"1990-01-01"}]
[null,{"$f":"IFERROR(INDEX(Tabela.frequencia[],SMALL(IF(Tabela.frequencia[id]=$E$11,ROW(Tabela.frequencia[id])-1),ROW(A177)),3),DATE(1990,1,1))","v":"1990-01-01"}]
[null,{"$f":"IFERROR(INDEX(Tabela.frequencia[],SMALL(IF(Tabela.frequencia[id]=$E$11,ROW(Tabela.frequencia[id])-1),ROW(A178)),3),DATE(1990,1,1))","v":"1990-01-01"}]
[null,{"$f":"IFERROR(INDEX(Tabela.frequencia[],SMALL(IF(Tabela.frequencia[id]=$E$11,ROW(Tabela.frequencia[id])-1),ROW(A179)),3),DATE(1990,1,1))","v":"1990-01-01"}]
[null,{"$f":"IFERROR(INDEX(Tabela.frequencia[],SMALL(IF(Tabela.frequencia[id]=$E$11,ROW(Tabela.frequencia[id])-1),ROW(A180)),3),DATE(1990,1,1))","v":"1990-01-01"}]
[null,{"$f":"IFERROR(INDEX(Tabela.frequencia[],SMALL(IF(Tabela.frequencia[id]=$E$11,ROW(Tabela.frequencia[id])-1),ROW(A181)),3),DATE(1990,1,1))","v":"1990-01-01"}]
[null,{"$f":"IFERROR(INDEX(Tabela.frequencia[],SMALL(IF(Tabela.frequencia[id]=$E$11,ROW(Tabela.frequencia[id])-1),ROW(A182)),3),DATE(1990,1,1))","v":"1990-01-01"}]
[null,{"$f":"IFERROR(INDEX(Tabela.frequencia[],SMALL(IF(Tabela.frequencia[id]=$E$11,ROW(Tabela.frequencia[id])-1),ROW(A183)),3),DATE(1990,1,1))","v":"1990-01-01"}]
[null,{"$f":"IFERROR(INDEX(Tabela.frequencia[],SMALL(IF(Tabela.frequencia[id]=$E$11,ROW(Tabela.frequencia[id])-1),ROW(A184)),3),DATE(1990,1,1))","v":"1990-01-01"}]
[null,{"$f":"IFERROR(INDEX(Tabela.frequencia[],SMALL(IF(Tabela.frequencia[id]=$E$11,ROW(Tabela.frequencia[id])-1),ROW(A185)),3),DATE(1990,1,1))","v":"1990-01-01"}]
[null,{"$f":"IFERROR(INDEX(Tabela.frequencia[],SMALL(IF(Tabela.frequencia[id]=$E$11,ROW(Tabela.frequencia[id])-1),ROW(A186)),3),DATE(1990,1,1))","v":"1990-01-01"}]
[null,{"$f":"IFERROR(INDEX(Tabela.frequencia[],SMALL(IF(Tabela.frequencia[id]=$E$11,ROW(Tabela.frequencia[id])-1),ROW(A187)),3),DATE(1990,1,1))","v":"1990-01-01"}]
[null,{"$f":"IFERROR(INDEX(Tabela.frequencia[],SMALL(IF(Tabela.frequencia[id]=$E$11,ROW(Tabela.frequencia[id])-1),ROW(A188)),3),DATE(1990,1,1))","v":"1990-01-01"}]
[null,{"$f":"IFERROR(INDEX(Tabela.frequencia[],SMALL(IF(Tabela.frequencia[id]=$E$11,ROW(Tabela.frequencia[id])-1),ROW(A189)),3),DATE(1990,1,1))","v":"1990-01-01"}]
[null,{"$f":"IFERROR(INDEX(Tabela.frequencia[],SMALL(IF(Tabela.frequencia[id]=$E$11,ROW(Tabela.frequencia[id])-1),ROW(A190)),3),DATE(1990,1,1))","v":"1990-01-01"}]
[null,{"$f":"IFERROR(INDEX(Tabela.frequencia[],SMALL(IF(Tabela.frequencia[id]=$E$11,ROW(Tabela.frequencia[id])-1),ROW(A191)),3),DATE(1990,1,1))","v":"1990-01-01"}]
[null,{"$f":"IFERROR(INDEX(Tabela.frequencia[],SMALL(IF(Tabela.frequencia[id]=$E$11,ROW(Tabela.frequencia[id])-1),ROW(A192)),3),DATE(1990,1,1))","v":"1990-01-01"}]
[null,{"$f":"IFERROR(INDEX(Tabela.frequencia[],SMALL(IF(Tabela.frequencia[id]=$E$11,ROW(Tabela.frequencia[id])-1),ROW(A193)),3),DATE(1990,1,1))","v":"1990-01-01"}]
[null,{"$f":"IFERROR(INDEX(Tabela.frequencia[],SMALL(IF(Tabela.frequencia[id]=$E$11,ROW(Tabela.frequencia[id])-1),ROW(A194)),3),DATE(1990,1,1))","v":"1990-01-01"}]
[null,{"$f":"IFERROR(INDEX(Tabela.frequencia[],SMALL(IF(Tabela.frequencia[id]=$E$11,ROW(Tabela.frequencia[id])-1),ROW(A195)),3),DATE(1990,1,1))","v":"1990-01-01"}]
[null,{"$f":"IFERROR(INDEX(Tabela.frequencia[],SMALL(IF(Tabela.frequencia[id]=$E$11,ROW(Tabela.frequencia[id])-1),ROW(A196)),3),DATE(1990,1,1))","v":"1990-01-01"}]
[null,{"$f":"IFERROR(INDEX(Tabela.frequencia[],SMALL(IF(Tabela.frequencia[id]=$E$11,ROW(Tabela.frequencia[id])-1),ROW(A197)),3),DATE(1990,1,1))","v":"1990-01-01"}]
[null,{"$f":"IFERROR(INDEX(Tabela.frequencia[],SMALL(IF(Tabela.frequencia[id]=$E$11,ROW(Tabela.frequencia[id])-1),ROW(A198)),3),DATE(1990,1,1))","v":"1990-01-01"}]
[null,{"$f":"IFERROR(INDEX(Tabela.frequencia[],SMALL(IF(Tabela.frequencia[id]=$E$11,ROW(Tabela.frequencia[id])-1),ROW(A199)),3),DATE(1990,1,1))","v":"1990-01-01"}]
[null,{"$f":"IFERROR(INDEX(Tabela.frequencia[],SMALL(IF(Tabela.frequencia[id]=$E$11,ROW(Tabela.frequencia[id])-1),ROW(A200)),3),DATE(1990,1,1))","v":"1990-01-01"}]
[null,{"$f":"IFERROR(INDEX(Tabela.frequencia[],SMALL(IF(Tabela.frequencia[id]=$E$11,ROW(Tabela.frequencia[id])-1),ROW(A201)),3),DATE(1990,1,1))","v":"1990-01-01"}]
[null,{"$f":"IFERROR(INDEX(Tabela.frequencia[],SMALL(IF(Tabela.frequencia[id]=$E$11,ROW(Tabela.frequencia[id])-1),ROW(A202)),3),DATE(1990,1,1))","v":"1990-01-01"}]
[null,{"$f":"IFERROR(INDEX(Tabela.frequencia[],SMALL(IF(Tabela.frequencia[id]=$E$11,ROW(Tabela.frequencia[id])-1),ROW(A203)),3),DATE(1990,1,1))","v":"1990-01-01"}]
[null,{"$f":"IFERROR(INDEX(Tabela.frequencia[],SMALL(IF(Tabela.frequencia[id]=$E$11,ROW(Tabela.frequencia[id])-1),ROW(A204)),3),DATE(1990,1,1))","v":"1990-01-01"}]
[null,{"$f":"IFERROR(INDEX(Tabela.frequencia[],SMALL(IF(Tabela.frequencia[id]=$E$11,ROW(Tabela.frequencia[id])-1),ROW(A205)),3),DATE(1990,1,1))","v":"1990-01-01"}]
[null,{"$f":"IFERROR(INDEX(Tabela.frequencia[],SMALL(IF(Tabela.frequencia[id]=$E$11,ROW(Tabela.frequencia[id])-1),ROW(A206)),3),DATE(1990,1,1))","v":"1990-01-01"}]
[null,{"$f":"IFERROR(INDEX(Tabela.frequencia[],SMALL(IF(Tabela.frequencia[id]=$E$11,ROW(Tabela.frequencia[id])-1),ROW(A207)),3),DATE(1990,1,1))","v":"1990-01-01"}]
[null,{"$f":"IFERROR(INDEX(Tabela.frequencia[],SMALL(IF(Tabela.frequencia[id]=$E$11,ROW(Tabela.frequencia[id])-1),ROW(A208)),3),DATE(1990,1,1))","v":"1990-01-01"}]
[null,{"$f":"IFERROR(INDEX(Tabela.frequencia[],SMALL(IF(Tabela.frequencia[id]=$E$11,ROW(Tabela.frequencia[id])-1),ROW(A209)),3),DATE(1990,1,1))","v":"1990-01-01"}]
[null,{"$f":"IFERROR(INDEX(Tabela.frequencia[],SMALL(IF(Tabela.frequencia[id]=$E$11,ROW(Tabela.frequencia[id])-1),ROW(A210)),3),DATE(1990,1,1))","v":"1990-01-01"}]
[null,{"$f":"IFERROR(INDEX(Tabela.frequencia[],SMALL(IF(Tabela.frequencia[id]=$E$11,ROW(Tabela.frequencia[id])-1),ROW(A211)),3),DATE(1990,1,1))","v":"1990-01-01"}]
[null,{"$f":"IFERROR(INDEX(Tabela.frequencia[],SMALL(IF(Tabela.frequencia[id]=$E$11,ROW(Tabela.frequencia[id])-1),ROW(A212)),3),DATE(1990,1,1))","v":"1990-01-01"}]
[null,{"$f":"IFERROR(INDEX(Tabela.frequencia[],SMALL(IF(Tabela.frequencia[id]=$E$11,ROW(Tabela.frequencia[id])-1),ROW(A213)),3),DATE(1990,1,1))","v":"1990-01-01"}]
[null,{"$f":"IFERROR(INDEX(Tabela.frequencia[],SMALL(IF(Tabela.frequencia[id]=$E$11,ROW(Tabela.frequencia[id])-1),ROW(A214)),3),DATE(1990,1,1))","v":"1990-01-01"}]
[null,{"$f":"IFERROR(INDEX(Tabela.frequencia[],SMALL(IF(Tabela.frequencia[id]=$E$11,ROW(Tabela.frequencia[id])-1),ROW(A215)),3),DATE(1990,1,1))","v":"1990-01-01"}]
[null,{"$f":"IFERROR(INDEX(Tabela.frequencia[],SMALL(IF(Tabela.frequencia[id]=$E$11,ROW(Tabela.frequencia[id])-1),ROW(A216)),3),DATE(1990,1,1))","v":"1990-01-01"}]
[null,{"$f":"IFERROR(INDEX(Tabela.frequencia[],SMALL(IF(Tabela.frequencia[id]=$E$11,ROW(Tabela.frequencia[id])-1),ROW(A217)),3),DATE(1990,1,1))","v":"1990-01-01"}]
[null,{"$f":"IFERROR(INDEX(Tabela.frequencia[],SMALL(IF(Tabela.frequencia[id]=$E$11,ROW(Tabela.frequencia[id])-1),ROW(A218)),3),DATE(1990,1,1))","v":"1990-01-01"}]
[null,{"$f":"IFERROR(INDEX(Tabela.frequencia[],SMALL(IF(Tabela.frequencia[id]=$E$11,ROW(Tabela.frequencia[id])-1),ROW(A219)),3),DATE(1990,1,1))","v":"1990-01-01"}]
[null,{"$f":"IFERROR(INDEX(Tabela.frequencia[],SMALL(IF(Tabela.frequencia[id]=$E$11,ROW(Tabela.frequencia[id])-1),ROW(A220)),3),DATE(1990,1,1))","v":"1990-01-01"}]
[null,{"$f":"IFERROR(INDEX(Tabela.frequencia[],SMALL(IF(Tabela.frequencia[id]=$E$11,ROW(Tabela.frequencia[id])-1),ROW(A221)),3),DATE(1990,1,1))","v":"1990-01-01"}]
[null,{"$f":"IFERROR(INDEX(Tabela.frequencia[],SMALL(IF(Tabela.frequencia[id]=$E$11,ROW(Tabela.frequencia[id])-1),ROW(A222)),3),DATE(1990,1,1))","v":"1990-01-01"}]
[null,{"$f":"IFERROR(INDEX(Tabela.frequencia[],SMALL(IF(Tabela.frequencia[id]=$E$11,ROW(Tabela.frequencia[id])-1),ROW(A223)),3),DATE(1990,1,1))","v":"1990-01-01"}]
[null,{"$f":"IFERROR(INDEX(Tabela.frequencia[],SMALL(IF(Tabela.frequencia[id]=$E$11,ROW(Tabela.frequencia[id])-1),ROW(A224)),3),DATE(1990,1,1))","v":"1990-01-01"}]
[null,{"$f":"IFERROR(INDEX(Tabela.frequencia[],SMALL(IF(Tabela.frequencia[id]=$E$11,ROW(Tabela.frequencia[id])-1),ROW(A225)),3),DATE(1990,1,1))","v":"1990-01-01"}]
[null,{"$f":"IFERROR(INDEX(Tabela.frequencia[],SMALL(IF(Tabela.frequencia[id]=$E$11,ROW(Tabela.frequencia[id])-1),ROW(A226)),3),DATE(1990,1,1))","v":"1990-01-01"}]
[null,{"$f":"IFERROR(INDEX(Tabela.frequencia[],SMALL(IF(Tabela.frequencia[id]=$E$11,ROW(Tabela.frequencia[id])-1),ROW(A227)),3),DATE(1990,1,1))","v":"1990-01-01"}]
[null,{"$f":"IFERROR(INDEX(Tabela.frequencia[],SMALL(IF(Tabela.frequencia[id]=$E$11,ROW(Tabela.frequencia[id])-1),ROW(A228)),3),DATE(1990,1,1))","v":"1990-01-01"}]
[null,{"$f":"IFERROR(INDEX(Tabela.frequencia[],SMALL(IF(Tabela.frequencia[id]=$E$11,ROW(Tabela.frequencia[id])-1),ROW(A229)),3),DATE(1990,1,1))","v":"1990-01-01"}]
[null,{"$f":"IFERROR(INDEX(Tabela.frequencia[],SMALL(IF(Tabela.frequencia[id]=$E$11,ROW(Tabela.frequencia[id])-1),ROW(A230)),3),DATE(1990,1,1))","v":"1990-01-01"}]
[null,{"$f":"IFERROR(INDEX(Tabela.frequencia[],SMALL(IF(Tabela.frequencia[id]=$E$11,ROW(Tabela.frequencia[id])-1),ROW(A231)),3),DATE(1990,1,1))","v":"1990-01-01"}]
[null,{"$f":"IFERROR(INDEX(Tabela.frequencia[],SMALL(IF(Tabela.frequencia[id]=$E$11,ROW(Tabela.frequencia[id])-1),ROW(A232)),3),DATE(1990,1,1))","v":"1990-01-01"}]
[null,{"$f":"IFERROR(INDEX(Tabela.frequencia[],SMALL(IF(Tabela.frequencia[id]=$E$11,ROW(Tabela.frequencia[id])-1),ROW(A233)),3),DATE(1990,1,1))","v":"1990-01-01"}]
[null,{"$f":"IFERROR(INDEX(Tabela.frequencia[],SMALL(IF(Tabela.frequencia[id]=$E$11,ROW(Tabela.frequencia[id])-1),ROW(A234)),3),DATE(1990,1,1))","v":"1990-01-01"}]
[null,{"$f":"IFERROR(INDEX(Tabela.frequencia[],SMALL(IF(Tabela.frequencia[id]=$E$11,ROW(Tabela.frequencia[id])-1),ROW(A235)),3),DATE(1990,1,1))","v":"1990-01-01"}]
[null,{"$f":"IFERROR(INDEX(Tabela.frequencia[],SMALL(IF(Tabela.frequencia[id]=$E$11,ROW(Tabela.frequencia[id])-1),ROW(A236)),3),DATE(1990,1,1))","v":"1990-01-01"}]
[null,{"$f":"IFERROR(INDEX(Tabela.frequencia[],SMALL(IF(Tabela.frequencia[id]=$E$11,ROW(Tabela.frequencia[id])-1),ROW(A237)),3),DATE(1990,1,1))","v":"1990-01-01"}]
[null,{"$f":"IFERROR(INDEX(Tabela.frequencia[],SMALL(IF(Tabela.frequencia[id]=$E$11,ROW(Tabela.frequencia[id])-1),ROW(A238)),3),DATE(1990,1,1))","v":"1990-01-01"}]
[null,{"$f":"IFERROR(INDEX(Tabela.frequencia[],SMALL(IF(Tabela.frequencia[id]=$E$11,ROW(Tabela.frequencia[id])-1),ROW(A239)),3),DATE(1990,1,1))","v":"1990-01-01"}]
[null,{"$f":"IFERROR(INDEX(Tabela.frequencia[],SMALL(IF(Tabela.frequencia[id]=$E$11,ROW(Tabela.frequencia[id])-1),ROW(A240)),3),DATE(1990,1,1))","v":"1990-01-01"}]
[null,{"$f":"IFERROR(INDEX(Tabela.frequencia[],SMALL(IF(Tabela.frequencia[id]=$E$11,ROW(Tabela.frequencia[id])-1),ROW(A241)),3),DATE(1990,1,1))","v":"1990-01-01"}]
[null,{"$f":"IFERROR(INDEX(Tabela.frequencia[],SMALL(IF(Tabela.frequencia[id]=$E$11,ROW(Tabela.frequencia[id])-1),ROW(A242)),3),DATE(1990,1,1))","v":"1990-01-01"}]
[null,{"$f":"IFERROR(INDEX(Tabela.frequencia[],SMALL(IF(Tabela.frequencia[id]=$E$11,ROW(Tabela.frequencia[id])-1),ROW(A243)),3),DATE(1990,1,1))","v":"1990-01-01"}]
[null,{"$f":"IFERROR(INDEX(Tabela.frequencia[],SMALL(IF(Tabela.frequencia[id]=$E$11,ROW(Tabela.frequencia[id])-1),ROW(A244)),3),DATE(1990,1,1))","v":"1990-01-01"}]
[null,{"$f":"IFERROR(INDEX(Tabela.frequencia[],SMALL(IF(Tabela.frequencia[id]=$E$11,ROW(Tabela.frequencia[id])-1),ROW(A245)),3),DATE(1990,1,1))","v":"1990-01-01"}]
[null,{"$f":"IFERROR(INDEX(Tabela.frequencia[],SMALL(IF(Tabela.frequencia[id]=$E$11,ROW(Tabela.frequencia[id])-1),ROW(A246)),3),DATE(1990,1,1))","v":"1990-01-01"}]
[null,{"$f":"IFERROR(INDEX(Tabela.frequencia[],SMALL(IF(Tabela.frequencia[id]=$E$11,ROW(Tabela.frequencia[id])-1),ROW(A247)),3),DATE(1990,1,1))","v":"1990-01-01"}]
[null,{"$f":"IFERROR(INDEX(Tabela.frequencia[],SMALL(IF(Tabela.frequencia[id]=$E$11,ROW(Tabela.frequencia[id])-1),ROW(A248)),3),DATE(1990,1,1))","v":"1990-01-01"}]
[null,{"$f":"IFERROR(INDEX(Tabela.frequencia[],SMALL(IF(Tabela.frequencia[id]=$E$11,ROW(Tabela.frequencia[id])-1),ROW(A249)),3),DATE(1990,1,1))","v":"1990-01-01"}]
[null,{"$f":"IFERROR(INDEX(Tabela.frequencia[],SMALL(IF(Tabela.frequencia[id]=$E$11,ROW(Tabela.frequencia[id])-1),ROW(A250)),3),DATE(1990,1,1))","v":"1990-01-01"}]
[null,{"$f":"IFERROR(INDEX(Tabela.frequencia[],SMALL(IF(Tabela.frequencia[id]=$E$11,ROW(Tabela.frequencia[id])-1),ROW(A251)),3),DATE(1990,1,1))","v":"1990-01-01"}]
[null,{"$f":"IFERROR(INDEX(Tabela.frequencia[],SMALL(IF(Tabela.frequencia[id]=$E$11,ROW(Tabela.frequencia[id])-1),ROW(A252)),3),DATE(1990,1,1))","v":"1990-01-01"}]
[null,{"$f":"IFERROR(INDEX(Tabela.frequencia[],SMALL(IF(Tabela.frequencia[id]=$E$11,ROW(Tabela.frequencia[id])-1),ROW(A253)),3),DATE(1990,1,1))","v":"1990-01-01"}]
[null,{"$f":"IFERROR(INDEX(Tabela.frequencia[],SMALL(IF(Tabela.frequencia[id]=$E$11,ROW(Tabela.frequencia[id])-1),ROW(A254)),3),DATE(1990,1,1))","v":"1990-01-01"}]
[null,{"$f":"IFERROR(INDEX(Tabela.frequencia[],SMALL(IF(Tabela.frequencia[id]=$E$11,ROW(Tabela.frequencia[id])-1),ROW(A255)),3),DATE(1990,1,1))","v":"1990-01-01"}]
[null,{"$f":"IFERROR(INDEX(Tabela.frequencia[],SMALL(IF(Tabela.frequencia[id]=$E$11,ROW(Tabela.frequencia[id])-1),ROW(A256)),3),DATE(1990,1,1))","v":"1990-01-01"}]
[null,{"$f":"IFERROR(INDEX(Tabela.frequencia[],SMALL(IF(Tabela.frequencia[id]=$E$11,ROW(Tabela.frequencia[id])-1),ROW(A257)),3),DATE(1990,1,1))","v":"1990-01-01"}]
[null,{"$f":"IFERROR(INDEX(Tabela.frequencia[],SMALL(IF(Tabela.frequencia[id]=$E$11,ROW(Tabela.frequencia[id])-1),ROW(A258)),3),DATE(1990,1,1))","v":"1990-01-01"}]
[null,{"$f":"IFERROR(INDEX(Tabela.frequencia[],SMALL(IF(Tabela.frequencia[id]=$E$11,ROW(Tabela.frequencia[id])-1),ROW(A259)),3),DATE(1990,1,1))","v":"1990-01-01"}]
[null,{"$f":"IFERROR(INDEX(Tabela.frequencia[],SMALL(IF(Tabela.frequencia[id]=$E$11,ROW(Tabela.frequencia[id])-1),ROW(A260)),3),DATE(1990,1,1))","v":"1990-01-01"}]
[null,{"$f":"IFERROR(INDEX(Tabela.frequencia[],SMALL(IF(Tabela.frequencia[id]=$E$11,ROW(Tabela.frequencia[id])-1),ROW(A261)),3),DATE(1990,1,1))","v":"1990-01-01"}]
[null,{"$f":"IFERROR(INDEX(Tabela.frequencia[],SMALL(IF(Tabela.frequencia[id]=$E$11,ROW(Tabela.frequencia[id])-1),ROW(A262)),3),DATE(1990,1,1))","v":"1990-01-01"}]
[null,{"$f":"IFERROR(INDEX(Tabela.frequencia[],SMALL(IF(Tabela.frequencia[id]=$E$11,ROW(Tabela.frequencia[id])-1),ROW(A263)),3),DATE(1990,1,1))","v":"1990-01-01"}]
[null,{"$f":"IFERROR(INDEX(Tabela.frequencia[],SMALL(IF(Tabela.frequencia[id]=$E$11,ROW(Tabela.frequencia[id])-1),ROW(A264)),3),DATE(1990,1,1))","v":"1990-01-01"}]
[null,{"$f":"IFERROR(INDEX(Tabela.frequencia[],SMALL(IF(Tabela.frequencia[id]=$E$11,ROW(Tabela.frequencia[id])-1),ROW(A265)),3),DATE(1990,1,1))","v":"1990-01-01"}]
[null,{"$f":"IFERROR(INDEX(Tabela.frequencia[],SMALL(IF(Tabela.frequencia[id]=$E$11,ROW(Tabela.frequencia[id])-1),ROW(A266)),3),DATE(1990,1,1))","v":"1990-01-01"}]
[null,{"$f":"IFERROR(INDEX(Tabela.frequencia[],SMALL(IF(Tabela.frequencia[id]=$E$11,ROW(Tabela.frequencia[id])-1),ROW(A267)),3),DATE(1990,1,1))","v":"1990-01-01"}]
[null,{"$f":"IFERROR(INDEX(Tabela.frequencia[],SMALL(IF(Tabela.frequencia[id]=$E$11,ROW(Tabela.frequencia[id])-1),ROW(A268)),3),DATE(1990,1,1))","v":"1990-01-01"}]
[null,{"$f":"IFERROR(INDEX(Tabela.frequencia[],SMALL(IF(Tabela.frequencia[id]=$E$11,ROW(Tabela.frequencia[id])-1),ROW(A269)),3),DATE(1990,1,1))","v":"1990-01-01"}]
[null,{"$f":"IFERROR(INDEX(Tabela.frequencia[],SMALL(IF(Tabela.frequencia[id]=$E$11,ROW(Tabela.frequencia[id])-1),ROW(A270)),3),DATE(1990,1,1))","v":"1990-01-01"}]
[null,{"$f":"IFERROR(INDEX(Tabela.frequencia[],SMALL(IF(Tabela.frequencia[id]=$E$11,ROW(Tabela.frequencia[id])-1),ROW(A271)),3),DATE(1990,1,1))","v":"1990-01-01"}]
[null,{"$f":"IFERROR(INDEX(Tabela.frequencia[],SMALL(IF(Tabela.frequencia[id]=$E$11,ROW(Tabela.frequencia[id])-1),ROW(A272)),3),DATE(1990,1,1))","v":"1990-01-01"}]
[null,{"$f":"IFERROR(INDEX(Tabela.frequencia[],SMALL(IF(Tabela.frequencia[id]=$E$11,ROW(Tabela.frequencia[id])-1),ROW(A273)),3),DATE(1990,1,1))","v":"1990-01-01"}]
[null,{"$f":"IFERROR(INDEX(Tabela.frequencia[],SMALL(IF(Tabela.frequencia[id]=$E$11,ROW(Tabela.frequencia[id])-1),ROW(A274)),3),DATE(1990,1,1))","v":"1990-01-01"}]
[null,{"$f":"IFERROR(INDEX(Tabela.frequencia[],SMALL(IF(Tabela.frequencia[id]=$E$11,ROW(Tabela.frequencia[id])-1),ROW(A275)),3),DATE(1990,1,1))","v":"1990-01-01"}]
[null,{"$f":"IFERROR(INDEX(Tabela.frequencia[],SMALL(IF(Tabela.frequencia[id]=$E$11,ROW(Tabela.frequencia[id])-1),ROW(A276)),3),DATE(1990,1,1))","v":"1990-01-01"}]
[null,{"$f":"IFERROR(INDEX(Tabela.frequencia[],SMALL(IF(Tabela.frequencia[id]=$E$11,ROW(Tabela.frequencia[id])-1),ROW(A277)),3),DATE(1990,1,1))","v":"1990-01-01"}]
[null,{"$f":"IFERROR(INDEX(Tabela.frequencia[],SMALL(IF(Tabela.frequencia[id]=$E$11,ROW(Tabela.frequencia[id])-1),ROW(A278)),3),DATE(1990,1,1))","v":"1990-01-01"}]
[null,{"$f":"IFERROR(INDEX(Tabela.frequencia[],SMALL(IF(Tabela.frequencia[id]=$E$11,ROW(Tabela.frequencia[id])-1),ROW(A279)),3),DATE(1990,1,1))","v":"1990-01-01"}]
[null,{"$f":"IFERROR(INDEX(Tabela.frequencia[],SMALL(IF(Tabela.frequencia[id]=$E$11,ROW(Tabela.frequencia[id])-1),ROW(A280)),3),DATE(1990,1,1))","v":"1990-01-01"}]
[null,{"$f":"IFERROR(INDEX(Tabela.frequencia[],SMALL(IF(Tabela.frequencia[id]=$E$11,ROW(Tabela.frequencia[id])-1),ROW(A281)),3),DATE(1990,1,1))","v":"1990-01-01"}]
[null,{"$f":"IFERROR(INDEX(Tabela.frequencia[],SMALL(IF(Tabela.frequencia[id]=$E$11,ROW(Tabela.frequencia[id])-1),ROW(A282)),3),DATE(1990,1,1))","v":"1990-01-01"}]
[null,{"$f":"IFERROR(INDEX(Tabela.frequencia[],SMALL(IF(Tabela.frequencia[id]=$E$11,ROW(Tabela.frequencia[id])-1),ROW(A283)),3),DATE(1990,1,1))","v":"1990-01-01"}]
[null,{"$f":"IFERROR(INDEX(Tabela.frequencia[],SMALL(IF(Tabela.frequencia[id]=$E$11,ROW(Tabela.frequencia[id])-1),ROW(A284)),3),DATE(1990,1,1))","v":"1990-01-01"}]
[null,{"$f":"IFERROR(INDEX(Tabela.frequencia[],SMALL(IF(Tabela.frequencia[id]=$E$11,ROW(Tabela.frequencia[id])-1),ROW(A285)),3),DATE(1990,1,1))","v":"1990-01-01"}]
[null,{"$f":"IFERROR(INDEX(Tabela.frequencia[],SMALL(IF(Tabela.frequencia[id]=$E$11,ROW(Tabela.frequencia[id])-1),ROW(A286)),3),DATE(1990,1,1))","v":"1990-01-01"}]
[null,{"$f":"IFERROR(INDEX(Tabela.frequencia[],SMALL(IF(Tabela.frequencia[id]=$E$11,ROW(Tabela.frequencia[id])-1),ROW(A287)),3),DATE(1990,1,1))","v":"1990-01-01"}]
[null,{"$f":"IFERROR(INDEX(Tabela.frequencia[],SMALL(IF(Tabela.frequencia[id]=$E$11,ROW(Tabela.frequencia[id])-1),ROW(A288)),3),DATE(1990,1,1))","v":"1990-01-01"}]
[null,{"$f":"IFERROR(INDEX(Tabela.frequencia[],SMALL(IF(Tabela.frequencia[id]=$E$11,ROW(Tabela.frequencia[id])-1),ROW(A289)),3),DATE(1990,1,1))","v":"1990-01-01"}]
[null,{"$f":"IFERROR(INDEX(Tabela.frequencia[],SMALL(IF(Tabela.frequencia[id]=$E$11,ROW(Tabela.frequencia[id])-1),ROW(A290)),3),DATE(1990,1,1))","v":"1990-01-01"}]
[null,{"$f":"IFERROR(INDEX(Tabela.frequencia[],SMALL(IF(Tabela.frequencia[id]=$E$11,ROW(Tabela.frequencia[id])-1),ROW(A291)),3),DATE(1990,1,1))","v":"1990-01-01"}]
[null,{"$f":"IFERROR(INDEX(Tabela.frequencia[],SMALL(IF(Tabela.frequencia[id]=$E$11,ROW(Tabela.frequencia[id])-1),ROW(A292)),3),DATE(1990,1,1))","v":"1990-01-01"}]
[null,{"$f":"IFERROR(INDEX(Tabela.frequencia[],SMALL(IF(Tabela.frequencia[id]=$E$11,ROW(Tabela.frequencia[id])-1),ROW(A293)),3),DATE(1990,1,1))","v":"1990-01-01"}]
[null,{"$f":"IFERROR(INDEX(Tabela.frequencia[],SMALL(IF(Tabela.frequencia[id]=$E$11,ROW(Tabela.frequencia[id])-1),ROW(A294)),3),DATE(1990,1,1))","v":"1990-01-01"}]
[null,{"$f":"IFERROR(INDEX(Tabela.frequencia[],SMALL(IF(Tabela.frequencia[id]=$E$11,ROW(Tabela.frequencia[id])-1),ROW(A295)),3),DATE(1990,1,1))","v":"1990-01-01"}]
[null,{"$f":"IFERROR(INDEX(Tabela.frequencia[],SMALL(IF(Tabela.frequencia[id]=$E$11,ROW(Tabela.frequencia[id])-1),ROW(A296)),3),DATE(1990,1,1))","v":"1990-01-01"}]
[null,{"$f":"IFERROR(INDEX(Tabela.frequencia[],SMALL(IF(Tabela.frequencia[id]=$E$11,ROW(Tabela.frequencia[id])-1),ROW(A297)),3),DATE(1990,1,1))","v":"1990-01-01"}]
[null,{"$f":"IFERROR(INDEX(Tabela.frequencia[],SMALL(IF(Tabela.frequencia[id]=$E$11,ROW(Tabela.frequencia[id])-1),ROW(A298)),3),DATE(1990,1,1))","v":"1990-01-01"}]
[null,{"$f":"IFERROR(INDEX(Tabela.frequencia[],SMALL(IF(Tabela.frequencia[id]=$E$11,ROW(Tabela.frequencia[id])-1),ROW(A299)),3),DATE(1990,1,1))","v":"1990-01-01"}]
[null,{"$f":"IFERROR(INDEX(Tabela.frequencia[],SMALL(IF(Tabela.frequencia[id]=$E$11,ROW(Tabela.frequencia[id])-1),ROW(A300)),3),DATE(1990,1,1))","v":"1990-01-01"}]
[null,{"$f":"IFERROR(INDEX(Tabela.frequencia[],SMALL(IF(Tabela.frequencia[id]=$E$11,ROW(Tabela.frequencia[id])-1),ROW(A301)),3),DATE(1990,1,1))","v":"1990-01-01"}]
[null,{"$f":"IFERROR(INDEX(Tabela.frequencia[],SMALL(IF(Tabela.frequencia[id]=$E$11,ROW(Tabela.frequencia[id])-1),ROW(A302)),3),DATE(1990,1,1))","v":"1990-01-01"}]
[null,{"$f":"IFERROR(INDEX(Tabela.frequencia[],SMALL(IF(Tabela.frequencia[id]=$E$11,ROW(Tabela.frequencia[id])-1),ROW(A303)),3),DATE(1990,1,1))","v":"1990-01-01"}]
[null,{"$f":"IFERROR(INDEX(Tabela.frequencia[],SMALL(IF(Tabela.frequencia[id]=$E$11,ROW(Tabela.frequencia[id])-1),ROW(A304)),3),DATE(1990,1,1))","v":"1990-01-01"}]
[null,{"$f":"IFERROR(INDEX(Tabela.frequencia[],SMALL(IF(Tabela.frequencia[id]=$E$11,ROW(Tabela.frequencia[id])-1),ROW(A305)),3),DATE(1990,1,1))","v":"1990-01-01"}]
[null,{"$f":"IFERROR(INDEX(Tabela.frequencia[],SMALL(IF(Tabela.frequencia[id]=$E$11,ROW(Tabela.frequencia[id])-1),ROW(A306)),3),DATE(1990,1,1))","v":"1990-01-01"}]
[null,{"$f":"IFERROR(INDEX(Tabela.frequencia[],SMALL(IF(Tabela.frequencia[id]=$E$11,ROW(Tabela.frequencia[id])-1),ROW(A307)),3),DATE(1990,1,1))","v":"1990-01-01"}]
[null,{"$f":"IFERROR(INDEX(Tabela.frequencia[],SMALL(IF(Tabela.frequencia[id]=$E$11,ROW(Tabela.frequencia[id])-1),ROW(A308)),3),DATE(1990,1,1))","v":"1990-01-01"}]
[null,{"$f":"IFERROR(INDEX(Tabela.frequencia[],SMALL(IF(Tabela.frequencia[id]=$E$11,ROW(Tabela.frequencia[id])-1),ROW(A309)),3),DATE(1990,1,1))","v":"1990-01-01"}]
[null,{"$f":"IFERROR(INDEX(Tabela.frequencia[],SMALL(IF(Tabela.frequencia[id]=$E$11,ROW(Tabela.frequencia[id])-1),ROW(A310)),3),DATE(1990,1,1))","v":"1990-01-01"}]
[null,{"$f":"IFERROR(INDEX(Tabela.frequencia[],SMALL(IF(Tabela.frequencia[id]=$E$11,ROW(Tabela.frequencia[id])-1),ROW(A311)),3),DATE(1990,1,1))","v":"1990-01-01"}]
[null,{"$f":"IFERROR(INDEX(Tabela.frequencia[],SMALL(IF(Tabela.frequencia[id]=$E$11,ROW(Tabela.frequencia[id])-1),ROW(A312)),3),DATE(1990,1,1))","v":"1990-01-01"}]
[null,{"$f":"IFERROR(INDEX(Tabela.frequencia[],SMALL(IF(Tabela.frequencia[id]=$E$11,ROW(Tabela.frequencia[id])-1),ROW(A313)),3),DATE(1990,1,1))","v":"1990-01-01"}]
[null,{"$f":"IFERROR(INDEX(Tabela.frequencia[],SMALL(IF(Tabela.frequencia[id]=$E$11,ROW(Tabela.frequencia[id])-1),ROW(A314)),3),DATE(1990,1,1))","v":"1990-01-01"}]
[null,{"$f":"IFERROR(INDEX(Tabela.frequencia[],SMALL(IF(Tabela.frequencia[id]=$E$11,ROW(Tabela.frequencia[id])-1),ROW(A315)),3),DATE(1990,1,1))","v":"1990-01-01"}]
[null,{"$f":"IFERROR(INDEX(Tabela.frequencia[],SMALL(IF(Tabela.frequencia[id]=$E$11,ROW(Tabela.frequencia[id])-1),ROW(A316)),3),DATE(1990,1,1))","v":"1990-01-01"}]
[null,{"$f":"IFERROR(INDEX(Tabela.frequencia[],SMALL(IF(Tabela.frequencia[id]=$E$11,ROW(Tabela.frequencia[id])-1),ROW(A317)),3),DATE(1990,1,1))","v":"1990-01-01"}]
[null,{"$f":"IFERROR(INDEX(Tabela.frequencia[],SMALL(IF(Tabela.frequencia[id]=$E$11,ROW(Tabela.frequencia[id])-1),ROW(A318)),3),DATE(1990,1,1))","v":"1990-01-01"}]
[null,{"$f":"IFERROR(INDEX(Tabela.frequencia[],SMALL(IF(Tabela.frequencia[id]=$E$11,ROW(Tabela.frequencia[id])-1),ROW(A319)),3),DATE(1990,1,1))","v":"1990-01-01"}]
[null,{"$f":"IFERROR(INDEX(Tabela.frequencia[],SMALL(IF(Tabela.frequencia[id]=$E$11,ROW(Tabela.frequencia[id])-1),ROW(A320)),3),DATE(1990,1,1))","v":"1990-01-01"}]
[null,{"$f":"IFERROR(INDEX(Tabela.frequencia[],SMALL(IF(Tabela.frequencia[id]=$E$11,ROW(Tabela.frequencia[id])-1),ROW(A321)),3),DATE(1990,1,1))","v":"1990-01-01"}]
[null,{"$f":"IFERROR(INDEX(Tabela.frequencia[],SMALL(IF(Tabela.frequencia[id]=$E$11,ROW(Tabela.frequencia[id])-1),ROW(A322)),3),DATE(1990,1,1))","v":"1990-01-01"}]
[null,{"$f":"IFERROR(INDEX(Tabela.frequencia[],SMALL(IF(Tabela.frequencia[id]=$E$11,ROW(Tabela.frequencia[id])-1),ROW(A323)),3),DATE(1990,1,1))","v":"1990-01-01"}]
[null,{"$f":"IFERROR(INDEX(Tabela.frequencia[],SMALL(IF(Tabela.frequencia[id]=$E$11,ROW(Tabela.frequencia[id])-1),ROW(A324)),3),DATE(1990,1,1))","v":"1990-01-01"}]
[null,{"$f":"IFERROR(INDEX(Tabela.frequencia[],SMALL(IF(Tabela.frequencia[id]=$E$11,ROW(Tabela.frequencia[id])-1),ROW(A325)),3),DATE(1990,1,1))","v":"1990-01-01"}]
[null,{"$f":"IFERROR(INDEX(Tabela.frequencia[],SMALL(IF(Tabela.frequencia[id]=$E$11,ROW(Tabela.frequencia[id])-1),ROW(A326)),3),DATE(1990,1,1))","v":"1990-01-01"}]
[null,{"$f":"IFERROR(INDEX(Tabela.frequencia[],SMALL(IF(Tabela.frequencia[id]=$E$11,ROW(Tabela.frequencia[id])-1),ROW(A327)),3),DATE(1990,1,1))","v":"1990-01-01"}]
[null,{"$f":"IFERROR(INDEX(Tabela.frequencia[],SMALL(IF(Tabela.frequencia[id]=$E$11,ROW(Tabela.frequencia[id])-1),ROW(A328)),3),DATE(1990,1,1))","v":"1990-01-01"}]
[null,{"$f":"IFERROR(INDEX(Tabela.frequencia[],SMALL(IF(Tabela.frequencia[id]=$E$11,ROW(Tabela.frequencia[id])-1),ROW(A329)),3),DATE(1990,1,1))","v":"1990-01-01"}]
[null,{"$f":"IFERROR(INDEX(Tabela.frequencia[],SMALL(IF(Tabela.frequencia[id]=$E$11,ROW(Tabela.frequencia[id])-1),ROW(A330)),3),DATE(1990,1,1))","v":"1990-01-01"}]
[null,{"$f":"IFERROR(INDEX(Tabela.frequencia[],SMALL(IF(Tabela.frequencia[id]=$E$11,ROW(Tabela.frequencia[id])-1),ROW(A331)),3),DATE(1990,1,1))","v":"1990-01-01"}]
[null,{"$f":"IFERROR(INDEX(Tabela.frequencia[],SMALL(IF(Tabela.frequencia[id]=$E$11,ROW(Tabela.frequencia[id])-1),ROW(A332)),3),DATE(1990,1,1))","v":"1990-01-01"}]
[null,{"$f":"IFERROR(INDEX(Tabela.frequencia[],SMALL(IF(Tabela.frequencia[id]=$E$11,ROW(Tabela.frequencia[id])-1),ROW(A333)),3),DATE(1990,1,1))","v":"1990-01-01"}]
[null,{"$f":"IFERROR(INDEX(Tabela.frequencia[],SMALL(IF(Tabela.frequencia[id]=$E$11,ROW(Tabela.frequencia[id])-1),ROW(A334)),3),DATE(1990,1,1))","v":"1990-01-01"}]
[null,{"$f":"IFERROR(INDEX(Tabela.frequencia[],SMALL(IF(Tabela.frequencia[id]=$E$11,ROW(Tabela.frequencia[id])-1),ROW(A335)),3),DATE(1990,1,1))","v":"1990-01-01"}]
[null,{"$f":"IFERROR(INDEX(Tabela.frequencia[],SMALL(IF(Tabela.frequencia[id]=$E$11,ROW(Tabela.frequencia[id])-1),ROW(A336)),3),DATE(1990,1,1))","v":"1990-01-01"}]
[null,{"$f":"IFERROR(INDEX(Tabela.frequencia[],SMALL(IF(Tabela.frequencia[id]=$E$11,ROW(Tabela.frequencia[id])-1),ROW(A337)),3),DATE(1990,1,1))","v":"1990-01-01"}]
[null,{"$f":"IFERROR(INDEX(Tabela.frequencia[],SMALL(IF(Tabela.frequencia[id]=$E$11,ROW(Tabela.frequencia[id])-1),ROW(A338)),3),DATE(1990,1,1))","v":"1990-01-01"}]
[null,{"$f":"IFERROR(INDEX(Tabela.frequencia[],SMALL(IF(Tabela.frequencia[id]=$E$11,ROW(Tabela.frequencia[id])-1),ROW(A339)),3),DATE(1990,1,1))","v":"1990-01-01"}]
[null,{"$f":"IFERROR(INDEX(Tabela.frequencia[],SMALL(IF(Tabela.frequencia[id]=$E$11,ROW(Tabela.frequencia[id])-1),ROW(A340)),3),DATE(1990,1,1))","v":"1990-01-01"}]
[null,{"$f":"IFERROR(INDEX(Tabela.frequencia[],SMALL(IF(Tabela.frequencia[id]=$E$11,ROW(Tabela.frequencia[id])-1),ROW(A341)),3),DATE(1990,1,1))","v":"1990-01-01"}]
[null,{"$f":"IFERROR(INDEX(Tabela.frequencia[],SMALL(IF(Tabela.frequencia[id]=$E$11,ROW(Tabela.frequencia[id])-1),ROW(A342)),3),DATE(1990,1,1))","v":"1990-01-01"}]
[null,{"$f":"IFERROR(INDEX(Tabela.frequencia[],SMALL(IF(Tabela.frequencia[id]=$E$11,ROW(Tabela.frequencia[id])-1),ROW(A343)),3),DATE(1990,1,1))","v":"1990-01-01"}]
[null,{"$f":"IFERROR(INDEX(Tabela.frequencia[],SMALL(IF(Tabela.frequencia[id]=$E$11,ROW(Tabela.frequencia[id])-1),ROW(A344)),3),DATE(1990,1,1))","v":"1990-01-01"}]
[null,{"$f":"IFERROR(INDEX(Tabela.frequencia[],SMALL(IF(Tabela.frequencia[id]=$E$11,ROW(Tabela.frequencia[id])-1),ROW(A345)),3),DATE(1990,1,1))","v":"1990-01-01"}]
[null,{"$f":"IFERROR(INDEX(Tabela.frequencia[],SMALL(IF(Tabela.frequencia[id]=$E$11,ROW(Tabela.frequencia[id])-1),ROW(A346)),3),DATE(1990,1,1))","v":"1990-01-01"}]
[null,{"$f":"IFERROR(INDEX(Tabela.frequencia[],SMALL(IF(Tabela.frequencia[id]=$E$11,ROW(Tabela.frequencia[id])-1),ROW(A347)),3),DATE(1990,1,1))","v":"1990-01-01"}]
[null,{"$f":"IFERROR(INDEX(Tabela.frequencia[],SMALL(IF(Tabela.frequencia[id]=$E$11,ROW(Tabela.frequencia[id])-1),ROW(A348)),3),DATE(1990,1,1))","v":"1990-01-01"}]
[null,{"$f":"IFERROR(INDEX(Tabela.frequencia[],SMALL(IF(Tabela.frequencia[id]=$E$11,ROW(Tabela.frequencia[id])-1),ROW(A349)),3),DATE(1990,1,1))","v":"1990-01-01"}]
[null,{"$f":"IFERROR(INDEX(Tabela.frequencia[],SMALL(IF(Tabela.frequencia[id]=$E$11,ROW(Tabela.frequencia[id])-1),ROW(A350)),3),DATE(1990,1,1))","v":"1990-01-01"}]
[null,{"$f":"IFERROR(INDEX(Tabela.frequencia[],SMALL(IF(Tabela.frequencia[id]=$E$11,ROW(Tabela.frequencia[id])-1),ROW(A351)),3),DATE(1990,1,1))","v":"1990-01-01"}]
[null,{"$f":"IFERROR(INDEX(Tabela.frequencia[],SMALL(IF(Tabela.frequencia[id]=$E$11,ROW(Tabela.frequencia[id])-1),ROW(A352)),3),DATE(1990,1,1))","v":"1990-01-01"}]
[null,{"$f":"IFERROR(INDEX(Tabela.frequencia[],SMALL(IF(Tabela.frequencia[id]=$E$11,ROW(Tabela.frequencia[id])-1),ROW(A353)),3),DATE(1990,1,1))","v":"1990-01-01"}]
[null,{"$f":"IFERROR(INDEX(Tabela.frequencia[],SMALL(IF(Tabela.frequencia[id]=$E$11,ROW(Tabela.frequencia[id])-1),ROW(A354)),3),DATE(1990,1,1))","v":"1990-01-01"}]
[null,{"$f":"IFERROR(INDEX(Tabela.frequencia[],SMALL(IF(Tabela.frequencia[id]=$E$11,ROW(Tabela.frequencia[id])-1),ROW(A355)),3),DATE(1990,1,1))","v":"1990-01-01"}]
[null,{"$f":"IFERROR(INDEX(Tabela.frequencia[],SMALL(IF(Tabela.frequencia[id]=$E$11,ROW(Tabela.frequencia[id])-1),ROW(A356)),3),DATE(1990,1,1))","v":"1990-01-01"}]
[null,{"$f":"IFERROR(INDEX(Tabela.frequencia[],SMALL(IF(Tabela.frequencia[id]=$E$11,ROW(Tabela.frequencia[id])-1),ROW(A357)),3),DATE(1990,1,1))","v":"1990-01-01"}]
[null,{"$f":"IFERROR(INDEX(Tabela.frequencia[],SMALL(IF(Tabela.frequencia[id]=$E$11,ROW(Tabela.frequencia[id])-1),ROW(A358)),3),DATE(1990,1,1))","v":"1990-01-01"}]
[null,{"$f":"IFERROR(INDEX(Tabela.frequencia[],SMALL(IF(Tabela.frequencia[id]=$E$11,ROW(Tabela.frequencia[id])-1),ROW(A359)),3),DATE(1990,1,1))","v":"1990-01-01"}]
[null,{"$f":"IFERROR(INDEX(Tabela.frequencia[],SMALL(IF(Tabela.frequencia[id]=$E$11,ROW(Tabela.frequencia[id])-1),ROW(A360)),3),DATE(1990,1,1))","v":"1990-01-01"}]
[null,{"$f":"IFERROR(INDEX(Tabela.frequencia[],SMALL(IF(Tabela.frequencia[id]=$E$11,ROW(Tabela.frequencia[id])-1),ROW(A361)),3),DATE(1990,1,1))","v":"1990-01-01"}]
[null,{"$f":"IFERROR(INDEX(Tabela.frequencia[],SMALL(IF(Tabela.frequencia[id]=$E$11,ROW(Tabela.frequencia[id])-1),ROW(A362)),3),DATE(1990,1,1))","v":"1990-01-01"}]
[null,{"$f":"IFERROR(INDEX(Tabela.frequencia[],SMALL(IF(Tabela.frequencia[id]=$E$11,ROW(Tabela.frequencia[id])-1),ROW(A363)),3),DATE(1990,1,1))","v":"1990-01-01"}]
[null,{"$f":"IFERROR(INDEX(Tabela.frequencia[],SMALL(IF(Tabela.frequencia[id]=$E$11,ROW(Tabela.frequencia[id])-1),ROW(A364)),3),DATE(1990,1,1))","v":"1990-01-01"}]
[null,{"$f":"IFERROR(INDEX(Tabela.frequencia[],SMALL(IF(Tabela.frequencia[id]=$E$11,ROW(Tabela.frequencia[id])-1),ROW(A365)),3),DATE(1990,1,1))","v":"1990-01-01"}]
[null,{"$f":"IFERROR(INDEX(Tabela.frequencia[],SMALL(IF(Tabela.frequencia[id]=$E$11,ROW(Tabela.frequencia[id])-1),ROW(A366)),3),DATE(1990,1,1))","v":"1990-01-01"}]
[null,{"$f":"IFERROR(INDEX(Tabela.frequencia[],SMALL(IF(Tabela.frequencia[id]=$E$11,ROW(Tabela.frequencia[id])-1),ROW(A367)),3),DATE(1990,1,1))","v":"1990-01-01"}]
[null,{"$f":"IFERROR(INDEX(Tabela.frequencia[],SMALL(IF(Tabela.frequencia[id]=$E$11,ROW(Tabela.frequencia[id])-1),ROW(A368)),3),DATE(1990,1,1))","v":"1990-01-01"}]
[null,{"$f":"IFERROR(INDEX(Tabela.frequencia[],SMALL(IF(Tabela.frequencia[id]=$E$11,ROW(Tabela.frequencia[id])-1),ROW(A369)),3),DATE(1990,1,1))","v":"1990-01-01"}]
[null,{"$f":"IFERROR(INDEX(Tabela.frequencia[],SMALL(IF(Tabela.frequencia[id]=$E$11,ROW(Tabela.frequencia[id])-1),ROW(A370)),3),DATE(1990,1,1))","v":"1990-01-01"}]
[null,{"$f":"IFERROR(INDEX(Tabela.frequencia[],SMALL(IF(Tabela.frequencia[id]=$E$11,ROW(Tabela.frequencia[id])-1),ROW(A371)),3),DATE(1990,1,1))","v":"1990-01-01"}]
[null,{"$f":"IFERROR(INDEX(Tabela.frequencia[],SMALL(IF(Tabela.frequencia[id]=$E$11,ROW(Tabela.frequencia[id])-1),ROW(A372)),3),DATE(1990,1,1))","v":"1990-01-01"}]
[null,{"$f":"IFERROR(INDEX(Tabela.frequencia[],SMALL(IF(Tabela.frequencia[id]=$E$11,ROW(Tabela.frequencia[id])-1),ROW(A373)),3),DATE(1990,1,1))","v":"1990-01-01"}]
[null,{"$f":"IFERROR(INDEX(Tabela.frequencia[],SMALL(IF(Tabela.frequencia[id]=$E$11,ROW(Tabela.frequencia[id])-1),ROW(A374)),3),DATE(1990,1,1))","v":"1990-01-01"}]
[null,{"$f":"IFERROR(INDEX(Tabela.frequencia[],SMALL(IF(Tabela.frequencia[id]=$E$11,ROW(Tabela.frequencia[id])-1),ROW(A375)),3),DATE(1990,1,1))","v":"1990-01-01"}]
[null,{"$f":"IFERROR(INDEX(Tabela.frequencia[],SMALL(IF(Tabela.frequencia[id]=$E$11,ROW(Tabela.frequencia[id])-1),ROW(A376)),3),DATE(1990,1,1))","v":"1990-01-01"}]
[null,{"$f":"IFERROR(INDEX(Tabela.frequencia[],SMALL(IF(Tabela.frequencia[id]=$E$11,ROW(Tabela.frequencia[id])-1),ROW(A377)),3),DATE(1990,1,1))","v":"1990-01-01"}]
[null,{"$f":"IFERROR(INDEX(Tabela.frequencia[],SMALL(IF(Tabela.frequencia[id]=$E$11,ROW(Tabela.frequencia[id])-1),ROW(A378)),3),DATE(1990,1,1))","v":"1990-01-01"}]
[null,{"$f":"IFERROR(INDEX(Tabela.frequencia[],SMALL(IF(Tabela.frequencia[id]=$E$11,ROW(Tabela.frequencia[id])-1),ROW(A379)),3),DATE(1990,1,1))","v":"1990-01-01"}]
[null,{"$f":"IFERROR(INDEX(Tabela.frequencia[],SMALL(IF(Tabela.frequencia[id]=$E$11,ROW(Tabela.frequencia[id])-1),ROW(A380)),3),DATE(1990,1,1))","v":"1990-01-01"}]
[null,{"$f":"IFERROR(INDEX(Tabela.frequencia[],SMALL(IF(Tabela.frequencia[id]=$E$11,ROW(Tabela.frequencia[id])-1),ROW(A381)),3),DATE(1990,1,1))","v":"1990-01-01"}]
[null,{"$f":"IFERROR(INDEX(Tabela.frequencia[],SMALL(IF(Tabela.frequencia[id]=$E$11,ROW(Tabela.frequencia[id])-1),ROW(A382)),3),DATE(1990,1,1))","v":"1990-01-01"}]
[null,{"$f":"IFERROR(INDEX(Tabela.frequencia[],SMALL(IF(Tabela.frequencia[id]=$E$11,ROW(Tabela.frequencia[id])-1),ROW(A383)),3),DATE(1990,1,1))","v":"1990-01-01"}]
[null,{"$f":"IFERROR(INDEX(Tabela.frequencia[],SMALL(IF(Tabela.frequencia[id]=$E$11,ROW(Tabela.frequencia[id])-1),ROW(A384)),3),DATE(1990,1,1))","v":"1990-01-01"}]
[null,{"$f":"IFERROR(INDEX(Tabela.frequencia[],SMALL(IF(Tabela.frequencia[id]=$E$11,ROW(Tabela.frequencia[id])-1),ROW(A385)),3),DATE(1990,1,1))","v":"1990-01-01"}]
[null,{"$f":"IFERROR(INDEX(Tabela.frequencia[],SMALL(IF(Tabela.frequencia[id]=$E$11,ROW(Tabela.frequencia[id])-1),ROW(A386)),3),DATE(1990,1,1))","v":"1990-01-01"}]
[null,{"$f":"IFERROR(INDEX(Tabela.frequencia[],SMALL(IF(Tabela.frequencia[id]=$E$11,ROW(Tabela.frequencia[id])-1),ROW(A387)),3),DATE(1990,1,1))","v":"1990-01-01"}]
[null,{"$f":"IFERROR(INDEX(Tabela.frequencia[],SMALL(IF(Tabela.frequencia[id]=$E$11,ROW(Tabela.frequencia[id])-1),ROW(A388)),3),DATE(1990,1,1))","v":"1990-01-01"}]
[null,{"$f":"IFERROR(INDEX(Tabela.frequencia[],SMALL(IF(Tabela.frequencia[id]=$E$11,ROW(Tabela.frequencia[id])-1),ROW(A389)),3),DATE(1990,1,1))","v":"1990-01-01"}]
[null,{"$f":"IFERROR(INDEX(Tabela.frequencia[],SMALL(IF(Tabela.frequencia[id]=$E$11,ROW(Tabela.frequencia[id])-1),ROW(A390)),3),DATE(1990,1,1))","v":"1990-01-01"}]
[null,{"$f":"IFERROR(INDEX(Tabela.frequencia[],SMALL(IF(Tabela.frequencia[id]=$E$11,ROW(Tabela.frequencia[id])-1),ROW(A391)),3),DATE(1990,1,1))","v":"1990-01-01"}]
[null,{"$f":"IFERROR(INDEX(Tabela.frequencia[],SMALL(IF(Tabela.frequencia[id]=$E$11,ROW(Tabela.frequencia[id])-1),ROW(A392)),3),DATE(1990,1,1))","v":"1990-01-01"}]
[null,{"$f":"IFERROR(INDEX(Tabela.frequencia[],SMALL(IF(Tabela.frequencia[id]=$E$11,ROW(Tabela.frequencia[id])-1),ROW(A393)),3),DATE(1990,1,1))","v":"1990-01-01"}]
[null,{"$f":"IFERROR(INDEX(Tabela.frequencia[],SMALL(IF(Tabela.frequencia[id]=$E$11,ROW(Tabela.frequencia[id])-1),ROW(A394)),3),DATE(1990,1,1))","v":"1990-01-01"}]
[null,{"$f":"IFERROR(INDEX(Tabela.frequencia[],SMALL(IF(Tabela.frequencia[id]=$E$11,ROW(Tabela.frequencia[id])-1),ROW(A395)),3),DATE(1990,1,1))","v":"1990-01-01"}]
[null,{"$f":"IFERROR(INDEX(Tabela.frequencia[],SMALL(IF(Tabela.frequencia[id]=$E$11,ROW(Tabela.frequencia[id])-1),ROW(A396)),3),DATE(1990,1,1))","v":"1990-01-01"}]
[null,{"$f":"IFERROR(INDEX(Tabela.frequencia[],SMALL(IF(Tabela.frequencia[id]=$E$11,ROW(Tabela.frequencia[id])-1),ROW(A397)),3),DATE(1990,1,1))","v":"1990-01-01"}]
[null,{"$f":"IFERROR(INDEX(Tabela.frequencia[],SMALL(IF(Tabela.frequencia[id]=$E$11,ROW(Tabela.frequencia[id])-1),ROW(A398)),3),DATE(1990,1,1))","v":"1990-01-01"}]
[null,{"$f":"IFERROR(INDEX(Tabela.frequencia[],SMALL(IF(Tabela.frequencia[id]=$E$11,ROW(Tabela.frequencia[id])-1),ROW(A399)),3),DATE(1990,1,1))","v":"1990-01-01"}]
[null,{"$f":"IFERROR(INDEX(Tabela.frequencia[],SMALL(IF(Tabela.frequencia[id]=$E$11,ROW(Tabela.frequencia[id])-1),ROW(A400)),3),DATE(1990,1,1))","v":"1990-01-01"}]
[null,{"$f":"IFERROR(INDEX(Tabela.frequencia[],SMALL(IF(Tabela.frequencia[id]=$E$11,ROW(Tabela.frequencia[id])-1),ROW(A401)),3),DATE(1990,1,1))","v":"1990-01-01"}]
[null,{"$f":"IFERROR(INDEX(Tabela.frequencia[],SMALL(IF(Tabela.frequencia[id]=$E$11,ROW(Tabela.frequencia[id])-1),ROW(A402)),3),DATE(1990,1,1))","v":"1990-01-01"}]
[null,{"$f":"IFERROR(INDEX(Tabela.frequencia[],SMALL(IF(Tabela.frequencia[id]=$E$11,ROW(Tabela.frequencia[id])-1),ROW(A403)),3),DATE(1990,1,1))","v":"1990-01-01"}]
[null,{"$f":"IFERROR(INDEX(Tabela.frequencia[],SMALL(IF(Tabela.frequencia[id]=$E$11,ROW(Tabela.frequencia[id])-1),ROW(A404)),3),DATE(1990,1,1))","v":"1990-01-01"}]
[null,{"$f":"IFERROR(INDEX(Tabela.frequencia[],SMALL(IF(Tabela.frequencia[id]=$E$11,ROW(Tabela.frequencia[id])-1),ROW(A405)),3),DATE(1990,1,1))","v":"1990-01-01"}]
[null,{"$f":"IFERROR(INDEX(Tabela.frequencia[],SMALL(IF(Tabela.frequencia[id]=$E$11,ROW(Tabela.frequencia[id])-1),ROW(A406)),3),DATE(1990,1,1))","v":"1990-01-01"}]
[null,{"$f":"IFERROR(INDEX(Tabela.frequencia[],SMALL(IF(Tabela.frequencia[id]=$E$11,ROW(Tabela.frequencia[id])-1),ROW(A407)),3),DATE(1990,1,1))","v":"1990-01-01"}]
[null,{"$f":"IFERROR(INDEX(Tabela.frequencia[],SMALL(IF(Tabela.frequencia[id]=$E$11,ROW(Tabela.frequencia[id])-1),ROW(A408)),3),DATE(1990,1,1))","v":"1990-01-01"}]
[null,{"$f":"IFERROR(INDEX(Tabela.frequencia[],SMALL(IF(Tabela.frequencia[id]=$E$11,ROW(Tabela.frequencia[id])-1),ROW(A409)),3),DATE(1990,1,1))","v":"1990-01-01"}]
[null,{"$f":"IFERROR(INDEX(Tabela.frequencia[],SMALL(IF(Tabela.frequencia[id]=$E$11,ROW(Tabela.frequencia[id])-1),ROW(A410)),3),DATE(1990,1,1))","v":"1990-01-01"}]
[null,{"$f":"IFERROR(INDEX(Tabela.frequencia[],SMALL(IF(Tabela.frequencia[id]=$E$11,ROW(Tabela.frequencia[id])-1),ROW(A411)),3),DATE(1990,1,1))","v":"1990-01-01"}]
[null,{"$f":"IFERROR(INDEX(Tabela.frequencia[],SMALL(IF(Tabela.frequencia[id]=$E$11,ROW(Tabela.frequencia[id])-1),ROW(A412)),3),DATE(1990,1,1))","v":"1990-01-01"}]
[null,{"$f":"IFERROR(INDEX(Tabela.frequencia[],SMALL(IF(Tabela.frequencia[id]=$E$11,ROW(Tabela.frequencia[id])-1),ROW(A413)),3),DATE(1990,1,1))","v":"1990-01-01"}]
[null,{"$f":"IFERROR(INDEX(Tabela.frequencia[],SMALL(IF(Tabela.frequencia[id]=$E$11,ROW(Tabela.frequencia[id])-1),ROW(A414)),3),DATE(1990,1,1))","v":"1990-01-01"}]
[null,{"$f":"IFERROR(INDEX(Tabela.frequencia[],SMALL(IF(Tabela.frequencia[id]=$E$11,ROW(Tabela.frequencia[id])-1),ROW(A415)),3),DATE(1990,1,1))","v":"1990-01-01"}]
[null,{"$f":"IFERROR(INDEX(Tabela.frequencia[],SMALL(IF(Tabela.frequencia[id]=$E$11,ROW(Tabela.frequencia[id])-1),ROW(A416)),3),DATE(1990,1,1))","v":"1990-01-01"}]
[null,{"$f":"IFERROR(INDEX(Tabela.frequencia[],SMALL(IF(Tabela.frequencia[id]=$E$11,ROW(Tabela.frequencia[id])-1),ROW(A417)),3),DATE(1990,1,1))","v":"1990-01-01"}]
[null,{"$f":"IFERROR(INDEX(Tabela.frequencia[],SMALL(IF(Tabela.frequencia[id]=$E$11,ROW(Tabela.frequencia[id])-1),ROW(A418)),3),DATE(1990,1,1))","v":"1990-01-01"}]
[null,{"$f":"IFERROR(INDEX(Tabela.frequencia[],SMALL(IF(Tabela.frequencia[id]=$E$11,ROW(Tabela.frequencia[id])-1),ROW(A419)),3),DATE(1990,1,1))","v":"1990-01-01"}]
[null,{"$f":"IFERROR(INDEX(Tabela.frequencia[],SMALL(IF(Tabela.frequencia[id]=$E$11,ROW(Tabela.frequencia[id])-1),ROW(A420)),3),DATE(1990,1,1))","v":"1990-01-01"}]
[null,{"$f":"IFERROR(INDEX(Tabela.frequencia[],SMALL(IF(Tabela.frequencia[id]=$E$11,ROW(Tabela.frequencia[id])-1),ROW(A421)),3),DATE(1990,1,1))","v":"1990-01-01"}]
[null,{"$f":"IFERROR(INDEX(Tabela.frequencia[],SMALL(IF(Tabela.frequencia[id]=$E$11,ROW(Tabela.frequencia[id])-1),ROW(A422)),3),DATE(1990,1,1))","v":"1990-01-01"}]
[null,{"$f":"IFERROR(INDEX(Tabela.frequencia[],SMALL(IF(Tabela.frequencia[id]=$E$11,ROW(Tabela.frequencia[id])-1),ROW(A423)),3),DATE(1990,1,1))","v":"1990-01-01"}]
[null,{"$f":"IFERROR(INDEX(Tabela.frequencia[],SMALL(IF(Tabela.frequencia[id]=$E$11,ROW(Tabela.frequencia[id])-1),ROW(A424)),3),DATE(1990,1,1))","v":"1990-01-01"}]
[null,{"$f":"IFERROR(INDEX(Tabela.frequencia[],SMALL(IF(Tabela.frequencia[id]=$E$11,ROW(Tabela.frequencia[id])-1),ROW(A425)),3),DATE(1990,1,1))","v":"1990-01-01"}]
[null,{"$f":"IFERROR(INDEX(Tabela.frequencia[],SMALL(IF(Tabela.frequencia[id]=$E$11,ROW(Tabela.frequencia[id])-1),ROW(A426)),3),DATE(1990,1,1))","v":"1990-01-01"}]
[null,{"$f":"IFERROR(INDEX(Tabela.frequencia[],SMALL(IF(Tabela.frequencia[id]=$E$11,ROW(Tabela.frequencia[id])-1),ROW(A427)),3),DATE(1990,1,1))","v":"1990-01-01"}]
[null,{"$f":"IFERROR(INDEX(Tabela.frequencia[],SMALL(IF(Tabela.frequencia[id]=$E$11,ROW(Tabela.frequencia[id])-1),ROW(A428)),3),DATE(1990,1,1))","v":"1990-01-01"}]
[null,{"$f":"IFERROR(INDEX(Tabela.frequencia[],SMALL(IF(Tabela.frequencia[id]=$E$11,ROW(Tabela.frequencia[id])-1),ROW(A429)),3),DATE(1990,1,1))","v":"1990-01-01"}]
[null,{"$f":"IFERROR(INDEX(Tabela.frequencia[],SMALL(IF(Tabela.frequencia[id]=$E$11,ROW(Tabela.frequencia[id])-1),ROW(A430)),3),DATE(1990,1,1))","v":"1990-01-01"}]
[null,{"$f":"IFERROR(INDEX(Tabela.frequencia[],SMALL(IF(Tabela.frequencia[id]=$E$11,ROW(Tabela.frequencia[id])-1),ROW(A431)),3),DATE(1990,1,1))","v":"1990-01-01"}]
[null,{"$f":"IFERROR(INDEX(Tabela.frequencia[],SMALL(IF(Tabela.frequencia[id]=$E$11,ROW(Tabela.frequencia[id])-1),ROW(A432)),3),DATE(1990,1,1))","v":"1990-01-01"}]
[null,{"$f":"IFERROR(INDEX(Tabela.frequencia[],SMALL(IF(Tabela.frequencia[id]=$E$11,ROW(Tabela.frequencia[id])-1),ROW(A433)),3),DATE(1990,1,1))","v":"1990-01-01"}]
[null,{"$f":"IFERROR(INDEX(Tabela.frequencia[],SMALL(IF(Tabela.frequencia[id]=$E$11,ROW(Tabela.frequencia[id])-1),ROW(A434)),3),DATE(1990,1,1))","v":"1990-01-01"}]
[null,{"$f":"IFERROR(INDEX(Tabela.frequencia[],SMALL(IF(Tabela.frequencia[id]=$E$11,ROW(Tabela.frequencia[id])-1),ROW(A435)),3),DATE(1990,1,1))","v":"1990-01-01"}]
[null,{"$f":"IFERROR(INDEX(Tabela.frequencia[],SMALL(IF(Tabela.frequencia[id]=$E$11,ROW(Tabela.frequencia[id])-1),ROW(A436)),3),DATE(1990,1,1))","v":"1990-01-01"}]
[null,{"$f":"IFERROR(INDEX(Tabela.frequencia[],SMALL(IF(Tabela.frequencia[id]=$E$11,ROW(Tabela.frequencia[id])-1),ROW(A437)),3),DATE(1990,1,1))","v":"1990-01-01"}]
[null,{"$f":"IFERROR(INDEX(Tabela.frequencia[],SMALL(IF(Tabela.frequencia[id]=$E$11,ROW(Tabela.frequencia[id])-1),ROW(A438)),3),DATE(1990,1,1))","v":"1990-01-01"}]
[null,{"$f":"IFERROR(INDEX(Tabela.frequencia[],SMALL(IF(Tabela.frequencia[id]=$E$11,ROW(Tabela.frequencia[id])-1),ROW(A439)),3),DATE(1990,1,1))","v":"1990-01-01"}]
[null,{"$f":"IFERROR(INDEX(Tabela.frequencia[],SMALL(IF(Tabela.frequencia[id]=$E$11,ROW(Tabela.frequencia[id])-1),ROW(A440)),3),DATE(1990,1,1))","v":"1990-01-01"}]
[null,{"$f":"IFERROR(INDEX(Tabela.frequencia[],SMALL(IF(Tabela.frequencia[id]=$E$11,ROW(Tabela.frequencia[id])-1),ROW(A441)),3),DATE(1990,1,1))","v":"1990-01-01"}]
[null,{"$f":"IFERROR(INDEX(Tabela.frequencia[],SMALL(IF(Tabela.frequencia[id]=$E$11,ROW(Tabela.frequencia[id])-1),ROW(A442)),3),DATE(1990,1,1))","v":"1990-01-01"}]
[null,{"$f":"IFERROR(INDEX(Tabela.frequencia[],SMALL(IF(Tabela.frequencia[id]=$E$11,ROW(Tabela.frequencia[id])-1),ROW(A443)),3),DATE(1990,1,1))","v":"1990-01-01"}]
[null,{"$f":"IFERROR(INDEX(Tabela.frequencia[],SMALL(IF(Tabela.frequencia[id]=$E$11,ROW(Tabela.frequencia[id])-1),ROW(A444)),3),DATE(1990,1,1))","v":"1990-01-01"}]
[null,{"$f":"IFERROR(INDEX(Tabela.frequencia[],SMALL(IF(Tabela.frequencia[id]=$E$11,ROW(Tabela.frequencia[id])-1),ROW(A445)),3),DATE(1990,1,1))","v":"1990-01-01"}]
[null,{"$f":"IFERROR(INDEX(Tabela.frequencia[],SMALL(IF(Tabela.frequencia[id]=$E$11,ROW(Tabela.frequencia[id])-1),ROW(A446)),3),DATE(1990,1,1))","v":"1990-01-01"}]
[null,{"$f":"IFERROR(INDEX(Tabela.frequencia[],SMALL(IF(Tabela.frequencia[id]=$E$11,ROW(Tabela.frequencia[id])-1),ROW(A447)),3),DATE(1990,1,1))","v":"1990-01-01"}]
[null,{"$f":"IFERROR(INDEX(Tabela.frequencia[],SMALL(IF(Tabela.frequencia[id]=$E$11,ROW(Tabela.frequencia[id])-1),ROW(A448)),3),DATE(1990,1,1))","v":"1990-01-01"}]
[null,{"$f":"IFERROR(INDEX(Tabela.frequencia[],SMALL(IF(Tabela.frequencia[id]=$E$11,ROW(Tabela.frequencia[id])-1),ROW(A449)),3),DATE(1990,1,1))","v":"1990-01-01"}]
[null,{"$f":"IFERROR(INDEX(Tabela.frequencia[],SMALL(IF(Tabela.frequencia[id]=$E$11,ROW(Tabela.frequencia[id])-1),ROW(A450)),3),DATE(1990,1,1))","v":"1990-01-01"}]
[null,{"$f":"IFERROR(INDEX(Tabela.frequencia[],SMALL(IF(Tabela.frequencia[id]=$E$11,ROW(Tabela.frequencia[id])-1),ROW(A451)),3),DATE(1990,1,1))","v":"1990-01-01"}]
[null,{"$f":"IFERROR(INDEX(Tabela.frequencia[],SMALL(IF(Tabela.frequencia[id]=$E$11,ROW(Tabela.frequencia[id])-1),ROW(A452)),3),DATE(1990,1,1))","v":"1990-01-01"}]
[null,{"$f":"IFERROR(INDEX(Tabela.frequencia[],SMALL(IF(Tabela.frequencia[id]=$E$11,ROW(Tabela.frequencia[id])-1),ROW(A453)),3),DATE(1990,1,1))","v":"1990-01-01"}]
[null,{"$f":"IFERROR(INDEX(Tabela.frequencia[],SMALL(IF(Tabela.frequencia[id]=$E$11,ROW(Tabela.frequencia[id])-1),ROW(A454)),3),DATE(1990,1,1))","v":"1990-01-01"}]
[null,{"$f":"IFERROR(INDEX(Tabela.frequencia[],SMALL(IF(Tabela.frequencia[id]=$E$11,ROW(Tabela.frequencia[id])-1),ROW(A455)),3),DATE(1990,1,1))","v":"1990-01-01"}]
[null,{"$f":"IFERROR(INDEX(Tabela.frequencia[],SMALL(IF(Tabela.frequencia[id]=$E$11,ROW(Tabela.frequencia[id])-1),ROW(A456)),3),DATE(1990,1,1))","v":"1990-01-01"}]
[null,{"$f":"IFERROR(INDEX(Tabela.frequencia[],SMALL(IF(Tabela.frequencia[id]=$E$11,ROW(Tabela.frequencia[id])-1),ROW(A457)),3),DATE(1990,1,1))","v":"1990-01-01"}]
[null,{"$f":"IFERROR(INDEX(Tabela.frequencia[],SMALL(IF(Tabela.frequencia[id]=$E$11,ROW(Tabela.frequencia[id])-1),ROW(A458)),3),DATE(1990,1,1))","v":"1990-01-01"}]
[null,{"$f":"IFERROR(INDEX(Tabela.frequencia[],SMALL(IF(Tabela.frequencia[id]=$E$11,ROW(Tabela.frequencia[id])-1),ROW(A459)),3),DATE(1990,1,1))","v":"1990-01-01"}]
[null,{"$f":"IFERROR(INDEX(Tabela.frequencia[],SMALL(IF(Tabela.frequencia[id]=$E$11,ROW(Tabela.frequencia[id])-1),ROW(A460)),3),DATE(1990,1,1))","v":"1990-01-01"}]
[null,{"$f":"IFERROR(INDEX(Tabela.frequencia[],SMALL(IF(Tabela.frequencia[id]=$E$11,ROW(Tabela.frequencia[id])-1),ROW(A461)),3),DATE(1990,1,1))","v":"1990-01-01"}]
[null,{"$f":"IFERROR(INDEX(Tabela.frequencia[],SMALL(IF(Tabela.frequencia[id]=$E$11,ROW(Tabela.frequencia[id])-1),ROW(A462)),3),DATE(1990,1,1))","v":"1990-01-01"}]
[null,{"$f":"IFERROR(INDEX(Tabela.frequencia[],SMALL(IF(Tabela.frequencia[id]=$E$11,ROW(Tabela.frequencia[id])-1),ROW(A463)),3),DATE(1990,1,1))","v":"1990-01-01"}]
[null,{"$f":"IFERROR(INDEX(Tabela.frequencia[],SMALL(IF(Tabela.frequencia[id]=$E$11,ROW(Tabela.frequencia[id])-1),ROW(A464)),3),DATE(1990,1,1))","v":"1990-01-01"}]
[null,{"$f":"IFERROR(INDEX(Tabela.frequencia[],SMALL(IF(Tabela.frequencia[id]=$E$11,ROW(Tabela.frequencia[id])-1),ROW(A465)),3),DATE(1990,1,1))","v":"1990-01-01"}]
[null,{"$f":"IFERROR(INDEX(Tabela.frequencia[],SMALL(IF(Tabela.frequencia[id]=$E$11,ROW(Tabela.frequencia[id])-1),ROW(A466)),3),DATE(1990,1,1))","v":"1990-01-01"}]
[null,{"$f":"IFERROR(INDEX(Tabela.frequencia[],SMALL(IF(Tabela.frequencia[id]=$E$11,ROW(Tabela.frequencia[id])-1),ROW(A467)),3),DATE(1990,1,1))","v":"1990-01-01"}]
[null,{"$f":"IFERROR(INDEX(Tabela.frequencia[],SMALL(IF(Tabela.frequencia[id]=$E$11,ROW(Tabela.frequencia[id])-1),ROW(A468)),3),DATE(1990,1,1))","v":"1990-01-01"}]
[null,{"$f":"IFERROR(INDEX(Tabela.frequencia[],SMALL(IF(Tabela.frequencia[id]=$E$11,ROW(Tabela.frequencia[id])-1),ROW(A469)),3),DATE(1990,1,1))","v":"1990-01-01"}]
[null,{"$f":"IFERROR(INDEX(Tabela.frequencia[],SMALL(IF(Tabela.frequencia[id]=$E$11,ROW(Tabela.frequencia[id])-1),ROW(A470)),3),DATE(1990,1,1))","v":"1990-01-01"}]
[null,{"$f":"IFERROR(INDEX(Tabela.frequencia[],SMALL(IF(Tabela.frequencia[id]=$E$11,ROW(Tabela.frequencia[id])-1),ROW(A471)),3),DATE(1990,1,1))","v":"1990-01-01"}]
[null,{"$f":"IFERROR(INDEX(Tabela.frequencia[],SMALL(IF(Tabela.frequencia[id]=$E$11,ROW(Tabela.frequencia[id])-1),ROW(A472)),3),DATE(1990,1,1))","v":"1990-01-01"}]
[null,{"$f":"IFERROR(INDEX(Tabela.frequencia[],SMALL(IF(Tabela.frequencia[id]=$E$11,ROW(Tabela.frequencia[id])-1),ROW(A473)),3),DATE(1990,1,1))","v":"1990-01-01"}]
[null,{"$f":"IFERROR(INDEX(Tabela.frequencia[],SMALL(IF(Tabela.frequencia[id]=$E$11,ROW(Tabela.frequencia[id])-1),ROW(A474)),3),DATE(1990,1,1))","v":"1990-01-01"}]
[null,{"$f":"IFERROR(INDEX(Tabela.frequencia[],SMALL(IF(Tabela.frequencia[id]=$E$11,ROW(Tabela.frequencia[id])-1),ROW(A475)),3),DATE(1990,1,1))","v":"1990-01-01"}]
[null,{"$f":"IFERROR(INDEX(Tabela.frequencia[],SMALL(IF(Tabela.frequencia[id]=$E$11,ROW(Tabela.frequencia[id])-1),ROW(A476)),3),DATE(1990,1,1))","v":"1990-01-01"}]
[null,{"$f":"IFERROR(INDEX(Tabela.frequencia[],SMALL(IF(Tabela.frequencia[id]=$E$11,ROW(Tabela.frequencia[id])-1),ROW(A477)),3),DATE(1990,1,1))","v":"1990-01-01"}]
[null,{"$f":"IFERROR(INDEX(Tabela.frequencia[],SMALL(IF(Tabela.frequencia[id]=$E$11,ROW(Tabela.frequencia[id])-1),ROW(A478)),3),DATE(1990,1,1))","v":"1990-01-01"}]
[null,{"$f":"IFERROR(INDEX(Tabela.frequencia[],SMALL(IF(Tabela.frequencia[id]=$E$11,ROW(Tabela.frequencia[id])-1),ROW(A479)),3),DATE(1990,1,1))","v":"1990-01-01"}]
[null,{"$f":"IFERROR(INDEX(Tabela.frequencia[],SMALL(IF(Tabela.frequencia[id]=$E$11,ROW(Tabela.frequencia[id])-1),ROW(A480)),3),DATE(1990,1,1))","v":"1990-01-01"}]
[null,{"$f":"IFERROR(INDEX(Tabela.frequencia[],SMALL(IF(Tabela.frequencia[id]=$E$11,ROW(Tabela.frequencia[id])-1),ROW(A481)),3),DATE(1990,1,1))","v":"1990-01-01"}]
[null,{"$f":"IFERROR(INDEX(Tabela.frequencia[],SMALL(IF(Tabela.frequencia[id]=$E$11,ROW(Tabela.frequencia[id])-1),ROW(A482)),3),DATE(1990,1,1))","v":"1990-01-01"}]
[null,{"$f":"IFERROR(INDEX(Tabela.frequencia[],SMALL(IF(Tabela.frequencia[id]=$E$11,ROW(Tabela.frequencia[id])-1),ROW(A483)),3),DATE(1990,1,1))","v":"1990-01-01"}]
[null,{"$f":"IFERROR(INDEX(Tabela.frequencia[],SMALL(IF(Tabela.frequencia[id]=$E$11,ROW(Tabela.frequencia[id])-1),ROW(A484)),3),DATE(1990,1,1))","v":"1990-01-01"}]
[null,{"$f":"IFERROR(INDEX(Tabela.frequencia[],SMALL(IF(Tabela.frequencia[id]=$E$11,ROW(Tabela.frequencia[id])-1),ROW(A485)),3),DATE(1990,1,1))","v":"1990-01-01"}]
[null,{"$f":"IFERROR(INDEX(Tabela.frequencia[],SMALL(IF(Tabela.frequencia[id]=$E$11,ROW(Tabela.frequencia[id])-1),ROW(A486)),3),DATE(1990,1,1))","v":"1990-01-01"}]
[null,{"$f":"IFERROR(INDEX(Tabela.frequencia[],SMALL(IF(Tabela.frequencia[id]=$E$11,ROW(Tabela.frequencia[id])-1),ROW(A487)),3),DATE(1990,1,1))","v":"1990-01-01"}]
[null,{"$f":"IFERROR(INDEX(Tabela.frequencia[],SMALL(IF(Tabela.frequencia[id]=$E$11,ROW(Tabela.frequencia[id])-1),ROW(A488)),3),DATE(1990,1,1))","v":"1990-01-01"}]
[null,{"$f":"IFERROR(INDEX(Tabela.frequencia[],SMALL(IF(Tabela.frequencia[id]=$E$11,ROW(Tabela.frequencia[id])-1),ROW(A489)),3),DATE(1990,1,1))","v":"1990-01-01"}]
[null,{"$f":"IFERROR(INDEX(Tabela.frequencia[],SMALL(IF(Tabela.frequencia[id]=$E$11,ROW(Tabela.frequencia[id])-1),ROW(A490)),3),DATE(1990,1,1))","v":"1990-01-01"}]
[null,{"$f":"IFERROR(INDEX(Tabela.frequencia[],SMALL(IF(Tabela.frequencia[id]=$E$11,ROW(Tabela.frequencia[id])-1),ROW(A491)),3),DATE(1990,1,1))","v":"1990-01-01"}]
[null,{"$f":"IFERROR(INDEX(Tabela.frequencia[],SMALL(IF(Tabela.frequencia[id]=$E$11,ROW(Tabela.frequencia[id])-1),ROW(A492)),3),DATE(1990,1,1))","v":"1990-01-01"}]
[null,{"$f":"IFERROR(INDEX(Tabela.frequencia[],SMALL(IF(Tabela.frequencia[id]=$E$11,ROW(Tabela.frequencia[id])-1),ROW(A493)),3),DATE(1990,1,1))","v":"1990-01-01"}]
[null,{"$f":"IFERROR(INDEX(Tabela.frequencia[],SMALL(IF(Tabela.frequencia[id]=$E$11,ROW(Tabela.frequencia[id])-1),ROW(A494)),3),DATE(1990,1,1))","v":"1990-01-01"}]
[null,{"$f":"IFERROR(INDEX(Tabela.frequencia[],SMALL(IF(Tabela.frequencia[id]=$E$11,ROW(Tabela.frequencia[id])-1),ROW(A495)),3),DATE(1990,1,1))","v":"1990-01-01"}]
[null,{"$f":"IFERROR(INDEX(Tabela.frequencia[],SMALL(IF(Tabela.frequencia[id]=$E$11,ROW(Tabela.frequencia[id])-1),ROW(A496)),3),DATE(1990,1,1))","v":"1990-01-01"}]
[null,{"$f":"IFERROR(INDEX(Tabela.frequencia[],SMALL(IF(Tabela.frequencia[id]=$E$11,ROW(Tabela.frequencia[id])-1),ROW(A497)),3),DATE(1990,1,1))","v":"1990-01-01"}]
[null,{"$f":"IFERROR(INDEX(Tabela.frequencia[],SMALL(IF(Tabela.frequencia[id]=$E$11,ROW(Tabela.frequencia[id])-1),ROW(A498)),3),DATE(1990,1,1))","v":"1990-01-01"}]
[null,{"$f":"IFERROR(INDEX(Tabela.frequencia[],SMALL(IF(Tabela.frequencia[id]=$E$11,ROW(Tabela.frequencia[id])-1),ROW(A499)),3),DATE(1990,1,1))","v":"1990-01-01"}]
[null,{"$f":"IFERROR(INDEX(Tabela.frequencia[],SMALL(IF(Tabela.frequencia[id]=$E$11,ROW(Tabela.frequencia[id])-1),ROW(A500)),3),DATE(1990,1,1))","v":"1990-01-01"}]
[null,{"$f":"IFERROR(INDEX(Tabela.frequencia[],SMALL(IF(Tabela.frequencia[id]=$E$11,ROW(Tabela.frequencia[id])-1),ROW(A501)),3),DATE(1990,1,1))","v":"1990-01-01"}]
[null,{"$f":"IFERROR(INDEX(Tabela.frequencia[],SMALL(IF(Tabela.frequencia[id]=$E$11,ROW(Tabela.frequencia[id])-1),ROW(A502)),3),DATE(1990,1,1))","v":"1990-01-01"}]
[null,{"$f":"IFERROR(INDEX(Tabela.frequencia[],SMALL(IF(Tabela.frequencia[id]=$E$11,ROW(Tabela.frequencia[id])-1),ROW(A503)),3),DATE(1990,1,1))","v":"1990-01-01"}]
[null,{"$f":"IFERROR(INDEX(Tabela.frequencia[],SMALL(IF(Tabela.frequencia[id]=$E$11,ROW(Tabela.frequencia[id])-1),ROW(A504)),3),DATE(1990,1,1))","v":"1990-01-01"}]
[null,{"$f":"IFERROR(INDEX(Tabela.frequencia[],SMALL(IF(Tabela.frequencia[id]=$E$11,ROW(Tabela.frequencia[id])-1),ROW(A505)),3),DATE(1990,1,1))","v":"1990-01-01"}]
[null,{"$f":"IFERROR(INDEX(Tabela.frequencia[],SMALL(IF(Tabela.frequencia[id]=$E$11,ROW(Tabela.frequencia[id])-1),ROW(A506)),3),DATE(1990,1,1))","v":"1990-01-01"}]
[null,{"$f":"IFERROR(INDEX(Tabela.frequencia[],SMALL(IF(Tabela.frequencia[id]=$E$11,ROW(Tabela.frequencia[id])-1),ROW(A507)),3),DATE(1990,1,1))","v":"1990-01-01"}]
[null,{"$f":"IFERROR(INDEX(Tabela.frequencia[],SMALL(IF(Tabela.frequencia[id]=$E$11,ROW(Tabela.frequencia[id])-1),ROW(A508)),3),DATE(1990,1,1))","v":"1990-01-01"}]
[null,{"$f":"IFERROR(INDEX(Tabela.frequencia[],SMALL(IF(Tabela.frequencia[id]=$E$11,ROW(Tabela.frequencia[id])-1),ROW(A509)),3),DATE(1990,1,1))","v":"1990-01-01"}]
[null,{"$f":"IFERROR(INDEX(Tabela.frequencia[],SMALL(IF(Tabela.frequencia[id]=$E$11,ROW(Tabela.frequencia[id])-1),ROW(A510)),3),DATE(1990,1,1))","v":"1990-01-01"}]
[null,{"$f":"IFERROR(INDEX(Tabela.frequencia[],SMALL(IF(Tabela.frequencia[id]=$E$11,ROW(Tabela.frequencia[id])-1),ROW(A511)),3),DATE(1990,1,1))","v":"1990-01-01"}]
[null,{"$f":"IFERROR(INDEX(Tabela.frequencia[],SMALL(IF(Tabela.frequencia[id]=$E$11,ROW(Tabela.frequencia[id])-1),ROW(A512)),3),DATE(1990,1,1))","v":"1990-01-01"}]
[null,{"$f":"IFERROR(INDEX(Tabela.frequencia[],SMALL(IF(Tabela.frequencia[id]=$E$11,ROW(Tabela.frequencia[id])-1),ROW(A513)),3),DATE(1990,1,1))","v":"1990-01-01"}]
[null,{"$f":"IFERROR(INDEX(Tabela.frequencia[],SMALL(IF(Tabela.frequencia[id]=$E$11,ROW(Tabela.frequencia[id])-1),ROW(A514)),3),DATE(1990,1,1))","v":"1990-01-01"}]
[null,{"$f":"IFERROR(INDEX(Tabela.frequencia[],SMALL(IF(Tabela.frequencia[id]=$E$11,ROW(Tabela.frequencia[id])-1),ROW(A515)),3),DATE(1990,1,1))","v":"1990-01-01"}]
[null,{"$f":"IFERROR(INDEX(Tabela.frequencia[],SMALL(IF(Tabela.frequencia[id]=$E$11,ROW(Tabela.frequencia[id])-1),ROW(A516)),3),DATE(1990,1,1))","v":"1990-01-01"}]
[null,{"$f":"IFERROR(INDEX(Tabela.frequencia[],SMALL(IF(Tabela.frequencia[id]=$E$11,ROW(Tabela.frequencia[id])-1),ROW(A517)),3),DATE(1990,1,1))","v":"1990-01-01"}]
[null,{"$f":"IFERROR(INDEX(Tabela.frequencia[],SMALL(IF(Tabela.frequencia[id]=$E$11,ROW(Tabela.frequencia[id])-1),ROW(A518)),3),DATE(1990,1,1))","v":"1990-01-01"}]
[null,{"$f":"IFERROR(INDEX(Tabela.frequencia[],SMALL(IF(Tabela.frequencia[id]=$E$11,ROW(Tabela.frequencia[id])-1),ROW(A519)),3),DATE(1990,1,1))","v":"1990-01-01"}]
[null,{"$f":"IFERROR(INDEX(Tabela.frequencia[],SMALL(IF(Tabela.frequencia[id]=$E$11,ROW(Tabela.frequencia[id])-1),ROW(A520)),3),DATE(1990,1,1))","v":"1990-01-01"}]
[null,{"$f":"IFERROR(INDEX(Tabela.frequencia[],SMALL(IF(Tabela.frequencia[id]=$E$11,ROW(Tabela.frequencia[id])-1),ROW(A521)),3),DATE(1990,1,1))","v":"1990-01-01"}]
[null,{"$f":"IFERROR(INDEX(Tabela.frequencia[],SMALL(IF(Tabela.frequencia[id]=$E$11,ROW(Tabela.frequencia[id])-1),ROW(A522)),3),DATE(1990,1,1))","v":"1990-01-01"}]
[null,{"$f":"IFERROR(INDEX(Tabela.frequencia[],SMALL(IF(Tabela.frequencia[id]=$E$11,ROW(Tabela.frequencia[id])-1),ROW(A523)),3),DATE(1990,1,1))","v":"1990-01-01"}]
[null,{"$f":"IFERROR(INDEX(Tabela.frequencia[],SMALL(IF(Tabela.frequencia[id]=$E$11,ROW(Tabela.frequencia[id])-1),ROW(A524)),3),DATE(1990,1,1))","v":"1990-01-01"}]
[null,{"$f":"IFERROR(INDEX(Tabela.frequencia[],SMALL(IF(Tabela.frequencia[id]=$E$11,ROW(Tabela.frequencia[id])-1),ROW(A525)),3),DATE(1990,1,1))","v":"1990-01-01"}]
[null,{"$f":"IFERROR(INDEX(Tabela.frequencia[],SMALL(IF(Tabela.frequencia[id]=$E$11,ROW(Tabela.frequencia[id])-1),ROW(A526)),3),DATE(1990,1,1))","v":"1990-01-01"}]
[null,{"$f":"IFERROR(INDEX(Tabela.frequencia[],SMALL(IF(Tabela.frequencia[id]=$E$11,ROW(Tabela.frequencia[id])-1),ROW(A527)),3),DATE(1990,1,1))","v":"1990-01-01"}]
[null,{"$f":"IFERROR(INDEX(Tabela.frequencia[],SMALL(IF(Tabela.frequencia[id]=$E$11,ROW(Tabela.frequencia[id])-1),ROW(A528)),3),DATE(1990,1,1))","v":"1990-01-01"}]
[null,{"$f":"IFERROR(INDEX(Tabela.frequencia[],SMALL(IF(Tabela.frequencia[id]=$E$11,ROW(Tabela.frequencia[id])-1),ROW(A529)),3),DATE(1990,1,1))","v":"1990-01-01"}]
[null,{"$f":"IFERROR(INDEX(Tabela.frequencia[],SMALL(IF(Tabela.frequencia[id]=$E$11,ROW(Tabela.frequencia[id])-1),ROW(A530)),3),DATE(1990,1,1))","v":"1990-01-01"}]
[null,{"$f":"IFERROR(INDEX(Tabela.frequencia[],SMALL(IF(Tabela.frequencia[id]=$E$11,ROW(Tabela.frequencia[id])-1),ROW(A531)),3),DATE(1990,1,1))","v":"1990-01-01"}]
[null,{"$f":"IFERROR(INDEX(Tabela.frequencia[],SMALL(IF(Tabela.frequencia[id]=$E$11,ROW(Tabela.frequencia[id])-1),ROW(A532)),3),DATE(1990,1,1))","v":"1990-01-01"}]
[null,{"$f":"IFERROR(INDEX(Tabela.frequencia[],SMALL(IF(Tabela.frequencia[id]=$E$11,ROW(Tabela.frequencia[id])-1),ROW(A533)),3),DATE(1990,1,1))","v":"1990-01-01"}]
[null,{"$f":"IFERROR(INDEX(Tabela.frequencia[],SMALL(IF(Tabela.frequencia[id]=$E$11,ROW(Tabela.frequencia[id])-1),ROW(A534)),3),DATE(1990,1,1))","v":"1990-01-01"}]
[null,{"$f":"IFERROR(INDEX(Tabela.frequencia[],SMALL(IF(Tabela.frequencia[id]=$E$11,ROW(Tabela.frequencia[id])-1),ROW(A535)),3),DATE(1990,1,1))","v":"1990-01-01"}]
[null,{"$f":"IFERROR(INDEX(Tabela.frequencia[],SMALL(IF(Tabela.frequencia[id]=$E$11,ROW(Tabela.frequencia[id])-1),ROW(A536)),3),DATE(1990,1,1))","v":"1990-01-01"}]
[null,{"$f":"IFERROR(INDEX(Tabela.frequencia[],SMALL(IF(Tabela.frequencia[id]=$E$11,ROW(Tabela.frequencia[id])-1),ROW(A537)),3),DATE(1990,1,1))","v":"1990-01-01"}]
[null,{"$f":"IFERROR(INDEX(Tabela.frequencia[],SMALL(IF(Tabela.frequencia[id]=$E$11,ROW(Tabela.frequencia[id])-1),ROW(A538)),3),DATE(1990,1,1))","v":"1990-01-01"}]
[null,{"$f":"IFERROR(INDEX(Tabela.frequencia[],SMALL(IF(Tabela.frequencia[id]=$E$11,ROW(Tabela.frequencia[id])-1),ROW(A539)),3),DATE(1990,1,1))","v":"1990-01-01"}]
[null,{"$f":"IFERROR(INDEX(Tabela.frequencia[],SMALL(IF(Tabela.frequencia[id]=$E$11,ROW(Tabela.frequencia[id])-1),ROW(A540)),3),DATE(1990,1,1))","v":"1990-01-01"}]
[null,{"$f":"IFERROR(INDEX(Tabela.frequencia[],SMALL(IF(Tabela.frequencia[id]=$E$11,ROW(Tabela.frequencia[id])-1),ROW(A541)),3),DATE(1990,1,1))","v":"1990-01-01"}]

{"sheet":"Relatório Mensal","index":5,"n_rows":887,"n_cols":28,"rows_kept":887,"cut":false,"hidden":false,"merged":[[10,2,10,10],[12,2,12,10],[6,2,7,4],[6,5,7,5],[5,1,5,4],[9,1,9,10],[17,6,18,6],[16,1,16,5],[17,2,18,5],[875,1,875,3],[876,1,876,3],[877,1,877,3],[874,1,874,3],[20,1,20,10],[21,2,21,10],[23,2,23,10],[28,2,28,10],[27,1,27,10]]}
[]
[null,"FORMULÁRIO 1 - RELATÓRIO MENSAL DE ATENDIMENTOS DO CENTRO POP",null,null,null,null,null,"MÊS:","Agosto","ANO:",2014,{"$f":"LOWER(CONCATENATE(I3,\"/\",K3))","v":"ago/14"},null,null,"FERRAMENTAS DE GESTÃO - CENTRO POP"]
[null,null,null,null,null,null,null,null,{"$f":"IF(I2=\"Janeiro\",\"jan\",IF(I2=\"Fevereiro\",\"fev\",IF(I2=\"Março\",\"mar\",IF(I2=\"Abril\",\"abr\",IF(I2=\"Maio\",\"mai\",IF(I2=\"Junho\",\"jun\",IF(I2=\"Julho\",\"jul\",IF(I2=\"Agosto\",\"ago\",IF(I2=\"Setembro\",\"set\",IF(I2=\"Outubro\",\"out\",IF(I2=\"Novembro\",\"nov\",\"dez\")))))))))))","v":"ago"},null,{"$f":"K2-2000","v":14}]
[null,"Bloco I - Acompanhamentos pelo Serviço Especializado para Pessoas em Situação de Rua",null,null,null,null,null,null,null,null,null,null,null,null,{"$f":"\"Foram encontrados \"&SUM(COUNTIF(G33:L865,0),COUNTIF(F33:F865,\">100\"))&\" erros.\"","v":"Foram encontrados 1 erros."}]
[null,null,null,null,null,null,null,null,null,null,null,null,null,null,"Realçados em vermelho na tabela de frequência ao lado, corrigir na planilha de cadastro."]
[null,"A. Pessoas em situação de rua atendidas no serviço durante o mês de referência",null,null,null,"Total","Sexo","0 a 12 anos","13 a 17 anos","18 a 39 anos","40 a 59 anos","60 anos     ou mais"]
[null,null,"A.1. Quantidade e perfil das pessoas em situação de rua atendidas no mês de referência",null,null,{"$f":"SUM(H7:L8)","v":20},"Masculino",{"$f":"COUNTIFS(H33:H865,\"M\",F33:F865,\"<=12\",F33:F865,\">0\")","v":0},{"$f":"COUNTIFS(H33:H865,\"M\",F33:F865,\">=13\",F33:F865,\"<=17\")","v":1},{"$f":"COUNTIFS(H33:H865,\"M\",F33:F865,\">=18\",F33:F865,\"<=39\")","v":8},{"$f":"COUNTIFS(H33:H865,\"M\",F33:F865,\">=40\",F33:F865,\"<=59\")","v":1},{"$f":"COUNTIFS(H33:H865,\"M\",F33:F865,\">=60\",F33:F865,\"<=110\")","v":1},null,null,"DADOS CONSOLIDADOS"]
[null,null,null,null,null,null,"Feminino",{"$f":"COUNTIFS(H33:H865,\"F\",F33:F865,\"<=12\",F33:F865,\">0\")","v":0},{"$f":"COUNTIFS(H33:H865,\"F\",F33:F865,\">=13\",F33:F865,\"<=17\")","v":0},{"$f":"COUNTIFS(H33:H865,\"F\",F33:F865,\">=18\",F33:F865,\"<=39\")","v":6},{"$f":"COUNTIFS(H33:H865,\"F\",F33:F865,\">=40\",F33:F865,\"<=59\")","v":2},{"$f":"COUNTIFS(H33:H865,\"F\",F33:F865,\">=60\",F33:F865,\"<=110\")","v":1}]
[]
[null,"B. Características específicas identificadas em pessoas atendidas no Serviço durante o mês de referência",null,null,null,null,null,null,null,null,null,"Total"]
[null,null,"B.1. Pessoas usuárias de crack ou drogas ilícitas",null,null,null,null,null,null,null,null,{"$f":"COUNTIF(I33:I865,\"S\")","v":7}]
[null,null,"B.2. Migrantes",null,null,null,null,null,null,null,null,{"$f":"COUNTIF(G33:G865,\"M\")","v":15}]
[null,null,"B.3. Pessoas com doença ou transtorno mental",null,null,null,null,null,null,null,null,{"$f":"COUNTIF(J33:J865,\"S\")","v":5}]
[]
[null,"Bloco II - Serviço especializado em Abordagem Social no Centro POP"]
[]
[null,"E. Quantidade e perfil de pessoas abordadas pela equipe do Serviço de Abordagem, no mês de referência",null,null,null,null,"Total","Sexo","0 a 12 anos","13 a 17 anos","18 a 59 anos","60 anos     ou mais"]
[null,null,"E.1. Quantidade de pessoas abordadas pelo Serviço de Abordagem Social, durante o mês de referência",null,null,null,{"$f":"SUM(I18:M19)","v":20},"Masculino",{"$f":"COUNTIFS(S33:S866,\"M\",Q33:Q866,\"<=12\",Q33:Q866,\">0\")","v":0},{"$f":"COUNTIFS(S33:S866,\"M\",Q33:Q866,\">=13\",Q33:Q866,\"<=17\")","v":1},{"$f":"COUNTIFS(S33:S866,\"M\",Q33:Q866,\">=18\",Q33:Q866,\"<=59\")","v":9},{"$f":"COUNTIFS(S33:S866,\"M\",Q33:Q866,\">=60\")","v":1}]
[null,null,null,null,null,null,null,"Feminino",{"$f":"COUNTIFS(S33:S866,\"F\",Q33:Q866,\"<=12\",Q33:Q866,\">0\")","v":0},{"$f":"COUNTIFS(S33:S866,\"F\",Q33:Q866,\">=13\",Q33:Q866,\"<=17\")","v":0},{"$f":"COUNTIFS(S33:S866,\"F\",Q33:Q866,\">=18\",Q33:Q866,\"<=59\")","v":8},{"$f":"COUNTIFS(S33:S866,\"F\",Q33:Q866,\">=60\")","v":1}]
[]
[null,"Situações identificadas pelo Serviço Especializado em Abordagem Social, no mês de referência",null,null,null,null,null,null,null,null,null,"Total"]
[null,null,"E.2. Crianças ou adolescentes em situação de trabalho infantil (até 15 anos)",null,null,null,null,null,null,null,null,{"$f":"COUNTIF(U33:U866,\"S\")","v":3}]
[null,null,"E.3. Crianças ou adolescentes em situação de exploração sexual",null,null,null,null,null,null,null,null,{"$f":"COUNTIF(V33:V866,\"S\")","v":2}]
[null,null,"E.4. Crianças ou adolescentes usuárias de crack ou outras drogas",null,null,null,null,null,null,null,null,{"$f":"COUNTIFS(T33:T866,\"S\",Q33:Q866,\"<=17\",Q33:Q866,\">0\")","v":1}]
[null,null,"E.5. Pessoas adultas usuárias de crack ou outras drogas ilícitas",null,null,null,null,null,null,null,null,{"$f":"COUNTIFS(T33:T866,\"S\",Q33:Q866,\">=18\")","v":6},null,null,null,null," "]
[null,null,"E.6. Migrantes",null,null,null,null,null,null,null,null,{"$f":"COUNTIF(R33:R866,\"M\")","v":15}]
[]
[null,"F. Volume de abordagens realizadas",null,null,null,null,null,null,null,null,null,"Total"]
[null,null,"F.1. Quantidade total de abordagens realizadas (compreendida como número de pessoas abordadas, multiplicado pelo número de vezes em que foram abordadas durante o mês)",null,null,null,null,null,null,null,null,{"$f":"COUNT(Y33:Y866)","v":25}]
[]
[null,"FREQUÊNCIA DO MÊS - CENTRO POP - DADOS BRUTOS",null,null,null,null,null,"MÊS:",{"$f":"I2","v":"Agosto"},"ANO:",{"$f":"K2","v":2014},null,null,null,"FREQUÊNCIA DO MÊS - ABORDAGEM - DADOS BRUTOS",null,null,null,null,"MÊS:",{"$f":"I2","v":"Agosto"},"ANO:",{"$f":"K2","v":2014},null,"Scrap da planilha \"abordagens\""]
[null,"id","idade","ID","Nome","Idade","CP ou M","Sexo","Drogas","TM","Frequência",null,null,null,"ID","Nome","Idade","CP ou M","Sexo","Drogas","Trab. Inf.","Exp. Sex.","Nº Abord.",null,"ID","Idade","T. I.","E. S."]
[null,{"$f":"INDEX(Tabela.frequencia[],SMALL(IF(Tabela.frequencia[Mês]=$L$2,ROW(Tabela.frequencia[id])-1),ROW(A1)),1)","v":9},{"$f":"INDEX(Tabela.frequencia[],SMALL(IF(Tabela.frequencia[Mês]=$L$2,ROW(Tabela.frequencia[id])-1),ROW(A1)),4)","v":44},17,{"$f":"IFERROR(VLOOKUP(D33,Tabela.cadastro[[ID]:[Nome]],2,0),\"\")","v":"Douglas Bragança"},{"$f":"IFERROR(VLOOKUP(D33,Tabela66[#All],2,0),\"\")","v":31},{"$f":"IFERROR(VLOOKUP(D33,Tabela.cadastro[[ID]:[CP ou M]],5,0),\"\")","v":"CP"},{"$f":"IFERROR(VLOOKUP(D33,Cadastros!A:F,6,0),\"\")","v":"M"},{"$f":"IFERROR(VLOOKUP(D33,Cadastros!A:I,9,0),\"\")","v":"S"},{"$f":"IFERROR(VLOOKUP(D33,Cadastros!A:J,10,0),\"\")","v":"N"},{"$f":"IF(COUNTIF(Tabela66[id],D33)=0,\"\",COUNTIF(Tabela66[id],D33))","v":1},null,{"$f":"IF(AND(K33:K865>=5,L33:L865=\"Não\"),\"*\",\"\")","v":""},null,5,{"$f":"IFERROR(VLOOKUP(O33,Cadastros!A:B,2),\"\")","v":"Maria Almeida"},{"$f":"IFERROR(VLOOKUP(O33,$Y$33:$Z$866,2,0),\"\")","v":69},{"$f":"IFERROR(VLOOKUP(O33,Cadastros!A:E,5,0),\"\")","v":"CP"},{"$f":"IFERROR(VLOOKUP(O33,Cadastros!A:F,6,0),\"\")","v":"F"},{"$f":"IFERROR(VLOOKUP(O33,Cadastros!A:I,9,0),\"\")","v":"N"},{"$f":"IFERROR(VLOOKUP(O33,Y$33:AB$866,3,0),\"\")","v":"N"},{"$f":"IFERROR(VLOOKUP(O33,Y$33:AB$866,4,0),\"\")","v":"N"},{"$f":"IF(COUNTIF(Y$33:Y$866,O33)=0,\"\",COUNTIF(Y$33:Y$866,O33))","v":1},null,{"$f":"INDEX(Tabela.abordagens[],SMALL(IF(Tabela.abordagens[Mês]=$L$2,ROW(Tabela.abordagens[id])-2),ROW(A1)),1)","v":9},{"$f":"INDEX(Tabela.abordagens[],SMALL(IF(Tabela.abordagens[Mês]=$L$2,ROW(Tabela.abordagens[Idade])-2),ROW(A1)),6)","v":44},{"$f":"INDEX(Tabela.abordagens[],SMALL(IF(Tabela.abordagens[Mês]=$L$2,ROW(Tabela.abordagens[Idade])-2),ROW(A1)),4)","v":"N"},{"$f":"INDEX(Tabela.abordagens[],SMALL(IF(Tabela.abordagens[Mês]=$L$2,ROW(Tabela.abordagens[Idade])-2),ROW(A1)),5)","v":"N"}]
[null,{"$f":"INDEX(Tabela.frequencia[],SMALL(IF(Tabela.frequencia[Mês]=$L$2,ROW(Tabela.frequencia[id])-1),ROW(A2)),1)","v":10},{"$f":"INDEX(Tabela.frequencia[],SMALL(IF(Tabela.frequencia[Mês]=$L$2,ROW(Tabela.frequencia[id])-1),ROW(A2)),4)","v":31},11,{"$f":"IFERROR(VLOOKUP(D34,Tabela.cadastro[[ID]:[Nome]],2,0),\"\")","v":"Rodolfo Gonçalvez"},{"$f":"IFERROR(VLOOKUP(D34,Tabela66[#All],2,0),\"\")","v":31},{"$f":"IFERROR(VLOOKUP(D34,Tabela.cadastro[[ID]:[CP ou M]],5,0),\"\")","v":"M"},{"$f":"IFERROR(VLOOKUP(D34,Cadastros!A:F,6,0),\"\")","v":"M"},{"$f":"IFERROR(VLOOKUP(D34,Cadastros!A:I,9,0),\"\")","v":"S"},{"$f":"IFERROR(VLOOKUP(D34,Cadastros!A:J,10,0),\"\")","v":"N"},{"$f":"IF(COUNTIF(Tabela66[id],D34)=0,\"\",COUNTIF(Tabela66[id],D34))","v":1},null,{"$f":"IF(AND(K34:K866>=5,L34:L866=\"Não\"),\"*\",\"\")","v":""},null,9,{"$f":"IFERROR(VLOOKUP(O34,Cadastros!A:B,2),\"\")","v":"Tatiane Costa"},{"$f":"IFERROR(VLOOKUP(O34,$Y$33:$Z$866,2,0),\"\")","v":44},{"$f":"IFERROR(VLOOKUP(O34,Cadastros!A:E,5,0),\"\")","v":"M"},{"$f":"IFERROR(VLOOKUP(O34,Cadastros!A:F,6,0),\"\")","v":"F"},{"$f":"IFERROR(VLOOKUP(O34,Cadastros!A:I,9,0),\"\")","v":"N"},{"$f":"IFERROR(VLOOKUP(O34,Y$33:AB$866,3,0),\"\")","v":"N"},{"$f":"IFERROR(VLOOKUP(O34,Y$33:AB$866,4,0),\"\")","v":"N"},{"$f":"IF(COUNTIF(Y$33:Y$866,O34)=0,\"\",COUNTIF(Y$33:Y$866,O34))","v":1},null,{"$f":"INDEX(Tabela.abordagens[],SMALL(IF(Tabela.abordagens[Mês]=$L$2,ROW(Tabela.abordagens[id])-2),ROW(A2)),1)","v":10},{"$f":"INDEX(Tabela.abordagens[],SMALL(IF(Tabela.abordagens[Mês]=$L$2,ROW(Tabela.abordagens[Idade])-2),ROW(A2)),6)","v":31},{"$f":"INDEX(Tabela.abordagens[],SMALL(IF(Tabela.abordagens[Mês]=$L$2,ROW(Tabela.abordagens[Idade])-2),ROW(A2)),4)","v":"S"},{"$f":"INDEX(Tabela.abordagens[],SMALL(IF(Tabela.abordagens[Mês]=$L$2,ROW(Tabela.abordagens[Idade])-2),ROW(A2)),5)","v":"N"}]
[null,{"$f":"INDEX(Tabela.frequencia[],SMALL(IF(Tabela.frequencia[Mês]=$L$2,ROW(Tabela.frequencia[id])-1),ROW(A3)),1)","v":11},{"$f":"INDEX(Tabela.frequencia[],SMALL(IF(Tabela.frequencia[Mês]=$L$2,ROW(Tabela.frequencia[id])-1),ROW(A3)),4)","v":31},9,{"$f":"IFERROR(VLOOKUP(D35,Tabela.cadastro[[ID]:[Nome]],2,0),\"\")","v":"Tatiane Costa"},{"$f":"IFERROR(VLOOKUP(D35,Tabela66[#All],2,0),\"\")","v":44},{"$f":"IFERROR(VLOOKUP(D35,Tabela.cadastro[[ID]:[CP ou M]],5,0),\"\")","v":"M"},{"$f":"IFERROR(VLOOKUP(D35,Cadastros!A:F,6,0),\"\")","v":"F"},{"$f":"IFERROR(VLOOKUP(D35,Cadastros!A:I,9,0),\"\")","v":"N"},{"$f":"IFERROR(VLOOKUP(D35,Cadastros!A:J,10,0),\"\")","v":"N"},{"$f":"IF(COUNTIF(Tabela66[id],D35)=0,\"\",COUNTIF(Tabela66[id],D35))","v":1},null,"",null,10,{"$f":"IFERROR(VLOOKUP(O35,Cadastros!A:B,2),\"\")","v":"Maicon Silva"},31,{"$f":"IFERROR(VLOOKUP(O35,Cadastros!A:E,5,0),\"\")","v":"M"},{"$f":"IFERROR(VLOOKUP(O35,Cadastros!A:F,6,0),\"\")","v":"M"},{"$f":"IFERROR(VLOOKUP(O35,Cadastros!A:I,9,0),\"\")","v":"N"},"S","N",1,null,{"$f":"INDEX(Tabela.abordagens[],SMALL(IF(Tabela.abordagens[Mês]=$L$2,ROW(Tabela.abordagens[id])-2),ROW(A3)),1)","v":11},{"$f":"INDEX(Tabela.abordagens[],SMALL(IF(Tabela.abordagens[Mês]=$L$2,ROW(Tabela.abordagens[Idade])-2),ROW(A3)),6)","v":31},{"$f":"INDEX(Tabela.abordagens[],SMALL(IF(Tabela.abordagens[Mês]=$L$2,ROW(Tabela.abordagens[Idade])-2),ROW(A3)),4)","v":"N"},{"$f":"INDEX(Tabela.abordagens[],SMALL(IF(Tabela.abordagens[Mês]=$L$2,ROW(Tabela.abordagens[Idade])-2),ROW(A3)),5)","v":"N"}]
[null,{"$f":"INDEX(Tabela.frequencia[],SMALL(IF(Tabela.frequencia[Mês]=$L$2,ROW(Tabela.frequencia[id])-1),ROW(A4)),1)","v":12},{"$f":"INDEX(Tabela.frequencia[],SMALL(IF(Tabela.frequencia[Mês]=$L$2,ROW(Tabela.frequencia[id])-1),ROW(A4)),4)","v":25},5,{"$f":"IFERROR(VLOOKUP(D36,Tabela.cadastro[[ID]:[Nome]],2,0),\"\")","v":"Maria Almeida"},{"$f":"IFERROR(VLOOKUP(D36,Tabela66[#All],2,0),\"\")","v":69},{"$f":"IFERROR(VLOOKUP(D36,Tabela.cadastro[[ID]:[CP ou M]],5,0),\"\")","v":"CP"},{"$f":"IFERROR(VLOOKUP(D36,Cadastros!A:F,6,0),\"\")","v":"F"},{"$f":"IFERROR(VLOOKUP(D36,Cadastros!A:I,9,0),\"\")","v":"N"},{"$f":"IFERROR(VLOOKUP(D36,Cadastros!A:J,10,0),\"\")","v":"S"},{"$f":"IF(COUNTIF(Tabela66[id],D36)=0,\"\",COUNTIF(Tabela66[id],D36))","v":1},null,"",null,11,{"$f":"IFERROR(VLOOKUP(O36,Cadastros!A:B,2),\"\")","v":"Rodolfo Gonçalvez"},31,{"$f":"IFERROR(VLOOKUP(O36,Cadastros!A:E,5,0),\"\")","v":"M"},{"$f":"IFERROR(VLOOKUP(O36,Cadastros!A:F,6,0),\"\")","v":"M"},{"$f":"IFERROR(VLOOKUP(O36,Cadastros!A:I,9,0),\"\")","v":"S"},"N","N",1,null,{"$f":"INDEX(Tabela.abordagens[],SMALL(IF(Tabela.abordagens[Mês]=$L$2,ROW(Tabela.abordagens[id])-2),ROW(A4)),1)","v":12},{"$f":"INDEX(Tabela.abordagens[],SMALL(IF(Tabela.abordagens[Mês]=$L$2,ROW(Tabela.abordagens[Idade])-2),ROW(A4)),6)","v":25},{"$f":"INDEX(Tabela.abordagens[],SMALL(IF(Tabela.abordagens[Mês]=$L$2,ROW(Tabela.abordagens[Idade])-2),ROW(A4)),4)","v":"N"},{"$f":"INDEX(Tabela.abordagens[],SMALL(IF(Tabela.abordagens[Mês]=$L$2,ROW(Tabela.abordagens[Idade])-2),ROW(A4)),5)","v":"N"}]
[null,{"$f":"INDEX(Tabela.frequencia[],SMALL(IF(Tabela.frequencia[Mês]=$L$2,ROW(Tabela.frequencia[id])-1),ROW(A5)),1)","v":13},{"$f":"INDEX(Tabela.frequencia[],SMALL(IF(Tabela.frequencia[Mês]=$L$2,ROW(Tabela.frequencia[id])-1),ROW(A5)),4)","v":21},16,{"$f":"IFERROR(VLOOKUP(D37,Tabela.cadastro[[ID]:[Nome]],2,0),\"\")","v":"Vicente Pereira"},{"$f":"IFERROR(VLOOKUP(D37,Tabela66[#All],2,0),\"\")","v":27},{"$f":"IFERROR(VLOOKUP(D37,Tabela.cadastro[[ID]:[CP ou M]],5,0),\"\")","v":"M"},{"$f":"IFERROR(VLOOKUP(D37,Cadastros!A:F,6,0),\"\")","v":"M"},{"$f":"IFERROR(VLOOKUP(D37,Cadastros!A:I,9,0),\"\")","v":"S"},{"$f":"IFERROR(VLOOKUP(D37,Cadastros!A:J,10,0),\"\")","v":"N"},{"$f":"IF(COUNTIF(Tabela66[id],D37)=0,\"\",COUNTIF(Tabela66[id],D37))","v":14},null,"",null,12,{"$f":"IFERROR(VLOOKUP(O37,Cadastros!A:B,2),\"\")","v":"Marina Rodrigues"},25,{"$f":"IFERROR(VLOOKUP(O37,Cadastros!A:E,5,0),\"\")","v":"M"},{"$f":"IFERROR(VLOOKUP(O37,Cadastros!A:F,6,0),\"\")","v":"F"},{"$f":"IFERROR(VLOOKUP(O37,Cadastros!A:I,9,0),\"\")","v":"S"},"N","N",2,null,{"$f":"INDEX(Tabela.abordagens[],SMALL(IF(Tabela.abordagens[Mês]=$L$2,ROW(Tabela.abordagens[id])-2),ROW(A5)),1)","v":13},{"$f":"INDEX(Tabela.abordagens[],SMALL(IF(Tabela.abordagens[Mês]=$L$2,ROW(Tabela.abordagens[Idade])-2),ROW(A5)),6)","v":21},{"$f":"INDEX(Tabela.abordagens[],SMALL(IF(Tabela.abordagens[Mês]=$L$2,ROW(Tabela.abordagens[Idade])-2),ROW(A5)),4)","v":"N"},{"$f":"INDEX(Tabela.abordagens[],SMALL(IF(Tabela.abordagens[Mês]=$L$2,ROW(Tabela.abordagens[Idade])-2),ROW(A5)),5)","v":"N"}]
[null,{"$f":"INDEX(Tabela.frequencia[],SMALL(IF(Tabela.frequencia[Mês]=$L$2,ROW(Tabela.frequencia[id])-1),ROW(A6)),1)","v":14},{"$f":"INDEX(Tabela.frequencia[],SMALL(IF(Tabela.frequencia[Mês]=$L$2,ROW(Tabela.frequencia[id])-1),ROW(A6)),4)","v":20},10,{"$f":"IFERROR(VLOOKUP(D38,Tabela.cadastro[[ID]:[Nome]],2,0),\"\")","v":"Maicon Silva"},{"$f":"IFERROR(VLOOKUP(D38,Tabela66[#All],2,0),\"\")","v":31},{"$f":"IFERROR(VLOOKUP(D38,Tabela.cadastro[[ID]:[CP ou M]],5,0),\"\")","v":"M"},{"$f":"IFERROR(VLOOKUP(D38,Cadastros!A:F,6,0),\"\")","v":"M"},{"$f":"IFERROR(VLOOKUP(D38,Cadastros!A:I,9,0),\"\")","v":"N"},{"$f":"IFERROR(VLOOKUP(D38,Cadastros!A:J,10,0),\"\")","v":"N"},{"$f":"IF(COUNTIF(Tabela66[id],D38)=0,\"\",COUNTIF(Tabela66[id],D38))","v":1},null,"",null,13,{"$f":"IFERROR(VLOOKUP(O38,Cadastros!A:B,2),\"\")","v":"Valdecir Castro"},21,{"$f":"IFERROR(VLOOKUP(O38,Cadastros!A:E,5,0),\"\")","v":"M"},{"$f":"IFERROR(VLOOKUP(O38,Cadastros!A:F,6,0),\"\")","v":"M"},{"$f":"IFERROR(VLOOKUP(O38,Cadastros!A:I,9,0),\"\")","v":0},"N","N",2,null,{"$f":"INDEX(Tabela.abordagens[],SMALL(IF(Tabela.abordagens[Mês]=$L$2,ROW(Tabela.abordagens[id])-2),ROW(A6)),1)","v":14},{"$f":"INDEX(Tabela.abordagens[],SMALL(IF(Tabela.abordagens[Mês]=$L$2,ROW(Tabela.abordagens[Idade])-2),ROW(A6)),6)","v":20},{"$f":"INDEX(Tabela.abordagens[],SMALL(IF(Tabela.abordagens[Mês]=$L$2,ROW(Tabela.abordagens[Idade])-2),ROW(A6)),4)","v":"S"},{"$f":"INDEX(Tabela.abordagens[],SMALL(IF(Tabela.abordagens[Mês]=$L$2,ROW(Tabela.abordagens[Idade])-2),ROW(A6)),5)","v":"N"}]
[null,{"$f":"INDEX(Tabela.frequencia[],SMALL(IF(Tabela.frequencia[Mês]=$L$2,ROW(Tabela.frequencia[id])-1),ROW(A7)),1)","v":15},{"$f":"INDEX(Tabela.frequencia[],SMALL(IF(Tabela.frequencia[Mês]=$L$2,ROW(Tabela.frequencia[id])-1),ROW(A7)),4)","v":36},12,{"$f":"IFERROR(VLOOKUP(D39,Tabela.cadastro[[ID]:[Nome]],2,0),\"\")","v":"Marina Rodrigues"},{"$f":"IFERROR(VLOOKUP(D39,Tabela66[#All],2,0),\"\")","v":25},{"$f":"IFERROR(VLOOKUP(D39,Tabela.cadastro[[ID]:[CP ou M]],5,0),\"\")","v":"M"},{"$f":"IFERROR(VLOOKUP(D39,Cadastros!A:F,6,0),\"\")","v":"F"},{"$f":"IFERROR(VLOOKUP(D39,Cadastros!A:I,9,0),\"\")","v":"S"},{"$f":"IFERROR(VLOOKUP(D39,Cadastros!A:J,10,0),\"\")","v":"S"},{"$f":"IF(COUNTIF(Tabela66[id],D39)=0,\"\",COUNTIF(Tabela66[id],D39))","v":6},null,"",null,14,{"$f":"IFERROR(VLOOKUP(O39,Cadastros!A:B,2),\"\")","v":"Lucas Cabral"},20,{"$f":"IFERROR(VLOOKUP(O39,Cadastros!A:E,5,0),\"\")","v":"M"},{"$f":"IFERROR(VLOOKUP(O39,Cadastros!A:F,6,0),\"\")","v":"F"},{"$f":"IFERROR(VLOOKUP(O39,Cadastros!A:I,9,0),\"\")","v":"N"},"S","N",2,null,{"$f":"INDEX(Tabela.abordagens[],SMALL(IF(Tabela.abordagens[Mês]=$L$2,ROW(Tabela.abordagens[id])-2),ROW(A7)),1)","v":15},{"$f":"INDEX(Tabela.abordagens[],SMALL(IF(Tabela.abordagens[Mês]=$L$2,ROW(Tabela.abordagens[Idade])-2),ROW(A7)),6)","v":36},{"$f":"INDEX(Tabela.abordagens[],SMALL(IF(Tabela.abordagens[Mês]=$L$2,ROW(Tabela.abordagens[Idade])-2),ROW(A7)),4)","v":"N"},{"$f":"INDEX(Tabela.abordagens[],SMALL(IF(Tabela.abordagens[Mês]=$L$2,ROW(Tabela.abordagens[Idade])-2),ROW(A7)),5)","v":"N"}]
[null,{"$f":"INDEX(Tabela.frequencia[],SMALL(IF(Tabela.frequencia[Mês]=$L$2,ROW(Tabela.frequencia[id])-1),ROW(A8)),1)","v":16},{"$f":"INDEX(Tabela.frequencia[],SMALL(IF(Tabela.frequencia[Mês]=$L$2,ROW(Tabela.frequencia[id])-1),ROW(A8)),4)","v":27},13,{"$f":"IFERROR(VLOOKUP(D40,Tabela.cadastro[[ID]:[Nome]],2,0),\"\")","v":"Valdecir Castro"},{"$f":"IFERROR(VLOOKUP(D40,Tabela66[#All],2,0),\"\")","v":21},{"$f":"IFERROR(VLOOKUP(D40,Tabela.cadastro[[ID]:[CP ou M]],5,0),\"\")","v":"M"},{"$f":"IFERROR(VLOOKUP(D40,Cadastros!A:F,6,0),\"\")","v":"M"},{"$f":"IFERROR(VLOOKUP(D40,Cadastros!A:I,9,0),\"\")","v":0},{"$f":"IFERROR(VLOOKUP(D40,Cadastros!A:J,10,0),\"\")","v":"N"},{"$f":"IF(COUNTIF(Tabela66[id],D40)=0,\"\",COUNTIF(Tabela66[id],D40))","v":2},null,"",null,15,{"$f":"IFERROR(VLOOKUP(O40,Cadastros!A:B,2),\"\")","v":"Dione Silva"},36,{"$f":"IFERROR(VLOOKUP(O40,Cadastros!A:E,5,0),\"\")","v":"M"},{"$f":"IFERROR(VLOOKUP(O40,Cadastros!A:F,6,0),\"\")","v":"F"},{"$f":"IFERROR(VLOOKUP(O40,Cadastros!A:I,9,0),\"\")","v":"N"},"N","N",2,null,{"$f":"INDEX(Tabela.abordagens[],SMALL(IF(Tabela.abordagens[Mês]=$L$2,ROW(Tabela.abordagens[id])-2),ROW(A8)),1)","v":16},{"$f":"INDEX(Tabela.abordagens[],SMALL(IF(Tabela.abordagens[Mês]=$L$2,ROW(Tabela.abordagens[Idade])-2),ROW(A8)),6)","v":27},{"$f":"INDEX(Tabela.abordagens[],SMALL(IF(Tabela.abordagens[Mês]=$L$2,ROW(Tabela.abordagens[Idade])-2),ROW(A8)),4)","v":"S"},{"$f":"INDEX(Tabela.abordagens[],SMALL(IF(Tabela.abordagens[Mês]=$L$2,ROW(Tabela.abordagens[Idade])-2),ROW(A8)),5)","v":"S"}]
[null,{"$f":"INDEX(Tabela.frequencia[],SMALL(IF(Tabela.frequencia[Mês]=$L$2,ROW(Tabela.frequencia[id])-1),ROW(A9)),1)","v":17},{"$f":"INDEX(Tabela.frequencia[],SMALL(IF(Tabela.frequencia[Mês]=$L$2,ROW(Tabela.frequencia[id])-1),ROW(A9)),4)","v":31},14,{"$f":"IFERROR(VLOOKUP(D41,Tabela.cadastro[[ID]:[Nome]],2,0),\"\")","v":"Lucas Cabral"},{"$f":"IFERROR(VLOOKUP(D41,Tabela66[#All],2,0),\"\")","v":20},{"$f":"IFERROR(VLOOKUP(D41,Tabela.cadastro[[ID]:[CP ou M]],5,0),\"\")","v":"M"},{"$f":"IFERROR(VLOOKUP(D41,Cadastros!A:F,6,0),\"\")","v":"F"},{"$f":"IFERROR(VLOOKUP(D41,Cadastros!A:I,9,0),\"\")","v":"N"},{"$f":"IFERROR(VLOOKUP(D41,Cadastros!A:J,10,0),\"\")","v":"N"},{"$f":"IF(COUNTIF(Tabela66[id],D41)=0,\"\",COUNTIF(Tabela66[id],D41))","v":2},null,"",null,16,{"$f":"IFERROR(VLOOKUP(O41,Cadastros!A:B,2),\"\")","v":"Vicente Pereira"},27,{"$f":"IFERROR(VLOOKUP(O41,Cadastros!A:E,5,0),\"\")","v":"M"},{"$f":"IFERROR(VLOOKUP(O41,Cadastros!A:F,6,0),\"\")","v":"M"},{"$f":"IFERROR(VLOOKUP(O41,Cadastros!A:I,9,0),\"\")","v":"S"},"S","S",2,null,{"$f":"INDEX(Tabela.abordagens[],SMALL(IF(Tabela.abordagens[Mês]=$L$2,ROW(Tabela.abordagens[id])-2),ROW(A9)),1)","v":17},{"$f":"INDEX(Tabela.abordagens[],SMALL(IF(Tabela.abordagens[Mês]=$L$2,ROW(Tabela.abordagens[Idade])-2),ROW(A9)),6)","v":31},{"$f":"INDEX(Tabela.abordagens[],SMALL(IF(Tabela.abordagens[Mês]=$L$2,ROW(Tabela.abordagens[Idade])-2),ROW(A9)),4)","v":"N"},{"$f":"INDEX(Tabela.abordagens[],SMALL(IF(Tabela.abordagens[Mês]=$L$2,ROW(Tabela.abordagens[Idade])-2),ROW(A9)),5)","v":"S"}]
[null,{"$f":"INDEX(Tabela.frequencia[],SMALL(IF(Tabela.frequencia[Mês]=$L$2,ROW(Tabela.frequencia[id])-1),ROW(A10)),1)","v":18},{"$f":"INDEX(Tabela.frequencia[],SMALL(IF(Tabela.frequencia[Mês]=$L$2,ROW(Tabela.frequencia[id])-1),ROW(A10)),4)","v":34},15,{"$f":"IFERROR(VLOOKUP(D42,Tabela.cadastro[[ID]:[Nome]],2,0),\"\")","v":"Dione Silva"},{"$f":"IFERROR(VLOOKUP(D42,Tabela66[#All],2,0),\"\")","v":36},{"$f":"IFERROR(VLOOKUP(D42,Tabela.cadastro[[ID]:[CP ou M]],5,0),\"\")","v":"M"},{"$f":"IFERROR(VLOOKUP(D42,Cadastros!A:F,6,0),\"\")","v":"F"},{"$f":"IFERROR(VLOOKUP(D42,Cadastros!A:I,9,0),\"\")","v":"N"},{"$f":"IFERROR(VLOOKUP(D42,Cadastros!A:J,10,0),\"\")","v":"N"},{"$f":"IF(COUNTIF(Tabela66[id],D42)=0,\"\",COUNTIF(Tabela66[id],D42))","v":11},null,{"$f":"IF(AND(K42:K873>=5,L42:L873=\"Não\"),\"*\",\"\")","v":""},null,17,{"$f":"IFERROR(VLOOKUP(O42,Cadastros!A:B,2),\"\")","v":"Douglas Bragança"},31,{"$f":"IFERROR(VLOOKUP(O42,Cadastros!A:E,5,0),\"\")","v":"CP"},{"$f":"IFERROR(VLOOKUP(O42,Cadastros!A:F,6,0),\"\")","v":"M"},{"$f":"IFERROR(VLOOKUP(O42,Cadastros!A:I,9,0),\"\")","v":"S"},"N","S",{"$f":"IF(COUNTIF(Y$33:Y$866,O42)=0,\"\",COUNTIF(Y$33:Y$866,O42))","v":1},null,{"$f":"INDEX(Tabela.abordagens[],SMALL(IF(Tabela.abordagens[Mês]=$L$2,ROW(Tabela.abordagens[id])-2),ROW(A10)),1)","v":18},{"$f":"INDEX(Tabela.abordagens[],SMALL(IF(Tabela.abordagens[Mês]=$L$2,ROW(Tabela.abordagens[Idade])-2),ROW(A10)),6)","v":34},{"$f":"INDEX(Tabela.abordagens[],SMALL(IF(Tabela.abordagens[Mês]=$L$2,ROW(Tabela.abordagens[Idade])-2),ROW(A10)),4)","v":"N"},{"$f":"INDEX(Tabela.abordagens[],SMALL(IF(Tabela.abordagens[Mês]=$L$2,ROW(Tabela.abordagens[Idade])-2),ROW(A10)),5)","v":"N"}]
[null,{"$f":"INDEX(Tabela.frequencia[],SMALL(IF(Tabela.frequencia[Mês]=$L$2,ROW(Tabela.frequencia[id])-1),ROW(A11)),1)","v":19},{"$f":"INDEX(Tabela.frequencia[],SMALL(IF(Tabela.frequencia[Mês]=$L$2,ROW(Tabela.frequencia[id])-1),ROW(A11)),4)","v":29},18,{"$f":"IFERROR(VLOOKUP(D43,Tabela.cadastro[[ID]:[Nome]],2,0),\"\")","v":"Eduardo Costa"},{"$f":"IFERROR(VLOOKUP(D43,Tabela66[#All],2,0),\"\")","v":34},{"$f":"IFERROR(VLOOKUP(D43,Tabela.cadastro[[ID]:[CP ou M]],5,0),\"\")","v":"M"},{"$f":"IFERROR(VLOOKUP(D43,Cadastros!A:F,6,0),\"\")","v":"M"},{"$f":"IFERROR(VLOOKUP(D43,Cadastros!A:I,9,0),\"\")","v":"S"},{"$f":"IFERROR(VLOOKUP(D43,Cadastros!A:J,10,0),\"\")","v":"S"},{"$f":"IF(COUNTIF(Tabela66[id],D43)=0,\"\",COUNTIF(Tabela66[id],D43))","v":1},null,"",null,18,{"$f":"IFERROR(VLOOKUP(O43,Cadastros!A:B,2),\"\")","v":"Eduardo Costa"},34,{"$f":"IFERROR(VLOOKUP(O43,Cadastros!A:E,5,0),\"\")","v":"M"},{"$f":"IFERROR(VLOOKUP(O43,Cadastros!A:F,6,0),\"\")","v":"M"},{"$f":"IFERROR(VLOOKUP(O43,Cadastros!A:I,9,0),\"\")","v":"S"},"N","N",1,null,{"$f":"INDEX(Tabela.abordagens[],SMALL(IF(Tabela.abordagens[Mês]=$L$2,ROW(Tabela.abordagens[id])-2),ROW(A11)),1)","v":19},{"$f":"INDEX(Tabela.abordagens[],SMALL(IF(Tabela.abordagens[Mês]=$L$2,ROW(Tabela.abordagens[Idade])-2),ROW(A11)),6)","v":29},{"$f":"INDEX(Tabela.abordagens[],SMALL(IF(Tabela.abordagens[Mês]=$L$2,ROW(Tabela.abordagens[Idade])-2),ROW(A11)),4)","v":"N"},{"$f":"INDEX(Tabela.abordagens[],SMALL(IF(Tabela.abordagens[Mês]=$L$2,ROW(Tabela.abordagens[Idade])-2),ROW(A11)),5)","v":"N"}]
[null,{"$f":"INDEX(Tabela.frequencia[],SMALL(IF(Tabela.frequencia[Mês]=$L$2,ROW(Tabela.frequencia[id])-1),ROW(A12)),1)","v":20},{"$f":"INDEX(Tabela.frequencia[],SMALL(IF(Tabela.frequencia[Mês]=$L$2,ROW(Tabela.frequencia[id])-1),ROW(A12)),4)","v":44},19,{"$f":"IFERROR(VLOOKUP(D44,Tabela.cadastro[[ID]:[Nome]],2,0),\"\")","v":"Antonieta Belém"},{"$f":"IFERROR(VLOOKUP(D44,Tabela66[#All],2,0),\"\")","v":29},{"$f":"IFERROR(VLOOKUP(D44,Tabela.cadastro[[ID]:[CP ou M]],5,0),\"\")","v":"M"},{"$f":"IFERROR(VLOOKUP(D44,Cadastros!A:F,6,0),\"\")","v":"F"},{"$f":"IFERROR(VLOOKUP(D44,Cadastros!A:I,9,0),\"\")","v":"N"},{"$f":"IFERROR(VLOOKUP(D44,Cadastros!A:J,10,0),\"\")","v":"N"},{"$f":"IF(COUNTIF(Tabela66[id],D44)=0,\"\",COUNTIF(Tabela66[id],D44))","v":1},null,"",null,19,{"$f":"IFERROR(VLOOKUP(O44,Cadastros!A:B,2),\"\")","v":"Antonieta Belém"},29,{"$f":"IFERROR(VLOOKUP(O44,Cadastros!A:E,5,0),\"\")","v":"M"},{"$f":"IFERROR(VLOOKUP(O44,Cadastros!A:F,6,0),\"\")","v":"F"},{"$f":"IFERROR(VLOOKUP(O44,Cadastros!A:I,9,0),\"\")","v":"N"},"N","N",1,null,{"$f":"INDEX(Tabela.abordagens[],SMALL(IF(Tabela.abordagens[Mês]=$L$2,ROW(Tabela.abordagens[id])-2),ROW(A12)),1)","v":20},{"$f":"INDEX(Tabela.abordagens[],SMALL(IF(Tabela.abordagens[Mês]=$L$2,ROW(Tabela.abordagens[Idade])-2),ROW(A12)),6)","v":44},{"$f":"INDEX(Tabela.abordagens[],SMALL(IF(Tabela.abordagens[Mês]=$L$2,ROW(Tabela.abordagens[Idade])-2),ROW(A12)),4)","v":"N"},{"$f":"INDEX(Tabela.abordagens[],SMALL(IF(Tabela.abordagens[Mês]=$L$2,ROW(Tabela.abordagens[Idade])-2),ROW(A12)),5)","v":"N"}]
[null,{"$f":"INDEX(Tabela.frequencia[],SMALL(IF(Tabela.frequencia[Mês]=$L$2,ROW(Tabela.frequencia[id])-1),ROW(A13)),1)","v":1},{"$f":"INDEX(Tabela.frequencia[],SMALL(IF(Tabela.frequencia[Mês]=$L$2,ROW(Tabela.frequencia[id])-1),ROW(A13)),4)","v":19},20,{"$f":"IFERROR(VLOOKUP(D45,Tabela.cadastro[[ID]:[Nome]],2,0),\"\")","v":"Josefina Andrade"},{"$f":"IFERROR(VLOOKUP(D45,Tabela66[#All],2,0),\"\")","v":44},{"$f":"IFERROR(VLOOKUP(D45,Tabela.cadastro[[ID]:[CP ou M]],5,0),\"\")","v":"M"},{"$f":"IFERROR(VLOOKUP(D45,Cadastros!A:F,6,0),\"\")","v":"F"},{"$f":"IFERROR(VLOOKUP(D45,Cadastros!A:I,9,0),\"\")","v":"N"},{"$f":"IFERROR(VLOOKUP(D45,Cadastros!A:J,10,0),\"\")","v":"N"},{"$f":"IF(COUNTIF(Tabela66[id],D45)=0,\"\",COUNTIF(Tabela66[id],D45))","v":1},null,"",null,20,{"$f":"IFERROR(VLOOKUP(O45,Cadastros!A:B,2),\"\")","v":"Josefina Andrade"},44,{"$f":"IFERROR(VLOOKUP(O45,Cadastros!A:E,5,0),\"\")","v":"M"},{"$f":"IFERROR(VLOOKUP(O45,Cadastros!A:F,6,0),\"\")","v":"F"},{"$f":"IFERROR(VLOOKUP(O45,Cadastros!A:I,9,0),\"\")","v":"N"},"N","N",1,null,{"$f":"INDEX(Tabela.abordagens[],SMALL(IF(Tabela.abordagens[Mês]=$L$2,ROW(Tabela.abordagens[id])-2),ROW(A13)),1)","v":1},{"$f":"INDEX(Tabela.abordagens[],SMALL(IF(Tabela.abordagens[Mês]=$L$2,ROW(Tabela.abordagens[Idade])-2),ROW(A13)),6)","v":19},{"$f":"INDEX(Tabela.abordagens[],SMALL(IF(Tabela.abordagens[Mês]=$L$2,ROW(Tabela.abordagens[Idade])-2),ROW(A13)),4)","v":"N"},{"$f":"INDEX(Tabela.abordagens[],SMALL(IF(Tabela.abordagens[Mês]=$L$2,ROW(Tabela.abordagens[Idade])-2),ROW(A13)),5)","v":"N"}]
[null,{"$f":"INDEX(Tabela.frequencia[],SMALL(IF(Tabela.frequencia[Mês]=$L$2,ROW(Tabela.frequencia[id])-1),ROW(A14)),1)","v":2},{"$f":"INDEX(Tabela.frequencia[],SMALL(IF(Tabela.frequencia[Mês]=$L$2,ROW(Tabela.frequencia[id])-1),ROW(A14)),4)","v":31},1,{"$f":"IFERROR(VLOOKUP(D46,Tabela.cadastro[[ID]:[Nome]],2,0),\"\")","v":"Maria do Carmo"},{"$f":"IFERROR(VLOOKUP(D46,Tabela66[#All],2,0),\"\")","v":19},{"$f":"IFERROR(VLOOKUP(D46,Tabela.cadastro[[ID]:[CP ou M]],5,0),\"\")","v":"CP"},{"$f":"IFERROR(VLOOKUP(D46,Cadastros!A:F,6,0),\"\")","v":"F"},{"$f":"IFERROR(VLOOKUP(D46,Cadastros!A:I,9,0),\"\")","v":"N"},{"$f":"IFERROR(VLOOKUP(D46,Cadastros!A:J,10,0),\"\")","v":"N"},{"$f":"IF(COUNTIF(Tabela66[id],D46)=0,\"\",COUNTIF(Tabela66[id],D46))","v":1},null,"",null,1,{"$f":"IFERROR(VLOOKUP(O46,Cadastros!A:B,2),\"\")","v":"Maria do Carmo"},19,{"$f":"IFERROR(VLOOKUP(O46,Cadastros!A:E,5,0),\"\")","v":"CP"},{"$f":"IFERROR(VLOOKUP(O46,Cadastros!A:F,6,0),\"\")","v":"F"},{"$f":"IFERROR(VLOOKUP(O46,Cadastros!A:I,9,0),\"\")","v":"N"},"N","N",1,null,{"$f":"INDEX(Tabela.abordagens[],SMALL(IF(Tabela.abordagens[Mês]=$L$2,ROW(Tabela.abordagens[id])-2),ROW(A14)),1)","v":2},{"$f":"INDEX(Tabela.abordagens[],SMALL(IF(Tabela.abordagens[Mês]=$L$2,ROW(Tabela.abordagens[Idade])-2),ROW(A14)),6)","v":31},{"$f":"INDEX(Tabela.abordagens[],SMALL(IF(Tabela.abordagens[Mês]=$L$2,ROW(Tabela.abordagens[Idade])-2),ROW(A14)),4)","v":"N"},{"$f":"INDEX(Tabela.abordagens[],SMALL(IF(Tabela.abordagens[Mês]=$L$2,ROW(Tabela.abordagens[Idade])-2),ROW(A14)),5)","v":"N"}]
[null,{"$f":"INDEX(Tabela.frequencia[],SMALL(IF(Tabela.frequencia[Mês]=$L$2,ROW(Tabela.frequencia[id])-1),ROW(#REF!)),1)","v":{"$error":"#REF!"}},{"$f":"INDEX(Tabela.frequencia[],SMALL(IF(Tabela.frequencia[Mês]=$L$2,ROW(Tabela.frequencia[id])-1),ROW(#REF!)),4)","v":{"$error":"#REF!"}},2,{"$f":"IFERROR(VLOOKUP(D47,Tabela.cadastro[[ID]:[Nome]],2,0),\"\")","v":"José Augusto"},{"$f":"IFERROR(VLOOKUP(D47,Tabela66[#All],2,0),\"\")","v":31},{"$f":"IFERROR(VLOOKUP(D47,Tabela.cadastro[[ID]:[CP ou M]],5,0),\"\")","v":"M"},{"$f":"IFERROR(VLOOKUP(D47,Cadastros!A:F,6,0),\"\")","v":"M"},{"$f":"IFERROR(VLOOKUP(D47,Cadastros!A:I,9,0),\"\")","v":"N"},{"$f":"IFERROR(VLOOKUP(D47,Cadastros!A:J,10,0),\"\")","v":"N"},{"$f":"IF(COUNTIF(Tabela66[id],D47)=0,\"\",COUNTIF(Tabela66[id],D47))","v":1},null,"",null,2,{"$f":"IFERROR(VLOOKUP(O47,Cadastros!A:B,2),\"\")","v":"José Augusto"},31,{"$f":"IFERROR(VLOOKUP(O47,Cadastros!A:E,5,0),\"\")","v":"M"},{"$f":"IFERROR(VLOOKUP(O47,Cadastros!A:F,6,0),\"\")","v":"M"},{"$f":"IFERROR(VLOOKUP(O47,Cadastros!A:I,9,0),\"\")","v":"N"},"N","N",1,null,{"$f":"INDEX(Tabela.abordagens[],SMALL(IF(Tabela.abordagens[Mês]=$L$2,ROW(Tabela.abordagens[id])-2),ROW(#REF!)),1)","v":{"$error":"#REF!"}},{"$f":"INDEX(Tabela.abordagens[],SMALL(IF(Tabela.abordagens[Mês]=$L$2,ROW(Tabela.abordagens[Idade])-2),ROW(#REF!)),6)","v":{"$error":"#REF!"}},{"$f":"INDEX(Tabela.abordagens[],SMALL(IF(Tabela.abordagens[Mês]=$L$2,ROW(Tabela.abordagens[Idade])-2),ROW(#REF!)),4)","v":{"$error":"#REF!"}},{"$f":"INDEX(Tabela.abordagens[],SMALL(IF(Tabela.abordagens[Mês]=$L$2,ROW(Tabela.abordagens[Idade])-2),ROW(#REF!)),5)","v":{"$error":"#REF!"}}]
[null,{"$f":"INDEX(Tabela.frequencia[],SMALL(IF(Tabela.frequencia[Mês]=$L$2,ROW(Tabela.frequencia[id])-1),ROW(#REF!)),1)","v":{"$error":"#REF!"}},{"$f":"INDEX(Tabela.frequencia[],SMALL(IF(Tabela.frequencia[Mês]=$L$2,ROW(Tabela.frequencia[id])-1),ROW(#REF!)),4)","v":{"$error":"#REF!"}},3,{"$f":"IFERROR(VLOOKUP(D48,Tabela.cadastro[[ID]:[Nome]],2,0),\"\")","v":"Joana Silva"},{"$f":"IFERROR(VLOOKUP(D48,Tabela66[#All],2,0),\"\")","v":29},{"$f":"IFERROR(VLOOKUP(D48,Tabela.cadastro[[ID]:[CP ou M]],5,0),\"\")","v":"M"},{"$f":"IFERROR(VLOOKUP(D48,Cadastros!A:F,6,0),\"\")","v":"F"},{"$f":"IFERROR(VLOOKUP(D48,Cadastros!A:I,9,0),\"\")","v":"N"},{"$f":"IFERROR(VLOOKUP(D48,Cadastros!A:J,10,0),\"\")","v":"N"},{"$f":"IF(COUNTIF(Tabela66[id],D48)=0,\"\",COUNTIF(Tabela66[id],D48))","v":1},null,"",null,3,{"$f":"IFERROR(VLOOKUP(O48,Cadastros!A:B,2),\"\")","v":"Joana Silva"},29,{"$f":"IFERROR(VLOOKUP(O48,Cadastros!A:E,5,0),\"\")","v":"M"},{"$f":"IFERROR(VLOOKUP(O48,Cadastros!A:F,6,0),\"\")","v":"F"},{"$f":"IFERROR(VLOOKUP(O48,Cadastros!A:I,9,0),\"\")","v":"N"},"N","N",1,null,{"$f":"INDEX(Tabela.abordagens[],SMALL(IF(Tabela.abordagens[Mês]=$L$2,ROW(Tabela.abordagens[id])-2),ROW(#REF!)),1)","v":{"$error":"#REF!"}},{"$f":"INDEX(Tabela.abordagens[],SMALL(IF(Tabela.abordagens[Mês]=$L$2,ROW(Tabela.abordagens[Idade])-2),ROW(#REF!)),6)","v":{"$error":"#REF!"}},{"$f":"INDEX(Tabela.abordagens[],SMALL(IF(Tabela.abordagens[Mês]=$L$2,ROW(Tabela.abordagens[Idade])-2),ROW(#REF!)),4)","v":{"$error":"#REF!"}},{"$f":"INDEX(Tabela.abordagens[],SMALL(IF(Tabela.abordagens[Mês]=$L$2,ROW(Tabela.abordagens[Idade])-2),ROW(#REF!)),5)","v":{"$error":"#REF!"}}]
[null,{"$f":"INDEX(Tabela.frequencia[],SMALL(IF(Tabela.frequencia[Mês]=$L$2,ROW(Tabela.frequencia[id])-1),ROW(#REF!)),1)","v":{"$error":"#REF!"}},{"$f":"INDEX(Tabela.frequencia[],SMALL(IF(Tabela.frequencia[Mês]=$L$2,ROW(Tabela.frequencia[id])-1),ROW(#REF!)),4)","v":{"$error":"#REF!"}},4,{"$f":"IFERROR(VLOOKUP(D49,Tabela.cadastro[[ID]:[Nome]],2,0),\"\")","v":"João Pereira"},{"$f":"IFERROR(VLOOKUP(D49,Tabela66[#All],2,0),\"\")","v":41},{"$f":"IFERROR(VLOOKUP(D49,Tabela.cadastro[[ID]:[CP ou M]],5,0),\"\")","v":"M"},{"$f":"IFERROR(VLOOKUP(D49,Cadastros!A:F,6,0),\"\")","v":"M"},{"$f":"IFERROR(VLOOKUP(D49,Cadastros!A:I,9,0),\"\")","v":"N"},{"$f":"IFERROR(VLOOKUP(D49,Cadastros!A:J,10,0),\"\")","v":"N"},{"$f":"IF(COUNTIF(Tabela66[id],D49)=0,\"\",COUNTIF(Tabela66[id],D49))","v":1},null,"",null,4,{"$f":"IFERROR(VLOOKUP(O49,Cadastros!A:B,2),\"\")","v":"João Pereira"},41,{"$f":"IFERROR(VLOOKUP(O49,Cadastros!A:E,5,0),\"\")","v":"M"},{"$f":"IFERROR(VLOOKUP(O49,Cadastros!A:F,6,0),\"\")","v":"M"},{"$f":"IFERROR(VLOOKUP(O49,Cadastros!A:I,9,0),\"\")","v":"N"},"N","N",1,null,{"$f":"INDEX(Tabela.abordagens[],SMALL(IF(Tabela.abordagens[Mês]=$L$2,ROW(Tabela.abordagens[id])-2),ROW(#REF!)),1)","v":{"$error":"#REF!"}},{"$f":"INDEX(Tabela.abordagens[],SMALL(IF(Tabela.abordagens[Mês]=$L$2,ROW(Tabela.abordagens[Idade])-2),ROW(#REF!)),6)","v":{"$error":"#REF!"}},{"$f":"INDEX(Tabela.abordagens[],SMALL(IF(Tabela.abordagens[Mês]=$L$2,ROW(Tabela.abordagens[Idade])-2),ROW(#REF!)),4)","v":{"$error":"#REF!"}},{"$f":"INDEX(Tabela.abordagens[],SMALL(IF(Tabela.abordagens[Mês]=$L$2,ROW(Tabela.abordagens[Idade])-2),ROW(#REF!)),5)","v":{"$error":"#REF!"}}]
[null,{"$f":"INDEX(Tabela.frequencia[],SMALL(IF(Tabela.frequencia[Mês]=$L$2,ROW(Tabela.frequencia[id])-1),ROW(#REF!)),1)","v":{"$error":"#REF!"}},{"$f":"INDEX(Tabela.frequencia[],SMALL(IF(Tabela.frequencia[Mês]=$L$2,ROW(Tabela.frequencia[id])-1),ROW(#REF!)),4)","v":{"$error":"#REF!"}},6,{"$f":"IFERROR(VLOOKUP(D50,Tabela.cadastro[[ID]:[Nome]],2,0),\"\")","v":"Marcos Costa"},{"$f":"IFERROR(VLOOKUP(D50,Tabela66[#All],2,0),\"\")","v":14},{"$f":"IFERROR(VLOOKUP(D50,Tabela.cadastro[[ID]:[CP ou M]],5,0),\"\")","v":"CP"},{"$f":"IFERROR(VLOOKUP(D50,Cadastros!A:F,6,0),\"\")","v":"M"},{"$f":"IFERROR(VLOOKUP(D50,Cadastros!A:I,9,0),\"\")","v":"S"},{"$f":"IFERROR(VLOOKUP(D50,Cadastros!A:J,10,0),\"\")","v":"S"},{"$f":"IF(COUNTIF(Tabela66[id],D50)=0,\"\",COUNTIF(Tabela66[id],D50))","v":1},null,"",null,6,{"$f":"IFERROR(VLOOKUP(O50,Cadastros!A:B,2),\"\")","v":"Marcos Costa"},14,{"$f":"IFERROR(VLOOKUP(O50,Cadastros!A:E,5,0),\"\")","v":"CP"},{"$f":"IFERROR(VLOOKUP(O50,Cadastros!A:F,6,0),\"\")","v":"M"},{"$f":"IFERROR(VLOOKUP(O50,Cadastros!A:I,9,0),\"\")","v":"S"},"N","N",1,null,{"$f":"INDEX(Tabela.abordagens[],SMALL(IF(Tabela.abordagens[Mês]=$L$2,ROW(Tabela.abordagens[id])-2),ROW(#REF!)),1)","v":{"$error":"#REF!"}},{"$f":"INDEX(Tabela.abordagens[],SMALL(IF(Tabela.abordagens[Mês]=$L$2,ROW(Tabela.abordagens[Idade])-2),ROW(#REF!)),6)","v":{"$error":"#REF!"}},{"$f":"INDEX(Tabela.abordagens[],SMALL(IF(Tabela.abordagens[Mês]=$L$2,ROW(Tabela.abordagens[Idade])-2),ROW(#REF!)),4)","v":{"$error":"#REF!"}},{"$f":"INDEX(Tabela.abordagens[],SMALL(IF(Tabela.abordagens[Mês]=$L$2,ROW(Tabela.abordagens[Idade])-2),ROW(#REF!)),5)","v":{"$error":"#REF!"}}]
[null,{"$f":"INDEX(Tabela.frequencia[],SMALL(IF(Tabela.frequencia[Mês]=$L$2,ROW(Tabela.frequencia[id])-1),ROW(#REF!)),1)","v":{"$error":"#REF!"}},{"$f":"INDEX(Tabela.frequencia[],SMALL(IF(Tabela.frequencia[Mês]=$L$2,ROW(Tabela.frequencia[id])-1),ROW(#REF!)),4)","v":{"$error":"#REF!"}},7,{"$f":"IFERROR(VLOOKUP(D51,Tabela.cadastro[[ID]:[Nome]],2,0),\"\")","v":"Alan Gomes"},{"$f":"IFERROR(VLOOKUP(D51,Tabela66[#All],2,0),\"\")","v":74},{"$f":"IFERROR(VLOOKUP(D51,Tabela.cadastro[[ID]:[CP ou M]],5,0),\"\")","v":"CP"},{"$f":"IFERROR(VLOOKUP(D51,Cadastros!A:F,6,0),\"\")","v":"M"},{"$f":"IFERROR(VLOOKUP(D51,Cadastros!A:I,9,0),\"\")","v":"S"},{"$f":"IFERROR(VLOOKUP(D51,Cadastros!A:J,10,0),\"\")","v":"S"},{"$f":"IF(COUNTIF(Tabela66[id],D51)=0,\"\",COUNTIF(Tabela66[id],D51))","v":1},null,"",null,7,{"$f":"IFERROR(VLOOKUP(O51,Cadastros!A:B,2),\"\")","v":"Alan Gomes"},74,{"$f":"IFERROR(VLOOKUP(O51,Cadastros!A:E,5,0),\"\")","v":"CP"},{"$f":"IFERROR(VLOOKUP(O51,Cadastros!A:F,6,0),\"\")","v":"M"},{"$f":"IFERROR(VLOOKUP(O51,Cadastros!A:I,9,0),\"\")","v":"S"},"N","N",1,null,{"$f":"INDEX(Tabela.abordagens[],SMALL(IF(Tabela.abordagens[Mês]=$L$2,ROW(Tabela.abordagens[id])-2),ROW(#REF!)),1)","v":{"$error":"#REF!"}},{"$f":"INDEX(Tabela.abordagens[],SMALL(IF(Tabela.abordagens[Mês]=$L$2,ROW(Tabela.abordagens[Idade])-2),ROW(#REF!)),6)","v":{"$error":"#REF!"}},{"$f":"INDEX(Tabela.abordagens[],SMALL(IF(Tabela.abordagens[Mês]=$L$2,ROW(Tabela.abordagens[Idade])-2),ROW(#REF!)),4)","v":{"$error":"#REF!"}},{"$f":"INDEX(Tabela.abordagens[],SMALL(IF(Tabela.abordagens[Mês]=$L$2,ROW(Tabela.abordagens[Idade])-2),ROW(#REF!)),5)","v":{"$error":"#REF!"}}]
[null,{"$f":"INDEX(Tabela.frequencia[],SMALL(IF(Tabela.frequencia[Mês]=$L$2,ROW(Tabela.frequencia[id])-1),ROW(#REF!)),1)","v":{"$error":"#REF!"}},{"$f":"INDEX(Tabela.frequencia[],SMALL(IF(Tabela.frequencia[Mês]=$L$2,ROW(Tabela.frequencia[id])-1),ROW(#REF!)),4)","v":{"$error":"#REF!"}},8,{"$f":"IFERROR(VLOOKUP(D52,Tabela.cadastro[[ID]:[Nome]],2,0),\"\")","v":"Luiz Souza"},{"$f":"IFERROR(VLOOKUP(D52,Tabela66[#All],2,0),\"\")","v":27},{"$f":"IFERROR(VLOOKUP(D52,Tabela.cadastro[[ID]:[CP ou M]],5,0),\"\")","v":"M"},{"$f":"IFERROR(VLOOKUP(D52,Cadastros!A:F,6,0),\"\")","v":"M"},{"$f":"IFERROR(VLOOKUP(D52,Cadastros!A:I,9,0),\"\")","v":"N"},{"$f":"IFERROR(VLOOKUP(D52,Cadastros!A:J,10,0),\"\")","v":"N"},{"$f":"IF(COUNTIF(Tabela66[id],D52)=0,\"\",COUNTIF(Tabela66[id],D52))","v":1},null,"",null,8,{"$f":"IFERROR(VLOOKUP(O52,Cadastros!A:B,2),\"\")","v":"Luiz Souza"},27,{"$f":"IFERROR(VLOOKUP(O52,Cadastros!A:E,5,0),\"\")","v":"M"},{"$f":"IFERROR(VLOOKUP(O52,Cadastros!A:F,6,0),\"\")","v":"M"},{"$f":"IFERROR(VLOOKUP(O52,Cadastros!A:I,9,0),\"\")","v":"N"},"N","N",1,null,{"$f":"INDEX(Tabela.abordagens[],SMALL(IF(Tabela.abordagens[Mês]=$L$2,ROW(Tabela.abordagens[id])-2),ROW(#REF!)),1)","v":{"$error":"#REF!"}},{"$f":"INDEX(Tabela.abordagens[],SMALL(IF(Tabela.abordagens[Mês]=$L$2,ROW(Tabela.abordagens[Idade])-2),ROW(#REF!)),6)","v":{"$error":"#REF!"}},{"$f":"INDEX(Tabela.abordagens[],SMALL(IF(Tabela.abordagens[Mês]=$L$2,ROW(Tabela.abordagens[Idade])-2),ROW(#REF!)),4)","v":{"$error":"#REF!"}},{"$f":"INDEX(Tabela.abordagens[],SMALL(IF(Tabela.abordagens[Mês]=$L$2,ROW(Tabela.abordagens[Idade])-2),ROW(#REF!)),5)","v":{"$error":"#REF!"}}]
[null,{"$f":"INDEX(Tabela.frequencia[],SMALL(IF(Tabela.frequencia[Mês]=$L$2,ROW(Tabela.frequencia[id])-1),ROW(#REF!)),1)","v":{"$error":"#REF!"}},{"$f":"INDEX(Tabela.frequencia[],SMALL(IF(Tabela.frequencia[Mês]=$L$2,ROW(Tabela.frequencia[id])-1),ROW(#REF!)),4)","v":{"$error":"#REF!"}},"#REF!",{"$f":"IFERROR(VLOOKUP(D53,Tabela.cadastro[[ID]:[Nome]],2,0),\"\")","v":""},{"$f":"IFERROR(VLOOKUP(D53,Tabela66[#All],2,0),\"\")","v":""},{"$f":"IFERROR(VLOOKUP(D53,Tabela.cadastro[[ID]:[CP ou M]],5,0),\"\")","v":""},{"$f":"IFERROR(VLOOKUP(D53,Cadastros!A:F,6,0),\"\")","v":""},{"$f":"IFERROR(VLOOKUP(D53,Cadastros!A:I,9,0),\"\")","v":""},{"$f":"IFERROR(VLOOKUP(D53,Cadastros!A:J,10,0),\"\")","v":""},{"$f":"IF(COUNTIF(Tabela66[id],D53)=0,\"\",COUNTIF(Tabela66[id],D53))","v":15},null,"",null,"#REF!",{"$f":"IFERROR(VLOOKUP(O53,Cadastros!A:B,2),\"\")","v":""},"",{"$f":"IFERROR(VLOOKUP(O53,Cadastros!A:E,5,0),\"\")","v":""},{"$f":"IFERROR(VLOOKUP(O53,Cadastros!A:F,6,0),\"\")","v":""},{"$f":"IFERROR(VLOOKUP(O53,Cadastros!A:I,9,0),\"\")","v":""},"","",15,null,{"$f":"INDEX(Tabela.abordagens[],SMALL(IF(Tabela.abordagens[Mês]=$L$2,ROW(Tabela.abordagens[id])-2),ROW(#REF!)),1)","v":{"$error":"#REF!"}},{"$f":"INDEX(Tabela.abordagens[],SMALL(IF(Tabela.abordagens[Mês]=$L$2,ROW(Tabela.abordagens[Idade])-2),ROW(#REF!)),6)","v":{"$error":"#REF!"}},{"$f":"INDEX(Tabela.abordagens[],SMALL(IF(Tabela.abordagens[Mês]=$L$2,ROW(Tabela.abordagens[Idade])-2),ROW(#REF!)),4)","v":{"$error":"#REF!"}},{"$f":"INDEX(Tabela.abordagens[],SMALL(IF(Tabela.abordagens[Mês]=$L$2,ROW(Tabela.abordagens[Idade])-2),ROW(#REF!)),5)","v":{"$error":"#REF!"}}]
[null,{"$f":"INDEX(Tabela.frequencia[],SMALL(IF(Tabela.frequencia[Mês]=$L$2,ROW(Tabela.frequencia[id])-1),ROW(#REF!)),1)","v":{"$error":"#REF!"}},{"$f":"INDEX(Tabela.frequencia[],SMALL(IF(Tabela.frequencia[Mês]=$L$2,ROW(Tabela.frequencia[id])-1),ROW(#REF!)),4)","v":{"$error":"#REF!"}},null,{"$f":"IFERROR(VLOOKUP(D54,Tabela.cadastro[[ID]:[Nome]],2,0),\"\")","v":""},{"$f":"IFERROR(VLOOKUP(D54,Tabela66[#All],2,0),\"\")","v":""},{"$f":"IFERROR(VLOOKUP(D54,Tabela.cadastro[[ID]:[CP ou M]],5,0),\"\")","v":""},{"$f":"IFERROR(VLOOKUP(D54,Cadastros!A:F,6,0),\"\")","v":""},{"$f":"IFERROR(VLOOKUP(D54,Cadastros!A:I,9,0),\"\")","v":""},{"$f":"IFERROR(VLOOKUP(D54,Cadastros!A:J,10,0),\"\")","v":""},{"$f":"IF(COUNTIF(Tabela66[id],D54)=0,\"\",COUNTIF(Tabela66[id],D54))","v":""},null,"",null,null,{"$f":"IFERROR(VLOOKUP(O54,Cadastros!A:B,2),\"\")","v":""},"",{"$f":"IFERROR(VLOOKUP(O54,Cadastros!A:E,5,0),\"\")","v":""},{"$f":"IFERROR(VLOOKUP(O54,Cadastros!A:F,6,0),\"\")","v":""},{"$f":"IFERROR(VLOOKUP(O54,Cadastros!A:I,9,0),\"\")","v":""},"","","",null,{"$f":"INDEX(Tabela.abordagens[],SMALL(IF(Tabela.abordagens[Mês]=$L$2,ROW(Tabela.abordagens[id])-2),ROW(#REF!)),1)","v":{"$error":"#REF!"}},{"$f":"INDEX(Tabela.abordagens[],SMALL(IF(Tabela.abordagens[Mês]=$L$2,ROW(Tabela.abordagens[Idade])-2),ROW(#REF!)),6)","v":{"$error":"#REF!"}},{"$f":"INDEX(Tabela.abordagens[],SMALL(IF(Tabela.abordagens[Mês]=$L$2,ROW(Tabela.abordagens[Idade])-2),ROW(#REF!)),4)","v":{"$error":"#REF!"}},{"$f":"INDEX(Tabela.abordagens[],SMALL(IF(Tabela.abordagens[Mês]=$L$2,ROW(Tabela.abordagens[Idade])-2),ROW(#REF!)),5)","v":{"$error":"#REF!"}}]
[null,{"$f":"INDEX(Tabela.frequencia[],SMALL(IF(Tabela.frequencia[Mês]=$L$2,ROW(Tabela.frequencia[id])-1),ROW(#REF!)),1)","v":{"$error":"#REF!"}},{"$f":"INDEX(Tabela.frequencia[],SMALL(IF(Tabela.frequencia[Mês]=$L$2,ROW(Tabela.frequencia[id])-1),ROW(#REF!)),4)","v":{"$error":"#REF!"}},null,{"$f":"IFERROR(VLOOKUP(D55,Tabela.cadastro[[ID]:[Nome]],2,0),\"\")","v":""},{"$f":"IFERROR(VLOOKUP(D55,Tabela66[#All],2,0),\"\")","v":""},{"$f":"IFERROR(VLOOKUP(D55,Tabela.cadastro[[ID]:[CP ou M]],5,0),\"\")","v":""},{"$f":"IFERROR(VLOOKUP(D55,Cadastros!A:F,6,0),\"\")","v":""},{"$f":"IFERROR(VLOOKUP(D55,Cadastros!A:I,9,0),\"\")","v":""},{"$f":"IFERROR(VLOOKUP(D55,Cadastros!A:J,10,0),\"\")","v":""},{"$f":"IF(COUNTIF(Tabela66[id],D55)=0,\"\",COUNTIF(Tabela66[id],D55))","v":""},null,"",null,null,{"$f":"IFERROR(VLOOKUP(O55,Cadastros!A:B,2),\"\")","v":""},"",{"$f":"IFERROR(VLOOKUP(O55,Cadastros!A:E,5,0),\"\")","v":""},{"$f":"IFERROR(VLOOKUP(O55,Cadastros!A:F,6,0),\"\")","v":""},{"$f":"IFERROR(VLOOKUP(O55,Cadastros!A:I,9,0),\"\")","v":""},"","","",null,{"$f":"INDEX(Tabela.abordagens[],SMALL(IF(Tabela.abordagens[Mês]=$L$2,ROW(Tabela.abordagens[id])-2),ROW(#REF!)),1)","v":{"$error":"#REF!"}},{"$f":"INDEX(Tabela.abordagens[],SMALL(IF(Tabela.abordagens[Mês]=$L$2,ROW(Tabela.abordagens[Idade])-2),ROW(#REF!)),6)","v":{"$error":"#REF!"}},{"$f":"INDEX(Tabela.abordagens[],SMALL(IF(Tabela.abordagens[Mês]=$L$2,ROW(Tabela.abordagens[Idade])-2),ROW(#REF!)),4)","v":{"$error":"#REF!"}},{"$f":"INDEX(Tabela.abordagens[],SMALL(IF(Tabela.abordagens[Mês]=$L$2,ROW(Tabela.abordagens[Idade])-2),ROW(#REF!)),5)","v":{"$error":"#REF!"}}]
[null,{"$f":"INDEX(Tabela.frequencia[],SMALL(IF(Tabela.frequencia[Mês]=$L$2,ROW(Tabela.frequencia[id])-1),ROW(#REF!)),1)","v":{"$error":"#REF!"}},{"$f":"INDEX(Tabela.frequencia[],SMALL(IF(Tabela.frequencia[Mês]=$L$2,ROW(Tabela.frequencia[id])-1),ROW(#REF!)),4)","v":{"$error":"#REF!"}},null,{"$f":"IFERROR(VLOOKUP(D56,Tabela.cadastro[[ID]:[Nome]],2,0),\"\")","v":""},{"$f":"IFERROR(VLOOKUP(D56,Tabela66[#All],2,0),\"\")","v":""},{"$f":"IFERROR(VLOOKUP(D56,Tabela.cadastro[[ID]:[CP ou M]],5,0),\"\")","v":""},{"$f":"IFERROR(VLOOKUP(D56,Cadastros!A:F,6,0),\"\")","v":""},{"$f":"IFERROR(VLOOKUP(D56,Cadastros!A:I,9,0),\"\")","v":""},{"$f":"IFERROR(VLOOKUP(D56,Cadastros!A:J,10,0),\"\")","v":""},{"$f":"IF(COUNTIF(Tabela66[id],D56)=0,\"\",COUNTIF(Tabela66[id],D56))","v":""},null,"",null,null,{"$f":"IFERROR(VLOOKUP(O56,Cadastros!A:B,2),\"\")","v":""},"",{"$f":"IFERROR(VLOOKUP(O56,Cadastros!A:E,5,0),\"\")","v":""},{"$f":"IFERROR(VLOOKUP(O56,Cadastros!A:F,6,0),\"\")","v":""},{"$f":"IFERROR(VLOOKUP(O56,Cadastros!A:I,9,0),\"\")","v":""},"","","",null,{"$f":"INDEX(Tabela.abordagens[],SMALL(IF(Tabela.abordagens[Mês]=$L$2,ROW(Tabela.abordagens[id])-2),ROW(#REF!)),1)","v":{"$error":"#REF!"}},{"$f":"INDEX(Tabela.abordagens[],SMALL(IF(Tabela.abordagens[Mês]=$L$2,ROW(Tabela.abordagens[Idade])-2),ROW(#REF!)),6)","v":{"$error":"#REF!"}},{"$f":"INDEX(Tabela.abordagens[],SMALL(IF(Tabela.abordagens[Mês]=$L$2,ROW(Tabela.abordagens[Idade])-2),ROW(#REF!)),4)","v":{"$error":"#REF!"}},{"$f":"INDEX(Tabela.abordagens[],SMALL(IF(Tabela.abordagens[Mês]=$L$2,ROW(Tabela.abordagens[Idade])-2),ROW(#REF!)),5)","v":{"$error":"#REF!"}}]
[null,{"$f":"INDEX(Tabela.frequencia[],SMALL(IF(Tabela.frequencia[Mês]=$L$2,ROW(Tabela.frequencia[id])-1),ROW(#REF!)),1)","v":{"$error":"#REF!"}},{"$f":"INDEX(Tabela.frequencia[],SMALL(IF(Tabela.frequencia[Mês]=$L$2,ROW(Tabela.frequencia[id])-1),ROW(#REF!)),4)","v":{"$error":"#REF!"}},null,{"$f":"IFERROR(VLOOKUP(D57,Tabela.cadastro[[ID]:[Nome]],2,0),\"\")","v":""},{"$f":"IFERROR(VLOOKUP(D57,Tabela66[#All],2,0),\"\")","v":""},{"$f":"IFERROR(VLOOKUP(D57,Tabela.cadastro[[ID]:[CP ou M]],5,0),\"\")","v":""},{"$f":"IFERROR(VLOOKUP(D57,Cadastros!A:F,6,0),\"\")","v":""},{"$f":"IFERROR(VLOOKUP(D57,Cadastros!A:I,9,0),\"\")","v":""},{"$f":"IFERROR(VLOOKUP(D57,Cadastros!A:J,10,0),\"\")","v":""},{"$f":"IF(COUNTIF(Tabela66[id],D57)=0,\"\",COUNTIF(Tabela66[id],D57))","v":""},null,"",null,null,{"$f":"IFERROR(VLOOKUP(O57,Cadastros!A:B,2),\"\")","v":""},"",{"$f":"IFERROR(VLOOKUP(O57,Cadastros!A:E,5,0),\"\")","v":""},{"$f":"IFERROR(VLOOKUP(O57,Cadastros!A:F,6,0),\"\")","v":""},{"$f":"IFERROR(VLOOKUP(O57,Cadastros!A:I,9,0),\"\")","v":""},"","","",null,{"$f":"INDEX(Tabela.abordagens[],SMALL(IF(Tabela.abordagens[Mês]=$L$2,ROW(Tabela.abordagens[id])-2),ROW(#REF!)),1)","v":{"$error":"#REF!"}},{"$f":"INDEX(Tabela.abordagens[],SMALL(IF(Tabela.abordagens[Mês]=$L$2,ROW(Tabela.abordagens[Idade])-2),ROW(#REF!)),6)","v":{"$error":"#REF!"}},{"$f":"INDEX(Tabela.abordagens[],SMALL(IF(Tabela.abordagens[Mês]=$L$2,ROW(Tabela.abordagens[Idade])-2),ROW(#REF!)),4)","v":{"$error":"#REF!"}},{"$f":"INDEX(Tabela.abordagens[],SMALL(IF(Tabela.abordagens[Mês]=$L$2,ROW(Tabela.abordagens[Idade])-2),ROW(#REF!)),5)","v":{"$error":"#REF!"}}]
[null,{"$f":"INDEX(Tabela.frequencia[],SMALL(IF(Tabela.frequencia[Mês]=$L$2,ROW(Tabela.frequencia[id])-1),ROW(#REF!)),1)","v":{"$error":"#REF!"}},{"$f":"INDEX(Tabela.frequencia[],SMALL(IF(Tabela.frequencia[Mês]=$L$2,ROW(Tabela.frequencia[id])-1),ROW(#REF!)),4)","v":{"$error":"#REF!"}},null,{"$f":"IFERROR(VLOOKUP(D58,Tabela.cadastro[[ID]:[Nome]],2,0),\"\")","v":""},{"$f":"IFERROR(VLOOKUP(D58,Tabela66[#All],2,0),\"\")","v":""},{"$f":"IFERROR(VLOOKUP(D58,Tabela.cadastro[[ID]:[CP ou M]],5,0),\"\")","v":""},{"$f":"IFERROR(VLOOKUP(D58,Cadastros!A:F,6,0),\"\")","v":""},{"$f":"IFERROR(VLOOKUP(D58,Cadastros!A:I,9,0),\"\")","v":""},{"$f":"IFERROR(VLOOKUP(D58,Cadastros!A:J,10,0),\"\")","v":""},{"$f":"IF(COUNTIF(Tabela66[id],D58)=0,\"\",COUNTIF(Tabela66[id],D58))","v":""},null,"",null,null,{"$f":"IFERROR(VLOOKUP(O58,Cadastros!A:B,2),\"\")","v":""},"",{"$f":"IFERROR(VLOOKUP(O58,Cadastros!A:E,5,0),\"\")","v":""},{"$f":"IFERROR(VLOOKUP(O58,Cadastros!A:F,6,0),\"\")","v":""},{"$f":"IFERROR(VLOOKUP(O58,Cadastros!A:I,9,0),\"\")","v":""},"","","",null,{"$f":"INDEX(Tabela.abordagens[],SMALL(IF(Tabela.abordagens[Mês]=$L$2,ROW(Tabela.abordagens[id])-2),ROW(#REF!)),1)","v":{"$error":"#REF!"}},{"$f":"INDEX(Tabela.abordagens[],SMALL(IF(Tabela.abordagens[Mês]=$L$2,ROW(Tabela.abordagens[Idade])-2),ROW(#REF!)),6)","v":{"$error":"#REF!"}},{"$f":"INDEX(Tabela.abordagens[],SMALL(IF(Tabela.abordagens[Mês]=$L$2,ROW(Tabela.abordagens[Idade])-2),ROW(#REF!)),4)","v":{"$error":"#REF!"}},{"$f":"INDEX(Tabela.abordagens[],SMALL(IF(Tabela.abordagens[Mês]=$L$2,ROW(Tabela.abordagens[Idade])-2),ROW(#REF!)),5)","v":{"$error":"#REF!"}}]
[null,{"$f":"INDEX(Tabela.frequencia[],SMALL(IF(Tabela.frequencia[Mês]=$L$2,ROW(Tabela.frequencia[id])-1),ROW(#REF!)),1)","v":{"$error":"#REF!"}},{"$f":"INDEX(Tabela.frequencia[],SMALL(IF(Tabela.frequencia[Mês]=$L$2,ROW(Tabela.frequencia[id])-1),ROW(#REF!)),4)","v":{"$error":"#REF!"}},null,{"$f":"IFERROR(VLOOKUP(D59,Tabela.cadastro[[ID]:[Nome]],2,0),\"\")","v":""},{"$f":"IFERROR(VLOOKUP(D59,Tabela66[#All],2,0),\"\")","v":""},{"$f":"IFERROR(VLOOKUP(D59,Tabela.cadastro[[ID]:[CP ou M]],5,0),\"\")","v":""},{"$f":"IFERROR(VLOOKUP(D59,Cadastros!A:F,6,0),\"\")","v":""},{"$f":"IFERROR(VLOOKUP(D59,Cadastros!A:I,9,0),\"\")","v":""},{"$f":"IFERROR(VLOOKUP(D59,Cadastros!A:J,10,0),\"\")","v":""},{"$f":"IF(COUNTIF(Tabela66[id],D59)=0,\"\",COUNTIF(Tabela66[id],D59))","v":""},null,"",null,null,{"$f":"IFERROR(VLOOKUP(O59,Cadastros!A:B,2),\"\")","v":""},"",{"$f":"IFERROR(VLOOKUP(O59,Cadastros!A:E,5,0),\"\")","v":""},{"$f":"IFERROR(VLOOKUP(O59,Cadastros!A:F,6,0),\"\")","v":""},{"$f":"IFERROR(VLOOKUP(O59,Cadastros!A:I,9,0),\"\")","v":""},"","","",null,{"$f":"INDEX(Tabela.abordagens[],SMALL(IF(Tabela.abordagens[Mês]=$L$2,ROW(Tabela.abordagens[id])-2),ROW(#REF!)),1)","v":{"$error":"#REF!"}},{"$f":"INDEX(Tabela.abordagens[],SMALL(IF(Tabela.abordagens[Mês]=$L$2,ROW(Tabela.abordagens[Idade])-2),ROW(#REF!)),6)","v":{"$error":"#REF!"}},{"$f":"INDEX(Tabela.abordagens[],SMALL(IF(Tabela.abordagens[Mês]=$L$2,ROW(Tabela.abordagens[Idade])-2),ROW(#REF!)),4)","v":{"$error":"#REF!"}},{"$f":"INDEX(Tabela.abordagens[],SMALL(IF(Tabela.abordagens[Mês]=$L$2,ROW(Tabela.abordagens[Idade])-2),ROW(#REF!)),5)","v":{"$error":"#REF!"}}]
[null,{"$f":"INDEX(Tabela.frequencia[],SMALL(IF(Tabela.frequencia[Mês]=$L$2,ROW(Tabela.frequencia[id])-1),ROW(#REF!)),1)","v":{"$error":"#REF!"}},{"$f":"INDEX(Tabela.frequencia[],SMALL(IF(Tabela.frequencia[Mês]=$L$2,ROW(Tabela.frequencia[id])-1),ROW(#REF!)),4)","v":{"$error":"#REF!"}},null,{"$f":"IFERROR(VLOOKUP(D60,Tabela.cadastro[[ID]:[Nome]],2,0),\"\")","v":""},{"$f":"IFERROR(VLOOKUP(D60,Tabela66[#All],2,0),\"\")","v":""},{"$f":"IFERROR(VLOOKUP(D60,Tabela.cadastro[[ID]:[CP ou M]],5,0),\"\")","v":""},{"$f":"IFERROR(VLOOKUP(D60,Cadastros!A:F,6,0),\"\")","v":""},{"$f":"IFERROR(VLOOKUP(D60,Cadastros!A:I,9,0),\"\")","v":""},{"$f":"IFERROR(VLOOKUP(D60,Cadastros!A:J,10,0),\"\")","v":""},{"$f":"IF(COUNTIF(Tabela66[id],D60)=0,\"\",COUNTIF(Tabela66[id],D60))","v":""},null,"",null,null,{"$f":"IFERROR(VLOOKUP(O60,Cadastros!A:B,2),\"\")","v":""},"",{"$f":"IFERROR(VLOOKUP(O60,Cadastros!A:E,5,0),\"\")","v":""},{"$f":"IFERROR(VLOOKUP(O60,Cadastros!A:F,6,0),\"\")","v":""},{"$f":"IFERROR(VLOOKUP(O60,Cadastros!A:I,9,0),\"\")","v":""},"","","",null,{"$f":"INDEX(Tabela.abordagens[],SMALL(IF(Tabela.abordagens[Mês]=$L$2,ROW(Tabela.abordagens[id])-2),ROW(#REF!)),1)","v":{"$error":"#REF!"}},{"$f":"INDEX(Tabela.abordagens[],SMALL(IF(Tabela.abordagens[Mês]=$L$2,ROW(Tabela.abordagens[Idade])-2),ROW(#REF!)),6)","v":{"$error":"#REF!"}},{"$f":"INDEX(Tabela.abordagens[],SMALL(IF(Tabela.abordagens[Mês]=$L$2,ROW(Tabela.abordagens[Idade])-2),ROW(#REF!)),4)","v":{"$error":"#REF!"}},{"$f":"INDEX(Tabela.abordagens[],SMALL(IF(Tabela.abordagens[Mês]=$L$2,ROW(Tabela.abordagens[Idade])-2),ROW(#REF!)),5)","v":{"$error":"#REF!"}}]
[null,{"$f":"INDEX(Tabela.frequencia[],SMALL(IF(Tabela.frequencia[Mês]=$L$2,ROW(Tabela.frequencia[id])-1),ROW(#REF!)),1)","v":{"$error":"#REF!"}},{"$f":"INDEX(Tabela.frequencia[],SMALL(IF(Tabela.frequencia[Mês]=$L$2,ROW(Tabela.frequencia[id])-1),ROW(#REF!)),4)","v":{"$error":"#REF!"}},null,{"$f":"IFERROR(VLOOKUP(D61,Tabela.cadastro[[ID]:[Nome]],2,0),\"\")","v":""},{"$f":"IFERROR(VLOOKUP(D61,Tabela66[#All],2,0),\"\")","v":""},{"$f":"IFERROR(VLOOKUP(D61,Tabela.cadastro[[ID]:[CP ou M]],5,0),\"\")","v":""},{"$f":"IFERROR(VLOOKUP(D61,Cadastros!A:F,6,0),\"\")","v":""},{"$f":"IFERROR(VLOOKUP(D61,Cadastros!A:I,9,0),\"\")","v":""},{"$f":"IFERROR(VLOOKUP(D61,Cadastros!A:J,10,0),\"\")","v":""},{"$f":"IF(COUNTIF(Tabela66[id],D61)=0,\"\",COUNTIF(Tabela66[id],D61))","v":""},null,"",null,null,{"$f":"IFERROR(VLOOKUP(O61,Cadastros!A:B,2),\"\")","v":""},"",{"$f":"IFERROR(VLOOKUP(O61,Cadastros!A:E,5,0),\"\")","v":""},{"$f":"IFERROR(VLOOKUP(O61,Cadastros!A:F,6,0),\"\")","v":""},{"$f":"IFERROR(VLOOKUP(O61,Cadastros!A:I,9,0),\"\")","v":""},"","","",null,{"$f":"INDEX(Tabela.abordagens[],SMALL(IF(Tabela.abordagens[Mês]=$L$2,ROW(Tabela.abordagens[id])-2),ROW(#REF!)),1)","v":{"$error":"#REF!"}},{"$f":"INDEX(Tabela.abordagens[],SMALL(IF(Tabela.abordagens[Mês]=$L$2,ROW(Tabela.abordagens[Idade])-2),ROW(#REF!)),6)","v":{"$error":"#REF!"}},{"$f":"INDEX(Tabela.abordagens[],SMALL(IF(Tabela.abordagens[Mês]=$L$2,ROW(Tabela.abordagens[Idade])-2),ROW(#REF!)),4)","v":{"$error":"#REF!"}},{"$f":"INDEX(Tabela.abordagens[],SMALL(IF(Tabela.abordagens[Mês]=$L$2,ROW(Tabela.abordagens[Idade])-2),ROW(#REF!)),5)","v":{"$error":"#REF!"}}]
[null,{"$f":"INDEX(Tabela.frequencia[],SMALL(IF(Tabela.frequencia[Mês]=$L$2,ROW(Tabela.frequencia[id])-1),ROW(A15)),1)","v":3},{"$f":"INDEX(Tabela.frequencia[],SMALL(IF(Tabela.frequencia[Mês]=$L$2,ROW(Tabela.frequencia[id])-1),ROW(A15)),4)","v":29},null,{"$f":"IFERROR(VLOOKUP(D62,Tabela.cadastro[[ID]:[Nome]],2,0),\"\")","v":""},{"$f":"IFERROR(VLOOKUP(D62,Tabela66[#All],2,0),\"\")","v":""},{"$f":"IFERROR(VLOOKUP(D62,Tabela.cadastro[[ID]:[CP ou M]],5,0),\"\")","v":""},{"$f":"IFERROR(VLOOKUP(D62,Cadastros!A:F,6,0),\"\")","v":""},{"$f":"IFERROR(VLOOKUP(D62,Cadastros!A:I,9,0),\"\")","v":""},{"$f":"IFERROR(VLOOKUP(D62,Cadastros!A:J,10,0),\"\")","v":""},{"$f":"IF(COUNTIF(Tabela66[id],D62)=0,\"\",COUNTIF(Tabela66[id],D62))","v":""},null,"",null,null,{"$f":"IFERROR(VLOOKUP(O62,Cadastros!A:B,2),\"\")","v":""},"",{"$f":"IFERROR(VLOOKUP(O62,Cadastros!A:E,5,0),\"\")","v":""},{"$f":"IFERROR(VLOOKUP(O62,Cadastros!A:F,6,0),\"\")","v":""},{"$f":"IFERROR(VLOOKUP(O62,Cadastros!A:I,9,0),\"\")","v":""},"","","",null,{"$f":"INDEX(Tabela.abordagens[],SMALL(IF(Tabela.abordagens[Mês]=$L$2,ROW(Tabela.abordagens[id])-2),ROW(A15)),1)","v":3},{"$f":"INDEX(Tabela.abordagens[],SMALL(IF(Tabela.abordagens[Mês]=$L$2,ROW(Tabela.abordagens[Idade])-2),ROW(A15)),6)","v":29},{"$f":"INDEX(Tabela.abordagens[],SMALL(IF(Tabela.abordagens[Mês]=$L$2,ROW(Tabela.abordagens[Idade])-2),ROW(A15)),4)","v":"N"},{"$f":"INDEX(Tabela.abordagens[],SMALL(IF(Tabela.abordagens[Mês]=$L$2,ROW(Tabela.abordagens[Idade])-2),ROW(A15)),5)","v":"N"}]
[null,{"$f":"INDEX(Tabela.frequencia[],SMALL(IF(Tabela.frequencia[Mês]=$L$2,ROW(Tabela.frequencia[id])-1),ROW(A16)),1)","v":4},{"$f":"INDEX(Tabela.frequencia[],SMALL(IF(Tabela.frequencia[Mês]=$L$2,ROW(Tabela.frequencia[id])-1),ROW(A16)),4)","v":41},null,{"$f":"IFERROR(VLOOKUP(D63,Tabela.cadastro[[ID]:[Nome]],2,0),\"\")","v":""},{"$f":"IFERROR(VLOOKUP(D63,Tabela66[#All],2,0),\"\")","v":""},{"$f":"IFERROR(VLOOKUP(D63,Tabela.cadastro[[ID]:[CP ou M]],5,0),\"\")","v":""},{"$f":"IFERROR(VLOOKUP(D63,Cadastros!A:F,6,0),\"\")","v":""},{"$f":"IFERROR(VLOOKUP(D63,Cadastros!A:I,9,0),\"\")","v":""},{"$f":"IFERROR(VLOOKUP(D63,Cadastros!A:J,10,0),\"\")","v":""},{"$f":"IF(COUNTIF(Tabela66[id],D63)=0,\"\",COUNTIF(Tabela66[id],D63))","v":""},null,"",null,null,{"$f":"IFERROR(VLOOKUP(O63,Cadastros!A:B,2),\"\")","v":""},"",{"$f":"IFERROR(VLOOKUP(O63,Cadastros!A:E,5,0),\"\")","v":""},{"$f":"IFERROR(VLOOKUP(O63,Cadastros!A:F,6,0),\"\")","v":""},{"$f":"IFERROR(VLOOKUP(O63,Cadastros!A:I,9,0),\"\")","v":""},"","","",null,{"$f":"INDEX(Tabela.abordagens[],SMALL(IF(Tabela.abordagens[Mês]=$L$2,ROW(Tabela.abordagens[id])-2),ROW(A16)),1)","v":4},{"$f":"INDEX(Tabela.abordagens[],SMALL(IF(Tabela.abordagens[Mês]=$L$2,ROW(Tabela.abordagens[Idade])-2),ROW(A16)),6)","v":41},{"$f":"INDEX(Tabela.abordagens[],SMALL(IF(Tabela.abordagens[Mês]=$L$2,ROW(Tabela.abordagens[Idade])-2),ROW(A16)),4)","v":"N"},{"$f":"INDEX(Tabela.abordagens[],SMALL(IF(Tabela.abordagens[Mês]=$L$2,ROW(Tabela.abordagens[Idade])-2),ROW(A16)),5)","v":"N"}]
[null,{"$f":"INDEX(Tabela.frequencia[],SMALL(IF(Tabela.frequencia[Mês]=$L$2,ROW(Tabela.frequencia[id])-1),ROW(A17)),1)","v":5},{"$f":"INDEX(Tabela.frequencia[],SMALL(IF(Tabela.frequencia[Mês]=$L$2,ROW(Tabela.frequencia[id])-1),ROW(A17)),4)","v":69},null,{"$f":"IFERROR(VLOOKUP(D64,Tabela.cadastro[[ID]:[Nome]],2,0),\"\")","v":""},{"$f":"IFERROR(VLOOKUP(D64,Tabela66[#All],2,0),\"\")","v":""},{"$f":"IFERROR(VLOOKUP(D64,Tabela.cadastro[[ID]:[CP ou M]],5,0),\"\")","v":""},{"$f":"IFERROR(VLOOKUP(D64,Cadastros!A:F,6,0),\"\")","v":""},{"$f":"IFERROR(VLOOKUP(D64,Cadastros!A:I,9,0),\"\")","v":""},{"$f":"IFERROR(VLOOKUP(D64,Cadastros!A:J,10,0),\"\")","v":""},{"$f":"IF(COUNTIF(Tabela66[id],D64)=0,\"\",COUNTIF(Tabela66[id],D64))","v":""},null,"",null,null,{"$f":"IFERROR(VLOOKUP(O64,Cadastros!A:B,2),\"\")","v":""},"",{"$f":"IFERROR(VLOOKUP(O64,Cadastros!A:E,5,0),\"\")","v":""},{"$f":"IFERROR(VLOOKUP(O64,Cadastros!A:F,6,0),\"\")","v":""},{"$f":"IFERROR(VLOOKUP(O64,Cadastros!A:I,9,0),\"\")","v":""},"","","",null,{"$f":"INDEX(Tabela.abordagens[],SMALL(IF(Tabela.abordagens[Mês]=$L$2,ROW(Tabela.abordagens[id])-2),ROW(A17)),1)","v":5},{"$f":"INDEX(Tabela.abordagens[],SMALL(IF(Tabela.abordagens[Mês]=$L$2,ROW(Tabela.abordagens[Idade])-2),ROW(A17)),6)","v":69},{"$f":"INDEX(Tabela.abordagens[],SMALL(IF(Tabela.abordagens[Mês]=$L$2,ROW(Tabela.abordagens[Idade])-2),ROW(A17)),4)","v":"N"},{"$f":"INDEX(Tabela.abordagens[],SMALL(IF(Tabela.abordagens[Mês]=$L$2,ROW(Tabela.abordagens[Idade])-2),ROW(A17)),5)","v":"N"}]
[null,{"$f":"INDEX(Tabela.frequencia[],SMALL(IF(Tabela.frequencia[Mês]=$L$2,ROW(Tabela.frequencia[id])-1),ROW(A18)),1)","v":6},{"$f":"INDEX(Tabela.frequencia[],SMALL(IF(Tabela.frequencia[Mês]=$L$2,ROW(Tabela.frequencia[id])-1),ROW(A18)),4)","v":14},null,{"$f":"IFERROR(VLOOKUP(D65,Tabela.cadastro[[ID]:[Nome]],2,0),\"\")","v":""},{"$f":"IFERROR(VLOOKUP(D65,Tabela66[#All],2,0),\"\")","v":""},{"$f":"IFERROR(VLOOKUP(D65,Tabela.cadastro[[ID]:[CP ou M]],5,0),\"\")","v":""},{"$f":"IFERROR(VLOOKUP(D65,Cadastros!A:F,6,0),\"\")","v":""},{"$f":"IFERROR(VLOOKUP(D65,Cadastros!A:I,9,0),\"\")","v":""},{"$f":"IFERROR(VLOOKUP(D65,Cadastros!A:J,10,0),\"\")","v":""},{"$f":"IF(COUNTIF(Tabela66[id],D65)=0,\"\",COUNTIF(Tabela66[id],D65))","v":""},null,"",null,null,{"$f":"IFERROR(VLOOKUP(O65,Cadastros!A:B,2),\"\")","v":""},"",{"$f":"IFERROR(VLOOKUP(O65,Cadastros!A:E,5,0),\"\")","v":""},{"$f":"IFERROR(VLOOKUP(O65,Cadastros!A:F,6,0),\"\")","v":""},{"$f":"IFERROR(VLOOKUP(O65,Cadastros!A:I,9,0),\"\")","v":""},"","","",null,{"$f":"INDEX(Tabela.abordagens[],SMALL(IF(Tabela.abordagens[Mês]=$L$2,ROW(Tabela.abordagens[id])-2),ROW(A18)),1)","v":6},{"$f":"INDEX(Tabela.abordagens[],SMALL(IF(Tabela.abordagens[Mês]=$L$2,ROW(Tabela.abordagens[Idade])-2),ROW(A18)),6)","v":14},{"$f":"INDEX(Tabela.abordagens[],SMALL(IF(Tabela.abordagens[Mês]=$L$2,ROW(Tabela.abordagens[Idade])-2),ROW(A18)),4)","v":"N"},{"$f":"INDEX(Tabela.abordagens[],SMALL(IF(Tabela.abordagens[Mês]=$L$2,ROW(Tabela.abordagens[Idade])-2),ROW(A18)),5)","v":"N"}]
[null,{"$f":"INDEX(Tabela.frequencia[],SMALL(IF(Tabela.frequencia[Mês]=$L$2,ROW(Tabela.frequencia[id])-1),ROW(A19)),1)","v":7},{"$f":"INDEX(Tabela.frequencia[],SMALL(IF(Tabela.frequencia[Mês]=$L$2,ROW(Tabela.frequencia[id])-1),ROW(A19)),4)","v":74},null,{"$f":"IFERROR(VLOOKUP(D66,Tabela.cadastro[[ID]:[Nome]],2,0),\"\")","v":""},{"$f":"IFERROR(VLOOKUP(D66,Tabela66[#All],2,0),\"\")","v":""},{"$f":"IFERROR(VLOOKUP(D66,Tabela.cadastro[[ID]:[CP ou M]],5,0),\"\")","v":""},{"$f":"IFERROR(VLOOKUP(D66,Cadastros!A:F,6,0),\"\")","v":""},{"$f":"IFERROR(VLOOKUP(D66,Cadastros!A:I,9,0),\"\")","v":""},{"$f":"IFERROR(VLOOKUP(D66,Cadastros!A:J,10,0),\"\")","v":""},{"$f":"IF(COUNTIF(Tabela66[id],D66)=0,\"\",COUNTIF(Tabela66[id],D66))","v":""},null,"",null,null,{"$f":"IFERROR(VLOOKUP(O66,Cadastros!A:B,2),\"\")","v":""},"",{"$f":"IFERROR(VLOOKUP(O66,Cadastros!A:E,5,0),\"\")","v":""},{"$f":"IFERROR(VLOOKUP(O66,Cadastros!A:F,6,0),\"\")","v":""},{"$f":"IFERROR(VLOOKUP(O66,Cadastros!A:I,9,0),\"\")","v":""},"","","",null,{"$f":"INDEX(Tabela.abordagens[],SMALL(IF(Tabela.abordagens[Mês]=$L$2,ROW(Tabela.abordagens[id])-2),ROW(A19)),1)","v":7},{"$f":"INDEX(Tabela.abordagens[],SMALL(IF(Tabela.abordagens[Mês]=$L$2,ROW(Tabela.abordagens[Idade])-2),ROW(A19)),6)","v":74},{"$f":"INDEX(Tabela.abordagens[],SMALL(IF(Tabela.abordagens[Mês]=$L$2,ROW(Tabela.abordagens[Idade])-2),ROW(A19)),4)","v":"N"},{"$f":"INDEX(Tabela.abordagens[],SMALL(IF(Tabela.abordagens[Mês]=$L$2,ROW(Tabela.abordagens[Idade])-2),ROW(A19)),5)","v":"N"}]
[null,{"$f":"INDEX(Tabela.frequencia[],SMALL(IF(Tabela.frequencia[Mês]=$L$2,ROW(Tabela.frequencia[id])-1),ROW(A20)),1)","v":8},{"$f":"INDEX(Tabela.frequencia[],SMALL(IF(Tabela.frequencia[Mês]=$L$2,ROW(Tabela.frequencia[id])-1),ROW(A20)),4)","v":27},null,{"$f":"IFERROR(VLOOKUP(D67,Tabela.cadastro[[ID]:[Nome]],2,0),\"\")","v":""},{"$f":"IFERROR(VLOOKUP(D67,Tabela66[#All],2,0),\"\")","v":""},{"$f":"IFERROR(VLOOKUP(D67,Tabela.cadastro[[ID]:[CP ou M]],5,0),\"\")","v":""},{"$f":"IFERROR(VLOOKUP(D67,Cadastros!A:F,6,0),\"\")","v":""},{"$f":"IFERROR(VLOOKUP(D67,Cadastros!A:I,9,0),\"\")","v":""},{"$f":"IFERROR(VLOOKUP(D67,Cadastros!A:J,10,0),\"\")","v":""},{"$f":"IF(COUNTIF(Tabela66[id],D67)=0,\"\",COUNTIF(Tabela66[id],D67))","v":""},null,"",null,null,{"$f":"IFERROR(VLOOKUP(O67,Cadastros!A:B,2),\"\")","v":""},"",{"$f":"IFERROR(VLOOKUP(O67,Cadastros!A:E,5,0),\"\")","v":""},{"$f":"IFERROR(VLOOKUP(O67,Cadastros!A:F,6,0),\"\")","v":""},{"$f":"IFERROR(VLOOKUP(O67,Cadastros!A:I,9,0),\"\")","v":""},"","","",null,{"$f":"INDEX(Tabela.abordagens[],SMALL(IF(Tabela.abordagens[Mês]=$L$2,ROW(Tabela.abordagens[id])-2),ROW(A20)),1)","v":8},{"$f":"INDEX(Tabela.abordagens[],SMALL(IF(Tabela.abordagens[Mês]=$L$2,ROW(Tabela.abordagens[Idade])-2),ROW(A20)),6)","v":27},{"$f":"INDEX(Tabela.abordagens[],SMALL(IF(Tabela.abordagens[Mês]=$L$2,ROW(Tabela.abordagens[Idade])-2),ROW(A20)),4)","v":"N"},{"$f":"INDEX(Tabela.abordagens[],SMALL(IF(Tabela.abordagens[Mês]=$L$2,ROW(Tabela.abordagens[Idade])-2),ROW(A20)),5)","v":"N"}]
[null,{"$f":"INDEX(Tabela.frequencia[],SMALL(IF(Tabela.frequencia[Mês]=$L$2,ROW(Tabela.frequencia[id])-1),ROW(A21)),1)","v":12},{"$f":"INDEX(Tabela.frequencia[],SMALL(IF(Tabela.frequencia[Mês]=$L$2,ROW(Tabela.frequencia[id])-1),ROW(A21)),4)","v":25},null,{"$f":"IFERROR(VLOOKUP(D68,Tabela.cadastro[[ID]:[Nome]],2,0),\"\")","v":""},{"$f":"IFERROR(VLOOKUP(D68,Tabela66[#All],2,0),\"\")","v":""},{"$f":"IFERROR(VLOOKUP(D68,Tabela.cadastro[[ID]:[CP ou M]],5,0),\"\")","v":""},{"$f":"IFERROR(VLOOKUP(D68,Cadastros!A:F,6,0),\"\")","v":""},{"$f":"IFERROR(VLOOKUP(D68,Cadastros!A:I,9,0),\"\")","v":""},{"$f":"IFERROR(VLOOKUP(D68,Cadastros!A:J,10,0),\"\")","v":""},{"$f":"IF(COUNTIF(Tabela66[id],D68)=0,\"\",COUNTIF(Tabela66[id],D68))","v":""},null,"",null,null,{"$f":"IFERROR(VLOOKUP(O68,Cadastros!A:B,2),\"\")","v":""},"",{"$f":"IFERROR(VLOOKUP(O68,Cadastros!A:E,5,0),\"\")","v":""},{"$f":"IFERROR(VLOOKUP(O68,Cadastros!A:F,6,0),\"\")","v":""},{"$f":"IFERROR(VLOOKUP(O68,Cadastros!A:I,9,0),\"\")","v":""},"","","",null,{"$f":"INDEX(Tabela.abordagens[],SMALL(IF(Tabela.abordagens[Mês]=$L$2,ROW(Tabela.abordagens[id])-2),ROW(A21)),1)","v":12},{"$f":"INDEX(Tabela.abordagens[],SMALL(IF(Tabela.abordagens[Mês]=$L$2,ROW(Tabela.abordagens[Idade])-2),ROW(A21)),6)","v":25},{"$f":"INDEX(Tabela.abordagens[],SMALL(IF(Tabela.abordagens[Mês]=$L$2,ROW(Tabela.abordagens[Idade])-2),ROW(A21)),4)","v":"N"},{"$f":"INDEX(Tabela.abordagens[],SMALL(IF(Tabela.abordagens[Mês]=$L$2,ROW(Tabela.abordagens[Idade])-2),ROW(A21)),5)","v":"N"}]
[null,{"$f":"INDEX(Tabela.frequencia[],SMALL(IF(Tabela.frequencia[Mês]=$L$2,ROW(Tabela.frequencia[id])-1),ROW(A22)),1)","v":13},{"$f":"INDEX(Tabela.frequencia[],SMALL(IF(Tabela.frequencia[Mês]=$L$2,ROW(Tabela.frequencia[id])-1),ROW(A22)),4)","v":21},null,{"$f":"IFERROR(VLOOKUP(D69,Tabela.cadastro[[ID]:[Nome]],2,0),\"\")","v":""},{"$f":"IFERROR(VLOOKUP(D69,Tabela66[#All],2,0),\"\")","v":""},{"$f":"IFERROR(VLOOKUP(D69,Tabela.cadastro[[ID]:[CP ou M]],5,0),\"\")","v":""},{"$f":"IFERROR(VLOOKUP(D69,Cadastros!A:F,6,0),\"\")","v":""},{"$f":"IFERROR(VLOOKUP(D69,Cadastros!A:I,9,0),\"\")","v":""},{"$f":"IFERROR(VLOOKUP(D69,Cadastros!A:J,10,0),\"\")","v":""},{"$f":"IF(COUNTIF(Tabela66[id],D69)=0,\"\",COUNTIF(Tabela66[id],D69))","v":""},null,"",null,null,{"$f":"IFERROR(VLOOKUP(O69,Cadastros!A:B,2),\"\")","v":""},"",{"$f":"IFERROR(VLOOKUP(O69,Cadastros!A:E,5,0),\"\")","v":""},{"$f":"IFERROR(VLOOKUP(O69,Cadastros!A:F,6,0),\"\")","v":""},{"$f":"IFERROR(VLOOKUP(O69,Cadastros!A:I,9,0),\"\")","v":""},"","","",null,{"$f":"INDEX(Tabela.abordagens[],SMALL(IF(Tabela.abordagens[Mês]=$L$2,ROW(Tabela.abordagens[id])-2),ROW(A22)),1)","v":13},{"$f":"INDEX(Tabela.abordagens[],SMALL(IF(Tabela.abordagens[Mês]=$L$2,ROW(Tabela.abordagens[Idade])-2),ROW(A22)),6)","v":21},{"$f":"INDEX(Tabela.abordagens[],SMALL(IF(Tabela.abordagens[Mês]=$L$2,ROW(Tabela.abordagens[Idade])-2),ROW(A22)),4)","v":"N"},{"$f":"INDEX(Tabela.abordagens[],SMALL(IF(Tabela.abordagens[Mês]=$L$2,ROW(Tabela.abordagens[Idade])-2),ROW(A22)),5)","v":"N"}]
[null,{"$f":"INDEX(Tabela.frequencia[],SMALL(IF(Tabela.frequencia[Mês]=$L$2,ROW(Tabela.frequencia[id])-1),ROW(A23)),1)","v":14},{"$f":"INDEX(Tabela.frequencia[],SMALL(IF(Tabela.frequencia[Mês]=$L$2,ROW(Tabela.frequencia[id])-1),ROW(A23)),4)","v":20},null,{"$f":"IFERROR(VLOOKUP(D70,Tabela.cadastro[[ID]:[Nome]],2,0),\"\")","v":""},{"$f":"IFERROR(VLOOKUP(D70,Tabela66[#All],2,0),\"\")","v":""},{"$f":"IFERROR(VLOOKUP(D70,Tabela.cadastro[[ID]:[CP ou M]],5,0),\"\")","v":""},{"$f":"IFERROR(VLOOKUP(D70,Cadastros!A:F,6,0),\"\")","v":""},{"$f":"IFERROR(VLOOKUP(D70,Cadastros!A:I,9,0),\"\")","v":""},{"$f":"IFERROR(VLOOKUP(D70,Cadastros!A:J,10,0),\"\")","v":""},{"$f":"IF(COUNTIF(Tabela66[id],D70)=0,\"\",COUNTIF(Tabela66[id],D70))","v":""},null,"",null,null,{"$f":"IFERROR(VLOOKUP(O70,Cadastros!A:B,2),\"\")","v":""},"",{"$f":"IFERROR(VLOOKUP(O70,Cadastros!A:E,5,0),\"\")","v":""},{"$f":"IFERROR(VLOOKUP(O70,Cadastros!A:F,6,0),\"\")","v":""},{"$f":"IFERROR(VLOOKUP(O70,Cadastros!A:I,9,0),\"\")","v":""},"","","",null,{"$f":"INDEX(Tabela.abordagens[],SMALL(IF(Tabela.abordagens[Mês]=$L$2,ROW(Tabela.abordagens[id])-2),ROW(A23)),1)","v":14},{"$f":"INDEX(Tabela.abordagens[],SMALL(IF(Tabela.abordagens[Mês]=$L$2,ROW(Tabela.abordagens[Idade])-2),ROW(A23)),6)","v":20},{"$f":"INDEX(Tabela.abordagens[],SMALL(IF(Tabela.abordagens[Mês]=$L$2,ROW(Tabela.abordagens[Idade])-2),ROW(A23)),4)","v":"N"},{"$f":"INDEX(Tabela.abordagens[],SMALL(IF(Tabela.abordagens[Mês]=$L$2,ROW(Tabela.abordagens[Idade])-2),ROW(A23)),5)","v":"N"}]
[null,{"$f":"INDEX(Tabela.frequencia[],SMALL(IF(Tabela.frequencia[Mês]=$L$2,ROW(Tabela.frequencia[id])-1),ROW(A24)),1)","v":15},{"$f":"INDEX(Tabela.frequencia[],SMALL(IF(Tabela.frequencia[Mês]=$L$2,ROW(Tabela.frequencia[id])-1),ROW(A24)),4)","v":36},null,{"$f":"IFERROR(VLOOKUP(D71,Tabela.cadastro[[ID]:[Nome]],2,0),\"\")","v":""},{"$f":"IFERROR(VLOOKUP(D71,Tabela66[#All],2,0),\"\")","v":""},{"$f":"IFERROR(VLOOKUP(D71,Tabela.cadastro[[ID]:[CP ou M]],5,0),\"\")","v":""},{"$f":"IFERROR(VLOOKUP(D71,Cadastros!A:F,6,0),\"\")","v":""},{"$f":"IFERROR(VLOOKUP(D71,Cadastros!A:I,9,0),\"\")","v":""},{"$f":"IFERROR(VLOOKUP(D71,Cadastros!A:J,10,0),\"\")","v":""},{"$f":"IF(COUNTIF(Tabela66[id],D71)=0,\"\",COUNTIF(Tabela66[id],D71))","v":""},null,"",null,null,{"$f":"IFERROR(VLOOKUP(O71,Cadastros!A:B,2),\"\")","v":""},"",{"$f":"IFERROR(VLOOKUP(O71,Cadastros!A:E,5,0),\"\")","v":""},{"$f":"IFERROR(VLOOKUP(O71,Cadastros!A:F,6,0),\"\")","v":""},{"$f":"IFERROR(VLOOKUP(O71,Cadastros!A:I,9,0),\"\")","v":""},"","","",null,{"$f":"INDEX(Tabela.abordagens[],SMALL(IF(Tabela.abordagens[Mês]=$L$2,ROW(Tabela.abordagens[id])-2),ROW(A24)),1)","v":15},{"$f":"INDEX(Tabela.abordagens[],SMALL(IF(Tabela.abordagens[Mês]=$L$2,ROW(Tabela.abordagens[Idade])-2),ROW(A24)),6)","v":36},{"$f":"INDEX(Tabela.abordagens[],SMALL(IF(Tabela.abordagens[Mês]=$L$2,ROW(Tabela.abordagens[Idade])-2),ROW(A24)),4)","v":"N"},{"$f":"INDEX(Tabela.abordagens[],SMALL(IF(Tabela.abordagens[Mês]=$L$2,ROW(Tabela.abordagens[Idade])-2),ROW(A24)),5)","v":"N"}]
[null,{"$f":"INDEX(Tabela.frequencia[],SMALL(IF(Tabela.frequencia[Mês]=$L$2,ROW(Tabela.frequencia[id])-1),ROW(A25)),1)","v":16},{"$f":"INDEX(Tabela.frequencia[],SMALL(IF(Tabela.frequencia[Mês]=$L$2,ROW(Tabela.frequencia[id])-1),ROW(A25)),4)","v":27},null,{"$f":"IFERROR(VLOOKUP(D72,Tabela.cadastro[[ID]:[Nome]],2,0),\"\")","v":""},{"$f":"IFERROR(VLOOKUP(D72,Tabela66[#All],2,0),\"\")","v":""},{"$f":"IFERROR(VLOOKUP(D72,Tabela.cadastro[[ID]:[CP ou M]],5,0),\"\")","v":""},{"$f":"IFERROR(VLOOKUP(D72,Cadastros!A:F,6,0),\"\")","v":""},{"$f":"IFERROR(VLOOKUP(D72,Cadastros!A:I,9,0),\"\")","v":""},{"$f":"IFERROR(VLOOKUP(D72,Cadastros!A:J,10,0),\"\")","v":""},{"$f":"IF(COUNTIF(Tabela66[id],D72)=0,\"\",COUNTIF(Tabela66[id],D72))","v":""},null,"",null,null,{"$f":"IFERROR(VLOOKUP(O72,Cadastros!A:B,2),\"\")","v":""},"",{"$f":"IFERROR(VLOOKUP(O72,Cadastros!A:E,5,0),\"\")","v":""},{"$f":"IFERROR(VLOOKUP(O72,Cadastros!A:F,6,0),\"\")","v":""},{"$f":"IFERROR(VLOOKUP(O72,Cadastros!A:I,9,0),\"\")","v":""},"","","",null,{"$f":"INDEX(Tabela.abordagens[],SMALL(IF(Tabela.abordagens[Mês]=$L$2,ROW(Tabela.abordagens[id])-2),ROW(A25)),1)","v":16},{"$f":"INDEX(Tabela.abordagens[],SMALL(IF(Tabela.abordagens[Mês]=$L$2,ROW(Tabela.abordagens[Idade])-2),ROW(A25)),6)","v":27},{"$f":"INDEX(Tabela.abordagens[],SMALL(IF(Tabela.abordagens[Mês]=$L$2,ROW(Tabela.abordagens[Idade])-2),ROW(A25)),4)","v":"N"},{"$f":"INDEX(Tabela.abordagens[],SMALL(IF(Tabela.abordagens[Mês]=$L$2,ROW(Tabela.abordagens[Idade])-2),ROW(A25)),5)","v":"N"}]
[null,{"$f":"INDEX(Tabela.frequencia[],SMALL(IF(Tabela.frequencia[Mês]=$L$2,ROW(Tabela.frequencia[id])-1),ROW(A26)),1)","v":16},{"$f":"INDEX(Tabela.frequencia[],SMALL(IF(Tabela.frequencia[Mês]=$L$2,ROW(Tabela.frequencia[id])-1),ROW(A26)),4)","v":27},null,{"$f":"IFERROR(VLOOKUP(D73,Tabela.cadastro[[ID]:[Nome]],2,0),\"\")","v":""},{"$f":"IFERROR(VLOOKUP(D73,Tabela66[#All],2,0),\"\")","v":""},{"$f":"IFERROR(VLOOKUP(D73,Tabela.cadastro[[ID]:[CP ou M]],5,0),\"\")","v":""},{"$f":"IFERROR(VLOOKUP(D73,Cadastros!A:F,6,0),\"\")","v":""},{"$f":"IFERROR(VLOOKUP(D73,Cadastros!A:I,9,0),\"\")","v":""},{"$f":"IFERROR(VLOOKUP(D73,Cadastros!A:J,10,0),\"\")","v":""},{"$f":"IF(COUNTIF(Tabela66[id],D73)=0,\"\",COUNTIF(Tabela66[id],D73))","v":""},null,"",null,null,{"$f":"IFERROR(VLOOKUP(O73,Cadastros!A:B,2),\"\")","v":""},"",{"$f":"IFERROR(VLOOKUP(O73,Cadastros!A:E,5,0),\"\")","v":""},{"$f":"IFERROR(VLOOKUP(O73,Cadastros!A:F,6,0),\"\")","v":""},{"$f":"IFERROR(VLOOKUP(O73,Cadastros!A:I,9,0),\"\")","v":""},"","","",null,{"$f":"INDEX(Tabela.abordagens[],SMALL(IF(Tabela.abordagens[Mês]=$L$2,ROW(Tabela.abordagens[id])-2),ROW(A26)),1)","v":{"$error":"#NUM!"}},{"$f":"INDEX(Tabela.abordagens[],SMALL(IF(Tabela.abordagens[Mês]=$L$2,ROW(Tabela.abordagens[Idade])-2),ROW(A26)),6)","v":{"$error":"#NUM!"}},{"$f":"INDEX(Tabela.abordagens[],SMALL(IF(Tabela.abordagens[Mês]=$L$2,ROW(Tabela.abordagens[Idade])-2),ROW(A26)),4)","v":{"$error":"#NUM!"}},{"$f":"INDEX(Tabela.abordagens[],SMALL(IF(Tabela.abordagens[Mês]=$L$2,ROW(Tabela.abordagens[Idade])-2),ROW(A26)),5)","v":{"$error":"#NUM!"}}]
[null,{"$f":"INDEX(Tabela.frequencia[],SMALL(IF(Tabela.frequencia[Mês]=$L$2,ROW(Tabela.frequencia[id])-1),ROW(A27)),1)","v":16},{"$f":"INDEX(Tabela.frequencia[],SMALL(IF(Tabela.frequencia[Mês]=$L$2,ROW(Tabela.frequencia[id])-1),ROW(A27)),4)","v":27},null,{"$f":"IFERROR(VLOOKUP(D74,Tabela.cadastro[[ID]:[Nome]],2,0),\"\")","v":""},{"$f":"IFERROR(VLOOKUP(D74,Tabela66[#All],2,0),\"\")","v":""},{"$f":"IFERROR(VLOOKUP(D74,Tabela.cadastro[[ID]:[CP ou M]],5,0),\"\")","v":""},{"$f":"IFERROR(VLOOKUP(D74,Cadastros!A:F,6,0),\"\")","v":""},{"$f":"IFERROR(VLOOKUP(D74,Cadastros!A:I,9,0),\"\")","v":""},{"$f":"IFERROR(VLOOKUP(D74,Cadastros!A:J,10,0),\"\")","v":""},{"$f":"IF(COUNTIF(Tabela66[id],D74)=0,\"\",COUNTIF(Tabela66[id],D74))","v":""},null,"",null,null,{"$f":"IFERROR(VLOOKUP(O74,Cadastros!A:B,2),\"\")","v":""},"",{"$f":"IFERROR(VLOOKUP(O74,Cadastros!A:E,5,0),\"\")","v":""},{"$f":"IFERROR(VLOOKUP(O74,Cadastros!A:F,6,0),\"\")","v":""},{"$f":"IFERROR(VLOOKUP(O74,Cadastros!A:I,9,0),\"\")","v":""},"","","",null,{"$f":"INDEX(Tabela.abordagens[],SMALL(IF(Tabela.abordagens[Mês]=$L$2,ROW(Tabela.abordagens[id])-2),ROW(A27)),1)","v":{"$error":"#NUM!"}},{"$f":"INDEX(Tabela.abordagens[],SMALL(IF(Tabela.abordagens[Mês]=$L$2,ROW(Tabela.abordagens[Idade])-2),ROW(A27)),6)","v":{"$error":"#NUM!"}},{"$f":"INDEX(Tabela.abordagens[],SMALL(IF(Tabela.abordagens[Mês]=$L$2,ROW(Tabela.abordagens[Idade])-2),ROW(A27)),4)","v":{"$error":"#NUM!"}},{"$f":"INDEX(Tabela.abordagens[],SMALL(IF(Tabela.abordagens[Mês]=$L$2,ROW(Tabela.abordagens[Idade])-2),ROW(A27)),5)","v":{"$error":"#NUM!"}}]
[null,{"$f":"INDEX(Tabela.frequencia[],SMALL(IF(Tabela.frequencia[Mês]=$L$2,ROW(Tabela.frequencia[id])-1),ROW(A28)),1)","v":16},{"$f":"INDEX(Tabela.frequencia[],SMALL(IF(Tabela.frequencia[Mês]=$L$2,ROW(Tabela.frequencia[id])-1),ROW(A28)),4)","v":27},null,{"$f":"IFERROR(VLOOKUP(D75,Tabela.cadastro[[ID]:[Nome]],2,0),\"\")","v":""},{"$f":"IFERROR(VLOOKUP(D75,Tabela66[#All],2,0),\"\")","v":""},{"$f":"IFERROR(VLOOKUP(D75,Tabela.cadastro[[ID]:[CP ou M]],5,0),\"\")","v":""},{"$f":"IFERROR(VLOOKUP(D75,Cadastros!A:F,6,0),\"\")","v":""},{"$f":"IFERROR(VLOOKUP(D75,Cadastros!A:I,9,0),\"\")","v":""},{"$f":"IFERROR(VLOOKUP(D75,Cadastros!A:J,10,0),\"\")","v":""},{"$f":"IF(COUNTIF(Tabela66[id],D75)=0,\"\",COUNTIF(Tabela66[id],D75))","v":""},null,"",null,null,{"$f":"IFERROR(VLOOKUP(O75,Cadastros!A:B,2),\"\")","v":""},"",{"$f":"IFERROR(VLOOKUP(O75,Cadastros!A:E,5,0),\"\")","v":""},{"$f":"IFERROR(VLOOKUP(O75,Cadastros!A:F,6,0),\"\")","v":""},{"$f":"IFERROR(VLOOKUP(O75,Cadastros!A:I,9,0),\"\")","v":""},"","","",null,{"$f":"INDEX(Tabela.abordagens[],SMALL(IF(Tabela.abordagens[Mês]=$L$2,ROW(Tabela.abordagens[id])-2),ROW(A28)),1)","v":{"$error":"#NUM!"}},{"$f":"INDEX(Tabela.abordagens[],SMALL(IF(Tabela.abordagens[Mês]=$L$2,ROW(Tabela.abordagens[Idade])-2),ROW(A28)),6)","v":{"$error":"#NUM!"}},{"$f":"INDEX(Tabela.abordagens[],SMALL(IF(Tabela.abordagens[Mês]=$L$2,ROW(Tabela.abordagens[Idade])-2),ROW(A28)),4)","v":{"$error":"#NUM!"}},{"$f":"INDEX(Tabela.abordagens[],SMALL(IF(Tabela.abordagens[Mês]=$L$2,ROW(Tabela.abordagens[Idade])-2),ROW(A28)),5)","v":{"$error":"#NUM!"}}]
[null,{"$f":"INDEX(Tabela.frequencia[],SMALL(IF(Tabela.frequencia[Mês]=$L$2,ROW(Tabela.frequencia[id])-1),ROW(A29)),1)","v":16},{"$f":"INDEX(Tabela.frequencia[],SMALL(IF(Tabela.frequencia[Mês]=$L$2,ROW(Tabela.frequencia[id])-1),ROW(A29)),4)","v":27},null,{"$f":"IFERROR(VLOOKUP(D76,Tabela.cadastro[[ID]:[Nome]],2,0),\"\")","v":""},{"$f":"IFERROR(VLOOKUP(D76,Tabela66[#All],2,0),\"\")","v":""},{"$f":"IFERROR(VLOOKUP(D76,Tabela.cadastro[[ID]:[CP ou M]],5,0),\"\")","v":""},{"$f":"IFERROR(VLOOKUP(D76,Cadastros!A:F,6,0),\"\")","v":""},{"$f":"IFERROR(VLOOKUP(D76,Cadastros!A:I,9,0),\"\")","v":""},{"$f":"IFERROR(VLOOKUP(D76,Cadastros!A:J,10,0),\"\")","v":""},{"$f":"IF(COUNTIF(Tabela66[id],D76)=0,\"\",COUNTIF(Tabela66[id],D76))","v":""},null,"",null,null,{"$f":"IFERROR(VLOOKUP(O76,Cadastros!A:B,2),\"\")","v":""},"",{"$f":"IFERROR(VLOOKUP(O76,Cadastros!A:E,5,0),\"\")","v":""},{"$f":"IFERROR(VLOOKUP(O76,Cadastros!A:F,6,0),\"\")","v":""},{"$f":"IFERROR(VLOOKUP(O76,Cadastros!A:I,9,0),\"\")","v":""},"","","",null,{"$f":"INDEX(Tabela.abordagens[],SMALL(IF(Tabela.abordagens[Mês]=$L$2,ROW(Tabela.abordagens[id])-2),ROW(A29)),1)","v":{"$error":"#NUM!"}},{"$f":"INDEX(Tabela.abordagens[],SMALL(IF(Tabela.abordagens[Mês]=$L$2,ROW(Tabela.abordagens[Idade])-2),ROW(A29)),6)","v":{"$error":"#NUM!"}},{"$f":"INDEX(Tabela.abordagens[],SMALL(IF(Tabela.abordagens[Mês]=$L$2,ROW(Tabela.abordagens[Idade])-2),ROW(A29)),4)","v":{"$error":"#NUM!"}},{"$f":"INDEX(Tabela.abordagens[],SMALL(IF(Tabela.abordagens[Mês]=$L$2,ROW(Tabela.abordagens[Idade])-2),ROW(A29)),5)","v":{"$error":"#NUM!"}}]
[null,{"$f":"INDEX(Tabela.frequencia[],SMALL(IF(Tabela.frequencia[Mês]=$L$2,ROW(Tabela.frequencia[id])-1),ROW(A30)),1)","v":16},{"$f":"INDEX(Tabela.frequencia[],SMALL(IF(Tabela.frequencia[Mês]=$L$2,ROW(Tabela.frequencia[id])-1),ROW(A30)),4)","v":27},null,{"$f":"IFERROR(VLOOKUP(D77,Tabela.cadastro[[ID]:[Nome]],2,0),\"\")","v":""},{"$f":"IFERROR(VLOOKUP(D77,Tabela66[#All],2,0),\"\")","v":""},{"$f":"IFERROR(VLOOKUP(D77,Tabela.cadastro[[ID]:[CP ou M]],5,0),\"\")","v":""},{"$f":"IFERROR(VLOOKUP(D77,Cadastros!A:F,6,0),\"\")","v":""},{"$f":"IFERROR(VLOOKUP(D77,Cadastros!A:I,9,0),\"\")","v":""},{"$f":"IFERROR(VLOOKUP(D77,Cadastros!A:J,10,0),\"\")","v":""},{"$f":"IF(COUNTIF(Tabela66[id],D77)=0,\"\",COUNTIF(Tabela66[id],D77))","v":""},null,"",null,null,{"$f":"IFERROR(VLOOKUP(O77,Cadastros!A:B,2),\"\")","v":""},"",{"$f":"IFERROR(VLOOKUP(O77,Cadastros!A:E,5,0),\"\")","v":""},{"$f":"IFERROR(VLOOKUP(O77,Cadastros!A:F,6,0),\"\")","v":""},{"$f":"IFERROR(VLOOKUP(O77,Cadastros!A:I,9,0),\"\")","v":""},"","","",null,{"$f":"INDEX(Tabela.abordagens[],SMALL(IF(Tabela.abordagens[Mês]=$L$2,ROW(Tabela.abordagens[id])-2),ROW(A30)),1)","v":{"$error":"#NUM!"}},{"$f":"INDEX(Tabela.abordagens[],SMALL(IF(Tabela.abordagens[Mês]=$L$2,ROW(Tabela.abordagens[Idade])-2),ROW(A30)),6)","v":{"$error":"#NUM!"}},{"$f":"INDEX(Tabela.abordagens[],SMALL(IF(Tabela.abordagens[Mês]=$L$2,ROW(Tabela.abordagens[Idade])-2),ROW(A30)),4)","v":{"$error":"#NUM!"}},{"$f":"INDEX(Tabela.abordagens[],SMALL(IF(Tabela.abordagens[Mês]=$L$2,ROW(Tabela.abordagens[Idade])-2),ROW(A30)),5)","v":{"$error":"#NUM!"}}]
[null,{"$f":"INDEX(Tabela.frequencia[],SMALL(IF(Tabela.frequencia[Mês]=$L$2,ROW(Tabela.frequencia[id])-1),ROW(A31)),1)","v":16},{"$f":"INDEX(Tabela.frequencia[],SMALL(IF(Tabela.frequencia[Mês]=$L$2,ROW(Tabela.frequencia[id])-1),ROW(A31)),4)","v":27},null,{"$f":"IFERROR(VLOOKUP(D78,Tabela.cadastro[[ID]:[Nome]],2,0),\"\")","v":""},{"$f":"IFERROR(VLOOKUP(D78,Tabela66[#All],2,0),\"\")","v":""},{"$f":"IFERROR(VLOOKUP(D78,Tabela.cadastro[[ID]:[CP ou M]],5,0),\"\")","v":""},{"$f":"IFERROR(VLOOKUP(D78,Cadastros!A:F,6,0),\"\")","v":""},{"$f":"IFERROR(VLOOKUP(D78,Cadastros!A:I,9,0),\"\")","v":""},{"$f":"IFERROR(VLOOKUP(D78,Cadastros!A:J,10,0),\"\")","v":""},{"$f":"IF(COUNTIF(Tabela66[id],D78)=0,\"\",COUNTIF(Tabela66[id],D78))","v":""},null,"",null,null,{"$f":"IFERROR(VLOOKUP(O78,Cadastros!A:B,2),\"\")","v":""},"",{"$f":"IFERROR(VLOOKUP(O78,Cadastros!A:E,5,0),\"\")","v":""},{"$f":"IFERROR(VLOOKUP(O78,Cadastros!A:F,6,0),\"\")","v":""},{"$f":"IFERROR(VLOOKUP(O78,Cadastros!A:I,9,0),\"\")","v":""},"","","",null,{"$f":"INDEX(Tabela.abordagens[],SMALL(IF(Tabela.abordagens[Mês]=$L$2,ROW(Tabela.abordagens[id])-2),ROW(A31)),1)","v":{"$error":"#NUM!"}},{"$f":"INDEX(Tabela.abordagens[],SMALL(IF(Tabela.abordagens[Mês]=$L$2,ROW(Tabela.abordagens[Idade])-2),ROW(A31)),6)","v":{"$error":"#NUM!"}},{"$f":"INDEX(Tabela.abordagens[],SMALL(IF(Tabela.abordagens[Mês]=$L$2,ROW(Tabela.abordagens[Idade])-2),ROW(A31)),4)","v":{"$error":"#NUM!"}},{"$f":"INDEX(Tabela.abordagens[],SMALL(IF(Tabela.abordagens[Mês]=$L$2,ROW(Tabela.abordagens[Idade])-2),ROW(A31)),5)","v":{"$error":"#NUM!"}}]
[null,{"$f":"INDEX(Tabela.frequencia[],SMALL(IF(Tabela.frequencia[Mês]=$L$2,ROW(Tabela.frequencia[id])-1),ROW(A32)),1)","v":16},{"$f":"INDEX(Tabela.frequencia[],SMALL(IF(Tabela.frequencia[Mês]=$L$2,ROW(Tabela.frequencia[id])-1),ROW(A32)),4)","v":27},null,{"$f":"IFERROR(VLOOKUP(D79,Tabela.cadastro[[ID]:[Nome]],2,0),\"\")","v":""},{"$f":"IFERROR(VLOOKUP(D79,Tabela66[#All],2,0),\"\")","v":""},{"$f":"IFERROR(VLOOKUP(D79,Tabela.cadastro[[ID]:[CP ou M]],5,0),\"\")","v":""},{"$f":"IFERROR(VLOOKUP(D79,Cadastros!A:F,6,0),\"\")","v":""},{"$f":"IFERROR(VLOOKUP(D79,Cadastros!A:I,9,0),\"\")","v":""},{"$f":"IFERROR(VLOOKUP(D79,Cadastros!A:J,10,0),\"\")","v":""},{"$f":"IF(COUNTIF(Tabela66[id],D79)=0,\"\",COUNTIF(Tabela66[id],D79))","v":""},null,"",null,null,{"$f":"IFERROR(VLOOKUP(O79,Cadastros!A:B,2),\"\")","v":""},"",{"$f":"IFERROR(VLOOKUP(O79,Cadastros!A:E,5,0),\"\")","v":""},{"$f":"IFERROR(VLOOKUP(O79,Cadastros!A:F,6,0),\"\")","v":""},{"$f":"IFERROR(VLOOKUP(O79,Cadastros!A:I,9,0),\"\")","v":""},"","","",null,{"$f":"INDEX(Tabela.abordagens[],SMALL(IF(Tabela.abordagens[Mês]=$L$2,ROW(Tabela.abordagens[id])-2),ROW(A32)),1)","v":{"$error":"#NUM!"}},{"$f":"INDEX(Tabela.abordagens[],SMALL(IF(Tabela.abordagens[Mês]=$L$2,ROW(Tabela.abordagens[Idade])-2),ROW(A32)),6)","v":{"$error":"#NUM!"}},{"$f":"INDEX(Tabela.abordagens[],SMALL(IF(Tabela.abordagens[Mês]=$L$2,ROW(Tabela.abordagens[Idade])-2),ROW(A32)),4)","v":{"$error":"#NUM!"}},{"$f":"INDEX(Tabela.abordagens[],SMALL(IF(Tabela.abordagens[Mês]=$L$2,ROW(Tabela.abordagens[Idade])-2),ROW(A32)),5)","v":{"$error":"#NUM!"}}]
[null,{"$f":"INDEX(Tabela.frequencia[],SMALL(IF(Tabela.frequencia[Mês]=$L$2,ROW(Tabela.frequencia[id])-1),ROW(A33)),1)","v":16},{"$f":"INDEX(Tabela.frequencia[],SMALL(IF(Tabela.frequencia[Mês]=$L$2,ROW(Tabela.frequencia[id])-1),ROW(A33)),4)","v":27},null,{"$f":"IFERROR(VLOOKUP(D80,Tabela.cadastro[[ID]:[Nome]],2,0),\"\")","v":""},{"$f":"IFERROR(VLOOKUP(D80,Tabela66[#All],2,0),\"\")","v":""},{"$f":"IFERROR(VLOOKUP(D80,Tabela.cadastro[[ID]:[CP ou M]],5,0),\"\")","v":""},{"$f":"IFERROR(VLOOKUP(D80,Cadastros!A:F,6,0),\"\")","v":""},{"$f":"IFERROR(VLOOKUP(D80,Cadastros!A:I,9,0),\"\")","v":""},{"$f":"IFERROR(VLOOKUP(D80,Cadastros!A:J,10,0),\"\")","v":""},{"$f":"IF(COUNTIF(Tabela66[id],D80)=0,\"\",COUNTIF(Tabela66[id],D80))","v":""},null,"",null,null,{"$f":"IFERROR(VLOOKUP(O80,Cadastros!A:B,2),\"\")","v":""},"",{"$f":"IFERROR(VLOOKUP(O80,Cadastros!A:E,5,0),\"\")","v":""},{"$f":"IFERROR(VLOOKUP(O80,Cadastros!A:F,6,0),\"\")","v":""},{"$f":"IFERROR(VLOOKUP(O80,Cadastros!A:I,9,0),\"\")","v":""},"","","",null,{"$f":"INDEX(Tabela.abordagens[],SMALL(IF(Tabela.abordagens[Mês]=$L$2,ROW(Tabela.abordagens[id])-2),ROW(A33)),1)","v":{"$error":"#NUM!"}},{"$f":"INDEX(Tabela.abordagens[],SMALL(IF(Tabela.abordagens[Mês]=$L$2,ROW(Tabela.abordagens[Idade])-2),ROW(A33)),6)","v":{"$error":"#NUM!"}},{"$f":"INDEX(Tabela.abordagens[],SMALL(IF(Tabela.abordagens[Mês]=$L$2,ROW(Tabela.abordagens[Idade])-2),ROW(A33)),4)","v":{"$error":"#NUM!"}},{"$f":"INDEX(Tabela.abordagens[],SMALL(IF(Tabela.abordagens[Mês]=$L$2,ROW(Tabela.abordagens[Idade])-2),ROW(A33)),5)","v":{"$error":"#NUM!"}}]
[null,{"$f":"INDEX(Tabela.frequencia[],SMALL(IF(Tabela.frequencia[Mês]=$L$2,ROW(Tabela.frequencia[id])-1),ROW(A34)),1)","v":16},{"$f":"INDEX(Tabela.frequencia[],SMALL(IF(Tabela.frequencia[Mês]=$L$2,ROW(Tabela.frequencia[id])-1),ROW(A34)),4)","v":27},null,{"$f":"IFERROR(VLOOKUP(D81,Tabela.cadastro[[ID]:[Nome]],2,0),\"\")","v":""},{"$f":"IFERROR(VLOOKUP(D81,Tabela66[#All],2,0),\"\")","v":""},{"$f":"IFERROR(VLOOKUP(D81,Tabela.cadastro[[ID]:[CP ou M]],5,0),\"\")","v":""},{"$f":"IFERROR(VLOOKUP(D81,Cadastros!A:F,6,0),\"\")","v":""},{"$f":"IFERROR(VLOOKUP(D81,Cadastros!A:I,9,0),\"\")","v":""},{"$f":"IFERROR(VLOOKUP(D81,Cadastros!A:J,10,0),\"\")","v":""},{"$f":"IF(COUNTIF(Tabela66[id],D81)=0,\"\",COUNTIF(Tabela66[id],D81))","v":""},null,"",null,null,{"$f":"IFERROR(VLOOKUP(O81,Cadastros!A:B,2),\"\")","v":""},"",{"$f":"IFERROR(VLOOKUP(O81,Cadastros!A:E,5,0),\"\")","v":""},{"$f":"IFERROR(VLOOKUP(O81,Cadastros!A:F,6,0),\"\")","v":""},{"$f":"IFERROR(VLOOKUP(O81,Cadastros!A:I,9,0),\"\")","v":""},"","","",null,{"$f":"INDEX(Tabela.abordagens[],SMALL(IF(Tabela.abordagens[Mês]=$L$2,ROW(Tabela.abordagens[id])-2),ROW(A34)),1)","v":{"$error":"#NUM!"}},{"$f":"INDEX(Tabela.abordagens[],SMALL(IF(Tabela.abordagens[Mês]=$L$2,ROW(Tabela.abordagens[Idade])-2),ROW(A34)),6)","v":{"$error":"#NUM!"}},{"$f":"INDEX(Tabela.abordagens[],SMALL(IF(Tabela.abordagens[Mês]=$L$2,ROW(Tabela.abordagens[Idade])-2),ROW(A34)),4)","v":{"$error":"#NUM!"}},{"$f":"INDEX(Tabela.abordagens[],SMALL(IF(Tabela.abordagens[Mês]=$L$2,ROW(Tabela.abordagens[Idade])-2),ROW(A34)),5)","v":{"$error":"#NUM!"}}]
[null,{"$f":"INDEX(Tabela.frequencia[],SMALL(IF(Tabela.frequencia[Mês]=$L$2,ROW(Tabela.frequencia[id])-1),ROW(A35)),1)","v":16},{"$f":"INDEX(Tabela.frequencia[],SMALL(IF(Tabela.frequencia[Mês]=$L$2,ROW(Tabela.frequencia[id])-1),ROW(A35)),4)","v":27},null,{"$f":"IFERROR(VLOOKUP(D82,Tabela.cadastro[[ID]:[Nome]],2,0),\"\")","v":""},{"$f":"IFERROR(VLOOKUP(D82,Tabela66[#All],2,0),\"\")","v":""},{"$f":"IFERROR(VLOOKUP(D82,Tabela.cadastro[[ID]:[CP ou M]],5,0),\"\")","v":""},{"$f":"IFERROR(VLOOKUP(D82,Cadastros!A:F,6,0),\"\")","v":""},{"$f":"IFERROR(VLOOKUP(D82,Cadastros!A:I,9,0),\"\")","v":""},{"$f":"IFERROR(VLOOKUP(D82,Cadastros!A:J,10,0),\"\")","v":""},{"$f":"IF(COUNTIF(Tabela66[id],D82)=0,\"\",COUNTIF(Tabela66[id],D82))","v":""},null,"",null,null,{"$f":"IFERROR(VLOOKUP(O82,Cadastros!A:B,2),\"\")","v":""},"",{"$f":"IFERROR(VLOOKUP(O82,Cadastros!A:E,5,0),\"\")","v":""},{"$f":"IFERROR(VLOOKUP(O82,Cadastros!A:F,6,0),\"\")","v":""},{"$f":"IFERROR(VLOOKUP(O82,Cadastros!A:I,9,0),\"\")","v":""},"","","",null,{"$f":"INDEX(Tabela.abordagens[],SMALL(IF(Tabela.abordagens[Mês]=$L$2,ROW(Tabela.abordagens[id])-2),ROW(A35)),1)","v":{"$error":"#NUM!"}},{"$f":"INDEX(Tabela.abordagens[],SMALL(IF(Tabela.abordagens[Mês]=$L$2,ROW(Tabela.abordagens[Idade])-2),ROW(A35)),6)","v":{"$error":"#NUM!"}},{"$f":"INDEX(Tabela.abordagens[],SMALL(IF(Tabela.abordagens[Mês]=$L$2,ROW(Tabela.abordagens[Idade])-2),ROW(A35)),4)","v":{"$error":"#NUM!"}},{"$f":"INDEX(Tabela.abordagens[],SMALL(IF(Tabela.abordagens[Mês]=$L$2,ROW(Tabela.abordagens[Idade])-2),ROW(A35)),5)","v":{"$error":"#NUM!"}}]
[null,{"$f":"INDEX(Tabela.frequencia[],SMALL(IF(Tabela.frequencia[Mês]=$L$2,ROW(Tabela.frequencia[id])-1),ROW(A36)),1)","v":16},{"$f":"INDEX(Tabela.frequencia[],SMALL(IF(Tabela.frequencia[Mês]=$L$2,ROW(Tabela.frequencia[id])-1),ROW(A36)),4)","v":27},null,{"$f":"IFERROR(VLOOKUP(D83,Tabela.cadastro[[ID]:[Nome]],2,0),\"\")","v":""},{"$f":"IFERROR(VLOOKUP(D83,Tabela66[#All],2,0),\"\")","v":""},{"$f":"IFERROR(VLOOKUP(D83,Tabela.cadastro[[ID]:[CP ou M]],5,0),\"\")","v":""},{"$f":"IFERROR(VLOOKUP(D83,Cadastros!A:F,6,0),\"\")","v":""},{"$f":"IFERROR(VLOOKUP(D83,Cadastros!A:I,9,0),\"\")","v":""},{"$f":"IFERROR(VLOOKUP(D83,Cadastros!A:J,10,0),\"\")","v":""},{"$f":"IF(COUNTIF(Tabela66[id],D83)=0,\"\",COUNTIF(Tabela66[id],D83))","v":""},null,"",null,null,{"$f":"IFERROR(VLOOKUP(O83,Cadastros!A:B,2),\"\")","v":""},"",{"$f":"IFERROR(VLOOKUP(O83,Cadastros!A:E,5,0),\"\")","v":""},{"$f":"IFERROR(VLOOKUP(O83,Cadastros!A:F,6,0),\"\")","v":""},{"$f":"IFERROR(VLOOKUP(O83,Cadastros!A:I,9,0),\"\")","v":""},"","","",null,{"$f":"INDEX(Tabela.abordagens[],SMALL(IF(Tabela.abordagens[Mês]=$L$2,ROW(Tabela.abordagens[id])-2),ROW(A36)),1)","v":{"$error":"#NUM!"}},{"$f":"INDEX(Tabela.abordagens[],SMALL(IF(Tabela.abordagens[Mês]=$L$2,ROW(Tabela.abordagens[Idade])-2),ROW(A36)),6)","v":{"$error":"#NUM!"}},{"$f":"INDEX(Tabela.abordagens[],SMALL(IF(Tabela.abordagens[Mês]=$L$2,ROW(Tabela.abordagens[Idade])-2),ROW(A36)),4)","v":{"$error":"#NUM!"}},{"$f":"INDEX(Tabela.abordagens[],SMALL(IF(Tabela.abordagens[Mês]=$L$2,ROW(Tabela.abordagens[Idade])-2),ROW(A36)),5)","v":{"$error":"#NUM!"}}]
[null,{"$f":"INDEX(Tabela.frequencia[],SMALL(IF(Tabela.frequencia[Mês]=$L$2,ROW(Tabela.frequencia[id])-1),ROW(A37)),1)","v":16},{"$f":"INDEX(Tabela.frequencia[],SMALL(IF(Tabela.frequencia[Mês]=$L$2,ROW(Tabela.frequencia[id])-1),ROW(A37)),4)","v":27},null,{"$f":"IFERROR(VLOOKUP(D84,Tabela.cadastro[[ID]:[Nome]],2,0),\"\")","v":""},{"$f":"IFERROR(VLOOKUP(D84,Tabela66[#All],2,0),\"\")","v":""},{"$f":"IFERROR(VLOOKUP(D84,Tabela.cadastro[[ID]:[CP ou M]],5,0),\"\")","v":""},{"$f":"IFERROR(VLOOKUP(D84,Cadastros!A:F,6,0),\"\")","v":""},{"$f":"IFERROR(VLOOKUP(D84,Cadastros!A:I,9,0),\"\")","v":""},{"$f":"IFERROR(VLOOKUP(D84,Cadastros!A:J,10,0),\"\")","v":""},{"$f":"IF(COUNTIF(Tabela66[id],D84)=0,\"\",COUNTIF(Tabela66[id],D84))","v":""},null,"",null,null,{"$f":"IFERROR(VLOOKUP(O84,Cadastros!A:B,2),\"\")","v":""},"",{"$f":"IFERROR(VLOOKUP(O84,Cadastros!A:E,5,0),\"\")","v":""},{"$f":"IFERROR(VLOOKUP(O84,Cadastros!A:F,6,0),\"\")","v":""},{"$f":"IFERROR(VLOOKUP(O84,Cadastros!A:I,9,0),\"\")","v":""},"","","",null,{"$f":"INDEX(Tabela.abordagens[],SMALL(IF(Tabela.abordagens[Mês]=$L$2,ROW(Tabela.abordagens[id])-2),ROW(A37)),1)","v":{"$error":"#NUM!"}},{"$f":"INDEX(Tabela.abordagens[],SMALL(IF(Tabela.abordagens[Mês]=$L$2,ROW(Tabela.abordagens[Idade])-2),ROW(A37)),6)","v":{"$error":"#NUM!"}},{"$f":"INDEX(Tabela.abordagens[],SMALL(IF(Tabela.abordagens[Mês]=$L$2,ROW(Tabela.abordagens[Idade])-2),ROW(A37)),4)","v":{"$error":"#NUM!"}},{"$f":"INDEX(Tabela.abordagens[],SMALL(IF(Tabela.abordagens[Mês]=$L$2,ROW(Tabela.abordagens[Idade])-2),ROW(A37)),5)","v":{"$error":"#NUM!"}}]
[null,{"$f":"INDEX(Tabela.frequencia[],SMALL(IF(Tabela.frequencia[Mês]=$L$2,ROW(Tabela.frequencia[id])-1),ROW(A38)),1)","v":15},{"$f":"INDEX(Tabela.frequencia[],SMALL(IF(Tabela.frequencia[Mês]=$L$2,ROW(Tabela.frequencia[id])-1),ROW(A38)),4)","v":36},null,{"$f":"IFERROR(VLOOKUP(D85,Tabela.cadastro[[ID]:[Nome]],2,0),\"\")","v":""},{"$f":"IFERROR(VLOOKUP(D85,Tabela66[#All],2,0),\"\")","v":""},{"$f":"IFERROR(VLOOKUP(D85,Tabela.cadastro[[ID]:[CP ou M]],5,0),\"\")","v":""},{"$f":"IFERROR(VLOOKUP(D85,Cadastros!A:F,6,0),\"\")","v":""},{"$f":"IFERROR(VLOOKUP(D85,Cadastros!A:I,9,0),\"\")","v":""},{"$f":"IFERROR(VLOOKUP(D85,Cadastros!A:J,10,0),\"\")","v":""},{"$f":"IF(COUNTIF(Tabela66[id],D85)=0,\"\",COUNTIF(Tabela66[id],D85))","v":""},null,"",null,null,{"$f":"IFERROR(VLOOKUP(O85,Cadastros!A:B,2),\"\")","v":""},"",{"$f":"IFERROR(VLOOKUP(O85,Cadastros!A:E,5,0),\"\")","v":""},{"$f":"IFERROR(VLOOKUP(O85,Cadastros!A:F,6,0),\"\")","v":""},{"$f":"IFERROR(VLOOKUP(O85,Cadastros!A:I,9,0),\"\")","v":""},"","","",null,{"$f":"INDEX(Tabela.abordagens[],SMALL(IF(Tabela.abordagens[Mês]=$L$2,ROW(Tabela.abordagens[id])-2),ROW(A38)),1)","v":{"$error":"#NUM!"}},{"$f":"INDEX(Tabela.abordagens[],SMALL(IF(Tabela.abordagens[Mês]=$L$2,ROW(Tabela.abordagens[Idade])-2),ROW(A38)),6)","v":{"$error":"#NUM!"}},{"$f":"INDEX(Tabela.abordagens[],SMALL(IF(Tabela.abordagens[Mês]=$L$2,ROW(Tabela.abordagens[Idade])-2),ROW(A38)),4)","v":{"$error":"#NUM!"}},{"$f":"INDEX(Tabela.abordagens[],SMALL(IF(Tabela.abordagens[Mês]=$L$2,ROW(Tabela.abordagens[Idade])-2),ROW(A38)),5)","v":{"$error":"#NUM!"}}]
[null,{"$f":"INDEX(Tabela.frequencia[],SMALL(IF(Tabela.frequencia[Mês]=$L$2,ROW(Tabela.frequencia[id])-1),ROW(A39)),1)","v":15},{"$f":"INDEX(Tabela.frequencia[],SMALL(IF(Tabela.frequencia[Mês]=$L$2,ROW(Tabela.frequencia[id])-1),ROW(A39)),4)","v":36},null,{"$f":"IFERROR(VLOOKUP(D86,Tabela.cadastro[[ID]:[Nome]],2,0),\"\")","v":""},{"$f":"IFERROR(VLOOKUP(D86,Tabela66[#All],2,0),\"\")","v":""},{"$f":"IFERROR(VLOOKUP(D86,Tabela.cadastro[[ID]:[CP ou M]],5,0),\"\")","v":""},{"$f":"IFERROR(VLOOKUP(D86,Cadastros!A:F,6,0),\"\")","v":""},{"$f":"IFERROR(VLOOKUP(D86,Cadastros!A:I,9,0),\"\")","v":""},{"$f":"IFERROR(VLOOKUP(D86,Cadastros!A:J,10,0),\"\")","v":""},{"$f":"IF(COUNTIF(Tabela66[id],D86)=0,\"\",COUNTIF(Tabela66[id],D86))","v":""},null,"",null,null,{"$f":"IFERROR(VLOOKUP(O86,Cadastros!A:B,2),\"\")","v":""},"",{"$f":"IFERROR(VLOOKUP(O86,Cadastros!A:E,5,0),\"\")","v":""},{"$f":"IFERROR(VLOOKUP(O86,Cadastros!A:F,6,0),\"\")","v":""},{"$f":"IFERROR(VLOOKUP(O86,Cadastros!A:I,9,0),\"\")","v":""},"","","",null,{"$f":"INDEX(Tabela.abordagens[],SMALL(IF(Tabela.abordagens[Mês]=$L$2,ROW(Tabela.abordagens[id])-2),ROW(A39)),1)","v":{"$error":"#NUM!"}},{"$f":"INDEX(Tabela.abordagens[],SMALL(IF(Tabela.abordagens[Mês]=$L$2,ROW(Tabela.abordagens[Idade])-2),ROW(A39)),6)","v":{"$error":"#NUM!"}},{"$f":"INDEX(Tabela.abordagens[],SMALL(IF(Tabela.abordagens[Mês]=$L$2,ROW(Tabela.abordagens[Idade])-2),ROW(A39)),4)","v":{"$error":"#NUM!"}},{"$f":"INDEX(Tabela.abordagens[],SMALL(IF(Tabela.abordagens[Mês]=$L$2,ROW(Tabela.abordagens[Idade])-2),ROW(A39)),5)","v":{"$error":"#NUM!"}}]
[null,{"$f":"INDEX(Tabela.frequencia[],SMALL(IF(Tabela.frequencia[Mês]=$L$2,ROW(Tabela.frequencia[id])-1),ROW(A40)),1)","v":15},{"$f":"INDEX(Tabela.frequencia[],SMALL(IF(Tabela.frequencia[Mês]=$L$2,ROW(Tabela.frequencia[id])-1),ROW(A40)),4)","v":36},null,{"$f":"IFERROR(VLOOKUP(D87,Tabela.cadastro[[ID]:[Nome]],2,0),\"\")","v":""},{"$f":"IFERROR(VLOOKUP(D87,Tabela66[#All],2,0),\"\")","v":""},{"$f":"IFERROR(VLOOKUP(D87,Tabela.cadastro[[ID]:[CP ou M]],5,0),\"\")","v":""},{"$f":"IFERROR(VLOOKUP(D87,Cadastros!A:F,6,0),\"\")","v":""},{"$f":"IFERROR(VLOOKUP(D87,Cadastros!A:I,9,0),\"\")","v":""},{"$f":"IFERROR(VLOOKUP(D87,Cadastros!A:J,10,0),\"\")","v":""},{"$f":"IF(COUNTIF(Tabela66[id],D87)=0,\"\",COUNTIF(Tabela66[id],D87))","v":""},null,"",null,null,{"$f":"IFERROR(VLOOKUP(O87,Cadastros!A:B,2),\"\")","v":""},"",{"$f":"IFERROR(VLOOKUP(O87,Cadastros!A:E,5,0),\"\")","v":""},{"$f":"IFERROR(VLOOKUP(O87,Cadastros!A:F,6,0),\"\")","v":""},{"$f":"IFERROR(VLOOKUP(O87,Cadastros!A:I,9,0),\"\")","v":""},"","","",null,{"$f":"INDEX(Tabela.abordagens[],SMALL(IF(Tabela.abordagens[Mês]=$L$2,ROW(Tabela.abordagens[id])-2),ROW(A40)),1)","v":{"$error":"#NUM!"}},{"$f":"INDEX(Tabela.abordagens[],SMALL(IF(Tabela.abordagens[Mês]=$L$2,ROW(Tabela.abordagens[Idade])-2),ROW(A40)),6)","v":{"$error":"#NUM!"}},{"$f":"INDEX(Tabela.abordagens[],SMALL(IF(Tabela.abordagens[Mês]=$L$2,ROW(Tabela.abordagens[Idade])-2),ROW(A40)),4)","v":{"$error":"#NUM!"}},{"$f":"INDEX(Tabela.abordagens[],SMALL(IF(Tabela.abordagens[Mês]=$L$2,ROW(Tabela.abordagens[Idade])-2),ROW(A40)),5)","v":{"$error":"#NUM!"}}]
[null,{"$f":"INDEX(Tabela.frequencia[],SMALL(IF(Tabela.frequencia[Mês]=$L$2,ROW(Tabela.frequencia[id])-1),ROW(A41)),1)","v":15},{"$f":"INDEX(Tabela.frequencia[],SMALL(IF(Tabela.frequencia[Mês]=$L$2,ROW(Tabela.frequencia[id])-1),ROW(A41)),4)","v":36},null,{"$f":"IFERROR(VLOOKUP(D88,Tabela.cadastro[[ID]:[Nome]],2,0),\"\")","v":""},{"$f":"IFERROR(VLOOKUP(D88,Tabela66[#All],2,0),\"\")","v":""},{"$f":"IFERROR(VLOOKUP(D88,Tabela.cadastro[[ID]:[CP ou M]],5,0),\"\")","v":""},{"$f":"IFERROR(VLOOKUP(D88,Cadastros!A:F,6,0),\"\")","v":""},{"$f":"IFERROR(VLOOKUP(D88,Cadastros!A:I,9,0),\"\")","v":""},{"$f":"IFERROR(VLOOKUP(D88,Cadastros!A:J,10,0),\"\")","v":""},{"$f":"IF(COUNTIF(Tabela66[id],D88)=0,\"\",COUNTIF(Tabela66[id],D88))","v":""},null,"",null,null,{"$f":"IFERROR(VLOOKUP(O88,Cadastros!A:B,2),\"\")","v":""},"",{"$f":"IFERROR(VLOOKUP(O88,Cadastros!A:E,5,0),\"\")","v":""},{"$f":"IFERROR(VLOOKUP(O88,Cadastros!A:F,6,0),\"\")","v":""},{"$f":"IFERROR(VLOOKUP(O88,Cadastros!A:I,9,0),\"\")","v":""},"","","",null,{"$f":"INDEX(Tabela.abordagens[],SMALL(IF(Tabela.abordagens[Mês]=$L$2,ROW(Tabela.abordagens[id])-2),ROW(A41)),1)","v":{"$error":"#NUM!"}},{"$f":"INDEX(Tabela.abordagens[],SMALL(IF(Tabela.abordagens[Mês]=$L$2,ROW(Tabela.abordagens[Idade])-2),ROW(A41)),6)","v":{"$error":"#NUM!"}},{"$f":"INDEX(Tabela.abordagens[],SMALL(IF(Tabela.abordagens[Mês]=$L$2,ROW(Tabela.abordagens[Idade])-2),ROW(A41)),4)","v":{"$error":"#NUM!"}},{"$f":"INDEX(Tabela.abordagens[],SMALL(IF(Tabela.abordagens[Mês]=$L$2,ROW(Tabela.abordagens[Idade])-2),ROW(A41)),5)","v":{"$error":"#NUM!"}}]
[null,{"$f":"INDEX(Tabela.frequencia[],SMALL(IF(Tabela.frequencia[Mês]=$L$2,ROW(Tabela.frequencia[id])-1),ROW(A42)),1)","v":15},{"$f":"INDEX(Tabela.frequencia[],SMALL(IF(Tabela.frequencia[Mês]=$L$2,ROW(Tabela.frequencia[id])-1),ROW(A42)),4)","v":36},null,{"$f":"IFERROR(VLOOKUP(D89,Tabela.cadastro[[ID]:[Nome]],2,0),\"\")","v":""},{"$f":"IFERROR(VLOOKUP(D89,Tabela66[#All],2,0),\"\")","v":""},{"$f":"IFERROR(VLOOKUP(D89,Tabela.cadastro[[ID]:[CP ou M]],5,0),\"\")","v":""},{"$f":"IFERROR(VLOOKUP(D89,Cadastros!A:F,6,0),\"\")","v":""},{"$f":"IFERROR(VLOOKUP(D89,Cadastros!A:I,9,0),\"\")","v":""},{"$f":"IFERROR(VLOOKUP(D89,Cadastros!A:J,10,0),\"\")","v":""},{"$f":"IF(COUNTIF(Tabela66[id],D89)=0,\"\",COUNTIF(Tabela66[id],D89))","v":""},null,"",null,null,{"$f":"IFERROR(VLOOKUP(O89,Cadastros!A:B,2),\"\")","v":""},"",{"$f":"IFERROR(VLOOKUP(O89,Cadastros!A:E,5,0),\"\")","v":""},{"$f":"IFERROR(VLOOKUP(O89,Cadastros!A:F,6,0),\"\")","v":""},{"$f":"IFERROR(VLOOKUP(O89,Cadastros!A:I,9,0),\"\")","v":""},"","","",null,{"$f":"INDEX(Tabela.abordagens[],SMALL(IF(Tabela.abordagens[Mês]=$L$2,ROW(Tabela.abordagens[id])-2),ROW(A42)),1)","v":{"$error":"#NUM!"}},{"$f":"INDEX(Tabela.abordagens[],SMALL(IF(Tabela.abordagens[Mês]=$L$2,ROW(Tabela.abordagens[Idade])-2),ROW(A42)),6)","v":{"$error":"#NUM!"}},{"$f":"INDEX(Tabela.abordagens[],SMALL(IF(Tabela.abordagens[Mês]=$L$2,ROW(Tabela.abordagens[Idade])-2),ROW(A42)),4)","v":{"$error":"#NUM!"}},{"$f":"INDEX(Tabela.abordagens[],SMALL(IF(Tabela.abordagens[Mês]=$L$2,ROW(Tabela.abordagens[Idade])-2),ROW(A42)),5)","v":{"$error":"#NUM!"}}]
[null,{"$f":"INDEX(Tabela.frequencia[],SMALL(IF(Tabela.frequencia[Mês]=$L$2,ROW(Tabela.frequencia[id])-1),ROW(A43)),1)","v":15},{"$f":"INDEX(Tabela.frequencia[],SMALL(IF(Tabela.frequencia[Mês]=$L$2,ROW(Tabela.frequencia[id])-1),ROW(A43)),4)","v":36},null,{"$f":"IFERROR(VLOOKUP(D90,Tabela.cadastro[[ID]:[Nome]],2,0),\"\")","v":""},{"$f":"IFERROR(VLOOKUP(D90,Tabela66[#All],2,0),\"\")","v":""},{"$f":"IFERROR(VLOOKUP(D90,Tabela.cadastro[[ID]:[CP ou M]],5,0),\"\")","v":""},{"$f":"IFERROR(VLOOKUP(D90,Cadastros!A:F,6,0),\"\")","v":""},{"$f":"IFERROR(VLOOKUP(D90,Cadastros!A:I,9,0),\"\")","v":""},{"$f":"IFERROR(VLOOKUP(D90,Cadastros!A:J,10,0),\"\")","v":""},{"$f":"IF(COUNTIF(Tabela66[id],D90)=0,\"\",COUNTIF(Tabela66[id],D90))","v":""},null,"",null,null,{"$f":"IFERROR(VLOOKUP(O90,Cadastros!A:B,2),\"\")","v":""},"",{"$f":"IFERROR(VLOOKUP(O90,Cadastros!A:E,5,0),\"\")","v":""},{"$f":"IFERROR(VLOOKUP(O90,Cadastros!A:F,6,0),\"\")","v":""},{"$f":"IFERROR(VLOOKUP(O90,Cadastros!A:I,9,0),\"\")","v":""},"","","",null,{"$f":"INDEX(Tabela.abordagens[],SMALL(IF(Tabela.abordagens[Mês]=$L$2,ROW(Tabela.abordagens[id])-2),ROW(A43)),1)","v":{"$error":"#NUM!"}},{"$f":"INDEX(Tabela.abordagens[],SMALL(IF(Tabela.abordagens[Mês]=$L$2,ROW(Tabela.abordagens[Idade])-2),ROW(A43)),6)","v":{"$error":"#NUM!"}},{"$f":"INDEX(Tabela.abordagens[],SMALL(IF(Tabela.abordagens[Mês]=$L$2,ROW(Tabela.abordagens[Idade])-2),ROW(A43)),4)","v":{"$error":"#NUM!"}},{"$f":"INDEX(Tabela.abordagens[],SMALL(IF(Tabela.abordagens[Mês]=$L$2,ROW(Tabela.abordagens[Idade])-2),ROW(A43)),5)","v":{"$error":"#NUM!"}}]
[null,{"$f":"INDEX(Tabela.frequencia[],SMALL(IF(Tabela.frequencia[Mês]=$L$2,ROW(Tabela.frequencia[id])-1),ROW(A44)),1)","v":15},{"$f":"INDEX(Tabela.frequencia[],SMALL(IF(Tabela.frequencia[Mês]=$L$2,ROW(Tabela.frequencia[id])-1),ROW(A44)),4)","v":36},null,{"$f":"IFERROR(VLOOKUP(D91,Tabela.cadastro[[ID]:[Nome]],2,0),\"\")","v":""},{"$f":"IFERROR(VLOOKUP(D91,Tabela66[#All],2,0),\"\")","v":""},{"$f":"IFERROR(VLOOKUP(D91,Tabela.cadastro[[ID]:[CP ou M]],5,0),\"\")","v":""},{"$f":"IFERROR(VLOOKUP(D91,Cadastros!A:F,6,0),\"\")","v":""},{"$f":"IFERROR(VLOOKUP(D91,Cadastros!A:I,9,0),\"\")","v":""},{"$f":"IFERROR(VLOOKUP(D91,Cadastros!A:J,10,0),\"\")","v":""},{"$f":"IF(COUNTIF(Tabela66[id],D91)=0,\"\",COUNTIF(Tabela66[id],D91))","v":""},null,"",null,null,{"$f":"IFERROR(VLOOKUP(O91,Cadastros!A:B,2),\"\")","v":""},"",{"$f":"IFERROR(VLOOKUP(O91,Cadastros!A:E,5,0),\"\")","v":""},{"$f":"IFERROR(VLOOKUP(O91,Cadastros!A:F,6,0),\"\")","v":""},{"$f":"IFERROR(VLOOKUP(O91,Cadastros!A:I,9,0),\"\")","v":""},"","","",null,{"$f":"INDEX(Tabela.abordagens[],SMALL(IF(Tabela.abordagens[Mês]=$L$2,ROW(Tabela.abordagens[id])-2),ROW(A44)),1)","v":{"$error":"#NUM!"}},{"$f":"INDEX(Tabela.abordagens[],SMALL(IF(Tabela.abordagens[Mês]=$L$2,ROW(Tabela.abordagens[Idade])-2),ROW(A44)),6)","v":{"$error":"#NUM!"}},{"$f":"INDEX(Tabela.abordagens[],SMALL(IF(Tabela.abordagens[Mês]=$L$2,ROW(Tabela.abordagens[Idade])-2),ROW(A44)),4)","v":{"$error":"#NUM!"}},{"$f":"INDEX(Tabela.abordagens[],SMALL(IF(Tabela.abordagens[Mês]=$L$2,ROW(Tabela.abordagens[Idade])-2),ROW(A44)),5)","v":{"$error":"#NUM!"}}]
[null,{"$f":"INDEX(Tabela.frequencia[],SMALL(IF(Tabela.frequencia[Mês]=$L$2,ROW(Tabela.frequencia[id])-1),ROW(A45)),1)","v":15},{"$f":"INDEX(Tabela.frequencia[],SMALL(IF(Tabela.frequencia[Mês]=$L$2,ROW(Tabela.frequencia[id])-1),ROW(A45)),4)","v":36},null,{"$f":"IFERROR(VLOOKUP(D92,Tabela.cadastro[[ID]:[Nome]],2,0),\"\")","v":""},{"$f":"IFERROR(VLOOKUP(D92,Tabela66[#All],2,0),\"\")","v":""},{"$f":"IFERROR(VLOOKUP(D92,Tabela.cadastro[[ID]:[CP ou M]],5,0),\"\")","v":""},{"$f":"IFERROR(VLOOKUP(D92,Cadastros!A:F,6,0),\"\")","v":""},{"$f":"IFERROR(VLOOKUP(D92,Cadastros!A:I,9,0),\"\")","v":""},{"$f":"IFERROR(VLOOKUP(D92,Cadastros!A:J,10,0),\"\")","v":""},{"$f":"IF(COUNTIF(Tabela66[id],D92)=0,\"\",COUNTIF(Tabela66[id],D92))","v":""},null,"",null,null,{"$f":"IFERROR(VLOOKUP(O92,Cadastros!A:B,2),\"\")","v":""},"",{"$f":"IFERROR(VLOOKUP(O92,Cadastros!A:E,5,0),\"\")","v":""},{"$f":"IFERROR(VLOOKUP(O92,Cadastros!A:F,6,0),\"\")","v":""},{"$f":"IFERROR(VLOOKUP(O92,Cadastros!A:I,9,0),\"\")","v":""},"","","",null,{"$f":"INDEX(Tabela.abordagens[],SMALL(IF(Tabela.abordagens[Mês]=$L$2,ROW(Tabela.abordagens[id])-2),ROW(A45)),1)","v":{"$error":"#NUM!"}},{"$f":"INDEX(Tabela.abordagens[],SMALL(IF(Tabela.abordagens[Mês]=$L$2,ROW(Tabela.abordagens[Idade])-2),ROW(A45)),6)","v":{"$error":"#NUM!"}},{"$f":"INDEX(Tabela.abordagens[],SMALL(IF(Tabela.abordagens[Mês]=$L$2,ROW(Tabela.abordagens[Idade])-2),ROW(A45)),4)","v":{"$error":"#NUM!"}},{"$f":"INDEX(Tabela.abordagens[],SMALL(IF(Tabela.abordagens[Mês]=$L$2,ROW(Tabela.abordagens[Idade])-2),ROW(A45)),5)","v":{"$error":"#NUM!"}}]
[null,{"$f":"INDEX(Tabela.frequencia[],SMALL(IF(Tabela.frequencia[Mês]=$L$2,ROW(Tabela.frequencia[id])-1),ROW(A46)),1)","v":15},{"$f":"INDEX(Tabela.frequencia[],SMALL(IF(Tabela.frequencia[Mês]=$L$2,ROW(Tabela.frequencia[id])-1),ROW(A46)),4)","v":36},null,{"$f":"IFERROR(VLOOKUP(D93,Tabela.cadastro[[ID]:[Nome]],2,0),\"\")","v":""},{"$f":"IFERROR(VLOOKUP(D93,Tabela66[#All],2,0),\"\")","v":""},{"$f":"IFERROR(VLOOKUP(D93,Tabela.cadastro[[ID]:[CP ou M]],5,0),\"\")","v":""},{"$f":"IFERROR(VLOOKUP(D93,Cadastros!A:F,6,0),\"\")","v":""},{"$f":"IFERROR(VLOOKUP(D93,Cadastros!A:I,9,0),\"\")","v":""},{"$f":"IFERROR(VLOOKUP(D93,Cadastros!A:J,10,0),\"\")","v":""},{"$f":"IF(COUNTIF(Tabela66[id],D93)=0,\"\",COUNTIF(Tabela66[id],D93))","v":""},null,"",null,null,{"$f":"IFERROR(VLOOKUP(O93,Cadastros!A:B,2),\"\")","v":""},"",{"$f":"IFERROR(VLOOKUP(O93,Cadastros!A:E,5,0),\"\")","v":""},{"$f":"IFERROR(VLOOKUP(O93,Cadastros!A:F,6,0),\"\")","v":""},{"$f":"IFERROR(VLOOKUP(O93,Cadastros!A:I,9,0),\"\")","v":""},"","","",null,{"$f":"INDEX(Tabela.abordagens[],SMALL(IF(Tabela.abordagens[Mês]=$L$2,ROW(Tabela.abordagens[id])-2),ROW(A46)),1)","v":{"$error":"#NUM!"}},{"$f":"INDEX(Tabela.abordagens[],SMALL(IF(Tabela.abordagens[Mês]=$L$2,ROW(Tabela.abordagens[Idade])-2),ROW(A46)),6)","v":{"$error":"#NUM!"}},{"$f":"INDEX(Tabela.abordagens[],SMALL(IF(Tabela.abordagens[Mês]=$L$2,ROW(Tabela.abordagens[Idade])-2),ROW(A46)),4)","v":{"$error":"#NUM!"}},{"$f":"INDEX(Tabela.abordagens[],SMALL(IF(Tabela.abordagens[Mês]=$L$2,ROW(Tabela.abordagens[Idade])-2),ROW(A46)),5)","v":{"$error":"#NUM!"}}]
[null,{"$f":"INDEX(Tabela.frequencia[],SMALL(IF(Tabela.frequencia[Mês]=$L$2,ROW(Tabela.frequencia[id])-1),ROW(A47)),1)","v":12},{"$f":"INDEX(Tabela.frequencia[],SMALL(IF(Tabela.frequencia[Mês]=$L$2,ROW(Tabela.frequencia[id])-1),ROW(A47)),4)","v":25},null,{"$f":"IFERROR(VLOOKUP(D94,Tabela.cadastro[[ID]:[Nome]],2,0),\"\")","v":""},{"$f":"IFERROR(VLOOKUP(D94,Tabela66[#All],2,0),\"\")","v":""},{"$f":"IFERROR(VLOOKUP(D94,Tabela.cadastro[[ID]:[CP ou M]],5,0),\"\")","v":""},{"$f":"IFERROR(VLOOKUP(D94,Cadastros!A:F,6,0),\"\")","v":""},{"$f":"IFERROR(VLOOKUP(D94,Cadastros!A:I,9,0),\"\")","v":""},{"$f":"IFERROR(VLOOKUP(D94,Cadastros!A:J,10,0),\"\")","v":""},{"$f":"IF(COUNTIF(Tabela66[id],D94)=0,\"\",COUNTIF(Tabela66[id],D94))","v":""},null,"",null,null,{"$f":"IFERROR(VLOOKUP(O94,Cadastros!A:B,2),\"\")","v":""},"",{"$f":"IFERROR(VLOOKUP(O94,Cadastros!A:E,5,0),\"\")","v":""},{"$f":"IFERROR(VLOOKUP(O94,Cadastros!A:F,6,0),\"\")","v":""},{"$f":"IFERROR(VLOOKUP(O94,Cadastros!A:I,9,0),\"\")","v":""},"","","",null,{"$f":"INDEX(Tabela.abordagens[],SMALL(IF(Tabela.abordagens[Mês]=$L$2,ROW(Tabela.abordagens[id])-2),ROW(A47)),1)","v":{"$error":"#NUM!"}},{"$f":"INDEX(Tabela.abordagens[],SMALL(IF(Tabela.abordagens[Mês]=$L$2,ROW(Tabela.abordagens[Idade])-2),ROW(A47)),6)","v":{"$error":"#NUM!"}},{"$f":"INDEX(Tabela.abordagens[],SMALL(IF(Tabela.abordagens[Mês]=$L$2,ROW(Tabela.abordagens[Idade])-2),ROW(A47)),4)","v":{"$error":"#NUM!"}},{"$f":"INDEX(Tabela.abordagens[],SMALL(IF(Tabela.abordagens[Mês]=$L$2,ROW(Tabela.abordagens[Idade])-2),ROW(A47)),5)","v":{"$error":"#NUM!"}}]
[null,{"$f":"INDEX(Tabela.frequencia[],SMALL(IF(Tabela.frequencia[Mês]=$L$2,ROW(Tabela.frequencia[id])-1),ROW(A48)),1)","v":12},{"$f":"INDEX(Tabela.frequencia[],SMALL(IF(Tabela.frequencia[Mês]=$L$2,ROW(Tabela.frequencia[id])-1),ROW(A48)),4)","v":25},null,{"$f":"IFERROR(VLOOKUP(D95,Tabela.cadastro[[ID]:[Nome]],2,0),\"\")","v":""},{"$f":"IFERROR(VLOOKUP(D95,Tabela66[#All],2,0),\"\")","v":""},{"$f":"IFERROR(VLOOKUP(D95,Tabela.cadastro[[ID]:[CP ou M]],5,0),\"\")","v":""},{"$f":"IFERROR(VLOOKUP(D95,Cadastros!A:F,6,0),\"\")","v":""},{"$f":"IFERROR(VLOOKUP(D95,Cadastros!A:I,9,0),\"\")","v":""},{"$f":"IFERROR(VLOOKUP(D95,Cadastros!A:J,10,0),\"\")","v":""},{"$f":"IF(COUNTIF(Tabela66[id],D95)=0,\"\",COUNTIF(Tabela66[id],D95))","v":""},null,"",null,null,{"$f":"IFERROR(VLOOKUP(O95,Cadastros!A:B,2),\"\")","v":""},"",{"$f":"IFERROR(VLOOKUP(O95,Cadastros!A:E,5,0),\"\")","v":""},{"$f":"IFERROR(VLOOKUP(O95,Cadastros!A:F,6,0),\"\")","v":""},{"$f":"IFERROR(VLOOKUP(O95,Cadastros!A:I,9,0),\"\")","v":""},"","","",null,{"$f":"INDEX(Tabela.abordagens[],SMALL(IF(Tabela.abordagens[Mês]=$L$2,ROW(Tabela.abordagens[id])-2),ROW(A48)),1)","v":{"$error":"#NUM!"}},{"$f":"INDEX(Tabela.abordagens[],SMALL(IF(Tabela.abordagens[Mês]=$L$2,ROW(Tabela.abordagens[Idade])-2),ROW(A48)),6)","v":{"$error":"#NUM!"}},{"$f":"INDEX(Tabela.abordagens[],SMALL(IF(Tabela.abordagens[Mês]=$L$2,ROW(Tabela.abordagens[Idade])-2),ROW(A48)),4)","v":{"$error":"#NUM!"}},{"$f":"INDEX(Tabela.abordagens[],SMALL(IF(Tabela.abordagens[Mês]=$L$2,ROW(Tabela.abordagens[Idade])-2),ROW(A48)),5)","v":{"$error":"#NUM!"}}]
[null,{"$f":"INDEX(Tabela.frequencia[],SMALL(IF(Tabela.frequencia[Mês]=$L$2,ROW(Tabela.frequencia[id])-1),ROW(A49)),1)","v":12},{"$f":"INDEX(Tabela.frequencia[],SMALL(IF(Tabela.frequencia[Mês]=$L$2,ROW(Tabela.frequencia[id])-1),ROW(A49)),4)","v":25},null,{"$f":"IFERROR(VLOOKUP(D96,Tabela.cadastro[[ID]:[Nome]],2,0),\"\")","v":""},{"$f":"IFERROR(VLOOKUP(D96,Tabela66[#All],2,0),\"\")","v":""},{"$f":"IFERROR(VLOOKUP(D96,Tabela.cadastro[[ID]:[CP ou M]],5,0),\"\")","v":""},{"$f":"IFERROR(VLOOKUP(D96,Cadastros!A:F,6,0),\"\")","v":""},{"$f":"IFERROR(VLOOKUP(D96,Cadastros!A:I,9,0),\"\")","v":""},{"$f":"IFERROR(VLOOKUP(D96,Cadastros!A:J,10,0),\"\")","v":""},{"$f":"IF(COUNTIF(Tabela66[id],D96)=0,\"\",COUNTIF(Tabela66[id],D96))","v":""},null,"",null,null,{"$f":"IFERROR(VLOOKUP(O96,Cadastros!A:B,2),\"\")","v":""},"",{"$f":"IFERROR(VLOOKUP(O96,Cadastros!A:E,5,0),\"\")","v":""},{"$f":"IFERROR(VLOOKUP(O96,Cadastros!A:F,6,0),\"\")","v":""},{"$f":"IFERROR(VLOOKUP(O96,Cadastros!A:I,9,0),\"\")","v":""},"","","",null,{"$f":"INDEX(Tabela.abordagens[],SMALL(IF(Tabela.abordagens[Mês]=$L$2,ROW(Tabela.abordagens[id])-2),ROW(A49)),1)","v":{"$error":"#NUM!"}},{"$f":"INDEX(Tabela.abordagens[],SMALL(IF(Tabela.abordagens[Mês]=$L$2,ROW(Tabela.abordagens[Idade])-2),ROW(A49)),6)","v":{"$error":"#NUM!"}},{"$f":"INDEX(Tabela.abordagens[],SMALL(IF(Tabela.abordagens[Mês]=$L$2,ROW(Tabela.abordagens[Idade])-2),ROW(A49)),4)","v":{"$error":"#NUM!"}},{"$f":"INDEX(Tabela.abordagens[],SMALL(IF(Tabela.abordagens[Mês]=$L$2,ROW(Tabela.abordagens[Idade])-2),ROW(A49)),5)","v":{"$error":"#NUM!"}}]
[null,{"$f":"INDEX(Tabela.frequencia[],SMALL(IF(Tabela.frequencia[Mês]=$L$2,ROW(Tabela.frequencia[id])-1),ROW(A50)),1)","v":12},{"$f":"INDEX(Tabela.frequencia[],SMALL(IF(Tabela.frequencia[Mês]=$L$2,ROW(Tabela.frequencia[id])-1),ROW(A50)),4)","v":25},null,{"$f":"IFERROR(VLOOKUP(D97,Tabela.cadastro[[ID]:[Nome]],2,0),\"\")","v":""},{"$f":"IFERROR(VLOOKUP(D97,Tabela66[#All],2,0),\"\")","v":""},{"$f":"IFERROR(VLOOKUP(D97,Tabela.cadastro[[ID]:[CP ou M]],5,0),\"\")","v":""},{"$f":"IFERROR(VLOOKUP(D97,Cadastros!A:F,6,0),\"\")","v":""},{"$f":"IFERROR(VLOOKUP(D97,Cadastros!A:I,9,0),\"\")","v":""},{"$f":"IFERROR(VLOOKUP(D97,Cadastros!A:J,10,0),\"\")","v":""},{"$f":"IF(COUNTIF(Tabela66[id],D97)=0,\"\",COUNTIF(Tabela66[id],D97))","v":""},null,"",null,null,{"$f":"IFERROR(VLOOKUP(O97,Cadastros!A:B,2),\"\")","v":""},"",{"$f":"IFERROR(VLOOKUP(O97,Cadastros!A:E,5,0),\"\")","v":""},{"$f":"IFERROR(VLOOKUP(O97,Cadastros!A:F,6,0),\"\")","v":""},{"$f":"IFERROR(VLOOKUP(O97,Cadastros!A:I,9,0),\"\")","v":""},"","","",null,{"$f":"INDEX(Tabela.abordagens[],SMALL(IF(Tabela.abordagens[Mês]=$L$2,ROW(Tabela.abordagens[id])-2),ROW(A50)),1)","v":{"$error":"#NUM!"}},{"$f":"INDEX(Tabela.abordagens[],SMALL(IF(Tabela.abordagens[Mês]=$L$2,ROW(Tabela.abordagens[Idade])-2),ROW(A50)),6)","v":{"$error":"#NUM!"}},{"$f":"INDEX(Tabela.abordagens[],SMALL(IF(Tabela.abordagens[Mês]=$L$2,ROW(Tabela.abordagens[Idade])-2),ROW(A50)),4)","v":{"$error":"#NUM!"}},{"$f":"INDEX(Tabela.abordagens[],SMALL(IF(Tabela.abordagens[Mês]=$L$2,ROW(Tabela.abordagens[Idade])-2),ROW(A50)),5)","v":{"$error":"#NUM!"}}]
[null,{"$f":"INDEX(Tabela.frequencia[],SMALL(IF(Tabela.frequencia[Mês]=$L$2,ROW(Tabela.frequencia[id])-1),ROW(A51)),1)","v":{"$error":"#NUM!"}},{"$f":"INDEX(Tabela.frequencia[],SMALL(IF(Tabela.frequencia[Mês]=$L$2,ROW(Tabela.frequencia[id])-1),ROW(A51)),4)","v":{"$error":"#NUM!"}},null,{"$f":"IFERROR(VLOOKUP(D98,Tabela.cadastro[[ID]:[Nome]],2,0),\"\")","v":""},{"$f":"IFERROR(VLOOKUP(D98,Tabela66[#All],2,0),\"\")","v":""},{"$f":"IFERROR(VLOOKUP(D98,Tabela.cadastro[[ID]:[CP ou M]],5,0),\"\")","v":""},{"$f":"IFERROR(VLOOKUP(D98,Cadastros!A:F,6,0),\"\")","v":""},{"$f":"IFERROR(VLOOKUP(D98,Cadastros!A:I,9,0),\"\")","v":""},{"$f":"IFERROR(VLOOKUP(D98,Cadastros!A:J,10,0),\"\")","v":""},{"$f":"IF(COUNTIF(Tabela66[id],D98)=0,\"\",COUNTIF(Tabela66[id],D98))","v":""},null,"",null,null,{"$f":"IFERROR(VLOOKUP(O98,Cadastros!A:B,2),\"\")","v":""},{"$f":"IFERROR(VLOOKUP(O98,$Y$33:$Z$866,2,0),\"\")","v":""},{"$f":"IFERROR(VLOOKUP(O98,Cadastros!A:E,5,0),\"\")","v":""},{"$f":"IFERROR(VLOOKUP(O98,Cadastros!A:F,6,0),\"\")","v":""},{"$f":"IFERROR(VLOOKUP(O98,Cadastros!A:I,9,0),\"\")","v":""},{"$f":"IFERROR(VLOOKUP(O98,Y$33:AB$866,3,0),\"\")","v":""},{"$f":"IFERROR(VLOOKUP(O98,Y$33:AB$866,4,0),\"\")","v":""},{"$f":"IF(COUNTIF(Y$33:Y$866,O98)=0,\"\",COUNTIF(Y$33:Y$866,O98))","v":""},null,{"$f":"INDEX(Tabela.abordagens[],SMALL(IF(Tabela.abordagens[Mês]=$L$2,ROW(Tabela.abordagens[id])-2),ROW(A51)),1)","v":{"$error":"#NUM!"}},{"$f":"INDEX(Tabela.abordagens[],SMALL(IF(Tabela.abordagens[Mês]=$L$2,ROW(Tabela.abordagens[Idade])-2),ROW(A51)),6)","v":{"$error":"#NUM!"}},{"$f":"INDEX(Tabela.abordagens[],SMALL(IF(Tabela.abordagens[Mês]=$L$2,ROW(Tabela.abordagens[Idade])-2),ROW(A51)),4)","v":{"$error":"#NUM!"}},{"$f":"INDEX(Tabela.abordagens[],SMALL(IF(Tabela.abordagens[Mês]=$L$2,ROW(Tabela.abordagens[Idade])-2),ROW(A51)),5)","v":{"$error":"#NUM!"}}]
[null,{"$f":"INDEX(Tabela.frequencia[],SMALL(IF(Tabela.frequencia[Mês]=$L$2,ROW(Tabela.frequencia[id])-1),ROW(A52)),1)","v":{"$error":"#NUM!"}},{"$f":"INDEX(Tabela.frequencia[],SMALL(IF(Tabela.frequencia[Mês]=$L$2,ROW(Tabela.frequencia[id])-1),ROW(A52)),4)","v":{"$error":"#NUM!"}},null,{"$f":"IFERROR(VLOOKUP(D99,Tabela.cadastro[[ID]:[Nome]],2,0),\"\")","v":""},{"$f":"IFERROR(VLOOKUP(D99,Tabela66[#All],2,0),\"\")","v":""},{"$f":"IFERROR(VLOOKUP(D99,Tabela.cadastro[[ID]:[CP ou M]],5,0),\"\")","v":""},{"$f":"IFERROR(VLOOKUP(D99,Cadastros!A:F,6,0),\"\")","v":""},{"$f":"IFERROR(VLOOKUP(D99,Cadastros!A:I,9,0),\"\")","v":""},{"$f":"IFERROR(VLOOKUP(D99,Cadastros!A:J,10,0),\"\")","v":""},{"$f":"IF(COUNTIF(Tabela66[id],D99)=0,\"\",COUNTIF(Tabela66[id],D99))","v":""},null,"",null,null,{"$f":"IFERROR(VLOOKUP(O99,Cadastros!A:B,2),\"\")","v":""},"",{"$f":"IFERROR(VLOOKUP(O99,Cadastros!A:E,5,0),\"\")","v":""},{"$f":"IFERROR(VLOOKUP(O99,Cadastros!A:F,6,0),\"\")","v":""},{"$f":"IFERROR(VLOOKUP(O99,Cadastros!A:I,9,0),\"\")","v":""},"","","",null,{"$f":"INDEX(Tabela.abordagens[],SMALL(IF(Tabela.abordagens[Mês]=$L$2,ROW(Tabela.abordagens[id])-2),ROW(A52)),1)","v":{"$error":"#NUM!"}},{"$f":"INDEX(Tabela.abordagens[],SMALL(IF(Tabela.abordagens[Mês]=$L$2,ROW(Tabela.abordagens[Idade])-2),ROW(A52)),6)","v":{"$error":"#NUM!"}},{"$f":"INDEX(Tabela.abordagens[],SMALL(IF(Tabela.abordagens[Mês]=$L$2,ROW(Tabela.abordagens[Idade])-2),ROW(A52)),4)","v":{"$error":"#NUM!"}},{"$f":"INDEX(Tabela.abordagens[],SMALL(IF(Tabela.abordagens[Mês]=$L$2,ROW(Tabela.abordagens[Idade])-2),ROW(A52)),5)","v":{"$error":"#NUM!"}}]
[null,{"$f":"INDEX(Tabela.frequencia[],SMALL(IF(Tabela.frequencia[Mês]=$L$2,ROW(Tabela.frequencia[id])-1),ROW(A53)),1)","v":{"$error":"#NUM!"}},{"$f":"INDEX(Tabela.frequencia[],SMALL(IF(Tabela.frequencia[Mês]=$L$2,ROW(Tabela.frequencia[id])-1),ROW(A53)),4)","v":{"$error":"#NUM!"}},null,{"$f":"IFERROR(VLOOKUP(D100,Tabela.cadastro[[ID]:[Nome]],2,0),\"\")","v":""},{"$f":"IFERROR(VLOOKUP(D100,Tabela66[#All],2,0),\"\")","v":""},{"$f":"IFERROR(VLOOKUP(D100,Tabela.cadastro[[ID]:[CP ou M]],5,0),\"\")","v":""},{"$f":"IFERROR(VLOOKUP(D100,Cadastros!A:F,6,0),\"\")","v":""},{"$f":"IFERROR(VLOOKUP(D100,Cadastros!A:I,9,0),\"\")","v":""},{"$f":"IFERROR(VLOOKUP(D100,Cadastros!A:J,10,0),\"\")","v":""},{"$f":"IF(COUNTIF(Tabela66[id],D100)=0,\"\",COUNTIF(Tabela66[id],D100))","v":""},null,"",null,null,{"$f":"IFERROR(VLOOKUP(O100,Cadastros!A:B,2),\"\")","v":""},"",{"$f":"IFERROR(VLOOKUP(O100,Cadastros!A:E,5,0),\"\")","v":""},{"$f":"IFERROR(VLOOKUP(O100,Cadastros!A:F,6,0),\"\")","v":""},{"$f":"IFERROR(VLOOKUP(O100,Cadastros!A:I,9,0),\"\")","v":""},"","","",null,{"$f":"INDEX(Tabela.abordagens[],SMALL(IF(Tabela.abordagens[Mês]=$L$2,ROW(Tabela.abordagens[id])-2),ROW(A53)),1)","v":{"$error":"#NUM!"}},{"$f":"INDEX(Tabela.abordagens[],SMALL(IF(Tabela.abordagens[Mês]=$L$2,ROW(Tabela.abordagens[Idade])-2),ROW(A53)),6)","v":{"$error":"#NUM!"}},{"$f":"INDEX(Tabela.abordagens[],SMALL(IF(Tabela.abordagens[Mês]=$L$2,ROW(Tabela.abordagens[Idade])-2),ROW(A53)),4)","v":{"$error":"#NUM!"}},{"$f":"INDEX(Tabela.abordagens[],SMALL(IF(Tabela.abordagens[Mês]=$L$2,ROW(Tabela.abordagens[Idade])-2),ROW(A53)),5)","v":{"$error":"#NUM!"}}]
[null,{"$f":"INDEX(Tabela.frequencia[],SMALL(IF(Tabela.frequencia[Mês]=$L$2,ROW(Tabela.frequencia[id])-1),ROW(A54)),1)","v":{"$error":"#NUM!"}},{"$f":"INDEX(Tabela.frequencia[],SMALL(IF(Tabela.frequencia[Mês]=$L$2,ROW(Tabela.frequencia[id])-1),ROW(A54)),4)","v":{"$error":"#NUM!"}},null,{"$f":"IFERROR(VLOOKUP(D101,Tabela.cadastro[[ID]:[Nome]],2,0),\"\")","v":""},{"$f":"IFERROR(VLOOKUP(D101,Tabela66[#All],2,0),\"\")","v":""},{"$f":"IFERROR(VLOOKUP(D101,Tabela.cadastro[[ID]:[CP ou M]],5,0),\"\")","v":""},{"$f":"IFERROR(VLOOKUP(D101,Cadastros!A:F,6,0),\"\")","v":""},{"$f":"IFERROR(VLOOKUP(D101,Cadastros!A:I,9,0),\"\")","v":""},{"$f":"IFERROR(VLOOKUP(D101,Cadastros!A:J,10,0),\"\")","v":""},{"$f":"IF(COUNTIF(Tabela66[id],D101)=0,\"\",COUNTIF(Tabela66[id],D101))","v":""},null,"",null,null,{"$f":"IFERROR(VLOOKUP(O101,Cadastros!A:B,2),\"\")","v":""},"",{"$f":"IFERROR(VLOOKUP(O101,Cadastros!A:E,5,0),\"\")","v":""},{"$f":"IFERROR(VLOOKUP(O101,Cadastros!A:F,6,0),\"\")","v":""},{"$f":"IFERROR(VLOOKUP(O101,Cadastros!A:I,9,0),\"\")","v":""},"","","",null,{"$f":"INDEX(Tabela.abordagens[],SMALL(IF(Tabela.abordagens[Mês]=$L$2,ROW(Tabela.abordagens[id])-2),ROW(A54)),1)","v":{"$error":"#NUM!"}},{"$f":"INDEX(Tabela.abordagens[],SMALL(IF(Tabela.abordagens[Mês]=$L$2,ROW(Tabela.abordagens[Idade])-2),ROW(A54)),6)","v":{"$error":"#NUM!"}},{"$f":"INDEX(Tabela.abordagens[],SMALL(IF(Tabela.abordagens[Mês]=$L$2,ROW(Tabela.abordagens[Idade])-2),ROW(A54)),4)","v":{"$error":"#NUM!"}},{"$f":"INDEX(Tabela.abordagens[],SMALL(IF(Tabela.abordagens[Mês]=$L$2,ROW(Tabela.abordagens[Idade])-2),ROW(A54)),5)","v":{"$error":"#NUM!"}}]
[null,{"$f":"INDEX(Tabela.frequencia[],SMALL(IF(Tabela.frequencia[Mês]=$L$2,ROW(Tabela.frequencia[id])-1),ROW(A55)),1)","v":{"$error":"#NUM!"}},{"$f":"INDEX(Tabela.frequencia[],SMALL(IF(Tabela.frequencia[Mês]=$L$2,ROW(Tabela.frequencia[id])-1),ROW(A55)),4)","v":{"$error":"#NUM!"}},null,{"$f":"IFERROR(VLOOKUP(D102,Tabela.cadastro[[ID]:[Nome]],2,0),\"\")","v":""},{"$f":"IFERROR(VLOOKUP(D102,Tabela66[#All],2,0),\"\")","v":""},{"$f":"IFERROR(VLOOKUP(D102,Tabela.cadastro[[ID]:[CP ou M]],5,0),\"\")","v":""},{"$f":"IFERROR(VLOOKUP(D102,Cadastros!A:F,6,0),\"\")","v":""},{"$f":"IFERROR(VLOOKUP(D102,Cadastros!A:I,9,0),\"\")","v":""},{"$f":"IFERROR(VLOOKUP(D102,Cadastros!A:J,10,0),\"\")","v":""},{"$f":"IF(COUNTIF(Tabela66[id],D102)=0,\"\",COUNTIF(Tabela66[id],D102))","v":""},null,"",null,null,{"$f":"IFERROR(VLOOKUP(O102,Cadastros!A:B,2),\"\")","v":""},"",{"$f":"IFERROR(VLOOKUP(O102,Cadastros!A:E,5,0),\"\")","v":""},{"$f":"IFERROR(VLOOKUP(O102,Cadastros!A:F,6,0),\"\")","v":""},{"$f":"IFERROR(VLOOKUP(O102,Cadastros!A:I,9,0),\"\")","v":""},"","","",null,{"$f":"INDEX(Tabela.abordagens[],SMALL(IF(Tabela.abordagens[Mês]=$L$2,ROW(Tabela.abordagens[id])-2),ROW(A55)),1)","v":{"$error":"#NUM!"}},{"$f":"INDEX(Tabela.abordagens[],SMALL(IF(Tabela.abordagens[Mês]=$L$2,ROW(Tabela.abordagens[Idade])-2),ROW(A55)),6)","v":{"$error":"#NUM!"}},{"$f":"INDEX(Tabela.abordagens[],SMALL(IF(Tabela.abordagens[Mês]=$L$2,ROW(Tabela.abordagens[Idade])-2),ROW(A55)),4)","v":{"$error":"#NUM!"}},{"$f":"INDEX(Tabela.abordagens[],SMALL(IF(Tabela.abordagens[Mês]=$L$2,ROW(Tabela.abordagens[Idade])-2),ROW(A55)),5)","v":{"$error":"#NUM!"}}]
[null,{"$f":"INDEX(Tabela.frequencia[],SMALL(IF(Tabela.frequencia[Mês]=$L$2,ROW(Tabela.frequencia[id])-1),ROW(A56)),1)","v":{"$error":"#NUM!"}},{"$f":"INDEX(Tabela.frequencia[],SMALL(IF(Tabela.frequencia[Mês]=$L$2,ROW(Tabela.frequencia[id])-1),ROW(A56)),4)","v":{"$error":"#NUM!"}},null,{"$f":"IFERROR(VLOOKUP(D103,Tabela.cadastro[[ID]:[Nome]],2,0),\"\")","v":""},{"$f":"IFERROR(VLOOKUP(D103,Tabela66[#All],2,0),\"\")","v":""},{"$f":"IFERROR(VLOOKUP(D103,Tabela.cadastro[[ID]:[CP ou M]],5,0),\"\")","v":""},{"$f":"IFERROR(VLOOKUP(D103,Cadastros!A:F,6,0),\"\")","v":""},{"$f":"IFERROR(VLOOKUP(D103,Cadastros!A:I,9,0),\"\")","v":""},{"$f":"IFERROR(VLOOKUP(D103,Cadastros!A:J,10,0),\"\")","v":""},{"$f":"IF(COUNTIF(Tabela66[id],D103)=0,\"\",COUNTIF(Tabela66[id],D103))","v":""},null,"",null,null,{"$f":"IFERROR(VLOOKUP(O103,Cadastros!A:B,2),\"\")","v":""},"",{"$f":"IFERROR(VLOOKUP(O103,Cadastros!A:E,5,0),\"\")","v":""},{"$f":"IFERROR(VLOOKUP(O103,Cadastros!A:F,6,0),\"\")","v":""},{"$f":"IFERROR(VLOOKUP(O103,Cadastros!A:I,9,0),\"\")","v":""},"","","",null,{"$f":"INDEX(Tabela.abordagens[],SMALL(IF(Tabela.abordagens[Mês]=$L$2,ROW(Tabela.abordagens[id])-2),ROW(A56)),1)","v":{"$error":"#NUM!"}},{"$f":"INDEX(Tabela.abordagens[],SMALL(IF(Tabela.abordagens[Mês]=$L$2,ROW(Tabela.abordagens[Idade])-2),ROW(A56)),6)","v":{"$error":"#NUM!"}},{"$f":"INDEX(Tabela.abordagens[],SMALL(IF(Tabela.abordagens[Mês]=$L$2,ROW(Tabela.abordagens[Idade])-2),ROW(A56)),4)","v":{"$error":"#NUM!"}},{"$f":"INDEX(Tabela.abordagens[],SMALL(IF(Tabela.abordagens[Mês]=$L$2,ROW(Tabela.abordagens[Idade])-2),ROW(A56)),5)","v":{"$error":"#NUM!"}}]
[null,{"$f":"INDEX(Tabela.frequencia[],SMALL(IF(Tabela.frequencia[Mês]=$L$2,ROW(Tabela.frequencia[id])-1),ROW(A57)),1)","v":{"$error":"#NUM!"}},{"$f":"INDEX(Tabela.frequencia[],SMALL(IF(Tabela.frequencia[Mês]=$L$2,ROW(Tabela.frequencia[id])-1),ROW(A57)),4)","v":{"$error":"#NUM!"}},null,{"$f":"IFERROR(VLOOKUP(D104,Tabela.cadastro[[ID]:[Nome]],2,0),\"\")","v":""},{"$f":"IFERROR(VLOOKUP(D104,Tabela66[#All],2,0),\"\")","v":""},{"$f":"IFERROR(VLOOKUP(D104,Tabela.cadastro[[ID]:[CP ou M]],5,0),\"\")","v":""},{"$f":"IFERROR(VLOOKUP(D104,Cadastros!A:F,6,0),\"\")","v":""},{"$f":"IFERROR(VLOOKUP(D104,Cadastros!A:I,9,0),\"\")","v":""},{"$f":"IFERROR(VLOOKUP(D104,Cadastros!A:J,10,0),\"\")","v":""},{"$f":"IF(COUNTIF(Tabela66[id],D104)=0,\"\",COUNTIF(Tabela66[id],D104))","v":""},null,"",null,null,{"$f":"IFERROR(VLOOKUP(O104,Cadastros!A:B,2),\"\")","v":""},"",{"$f":"IFERROR(VLOOKUP(O104,Cadastros!A:E,5,0),\"\")","v":""},{"$f":"IFERROR(VLOOKUP(O104,Cadastros!A:F,6,0),\"\")","v":""},{"$f":"IFERROR(VLOOKUP(O104,Cadastros!A:I,9,0),\"\")","v":""},"","","",null,{"$f":"INDEX(Tabela.abordagens[],SMALL(IF(Tabela.abordagens[Mês]=$L$2,ROW(Tabela.abordagens[id])-2),ROW(A57)),1)","v":{"$error":"#NUM!"}},{"$f":"INDEX(Tabela.abordagens[],SMALL(IF(Tabela.abordagens[Mês]=$L$2,ROW(Tabela.abordagens[Idade])-2),ROW(A57)),6)","v":{"$error":"#NUM!"}},{"$f":"INDEX(Tabela.abordagens[],SMALL(IF(Tabela.abordagens[Mês]=$L$2,ROW(Tabela.abordagens[Idade])-2),ROW(A57)),4)","v":{"$error":"#NUM!"}},{"$f":"INDEX(Tabela.abordagens[],SMALL(IF(Tabela.abordagens[Mês]=$L$2,ROW(Tabela.abordagens[Idade])-2),ROW(A57)),5)","v":{"$error":"#NUM!"}}]
[null,{"$f":"INDEX(Tabela.frequencia[],SMALL(IF(Tabela.frequencia[Mês]=$L$2,ROW(Tabela.frequencia[id])-1),ROW(A58)),1)","v":{"$error":"#NUM!"}},{"$f":"INDEX(Tabela.frequencia[],SMALL(IF(Tabela.frequencia[Mês]=$L$2,ROW(Tabela.frequencia[id])-1),ROW(A58)),4)","v":{"$error":"#NUM!"}},null,{"$f":"IFERROR(VLOOKUP(D105,Tabela.cadastro[[ID]:[Nome]],2,0),\"\")","v":""},{"$f":"IFERROR(VLOOKUP(D105,Tabela66[#All],2,0),\"\")","v":""},{"$f":"IFERROR(VLOOKUP(D105,Tabela.cadastro[[ID]:[CP ou M]],5,0),\"\")","v":""},{"$f":"IFERROR(VLOOKUP(D105,Cadastros!A:F,6,0),\"\")","v":""},{"$f":"IFERROR(VLOOKUP(D105,Cadastros!A:I,9,0),\"\")","v":""},{"$f":"IFERROR(VLOOKUP(D105,Cadastros!A:J,10,0),\"\")","v":""},{"$f":"IF(COUNTIF(Tabela66[id],D105)=0,\"\",COUNTIF(Tabela66[id],D105))","v":""},null,"",null,null,{"$f":"IFERROR(VLOOKUP(O105,Cadastros!A:B,2),\"\")","v":""},"",{"$f":"IFERROR(VLOOKUP(O105,Cadastros!A:E,5,0),\"\")","v":""},{"$f":"IFERROR(VLOOKUP(O105,Cadastros!A:F,6,0),\"\")","v":""},{"$f":"IFERROR(VLOOKUP(O105,Cadastros!A:I,9,0),\"\")","v":""},"","","",null,{"$f":"INDEX(Tabela.abordagens[],SMALL(IF(Tabela.abordagens[Mês]=$L$2,ROW(Tabela.abordagens[id])-2),ROW(A58)),1)","v":{"$error":"#NUM!"}},{"$f":"INDEX(Tabela.abordagens[],SMALL(IF(Tabela.abordagens[Mês]=$L$2,ROW(Tabela.abordagens[Idade])-2),ROW(A58)),6)","v":{"$error":"#NUM!"}},{"$f":"INDEX(Tabela.abordagens[],SMALL(IF(Tabela.abordagens[Mês]=$L$2,ROW(Tabela.abordagens[Idade])-2),ROW(A58)),4)","v":{"$error":"#NUM!"}},{"$f":"INDEX(Tabela.abordagens[],SMALL(IF(Tabela.abordagens[Mês]=$L$2,ROW(Tabela.abordagens[Idade])-2),ROW(A58)),5)","v":{"$error":"#NUM!"}}]
[null,{"$f":"INDEX(Tabela.frequencia[],SMALL(IF(Tabela.frequencia[Mês]=$L$2,ROW(Tabela.frequencia[id])-1),ROW(A59)),1)","v":{"$error":"#NUM!"}},{"$f":"INDEX(Tabela.frequencia[],SMALL(IF(Tabela.frequencia[Mês]=$L$2,ROW(Tabela.frequencia[id])-1),ROW(A59)),4)","v":{"$error":"#NUM!"}},null,{"$f":"IFERROR(VLOOKUP(D106,Tabela.cadastro[[ID]:[Nome]],2,0),\"\")","v":""},{"$f":"IFERROR(VLOOKUP(D106,Tabela66[#All],2,0),\"\")","v":""},{"$f":"IFERROR(VLOOKUP(D106,Tabela.cadastro[[ID]:[CP ou M]],5,0),\"\")","v":""},{"$f":"IFERROR(VLOOKUP(D106,Cadastros!A:F,6,0),\"\")","v":""},{"$f":"IFERROR(VLOOKUP(D106,Cadastros!A:I,9,0),\"\")","v":""},{"$f":"IFERROR(VLOOKUP(D106,Cadastros!A:J,10,0),\"\")","v":""},{"$f":"IF(COUNTIF(Tabela66[id],D106)=0,\"\",COUNTIF(Tabela66[id],D106))","v":""},null,{"$f":"IF(AND(K106:K937>=5,L106:L937=\"Não\"),\"*\",\"\")","v":""},null,null,{"$f":"IFERROR(VLOOKUP(O106,Cadastros!A:B,2),\"\")","v":""},"",{"$f":"IFERROR(VLOOKUP(O106,Cadastros!A:E,5,0),\"\")","v":""},{"$f":"IFERROR(VLOOKUP(O106,Cadastros!A:F,6,0),\"\")","v":""},{"$f":"IFERROR(VLOOKUP(O106,Cadastros!A:I,9,0),\"\")","v":""},"","","",null,{"$f":"INDEX(Tabela.abordagens[],SMALL(IF(Tabela.abordagens[Mês]=$L$2,ROW(Tabela.abordagens[id])-2),ROW(A59)),1)","v":{"$error":"#NUM!"}},{"$f":"INDEX(Tabela.abordagens[],SMALL(IF(Tabela.abordagens[Mês]=$L$2,ROW(Tabela.abordagens[Idade])-2),ROW(A59)),6)","v":{"$error":"#NUM!"}},{"$f":"INDEX(Tabela.abordagens[],SMALL(IF(Tabela.abordagens[Mês]=$L$2,ROW(Tabela.abordagens[Idade])-2),ROW(A59)),4)","v":{"$error":"#NUM!"}},{"$f":"INDEX(Tabela.abordagens[],SMALL(IF(Tabela.abordagens[Mês]=$L$2,ROW(Tabela.abordagens[Idade])-2),ROW(A59)),5)","v":{"$error":"#NUM!"}}]
[null,{"$f":"INDEX(Tabela.frequencia[],SMALL(IF(Tabela.frequencia[Mês]=$L$2,ROW(Tabela.frequencia[id])-1),ROW(A60)),1)","v":{"$error":"#NUM!"}},{"$f":"INDEX(Tabela.frequencia[],SMALL(IF(Tabela.frequencia[Mês]=$L$2,ROW(Tabela.frequencia[id])-1),ROW(A60)),4)","v":{"$error":"#NUM!"}},null,{"$f":"IFERROR(VLOOKUP(D107,Tabela.cadastro[[ID]:[Nome]],2,0),\"\")","v":""},{"$f":"IFERROR(VLOOKUP(D107,Tabela66[#All],2,0),\"\")","v":""},{"$f":"IFERROR(VLOOKUP(D107,Tabela.cadastro[[ID]:[CP ou M]],5,0),\"\")","v":""},{"$f":"IFERROR(VLOOKUP(D107,Cadastros!A:F,6,0),\"\")","v":""},{"$f":"IFERROR(VLOOKUP(D107,Cadastros!A:I,9,0),\"\")","v":""},{"$f":"IFERROR(VLOOKUP(D107,Cadastros!A:J,10,0),\"\")","v":""},{"$f":"IF(COUNTIF(Tabela66[id],D107)=0,\"\",COUNTIF(Tabela66[id],D107))","v":""},null,"",null,null,{"$f":"IFERROR(VLOOKUP(O107,Cadastros!A:B,2),\"\")","v":""},"",{"$f":"IFERROR(VLOOKUP(O107,Cadastros!A:E,5,0),\"\")","v":""},{"$f":"IFERROR(VLOOKUP(O107,Cadastros!A:F,6,0),\"\")","v":""},{"$f":"IFERROR(VLOOKUP(O107,Cadastros!A:I,9,0),\"\")","v":""},"","","",null,{"$f":"INDEX(Tabela.abordagens[],SMALL(IF(Tabela.abordagens[Mês]=$L$2,ROW(Tabela.abordagens[id])-2),ROW(A60)),1)","v":{"$error":"#NUM!"}},{"$f":"INDEX(Tabela.abordagens[],SMALL(IF(Tabela.abordagens[Mês]=$L$2,ROW(Tabela.abordagens[Idade])-2),ROW(A60)),6)","v":{"$error":"#NUM!"}},{"$f":"INDEX(Tabela.abordagens[],SMALL(IF(Tabela.abordagens[Mês]=$L$2,ROW(Tabela.abordagens[Idade])-2),ROW(A60)),4)","v":{"$error":"#NUM!"}},{"$f":"INDEX(Tabela.abordagens[],SMALL(IF(Tabela.abordagens[Mês]=$L$2,ROW(Tabela.abordagens[Idade])-2),ROW(A60)),5)","v":{"$error":"#NUM!"}}]
[null,{"$f":"INDEX(Tabela.frequencia[],SMALL(IF(Tabela.frequencia[Mês]=$L$2,ROW(Tabela.frequencia[id])-1),ROW(A61)),1)","v":{"$error":"#NUM!"}},{"$f":"INDEX(Tabela.frequencia[],SMALL(IF(Tabela.frequencia[Mês]=$L$2,ROW(Tabela.frequencia[id])-1),ROW(A61)),4)","v":{"$error":"#NUM!"}},null,{"$f":"IFERROR(VLOOKUP(D108,Tabela.cadastro[[ID]:[Nome]],2,0),\"\")","v":""},{"$f":"IFERROR(VLOOKUP(D108,Tabela66[#All],2,0),\"\")","v":""},{"$f":"IFERROR(VLOOKUP(D108,Tabela.cadastro[[ID]:[CP ou M]],5,0),\"\")","v":""},{"$f":"IFERROR(VLOOKUP(D108,Cadastros!A:F,6,0),\"\")","v":""},{"$f":"IFERROR(VLOOKUP(D108,Cadastros!A:I,9,0),\"\")","v":""},{"$f":"IFERROR(VLOOKUP(D108,Cadastros!A:J,10,0),\"\")","v":""},{"$f":"IF(COUNTIF(Tabela66[id],D108)=0,\"\",COUNTIF(Tabela66[id],D108))","v":""},null,"",null,null,{"$f":"IFERROR(VLOOKUP(O108,Cadastros!A:B,2),\"\")","v":""},"",{"$f":"IFERROR(VLOOKUP(O108,Cadastros!A:E,5,0),\"\")","v":""},{"$f":"IFERROR(VLOOKUP(O108,Cadastros!A:F,6,0),\"\")","v":""},{"$f":"IFERROR(VLOOKUP(O108,Cadastros!A:I,9,0),\"\")","v":""},"","","",null,{"$f":"INDEX(Tabela.abordagens[],SMALL(IF(Tabela.abordagens[Mês]=$L$2,ROW(Tabela.abordagens[id])-2),ROW(A61)),1)","v":{"$error":"#NUM!"}},{"$f":"INDEX(Tabela.abordagens[],SMALL(IF(Tabela.abordagens[Mês]=$L$2,ROW(Tabela.abordagens[Idade])-2),ROW(A61)),6)","v":{"$error":"#NUM!"}},{"$f":"INDEX(Tabela.abordagens[],SMALL(IF(Tabela.abordagens[Mês]=$L$2,ROW(Tabela.abordagens[Idade])-2),ROW(A61)),4)","v":{"$error":"#NUM!"}},{"$f":"INDEX(Tabela.abordagens[],SMALL(IF(Tabela.abordagens[Mês]=$L$2,ROW(Tabela.abordagens[Idade])-2),ROW(A61)),5)","v":{"$error":"#NUM!"}}]
[null,{"$f":"INDEX(Tabela.frequencia[],SMALL(IF(Tabela.frequencia[Mês]=$L$2,ROW(Tabela.frequencia[id])-1),ROW(A62)),1)","v":{"$error":"#NUM!"}},{"$f":"INDEX(Tabela.frequencia[],SMALL(IF(Tabela.frequencia[Mês]=$L$2,ROW(Tabela.frequencia[id])-1),ROW(A62)),4)","v":{"$error":"#NUM!"}},null,{"$f":"IFERROR(VLOOKUP(D109,Tabela.cadastro[[ID]:[Nome]],2,0),\"\")","v":""},{"$f":"IFERROR(VLOOKUP(D109,Tabela66[#All],2,0),\"\")","v":""},{"$f":"IFERROR(VLOOKUP(D109,Tabela.cadastro[[ID]:[CP ou M]],5,0),\"\")","v":""},{"$f":"IFERROR(VLOOKUP(D109,Cadastros!A:F,6,0),\"\")","v":""},{"$f":"IFERROR(VLOOKUP(D109,Cadastros!A:I,9,0),\"\")","v":""},{"$f":"IFERROR(VLOOKUP(D109,Cadastros!A:J,10,0),\"\")","v":""},{"$f":"IF(COUNTIF(Tabela66[id],D109)=0,\"\",COUNTIF(Tabela66[id],D109))","v":""},null,"",null,null,{"$f":"IFERROR(VLOOKUP(O109,Cadastros!A:B,2),\"\")","v":""},"",{"$f":"IFERROR(VLOOKUP(O109,Cadastros!A:E,5,0),\"\")","v":""},{"$f":"IFERROR(VLOOKUP(O109,Cadastros!A:F,6,0),\"\")","v":""},{"$f":"IFERROR(VLOOKUP(O109,Cadastros!A:I,9,0),\"\")","v":""},"","","",null,{"$f":"INDEX(Tabela.abordagens[],SMALL(IF(Tabela.abordagens[Mês]=$L$2,ROW(Tabela.abordagens[id])-2),ROW(A62)),1)","v":{"$error":"#NUM!"}},{"$f":"INDEX(Tabela.abordagens[],SMALL(IF(Tabela.abordagens[Mês]=$L$2,ROW(Tabela.abordagens[Idade])-2),ROW(A62)),6)","v":{"$error":"#NUM!"}},{"$f":"INDEX(Tabela.abordagens[],SMALL(IF(Tabela.abordagens[Mês]=$L$2,ROW(Tabela.abordagens[Idade])-2),ROW(A62)),4)","v":{"$error":"#NUM!"}},{"$f":"INDEX(Tabela.abordagens[],SMALL(IF(Tabela.abordagens[Mês]=$L$2,ROW(Tabela.abordagens[Idade])-2),ROW(A62)),5)","v":{"$error":"#NUM!"}}]
[null,{"$f":"INDEX(Tabela.frequencia[],SMALL(IF(Tabela.frequencia[Mês]=$L$2,ROW(Tabela.frequencia[id])-1),ROW(A63)),1)","v":{"$error":"#NUM!"}},{"$f":"INDEX(Tabela.frequencia[],SMALL(IF(Tabela.frequencia[Mês]=$L$2,ROW(Tabela.frequencia[id])-1),ROW(A63)),4)","v":{"$error":"#NUM!"}},null,{"$f":"IFERROR(VLOOKUP(D110,Tabela.cadastro[[ID]:[Nome]],2,0),\"\")","v":""},{"$f":"IFERROR(VLOOKUP(D110,Tabela66[#All],2,0),\"\")","v":""},{"$f":"IFERROR(VLOOKUP(D110,Tabela.cadastro[[ID]:[CP ou M]],5,0),\"\")","v":""},{"$f":"IFERROR(VLOOKUP(D110,Cadastros!A:F,6,0),\"\")","v":""},{"$f":"IFERROR(VLOOKUP(D110,Cadastros!A:I,9,0),\"\")","v":""},{"$f":"IFERROR(VLOOKUP(D110,Cadastros!A:J,10,0),\"\")","v":""},{"$f":"IF(COUNTIF(Tabela66[id],D110)=0,\"\",COUNTIF(Tabela66[id],D110))","v":""},null,"",null,null,{"$f":"IFERROR(VLOOKUP(O110,Cadastros!A:B,2),\"\")","v":""},"",{"$f":"IFERROR(VLOOKUP(O110,Cadastros!A:E,5,0),\"\")","v":""},{"$f":"IFERROR(VLOOKUP(O110,Cadastros!A:F,6,0),\"\")","v":""},{"$f":"IFERROR(VLOOKUP(O110,Cadastros!A:I,9,0),\"\")","v":""},"","","",null,{"$f":"INDEX(Tabela.abordagens[],SMALL(IF(Tabela.abordagens[Mês]=$L$2,ROW(Tabela.abordagens[id])-2),ROW(A63)),1)","v":{"$error":"#NUM!"}},{"$f":"INDEX(Tabela.abordagens[],SMALL(IF(Tabela.abordagens[Mês]=$L$2,ROW(Tabela.abordagens[Idade])-2),ROW(A63)),6)","v":{"$error":"#NUM!"}},{"$f":"INDEX(Tabela.abordagens[],SMALL(IF(Tabela.abordagens[Mês]=$L$2,ROW(Tabela.abordagens[Idade])-2),ROW(A63)),4)","v":{"$error":"#NUM!"}},{"$f":"INDEX(Tabela.abordagens[],SMALL(IF(Tabela.abordagens[Mês]=$L$2,ROW(Tabela.abordagens[Idade])-2),ROW(A63)),5)","v":{"$error":"#NUM!"}}]
[null,{"$f":"INDEX(Tabela.frequencia[],SMALL(IF(Tabela.frequencia[Mês]=$L$2,ROW(Tabela.frequencia[id])-1),ROW(A64)),1)","v":{"$error":"#NUM!"}},{"$f":"INDEX(Tabela.frequencia[],SMALL(IF(Tabela.frequencia[Mês]=$L$2,ROW(Tabela.frequencia[id])-1),ROW(A64)),4)","v":{"$error":"#NUM!"}},null,{"$f":"IFERROR(VLOOKUP(D111,Tabela.cadastro[[ID]:[Nome]],2,0),\"\")","v":""},{"$f":"IFERROR(VLOOKUP(D111,Tabela66[#All],2,0),\"\")","v":""},{"$f":"IFERROR(VLOOKUP(D111,Tabela.cadastro[[ID]:[CP ou M]],5,0),\"\")","v":""},{"$f":"IFERROR(VLOOKUP(D111,Cadastros!A:F,6,0),\"\")","v":""},{"$f":"IFERROR(VLOOKUP(D111,Cadastros!A:I,9,0),\"\")","v":""},{"$f":"IFERROR(VLOOKUP(D111,Cadastros!A:J,10,0),\"\")","v":""},{"$f":"IF(COUNTIF(Tabela66[id],D111)=0,\"\",COUNTIF(Tabela66[id],D111))","v":""},null,"",null,null,{"$f":"IFERROR(VLOOKUP(O111,Cadastros!A:B,2),\"\")","v":""},"",{"$f":"IFERROR(VLOOKUP(O111,Cadastros!A:E,5,0),\"\")","v":""},{"$f":"IFERROR(VLOOKUP(O111,Cadastros!A:F,6,0),\"\")","v":""},{"$f":"IFERROR(VLOOKUP(O111,Cadastros!A:I,9,0),\"\")","v":""},"","","",null,{"$f":"INDEX(Tabela.abordagens[],SMALL(IF(Tabela.abordagens[Mês]=$L$2,ROW(Tabela.abordagens[id])-2),ROW(A64)),1)","v":{"$error":"#NUM!"}},{"$f":"INDEX(Tabela.abordagens[],SMALL(IF(Tabela.abordagens[Mês]=$L$2,ROW(Tabela.abordagens[Idade])-2),ROW(A64)),6)","v":{"$error":"#NUM!"}},{"$f":"INDEX(Tabela.abordagens[],SMALL(IF(Tabela.abordagens[Mês]=$L$2,ROW(Tabela.abordagens[Idade])-2),ROW(A64)),4)","v":{"$error":"#NUM!"}},{"$f":"INDEX(Tabela.abordagens[],SMALL(IF(Tabela.abordagens[Mês]=$L$2,ROW(Tabela.abordagens[Idade])-2),ROW(A64)),5)","v":{"$error":"#NUM!"}}]
[null,{"$f":"INDEX(Tabela.frequencia[],SMALL(IF(Tabela.frequencia[Mês]=$L$2,ROW(Tabela.frequencia[id])-1),ROW(A65)),1)","v":{"$error":"#NUM!"}},{"$f":"INDEX(Tabela.frequencia[],SMALL(IF(Tabela.frequencia[Mês]=$L$2,ROW(Tabela.frequencia[id])-1),ROW(A65)),4)","v":{"$error":"#NUM!"}},null,{"$f":"IFERROR(VLOOKUP(D112,Tabela.cadastro[[ID]:[Nome]],2,0),\"\")","v":""},{"$f":"IFERROR(VLOOKUP(D112,Tabela66[#All],2,0),\"\")","v":""},{"$f":"IFERROR(VLOOKUP(D112,Tabela.cadastro[[ID]:[CP ou M]],5,0),\"\")","v":""},{"$f":"IFERROR(VLOOKUP(D112,Cadastros!A:F,6,0),\"\")","v":""},{"$f":"IFERROR(VLOOKUP(D112,Cadastros!A:I,9,0),\"\")","v":""},{"$f":"IFERROR(VLOOKUP(D112,Cadastros!A:J,10,0),\"\")","v":""},{"$f":"IF(COUNTIF(Tabela66[id],D112)=0,\"\",COUNTIF(Tabela66[id],D112))","v":""},null,"",null,null,{"$f":"IFERROR(VLOOKUP(O112,Cadastros!A:B,2),\"\")","v":""},"",{"$f":"IFERROR(VLOOKUP(O112,Cadastros!A:E,5,0),\"\")","v":""},{"$f":"IFERROR(VLOOKUP(O112,Cadastros!A:F,6,0),\"\")","v":""},{"$f":"IFERROR(VLOOKUP(O112,Cadastros!A:I,9,0),\"\")","v":""},"","","",null,{"$f":"INDEX(Tabela.abordagens[],SMALL(IF(Tabela.abordagens[Mês]=$L$2,ROW(Tabela.abordagens[id])-2),ROW(A65)),1)","v":{"$error":"#NUM!"}},{"$f":"INDEX(Tabela.abordagens[],SMALL(IF(Tabela.abordagens[Mês]=$L$2,ROW(Tabela.abordagens[Idade])-2),ROW(A65)),6)","v":{"$error":"#NUM!"}},{"$f":"INDEX(Tabela.abordagens[],SMALL(IF(Tabela.abordagens[Mês]=$L$2,ROW(Tabela.abordagens[Idade])-2),ROW(A65)),4)","v":{"$error":"#NUM!"}},{"$f":"INDEX(Tabela.abordagens[],SMALL(IF(Tabela.abordagens[Mês]=$L$2,ROW(Tabela.abordagens[Idade])-2),ROW(A65)),5)","v":{"$error":"#NUM!"}}]
[null,{"$f":"INDEX(Tabela.frequencia[],SMALL(IF(Tabela.frequencia[Mês]=$L$2,ROW(Tabela.frequencia[id])-1),ROW(A66)),1)","v":{"$error":"#NUM!"}},{"$f":"INDEX(Tabela.frequencia[],SMALL(IF(Tabela.frequencia[Mês]=$L$2,ROW(Tabela.frequencia[id])-1),ROW(A66)),4)","v":{"$error":"#NUM!"}},null,{"$f":"IFERROR(VLOOKUP(D113,Tabela.cadastro[[ID]:[Nome]],2,0),\"\")","v":""},{"$f":"IFERROR(VLOOKUP(D113,Tabela66[#All],2,0),\"\")","v":""},{"$f":"IFERROR(VLOOKUP(D113,Tabela.cadastro[[ID]:[CP ou M]],5,0),\"\")","v":""},{"$f":"IFERROR(VLOOKUP(D113,Cadastros!A:F,6,0),\"\")","v":""},{"$f":"IFERROR(VLOOKUP(D113,Cadastros!A:I,9,0),\"\")","v":""},{"$f":"IFERROR(VLOOKUP(D113,Cadastros!A:J,10,0),\"\")","v":""},{"$f":"IF(COUNTIF(Tabela66[id],D113)=0,\"\",COUNTIF(Tabela66[id],D113))","v":""},null,"",null,null,{"$f":"IFERROR(VLOOKUP(O113,Cadastros!A:B,2),\"\")","v":""},"",{"$f":"IFERROR(VLOOKUP(O113,Cadastros!A:E,5,0),\"\")","v":""},{"$f":"IFERROR(VLOOKUP(O113,Cadastros!A:F,6,0),\"\")","v":""},{"$f":"IFERROR(VLOOKUP(O113,Cadastros!A:I,9,0),\"\")","v":""},"","","",null,{"$f":"INDEX(Tabela.abordagens[],SMALL(IF(Tabela.abordagens[Mês]=$L$2,ROW(Tabela.abordagens[id])-2),ROW(A66)),1)","v":{"$error":"#NUM!"}},{"$f":"INDEX(Tabela.abordagens[],SMALL(IF(Tabela.abordagens[Mês]=$L$2,ROW(Tabela.abordagens[Idade])-2),ROW(A66)),6)","v":{"$error":"#NUM!"}},{"$f":"INDEX(Tabela.abordagens[],SMALL(IF(Tabela.abordagens[Mês]=$L$2,ROW(Tabela.abordagens[Idade])-2),ROW(A66)),4)","v":{"$error":"#NUM!"}},{"$f":"INDEX(Tabela.abordagens[],SMALL(IF(Tabela.abordagens[Mês]=$L$2,ROW(Tabela.abordagens[Idade])-2),ROW(A66)),5)","v":{"$error":"#NUM!"}}]
[null,{"$f":"INDEX(Tabela.frequencia[],SMALL(IF(Tabela.frequencia[Mês]=$L$2,ROW(Tabela.frequencia[id])-1),ROW(A67)),1)","v":{"$error":"#NUM!"}},{"$f":"INDEX(Tabela.frequencia[],SMALL(IF(Tabela.frequencia[Mês]=$L$2,ROW(Tabela.frequencia[id])-1),ROW(A67)),4)","v":{"$error":"#NUM!"}},null,{"$f":"IFERROR(VLOOKUP(D114,Tabela.cadastro[[ID]:[Nome]],2,0),\"\")","v":""},{"$f":"IFERROR(VLOOKUP(D114,Tabela66[#All],2,0),\"\")","v":""},{"$f":"IFERROR(VLOOKUP(D114,Tabela.cadastro[[ID]:[CP ou M]],5,0),\"\")","v":""},{"$f":"IFERROR(VLOOKUP(D114,Cadastros!A:F,6,0),\"\")","v":""},{"$f":"IFERROR(VLOOKUP(D114,Cadastros!A:I,9,0),\"\")","v":""},{"$f":"IFERROR(VLOOKUP(D114,Cadastros!A:J,10,0),\"\")","v":""},{"$f":"IF(COUNTIF(Tabela66[id],D114)=0,\"\",COUNTIF(Tabela66[id],D114))","v":""},null,"",null,null,{"$f":"IFERROR(VLOOKUP(O114,Cadastros!A:B,2),\"\")","v":""},"",{"$f":"IFERROR(VLOOKUP(O114,Cadastros!A:E,5,0),\"\")","v":""},{"$f":"IFERROR(VLOOKUP(O114,Cadastros!A:F,6,0),\"\")","v":""},{"$f":"IFERROR(VLOOKUP(O114,Cadastros!A:I,9,0),\"\")","v":""},"","","",null,{"$f":"INDEX(Tabela.abordagens[],SMALL(IF(Tabela.abordagens[Mês]=$L$2,ROW(Tabela.abordagens[id])-2),ROW(A67)),1)","v":{"$error":"#NUM!"}},{"$f":"INDEX(Tabela.abordagens[],SMALL(IF(Tabela.abordagens[Mês]=$L$2,ROW(Tabela.abordagens[Idade])-2),ROW(A67)),6)","v":{"$error":"#NUM!"}},{"$f":"INDEX(Tabela.abordagens[],SMALL(IF(Tabela.abordagens[Mês]=$L$2,ROW(Tabela.abordagens[Idade])-2),ROW(A67)),4)","v":{"$error":"#NUM!"}},{"$f":"INDEX(Tabela.abordagens[],SMALL(IF(Tabela.abordagens[Mês]=$L$2,ROW(Tabela.abordagens[Idade])-2),ROW(A67)),5)","v":{"$error":"#NUM!"}}]
[null,{"$f":"INDEX(Tabela.frequencia[],SMALL(IF(Tabela.frequencia[Mês]=$L$2,ROW(Tabela.frequencia[id])-1),ROW(A68)),1)","v":{"$error":"#NUM!"}},{"$f":"INDEX(Tabela.frequencia[],SMALL(IF(Tabela.frequencia[Mês]=$L$2,ROW(Tabela.frequencia[id])-1),ROW(A68)),4)","v":{"$error":"#NUM!"}},null,{"$f":"IFERROR(VLOOKUP(D115,Tabela.cadastro[[ID]:[Nome]],2,0),\"\")","v":""},{"$f":"IFERROR(VLOOKUP(D115,Tabela66[#All],2,0),\"\")","v":""},{"$f":"IFERROR(VLOOKUP(D115,Tabela.cadastro[[ID]:[CP ou M]],5,0),\"\")","v":""},{"$f":"IFERROR(VLOOKUP(D115,Cadastros!A:F,6,0),\"\")","v":""},{"$f":"IFERROR(VLOOKUP(D115,Cadastros!A:I,9,0),\"\")","v":""},{"$f":"IFERROR(VLOOKUP(D115,Cadastros!A:J,10,0),\"\")","v":""},{"$f":"IF(COUNTIF(Tabela66[id],D115)=0,\"\",COUNTIF(Tabela66[id],D115))","v":""},null,"",null,null,{"$f":"IFERROR(VLOOKUP(O115,Cadastros!A:B,2),\"\")","v":""},"",{"$f":"IFERROR(VLOOKUP(O115,Cadastros!A:E,5,0),\"\")","v":""},{"$f":"IFERROR(VLOOKUP(O115,Cadastros!A:F,6,0),\"\")","v":""},{"$f":"IFERROR(VLOOKUP(O115,Cadastros!A:I,9,0),\"\")","v":""},"","","",null,{"$f":"INDEX(Tabela.abordagens[],SMALL(IF(Tabela.abordagens[Mês]=$L$2,ROW(Tabela.abordagens[id])-2),ROW(A68)),1)","v":{"$error":"#NUM!"}},{"$f":"INDEX(Tabela.abordagens[],SMALL(IF(Tabela.abordagens[Mês]=$L$2,ROW(Tabela.abordagens[Idade])-2),ROW(A68)),6)","v":{"$error":"#NUM!"}},{"$f":"INDEX(Tabela.abordagens[],SMALL(IF(Tabela.abordagens[Mês]=$L$2,ROW(Tabela.abordagens[Idade])-2),ROW(A68)),4)","v":{"$error":"#NUM!"}},{"$f":"INDEX(Tabela.abordagens[],SMALL(IF(Tabela.abordagens[Mês]=$L$2,ROW(Tabela.abordagens[Idade])-2),ROW(A68)),5)","v":{"$error":"#NUM!"}}]
[null,{"$f":"INDEX(Tabela.frequencia[],SMALL(IF(Tabela.frequencia[Mês]=$L$2,ROW(Tabela.frequencia[id])-1),ROW(A69)),1)","v":{"$error":"#NUM!"}},{"$f":"INDEX(Tabela.frequencia[],SMALL(IF(Tabela.frequencia[Mês]=$L$2,ROW(Tabela.frequencia[id])-1),ROW(A69)),4)","v":{"$error":"#NUM!"}},null,{"$f":"IFERROR(VLOOKUP(D116,Tabela.cadastro[[ID]:[Nome]],2,0),\"\")","v":""},{"$f":"IFERROR(VLOOKUP(D116,Tabela66[#All],2,0),\"\")","v":""},{"$f":"IFERROR(VLOOKUP(D116,Tabela.cadastro[[ID]:[CP ou M]],5,0),\"\")","v":""},{"$f":"IFERROR(VLOOKUP(D116,Cadastros!A:F,6,0),\"\")","v":""},{"$f":"IFERROR(VLOOKUP(D116,Cadastros!A:I,9,0),\"\")","v":""},{"$f":"IFERROR(VLOOKUP(D116,Cadastros!A:J,10,0),\"\")","v":""},{"$f":"IF(COUNTIF(Tabela66[id],D116)=0,\"\",COUNTIF(Tabela66[id],D116))","v":""},null,"",null,null,{"$f":"IFERROR(VLOOKUP(O116,Cadastros!A:B,2),\"\")","v":""},"",{"$f":"IFERROR(VLOOKUP(O116,Cadastros!A:E,5,0),\"\")","v":""},{"$f":"IFERROR(VLOOKUP(O116,Cadastros!A:F,6,0),\"\")","v":""},{"$f":"IFERROR(VLOOKUP(O116,Cadastros!A:I,9,0),\"\")","v":""},"","","",null,{"$f":"INDEX(Tabela.abordagens[],SMALL(IF(Tabela.abordagens[Mês]=$L$2,ROW(Tabela.abordagens[id])-2),ROW(A69)),1)","v":{"$error":"#NUM!"}},{"$f":"INDEX(Tabela.abordagens[],SMALL(IF(Tabela.abordagens[Mês]=$L$2,ROW(Tabela.abordagens[Idade])-2),ROW(A69)),6)","v":{"$error":"#NUM!"}},{"$f":"INDEX(Tabela.abordagens[],SMALL(IF(Tabela.abordagens[Mês]=$L$2,ROW(Tabela.abordagens[Idade])-2),ROW(A69)),4)","v":{"$error":"#NUM!"}},{"$f":"INDEX(Tabela.abordagens[],SMALL(IF(Tabela.abordagens[Mês]=$L$2,ROW(Tabela.abordagens[Idade])-2),ROW(A69)),5)","v":{"$error":"#NUM!"}}]
[null,{"$f":"INDEX(Tabela.frequencia[],SMALL(IF(Tabela.frequencia[Mês]=$L$2,ROW(Tabela.frequencia[id])-1),ROW(A70)),1)","v":{"$error":"#NUM!"}},{"$f":"INDEX(Tabela.frequencia[],SMALL(IF(Tabela.frequencia[Mês]=$L$2,ROW(Tabela.frequencia[id])-1),ROW(A70)),4)","v":{"$error":"#NUM!"}},null,{"$f":"IFERROR(VLOOKUP(D117,Tabela.cadastro[[ID]:[Nome]],2,0),\"\")","v":""},{"$f":"IFERROR(VLOOKUP(D117,Tabela66[#All],2,0),\"\")","v":""},{"$f":"IFERROR(VLOOKUP(D117,Tabela.cadastro[[ID]:[CP ou M]],5,0),\"\")","v":""},{"$f":"IFERROR(VLOOKUP(D117,Cadastros!A:F,6,0),\"\")","v":""},{"$f":"IFERROR(VLOOKUP(D117,Cadastros!A:I,9,0),\"\")","v":""},{"$f":"IFERROR(VLOOKUP(D117,Cadastros!A:J,10,0),\"\")","v":""},{"$f":"IF(COUNTIF(Tabela66[id],D117)=0,\"\",COUNTIF(Tabela66[id],D117))","v":""},null,"",null,null,{"$f":"IFERROR(VLOOKUP(O117,Cadastros!A:B,2),\"\")","v":""},"",{"$f":"IFERROR(VLOOKUP(O117,Cadastros!A:E,5,0),\"\")","v":""},{"$f":"IFERROR(VLOOKUP(O117,Cadastros!A:F,6,0),\"\")","v":""},{"$f":"IFERROR(VLOOKUP(O117,Cadastros!A:I,9,0),\"\")","v":""},"","","",null,{"$f":"INDEX(Tabela.abordagens[],SMALL(IF(Tabela.abordagens[Mês]=$L$2,ROW(Tabela.abordagens[id])-2),ROW(A70)),1)","v":{"$error":"#NUM!"}},{"$f":"INDEX(Tabela.abordagens[],SMALL(IF(Tabela.abordagens[Mês]=$L$2,ROW(Tabela.abordagens[Idade])-2),ROW(A70)),6)","v":{"$error":"#NUM!"}},{"$f":"INDEX(Tabela.abordagens[],SMALL(IF(Tabela.abordagens[Mês]=$L$2,ROW(Tabela.abordagens[Idade])-2),ROW(A70)),4)","v":{"$error":"#NUM!"}},{"$f":"INDEX(Tabela.abordagens[],SMALL(IF(Tabela.abordagens[Mês]=$L$2,ROW(Tabela.abordagens[Idade])-2),ROW(A70)),5)","v":{"$error":"#NUM!"}}]
[null,{"$f":"INDEX(Tabela.frequencia[],SMALL(IF(Tabela.frequencia[Mês]=$L$2,ROW(Tabela.frequencia[id])-1),ROW(A71)),1)","v":{"$error":"#NUM!"}},{"$f":"INDEX(Tabela.frequencia[],SMALL(IF(Tabela.frequencia[Mês]=$L$2,ROW(Tabela.frequencia[id])-1),ROW(A71)),4)","v":{"$error":"#NUM!"}},null,{"$f":"IFERROR(VLOOKUP(D118,Tabela.cadastro[[ID]:[Nome]],2,0),\"\")","v":""},{"$f":"IFERROR(VLOOKUP(D118,Tabela66[#All],2,0),\"\")","v":""},{"$f":"IFERROR(VLOOKUP(D118,Tabela.cadastro[[ID]:[CP ou M]],5,0),\"\")","v":""},{"$f":"IFERROR(VLOOKUP(D118,Cadastros!A:F,6,0),\"\")","v":""},{"$f":"IFERROR(VLOOKUP(D118,Cadastros!A:I,9,0),\"\")","v":""},{"$f":"IFERROR(VLOOKUP(D118,Cadastros!A:J,10,0),\"\")","v":""},{"$f":"IF(COUNTIF(Tabela66[id],D118)=0,\"\",COUNTIF(Tabela66[id],D118))","v":""},null,"",null,null,{"$f":"IFERROR(VLOOKUP(O118,Cadastros!A:B,2),\"\")","v":""},"",{"$f":"IFERROR(VLOOKUP(O118,Cadastros!A:E,5,0),\"\")","v":""},{"$f":"IFERROR(VLOOKUP(O118,Cadastros!A:F,6,0),\"\")","v":""},{"$f":"IFERROR(VLOOKUP(O118,Cadastros!A:I,9,0),\"\")","v":""},"","","",null,{"$f":"INDEX(Tabela.abordagens[],SMALL(IF(Tabela.abordagens[Mês]=$L$2,ROW(Tabela.abordagens[id])-2),ROW(A71)),1)","v":{"$error":"#NUM!"}},{"$f":"INDEX(Tabela.abordagens[],SMALL(IF(Tabela.abordagens[Mês]=$L$2,ROW(Tabela.abordagens[Idade])-2),ROW(A71)),6)","v":{"$error":"#NUM!"}},{"$f":"INDEX(Tabela.abordagens[],SMALL(IF(Tabela.abordagens[Mês]=$L$2,ROW(Tabela.abordagens[Idade])-2),ROW(A71)),4)","v":{"$error":"#NUM!"}},{"$f":"INDEX(Tabela.abordagens[],SMALL(IF(Tabela.abordagens[Mês]=$L$2,ROW(Tabela.abordagens[Idade])-2),ROW(A71)),5)","v":{"$error":"#NUM!"}}]
[null,{"$f":"INDEX(Tabela.frequencia[],SMALL(IF(Tabela.frequencia[Mês]=$L$2,ROW(Tabela.frequencia[id])-1),ROW(A72)),1)","v":{"$error":"#NUM!"}},{"$f":"INDEX(Tabela.frequencia[],SMALL(IF(Tabela.frequencia[Mês]=$L$2,ROW(Tabela.frequencia[id])-1),ROW(A72)),4)","v":{"$error":"#NUM!"}},null,{"$f":"IFERROR(VLOOKUP(D119,Tabela.cadastro[[ID]:[Nome]],2,0),\"\")","v":""},{"$f":"IFERROR(VLOOKUP(D119,Tabela66[#All],2,0),\"\")","v":""},{"$f":"IFERROR(VLOOKUP(D119,Tabela.cadastro[[ID]:[CP ou M]],5,0),\"\")","v":""},{"$f":"IFERROR(VLOOKUP(D119,Cadastros!A:F,6,0),\"\")","v":""},{"$f":"IFERROR(VLOOKUP(D119,Cadastros!A:I,9,0),\"\")","v":""},{"$f":"IFERROR(VLOOKUP(D119,Cadastros!A:J,10,0),\"\")","v":""},{"$f":"IF(COUNTIF(Tabela66[id],D119)=0,\"\",COUNTIF(Tabela66[id],D119))","v":""},null,"",null,null,{"$f":"IFERROR(VLOOKUP(O119,Cadastros!A:B,2),\"\")","v":""},"",{"$f":"IFERROR(VLOOKUP(O119,Cadastros!A:E,5,0),\"\")","v":""},{"$f":"IFERROR(VLOOKUP(O119,Cadastros!A:F,6,0),\"\")","v":""},{"$f":"IFERROR(VLOOKUP(O119,Cadastros!A:I,9,0),\"\")","v":""},"","","",null,{"$f":"INDEX(Tabela.abordagens[],SMALL(IF(Tabela.abordagens[Mês]=$L$2,ROW(Tabela.abordagens[id])-2),ROW(A72)),1)","v":{"$error":"#NUM!"}},{"$f":"INDEX(Tabela.abordagens[],SMALL(IF(Tabela.abordagens[Mês]=$L$2,ROW(Tabela.abordagens[Idade])-2),ROW(A72)),6)","v":{"$error":"#NUM!"}},{"$f":"INDEX(Tabela.abordagens[],SMALL(IF(Tabela.abordagens[Mês]=$L$2,ROW(Tabela.abordagens[Idade])-2),ROW(A72)),4)","v":{"$error":"#NUM!"}},{"$f":"INDEX(Tabela.abordagens[],SMALL(IF(Tabela.abordagens[Mês]=$L$2,ROW(Tabela.abordagens[Idade])-2),ROW(A72)),5)","v":{"$error":"#NUM!"}}]
[null,{"$f":"INDEX(Tabela.frequencia[],SMALL(IF(Tabela.frequencia[Mês]=$L$2,ROW(Tabela.frequencia[id])-1),ROW(A73)),1)","v":{"$error":"#NUM!"}},{"$f":"INDEX(Tabela.frequencia[],SMALL(IF(Tabela.frequencia[Mês]=$L$2,ROW(Tabela.frequencia[id])-1),ROW(A73)),4)","v":{"$error":"#NUM!"}},null,{"$f":"IFERROR(VLOOKUP(D120,Tabela.cadastro[[ID]:[Nome]],2,0),\"\")","v":""},{"$f":"IFERROR(VLOOKUP(D120,Tabela66[#All],2,0),\"\")","v":""},{"$f":"IFERROR(VLOOKUP(D120,Tabela.cadastro[[ID]:[CP ou M]],5,0),\"\")","v":""},{"$f":"IFERROR(VLOOKUP(D120,Cadastros!A:F,6,0),\"\")","v":""},{"$f":"IFERROR(VLOOKUP(D120,Cadastros!A:I,9,0),\"\")","v":""},{"$f":"IFERROR(VLOOKUP(D120,Cadastros!A:J,10,0),\"\")","v":""},{"$f":"IF(COUNTIF(Tabela66[id],D120)=0,\"\",COUNTIF(Tabela66[id],D120))","v":""},null,"",null,null,{"$f":"IFERROR(VLOOKUP(O120,Cadastros!A:B,2),\"\")","v":""},"",{"$f":"IFERROR(VLOOKUP(O120,Cadastros!A:E,5,0),\"\")","v":""},{"$f":"IFERROR(VLOOKUP(O120,Cadastros!A:F,6,0),\"\")","v":""},{"$f":"IFERROR(VLOOKUP(O120,Cadastros!A:I,9,0),\"\")","v":""},"","","",null,{"$f":"INDEX(Tabela.abordagens[],SMALL(IF(Tabela.abordagens[Mês]=$L$2,ROW(Tabela.abordagens[id])-2),ROW(A73)),1)","v":{"$error":"#NUM!"}},{"$f":"INDEX(Tabela.abordagens[],SMALL(IF(Tabela.abordagens[Mês]=$L$2,ROW(Tabela.abordagens[Idade])-2),ROW(A73)),6)","v":{"$error":"#NUM!"}},{"$f":"INDEX(Tabela.abordagens[],SMALL(IF(Tabela.abordagens[Mês]=$L$2,ROW(Tabela.abordagens[Idade])-2),ROW(A73)),4)","v":{"$error":"#NUM!"}},{"$f":"INDEX(Tabela.abordagens[],SMALL(IF(Tabela.abordagens[Mês]=$L$2,ROW(Tabela.abordagens[Idade])-2),ROW(A73)),5)","v":{"$error":"#NUM!"}}]
[null,{"$f":"INDEX(Tabela.frequencia[],SMALL(IF(Tabela.frequencia[Mês]=$L$2,ROW(Tabela.frequencia[id])-1),ROW(A74)),1)","v":{"$error":"#NUM!"}},{"$f":"INDEX(Tabela.frequencia[],SMALL(IF(Tabela.frequencia[Mês]=$L$2,ROW(Tabela.frequencia[id])-1),ROW(A74)),4)","v":{"$error":"#NUM!"}},null,{"$f":"IFERROR(VLOOKUP(D121,Tabela.cadastro[[ID]:[Nome]],2,0),\"\")","v":""},{"$f":"IFERROR(VLOOKUP(D121,Tabela66[#All],2,0),\"\")","v":""},{"$f":"IFERROR(VLOOKUP(D121,Tabela.cadastro[[ID]:[CP ou M]],5,0),\"\")","v":""},{"$f":"IFERROR(VLOOKUP(D121,Cadastros!A:F,6,0),\"\")","v":""},{"$f":"IFERROR(VLOOKUP(D121,Cadastros!A:I,9,0),\"\")","v":""},{"$f":"IFERROR(VLOOKUP(D121,Cadastros!A:J,10,0),\"\")","v":""},{"$f":"IF(COUNTIF(Tabela66[id],D121)=0,\"\",COUNTIF(Tabela66[id],D121))","v":""},null,"",null,null,{"$f":"IFERROR(VLOOKUP(O121,Cadastros!A:B,2),\"\")","v":""},"",{"$f":"IFERROR(VLOOKUP(O121,Cadastros!A:E,5,0),\"\")","v":""},{"$f":"IFERROR(VLOOKUP(O121,Cadastros!A:F,6,0),\"\")","v":""},{"$f":"IFERROR(VLOOKUP(O121,Cadastros!A:I,9,0),\"\")","v":""},"","","",null,{"$f":"INDEX(Tabela.abordagens[],SMALL(IF(Tabela.abordagens[Mês]=$L$2,ROW(Tabela.abordagens[id])-2),ROW(A74)),1)","v":{"$error":"#NUM!"}},{"$f":"INDEX(Tabela.abordagens[],SMALL(IF(Tabela.abordagens[Mês]=$L$2,ROW(Tabela.abordagens[Idade])-2),ROW(A74)),6)","v":{"$error":"#NUM!"}},{"$f":"INDEX(Tabela.abordagens[],SMALL(IF(Tabela.abordagens[Mês]=$L$2,ROW(Tabela.abordagens[Idade])-2),ROW(A74)),4)","v":{"$error":"#NUM!"}},{"$f":"INDEX(Tabela.abordagens[],SMALL(IF(Tabela.abordagens[Mês]=$L$2,ROW(Tabela.abordagens[Idade])-2),ROW(A74)),5)","v":{"$error":"#NUM!"}}]
[null,{"$f":"INDEX(Tabela.frequencia[],SMALL(IF(Tabela.frequencia[Mês]=$L$2,ROW(Tabela.frequencia[id])-1),ROW(A75)),1)","v":{"$error":"#NUM!"}},{"$f":"INDEX(Tabela.frequencia[],SMALL(IF(Tabela.frequencia[Mês]=$L$2,ROW(Tabela.frequencia[id])-1),ROW(A75)),4)","v":{"$error":"#NUM!"}},null,{"$f":"IFERROR(VLOOKUP(D122,Tabela.cadastro[[ID]:[Nome]],2,0),\"\")","v":""},{"$f":"IFERROR(VLOOKUP(D122,Tabela66[#All],2,0),\"\")","v":""},{"$f":"IFERROR(VLOOKUP(D122,Tabela.cadastro[[ID]:[CP ou M]],5,0),\"\")","v":""},{"$f":"IFERROR(VLOOKUP(D122,Cadastros!A:F,6,0),\"\")","v":""},{"$f":"IFERROR(VLOOKUP(D122,Cadastros!A:I,9,0),\"\")","v":""},{"$f":"IFERROR(VLOOKUP(D122,Cadastros!A:J,10,0),\"\")","v":""},{"$f":"IF(COUNTIF(Tabela66[id],D122)=0,\"\",COUNTIF(Tabela66[id],D122))","v":""},null,"",null,null,{"$f":"IFERROR(VLOOKUP(O122,Cadastros!A:B,2),\"\")","v":""},"",{"$f":"IFERROR(VLOOKUP(O122,Cadastros!A:E,5,0),\"\")","v":""},{"$f":"IFERROR(VLOOKUP(O122,Cadastros!A:F,6,0),\"\")","v":""},{"$f":"IFERROR(VLOOKUP(O122,Cadastros!A:I,9,0),\"\")","v":""},"","","",null,{"$f":"INDEX(Tabela.abordagens[],SMALL(IF(Tabela.abordagens[Mês]=$L$2,ROW(Tabela.abordagens[id])-2),ROW(A75)),1)","v":{"$error":"#NUM!"}},{"$f":"INDEX(Tabela.abordagens[],SMALL(IF(Tabela.abordagens[Mês]=$L$2,ROW(Tabela.abordagens[Idade])-2),ROW(A75)),6)","v":{"$error":"#NUM!"}},{"$f":"INDEX(Tabela.abordagens[],SMALL(IF(Tabela.abordagens[Mês]=$L$2,ROW(Tabela.abordagens[Idade])-2),ROW(A75)),4)","v":{"$error":"#NUM!"}},{"$f":"INDEX(Tabela.abordagens[],SMALL(IF(Tabela.abordagens[Mês]=$L$2,ROW(Tabela.abordagens[Idade])-2),ROW(A75)),5)","v":{"$error":"#NUM!"}}]
[null,{"$f":"INDEX(Tabela.frequencia[],SMALL(IF(Tabela.frequencia[Mês]=$L$2,ROW(Tabela.frequencia[id])-1),ROW(A76)),1)","v":{"$error":"#NUM!"}},{"$f":"INDEX(Tabela.frequencia[],SMALL(IF(Tabela.frequencia[Mês]=$L$2,ROW(Tabela.frequencia[id])-1),ROW(A76)),4)","v":{"$error":"#NUM!"}},null,{"$f":"IFERROR(VLOOKUP(D123,Tabela.cadastro[[ID]:[Nome]],2,0),\"\")","v":""},{"$f":"IFERROR(VLOOKUP(D123,Tabela66[#All],2,0),\"\")","v":""},{"$f":"IFERROR(VLOOKUP(D123,Tabela.cadastro[[ID]:[CP ou M]],5,0),\"\")","v":""},{"$f":"IFERROR(VLOOKUP(D123,Cadastros!A:F,6,0),\"\")","v":""},{"$f":"IFERROR(VLOOKUP(D123,Cadastros!A:I,9,0),\"\")","v":""},{"$f":"IFERROR(VLOOKUP(D123,Cadastros!A:J,10,0),\"\")","v":""},{"$f":"IF(COUNTIF(Tabela66[id],D123)=0,\"\",COUNTIF(Tabela66[id],D123))","v":""},null,"",null,null,{"$f":"IFERROR(VLOOKUP(O123,Cadastros!A:B,2),\"\")","v":""},"",{"$f":"IFERROR(VLOOKUP(O123,Cadastros!A:E,5,0),\"\")","v":""},{"$f":"IFERROR(VLOOKUP(O123,Cadastros!A:F,6,0),\"\")","v":""},{"$f":"IFERROR(VLOOKUP(O123,Cadastros!A:I,9,0),\"\")","v":""},"","","",null,{"$f":"INDEX(Tabela.abordagens[],SMALL(IF(Tabela.abordagens[Mês]=$L$2,ROW(Tabela.abordagens[id])-2),ROW(A76)),1)","v":{"$error":"#NUM!"}},{"$f":"INDEX(Tabela.abordagens[],SMALL(IF(Tabela.abordagens[Mês]=$L$2,ROW(Tabela.abordagens[Idade])-2),ROW(A76)),6)","v":{"$error":"#NUM!"}},{"$f":"INDEX(Tabela.abordagens[],SMALL(IF(Tabela.abordagens[Mês]=$L$2,ROW(Tabela.abordagens[Idade])-2),ROW(A76)),4)","v":{"$error":"#NUM!"}},{"$f":"INDEX(Tabela.abordagens[],SMALL(IF(Tabela.abordagens[Mês]=$L$2,ROW(Tabela.abordagens[Idade])-2),ROW(A76)),5)","v":{"$error":"#NUM!"}}]
[null,{"$f":"INDEX(Tabela.frequencia[],SMALL(IF(Tabela.frequencia[Mês]=$L$2,ROW(Tabela.frequencia[id])-1),ROW(A77)),1)","v":{"$error":"#NUM!"}},{"$f":"INDEX(Tabela.frequencia[],SMALL(IF(Tabela.frequencia[Mês]=$L$2,ROW(Tabela.frequencia[id])-1),ROW(A77)),4)","v":{"$error":"#NUM!"}},null,{"$f":"IFERROR(VLOOKUP(D124,Tabela.cadastro[[ID]:[Nome]],2,0),\"\")","v":""},{"$f":"IFERROR(VLOOKUP(D124,Tabela66[#All],2,0),\"\")","v":""},{"$f":"IFERROR(VLOOKUP(D124,Tabela.cadastro[[ID]:[CP ou M]],5,0),\"\")","v":""},{"$f":"IFERROR(VLOOKUP(D124,Cadastros!A:F,6,0),\"\")","v":""},{"$f":"IFERROR(VLOOKUP(D124,Cadastros!A:I,9,0),\"\")","v":""},{"$f":"IFERROR(VLOOKUP(D124,Cadastros!A:J,10,0),\"\")","v":""},{"$f":"IF(COUNTIF(Tabela66[id],D124)=0,\"\",COUNTIF(Tabela66[id],D124))","v":""},null,"",null,null,{"$f":"IFERROR(VLOOKUP(O124,Cadastros!A:B,2),\"\")","v":""},"",{"$f":"IFERROR(VLOOKUP(O124,Cadastros!A:E,5,0),\"\")","v":""},{"$f":"IFERROR(VLOOKUP(O124,Cadastros!A:F,6,0),\"\")","v":""},{"$f":"IFERROR(VLOOKUP(O124,Cadastros!A:I,9,0),\"\")","v":""},"","","",null,{"$f":"INDEX(Tabela.abordagens[],SMALL(IF(Tabela.abordagens[Mês]=$L$2,ROW(Tabela.abordagens[id])-2),ROW(A77)),1)","v":{"$error":"#NUM!"}},{"$f":"INDEX(Tabela.abordagens[],SMALL(IF(Tabela.abordagens[Mês]=$L$2,ROW(Tabela.abordagens[Idade])-2),ROW(A77)),6)","v":{"$error":"#NUM!"}},{"$f":"INDEX(Tabela.abordagens[],SMALL(IF(Tabela.abordagens[Mês]=$L$2,ROW(Tabela.abordagens[Idade])-2),ROW(A77)),4)","v":{"$error":"#NUM!"}},{"$f":"INDEX(Tabela.abordagens[],SMALL(IF(Tabela.abordagens[Mês]=$L$2,ROW(Tabela.abordagens[Idade])-2),ROW(A77)),5)","v":{"$error":"#NUM!"}}]
[null,{"$f":"INDEX(Tabela.frequencia[],SMALL(IF(Tabela.frequencia[Mês]=$L$2,ROW(Tabela.frequencia[id])-1),ROW(A78)),1)","v":{"$error":"#NUM!"}},{"$f":"INDEX(Tabela.frequencia[],SMALL(IF(Tabela.frequencia[Mês]=$L$2,ROW(Tabela.frequencia[id])-1),ROW(A78)),4)","v":{"$error":"#NUM!"}},null,{"$f":"IFERROR(VLOOKUP(D125,Tabela.cadastro[[ID]:[Nome]],2,0),\"\")","v":""},{"$f":"IFERROR(VLOOKUP(D125,Tabela66[#All],2,0),\"\")","v":""},{"$f":"IFERROR(VLOOKUP(D125,Tabela.cadastro[[ID]:[CP ou M]],5,0),\"\")","v":""},{"$f":"IFERROR(VLOOKUP(D125,Cadastros!A:F,6,0),\"\")","v":""},{"$f":"IFERROR(VLOOKUP(D125,Cadastros!A:I,9,0),\"\")","v":""},{"$f":"IFERROR(VLOOKUP(D125,Cadastros!A:J,10,0),\"\")","v":""},{"$f":"IF(COUNTIF(Tabela66[id],D125)=0,\"\",COUNTIF(Tabela66[id],D125))","v":""},null,"",null,null,{"$f":"IFERROR(VLOOKUP(O125,Cadastros!A:B,2),\"\")","v":""},"",{"$f":"IFERROR(VLOOKUP(O125,Cadastros!A:E,5,0),\"\")","v":""},{"$f":"IFERROR(VLOOKUP(O125,Cadastros!A:F,6,0),\"\")","v":""},{"$f":"IFERROR(VLOOKUP(O125,Cadastros!A:I,9,0),\"\")","v":""},"","","",null,{"$f":"INDEX(Tabela.abordagens[],SMALL(IF(Tabela.abordagens[Mês]=$L$2,ROW(Tabela.abordagens[id])-2),ROW(A78)),1)","v":{"$error":"#NUM!"}},{"$f":"INDEX(Tabela.abordagens[],SMALL(IF(Tabela.abordagens[Mês]=$L$2,ROW(Tabela.abordagens[Idade])-2),ROW(A78)),6)","v":{"$error":"#NUM!"}},{"$f":"INDEX(Tabela.abordagens[],SMALL(IF(Tabela.abordagens[Mês]=$L$2,ROW(Tabela.abordagens[Idade])-2),ROW(A78)),4)","v":{"$error":"#NUM!"}},{"$f":"INDEX(Tabela.abordagens[],SMALL(IF(Tabela.abordagens[Mês]=$L$2,ROW(Tabela.abordagens[Idade])-2),ROW(A78)),5)","v":{"$error":"#NUM!"}}]
[null,{"$f":"INDEX(Tabela.frequencia[],SMALL(IF(Tabela.frequencia[Mês]=$L$2,ROW(Tabela.frequencia[id])-1),ROW(A79)),1)","v":{"$error":"#NUM!"}},{"$f":"INDEX(Tabela.frequencia[],SMALL(IF(Tabela.frequencia[Mês]=$L$2,ROW(Tabela.frequencia[id])-1),ROW(A79)),4)","v":{"$error":"#NUM!"}},null,{"$f":"IFERROR(VLOOKUP(D126,Tabela.cadastro[[ID]:[Nome]],2,0),\"\")","v":""},{"$f":"IFERROR(VLOOKUP(D126,Tabela66[#All],2,0),\"\")","v":""},{"$f":"IFERROR(VLOOKUP(D126,Tabela.cadastro[[ID]:[CP ou M]],5,0),\"\")","v":""},{"$f":"IFERROR(VLOOKUP(D126,Cadastros!A:F,6,0),\"\")","v":""},{"$f":"IFERROR(VLOOKUP(D126,Cadastros!A:I,9,0),\"\")","v":""},{"$f":"IFERROR(VLOOKUP(D126,Cadastros!A:J,10,0),\"\")","v":""},{"$f":"IF(COUNTIF(Tabela66[id],D126)=0,\"\",COUNTIF(Tabela66[id],D126))","v":""},null,"",null,null,{"$f":"IFERROR(VLOOKUP(O126,Cadastros!A:B,2),\"\")","v":""},"",{"$f":"IFERROR(VLOOKUP(O126,Cadastros!A:E,5,0),\"\")","v":""},{"$f":"IFERROR(VLOOKUP(O126,Cadastros!A:F,6,0),\"\")","v":""},{"$f":"IFERROR(VLOOKUP(O126,Cadastros!A:I,9,0),\"\")","v":""},"","","",null,{"$f":"INDEX(Tabela.abordagens[],SMALL(IF(Tabela.abordagens[Mês]=$L$2,ROW(Tabela.abordagens[id])-2),ROW(A79)),1)","v":{"$error":"#NUM!"}},{"$f":"INDEX(Tabela.abordagens[],SMALL(IF(Tabela.abordagens[Mês]=$L$2,ROW(Tabela.abordagens[Idade])-2),ROW(A79)),6)","v":{"$error":"#NUM!"}},{"$f":"INDEX(Tabela.abordagens[],SMALL(IF(Tabela.abordagens[Mês]=$L$2,ROW(Tabela.abordagens[Idade])-2),ROW(A79)),4)","v":{"$error":"#NUM!"}},{"$f":"INDEX(Tabela.abordagens[],SMALL(IF(Tabela.abordagens[Mês]=$L$2,ROW(Tabela.abordagens[Idade])-2),ROW(A79)),5)","v":{"$error":"#NUM!"}}]
[null,{"$f":"INDEX(Tabela.frequencia[],SMALL(IF(Tabela.frequencia[Mês]=$L$2,ROW(Tabela.frequencia[id])-1),ROW(A80)),1)","v":{"$error":"#NUM!"}},{"$f":"INDEX(Tabela.frequencia[],SMALL(IF(Tabela.frequencia[Mês]=$L$2,ROW(Tabela.frequencia[id])-1),ROW(A80)),4)","v":{"$error":"#NUM!"}},null,{"$f":"IFERROR(VLOOKUP(D127,Tabela.cadastro[[ID]:[Nome]],2,0),\"\")","v":""},{"$f":"IFERROR(VLOOKUP(D127,Tabela66[#All],2,0),\"\")","v":""},{"$f":"IFERROR(VLOOKUP(D127,Tabela.cadastro[[ID]:[CP ou M]],5,0),\"\")","v":""},{"$f":"IFERROR(VLOOKUP(D127,Cadastros!A:F,6,0),\"\")","v":""},{"$f":"IFERROR(VLOOKUP(D127,Cadastros!A:I,9,0),\"\")","v":""},{"$f":"IFERROR(VLOOKUP(D127,Cadastros!A:J,10,0),\"\")","v":""},{"$f":"IF(COUNTIF(Tabela66[id],D127)=0,\"\",COUNTIF(Tabela66[id],D127))","v":""},null,"",null,null,{"$f":"IFERROR(VLOOKUP(O127,Cadastros!A:B,2),\"\")","v":""},"",{"$f":"IFERROR(VLOOKUP(O127,Cadastros!A:E,5,0),\"\")","v":""},{"$f":"IFERROR(VLOOKUP(O127,Cadastros!A:F,6,0),\"\")","v":""},{"$f":"IFERROR(VLOOKUP(O127,Cadastros!A:I,9,0),\"\")","v":""},"","","",null,{"$f":"INDEX(Tabela.abordagens[],SMALL(IF(Tabela.abordagens[Mês]=$L$2,ROW(Tabela.abordagens[id])-2),ROW(A80)),1)","v":{"$error":"#NUM!"}},{"$f":"INDEX(Tabela.abordagens[],SMALL(IF(Tabela.abordagens[Mês]=$L$2,ROW(Tabela.abordagens[Idade])-2),ROW(A80)),6)","v":{"$error":"#NUM!"}},{"$f":"INDEX(Tabela.abordagens[],SMALL(IF(Tabela.abordagens[Mês]=$L$2,ROW(Tabela.abordagens[Idade])-2),ROW(A80)),4)","v":{"$error":"#NUM!"}},{"$f":"INDEX(Tabela.abordagens[],SMALL(IF(Tabela.abordagens[Mês]=$L$2,ROW(Tabela.abordagens[Idade])-2),ROW(A80)),5)","v":{"$error":"#NUM!"}}]
[null,{"$f":"INDEX(Tabela.frequencia[],SMALL(IF(Tabela.frequencia[Mês]=$L$2,ROW(Tabela.frequencia[id])-1),ROW(A81)),1)","v":{"$error":"#NUM!"}},{"$f":"INDEX(Tabela.frequencia[],SMALL(IF(Tabela.frequencia[Mês]=$L$2,ROW(Tabela.frequencia[id])-1),ROW(A81)),4)","v":{"$error":"#NUM!"}},null,{"$f":"IFERROR(VLOOKUP(D128,Tabela.cadastro[[ID]:[Nome]],2,0),\"\")","v":""},{"$f":"IFERROR(VLOOKUP(D128,Tabela66[#All],2,0),\"\")","v":""},{"$f":"IFERROR(VLOOKUP(D128,Tabela.cadastro[[ID]:[CP ou M]],5,0),\"\")","v":""},{"$f":"IFERROR(VLOOKUP(D128,Cadastros!A:F,6,0),\"\")","v":""},{"$f":"IFERROR(VLOOKUP(D128,Cadastros!A:I,9,0),\"\")","v":""},{"$f":"IFERROR(VLOOKUP(D128,Cadastros!A:J,10,0),\"\")","v":""},{"$f":"IF(COUNTIF(Tabela66[id],D128)=0,\"\",COUNTIF(Tabela66[id],D128))","v":""},null,"",null,null,{"$f":"IFERROR(VLOOKUP(O128,Cadastros!A:B,2),\"\")","v":""},"",{"$f":"IFERROR(VLOOKUP(O128,Cadastros!A:E,5,0),\"\")","v":""},{"$f":"IFERROR(VLOOKUP(O128,Cadastros!A:F,6,0),\"\")","v":""},{"$f":"IFERROR(VLOOKUP(O128,Cadastros!A:I,9,0),\"\")","v":""},"","","",null,{"$f":"INDEX(Tabela.abordagens[],SMALL(IF(Tabela.abordagens[Mês]=$L$2,ROW(Tabela.abordagens[id])-2),ROW(A81)),1)","v":{"$error":"#NUM!"}},{"$f":"INDEX(Tabela.abordagens[],SMALL(IF(Tabela.abordagens[Mês]=$L$2,ROW(Tabela.abordagens[Idade])-2),ROW(A81)),6)","v":{"$error":"#NUM!"}},{"$f":"INDEX(Tabela.abordagens[],SMALL(IF(Tabela.abordagens[Mês]=$L$2,ROW(Tabela.abordagens[Idade])-2),ROW(A81)),4)","v":{"$error":"#NUM!"}},{"$f":"INDEX(Tabela.abordagens[],SMALL(IF(Tabela.abordagens[Mês]=$L$2,ROW(Tabela.abordagens[Idade])-2),ROW(A81)),5)","v":{"$error":"#NUM!"}}]
[null,{"$f":"INDEX(Tabela.frequencia[],SMALL(IF(Tabela.frequencia[Mês]=$L$2,ROW(Tabela.frequencia[id])-1),ROW(A82)),1)","v":{"$error":"#NUM!"}},{"$f":"INDEX(Tabela.frequencia[],SMALL(IF(Tabela.frequencia[Mês]=$L$2,ROW(Tabela.frequencia[id])-1),ROW(A82)),4)","v":{"$error":"#NUM!"}},null,{"$f":"IFERROR(VLOOKUP(D129,Tabela.cadastro[[ID]:[Nome]],2,0),\"\")","v":""},{"$f":"IFERROR(VLOOKUP(D129,Tabela66[#All],2,0),\"\")","v":""},{"$f":"IFERROR(VLOOKUP(D129,Tabela.cadastro[[ID]:[CP ou M]],5,0),\"\")","v":""},{"$f":"IFERROR(VLOOKUP(D129,Cadastros!A:F,6,0),\"\")","v":""},{"$f":"IFERROR(VLOOKUP(D129,Cadastros!A:I,9,0),\"\")","v":""},{"$f":"IFERROR(VLOOKUP(D129,Cadastros!A:J,10,0),\"\")","v":""},{"$f":"IF(COUNTIF(Tabela66[id],D129)=0,\"\",COUNTIF(Tabela66[id],D129))","v":""},null,"",null,null,{"$f":"IFERROR(VLOOKUP(O129,Cadastros!A:B,2),\"\")","v":""},"",{"$f":"IFERROR(VLOOKUP(O129,Cadastros!A:E,5,0),\"\")","v":""},{"$f":"IFERROR(VLOOKUP(O129,Cadastros!A:F,6,0),\"\")","v":""},{"$f":"IFERROR(VLOOKUP(O129,Cadastros!A:I,9,0),\"\")","v":""},"","","",null,{"$f":"INDEX(Tabela.abordagens[],SMALL(IF(Tabela.abordagens[Mês]=$L$2,ROW(Tabela.abordagens[id])-2),ROW(A82)),1)","v":{"$error":"#NUM!"}},{"$f":"INDEX(Tabela.abordagens[],SMALL(IF(Tabela.abordagens[Mês]=$L$2,ROW(Tabela.abordagens[Idade])-2),ROW(A82)),6)","v":{"$error":"#NUM!"}},{"$f":"INDEX(Tabela.abordagens[],SMALL(IF(Tabela.abordagens[Mês]=$L$2,ROW(Tabela.abordagens[Idade])-2),ROW(A82)),4)","v":{"$error":"#NUM!"}},{"$f":"INDEX(Tabela.abordagens[],SMALL(IF(Tabela.abordagens[Mês]=$L$2,ROW(Tabela.abordagens[Idade])-2),ROW(A82)),5)","v":{"$error":"#NUM!"}}]
[null,{"$f":"INDEX(Tabela.frequencia[],SMALL(IF(Tabela.frequencia[Mês]=$L$2,ROW(Tabela.frequencia[id])-1),ROW(A83)),1)","v":{"$error":"#NUM!"}},{"$f":"INDEX(Tabela.frequencia[],SMALL(IF(Tabela.frequencia[Mês]=$L$2,ROW(Tabela.frequencia[id])-1),ROW(A83)),4)","v":{"$error":"#NUM!"}},null,{"$f":"IFERROR(VLOOKUP(D130,Tabela.cadastro[[ID]:[Nome]],2,0),\"\")","v":""},{"$f":"IFERROR(VLOOKUP(D130,Tabela66[#All],2,0),\"\")","v":""},{"$f":"IFERROR(VLOOKUP(D130,Tabela.cadastro[[ID]:[CP ou M]],5,0),\"\")","v":""},{"$f":"IFERROR(VLOOKUP(D130,Cadastros!A:F,6,0),\"\")","v":""},{"$f":"IFERROR(VLOOKUP(D130,Cadastros!A:I,9,0),\"\")","v":""},{"$f":"IFERROR(VLOOKUP(D130,Cadastros!A:J,10,0),\"\")","v":""},{"$f":"IF(COUNTIF(Tabela66[id],D130)=0,\"\",COUNTIF(Tabela66[id],D130))","v":""},null,"",null,null,{"$f":"IFERROR(VLOOKUP(O130,Cadastros!A:B,2),\"\")","v":""},"",{"$f":"IFERROR(VLOOKUP(O130,Cadastros!A:E,5,0),\"\")","v":""},{"$f":"IFERROR(VLOOKUP(O130,Cadastros!A:F,6,0),\"\")","v":""},{"$f":"IFERROR(VLOOKUP(O130,Cadastros!A:I,9,0),\"\")","v":""},"","","",null,{"$f":"INDEX(Tabela.abordagens[],SMALL(IF(Tabela.abordagens[Mês]=$L$2,ROW(Tabela.abordagens[id])-2),ROW(A83)),1)","v":{"$error":"#NUM!"}},{"$f":"INDEX(Tabela.abordagens[],SMALL(IF(Tabela.abordagens[Mês]=$L$2,ROW(Tabela.abordagens[Idade])-2),ROW(A83)),6)","v":{"$error":"#NUM!"}},{"$f":"INDEX(Tabela.abordagens[],SMALL(IF(Tabela.abordagens[Mês]=$L$2,ROW(Tabela.abordagens[Idade])-2),ROW(A83)),4)","v":{"$error":"#NUM!"}},{"$f":"INDEX(Tabela.abordagens[],SMALL(IF(Tabela.abordagens[Mês]=$L$2,ROW(Tabela.abordagens[Idade])-2),ROW(A83)),5)","v":{"$error":"#NUM!"}}]
[null,{"$f":"INDEX(Tabela.frequencia[],SMALL(IF(Tabela.frequencia[Mês]=$L$2,ROW(Tabela.frequencia[id])-1),ROW(A84)),1)","v":{"$error":"#NUM!"}},{"$f":"INDEX(Tabela.frequencia[],SMALL(IF(Tabela.frequencia[Mês]=$L$2,ROW(Tabela.frequencia[id])-1),ROW(A84)),4)","v":{"$error":"#NUM!"}},null,{"$f":"IFERROR(VLOOKUP(D131,Tabela.cadastro[[ID]:[Nome]],2,0),\"\")","v":""},{"$f":"IFERROR(VLOOKUP(D131,Tabela66[#All],2,0),\"\")","v":""},{"$f":"IFERROR(VLOOKUP(D131,Tabela.cadastro[[ID]:[CP ou M]],5,0),\"\")","v":""},{"$f":"IFERROR(VLOOKUP(D131,Cadastros!A:F,6,0),\"\")","v":""},{"$f":"IFERROR(VLOOKUP(D131,Cadastros!A:I,9,0),\"\")","v":""},{"$f":"IFERROR(VLOOKUP(D131,Cadastros!A:J,10,0),\"\")","v":""},{"$f":"IF(COUNTIF(Tabela66[id],D131)=0,\"\",COUNTIF(Tabela66[id],D131))","v":""},null,"",null,null,{"$f":"IFERROR(VLOOKUP(O131,Cadastros!A:B,2),\"\")","v":""},"",{"$f":"IFERROR(VLOOKUP(O131,Cadastros!A:E,5,0),\"\")","v":""},{"$f":"IFERROR(VLOOKUP(O131,Cadastros!A:F,6,0),\"\")","v":""},{"$f":"IFERROR(VLOOKUP(O131,Cadastros!A:I,9,0),\"\")","v":""},"","","",null,{"$f":"INDEX(Tabela.abordagens[],SMALL(IF(Tabela.abordagens[Mês]=$L$2,ROW(Tabela.abordagens[id])-2),ROW(A84)),1)","v":{"$error":"#NUM!"}},{"$f":"INDEX(Tabela.abordagens[],SMALL(IF(Tabela.abordagens[Mês]=$L$2,ROW(Tabela.abordagens[Idade])-2),ROW(A84)),6)","v":{"$error":"#NUM!"}},{"$f":"INDEX(Tabela.abordagens[],SMALL(IF(Tabela.abordagens[Mês]=$L$2,ROW(Tabela.abordagens[Idade])-2),ROW(A84)),4)","v":{"$error":"#NUM!"}},{"$f":"INDEX(Tabela.abordagens[],SMALL(IF(Tabela.abordagens[Mês]=$L$2,ROW(Tabela.abordagens[Idade])-2),ROW(A84)),5)","v":{"$error":"#NUM!"}}]
[null,{"$f":"INDEX(Tabela.frequencia[],SMALL(IF(Tabela.frequencia[Mês]=$L$2,ROW(Tabela.frequencia[id])-1),ROW(A85)),1)","v":{"$error":"#NUM!"}},{"$f":"INDEX(Tabela.frequencia[],SMALL(IF(Tabela.frequencia[Mês]=$L$2,ROW(Tabela.frequencia[id])-1),ROW(A85)),4)","v":{"$error":"#NUM!"}},null,{"$f":"IFERROR(VLOOKUP(D132,Tabela.cadastro[[ID]:[Nome]],2,0),\"\")","v":""},{"$f":"IFERROR(VLOOKUP(D132,Tabela66[#All],2,0),\"\")","v":""},{"$f":"IFERROR(VLOOKUP(D132,Tabela.cadastro[[ID]:[CP ou M]],5,0),\"\")","v":""},{"$f":"IFERROR(VLOOKUP(D132,Cadastros!A:F,6,0),\"\")","v":""},{"$f":"IFERROR(VLOOKUP(D132,Cadastros!A:I,9,0),\"\")","v":""},{"$f":"IFERROR(VLOOKUP(D132,Cadastros!A:J,10,0),\"\")","v":""},{"$f":"IF(COUNTIF(Tabela66[id],D132)=0,\"\",COUNTIF(Tabela66[id],D132))","v":""},null,"",null,null,{"$f":"IFERROR(VLOOKUP(O132,Cadastros!A:B,2),\"\")","v":""},"",{"$f":"IFERROR(VLOOKUP(O132,Cadastros!A:E,5,0),\"\")","v":""},{"$f":"IFERROR(VLOOKUP(O132,Cadastros!A:F,6,0),\"\")","v":""},{"$f":"IFERROR(VLOOKUP(O132,Cadastros!A:I,9,0),\"\")","v":""},"","","",null,{"$f":"INDEX(Tabela.abordagens[],SMALL(IF(Tabela.abordagens[Mês]=$L$2,ROW(Tabela.abordagens[id])-2),ROW(A85)),1)","v":{"$error":"#NUM!"}},{"$f":"INDEX(Tabela.abordagens[],SMALL(IF(Tabela.abordagens[Mês]=$L$2,ROW(Tabela.abordagens[Idade])-2),ROW(A85)),6)","v":{"$error":"#NUM!"}},{"$f":"INDEX(Tabela.abordagens[],SMALL(IF(Tabela.abordagens[Mês]=$L$2,ROW(Tabela.abordagens[Idade])-2),ROW(A85)),4)","v":{"$error":"#NUM!"}},{"$f":"INDEX(Tabela.abordagens[],SMALL(IF(Tabela.abordagens[Mês]=$L$2,ROW(Tabela.abordagens[Idade])-2),ROW(A85)),5)","v":{"$error":"#NUM!"}}]
[null,{"$f":"INDEX(Tabela.frequencia[],SMALL(IF(Tabela.frequencia[Mês]=$L$2,ROW(Tabela.frequencia[id])-1),ROW(A86)),1)","v":{"$error":"#NUM!"}},{"$f":"INDEX(Tabela.frequencia[],SMALL(IF(Tabela.frequencia[Mês]=$L$2,ROW(Tabela.frequencia[id])-1),ROW(A86)),4)","v":{"$error":"#NUM!"}},null,{"$f":"IFERROR(VLOOKUP(D133,Tabela.cadastro[[ID]:[Nome]],2,0),\"\")","v":""},{"$f":"IFERROR(VLOOKUP(D133,Tabela66[#All],2,0),\"\")","v":""},{"$f":"IFERROR(VLOOKUP(D133,Tabela.cadastro[[ID]:[CP ou M]],5,0),\"\")","v":""},{"$f":"IFERROR(VLOOKUP(D133,Cadastros!A:F,6,0),\"\")","v":""},{"$f":"IFERROR(VLOOKUP(D133,Cadastros!A:I,9,0),\"\")","v":""},{"$f":"IFERROR(VLOOKUP(D133,Cadastros!A:J,10,0),\"\")","v":""},{"$f":"IF(COUNTIF(Tabela66[id],D133)=0,\"\",COUNTIF(Tabela66[id],D133))","v":""},null,"",null,null,{"$f":"IFERROR(VLOOKUP(O133,Cadastros!A:B,2),\"\")","v":""},"",{"$f":"IFERROR(VLOOKUP(O133,Cadastros!A:E,5,0),\"\")","v":""},{"$f":"IFERROR(VLOOKUP(O133,Cadastros!A:F,6,0),\"\")","v":""},{"$f":"IFERROR(VLOOKUP(O133,Cadastros!A:I,9,0),\"\")","v":""},"","","",null,{"$f":"INDEX(Tabela.abordagens[],SMALL(IF(Tabela.abordagens[Mês]=$L$2,ROW(Tabela.abordagens[id])-2),ROW(A86)),1)","v":{"$error":"#NUM!"}},{"$f":"INDEX(Tabela.abordagens[],SMALL(IF(Tabela.abordagens[Mês]=$L$2,ROW(Tabela.abordagens[Idade])-2),ROW(A86)),6)","v":{"$error":"#NUM!"}},{"$f":"INDEX(Tabela.abordagens[],SMALL(IF(Tabela.abordagens[Mês]=$L$2,ROW(Tabela.abordagens[Idade])-2),ROW(A86)),4)","v":{"$error":"#NUM!"}},{"$f":"INDEX(Tabela.abordagens[],SMALL(IF(Tabela.abordagens[Mês]=$L$2,ROW(Tabela.abordagens[Idade])-2),ROW(A86)),5)","v":{"$error":"#NUM!"}}]
[null,{"$f":"INDEX(Tabela.frequencia[],SMALL(IF(Tabela.frequencia[Mês]=$L$2,ROW(Tabela.frequencia[id])-1),ROW(A87)),1)","v":{"$error":"#NUM!"}},{"$f":"INDEX(Tabela.frequencia[],SMALL(IF(Tabela.frequencia[Mês]=$L$2,ROW(Tabela.frequencia[id])-1),ROW(A87)),4)","v":{"$error":"#NUM!"}},null,{"$f":"IFERROR(VLOOKUP(D134,Tabela.cadastro[[ID]:[Nome]],2,0),\"\")","v":""},{"$f":"IFERROR(VLOOKUP(D134,Tabela66[#All],2,0),\"\")","v":""},{"$f":"IFERROR(VLOOKUP(D134,Tabela.cadastro[[ID]:[CP ou M]],5,0),\"\")","v":""},{"$f":"IFERROR(VLOOKUP(D134,Cadastros!A:F,6,0),\"\")","v":""},{"$f":"IFERROR(VLOOKUP(D134,Cadastros!A:I,9,0),\"\")","v":""},{"$f":"IFERROR(VLOOKUP(D134,Cadastros!A:J,10,0),\"\")","v":""},{"$f":"IF(COUNTIF(Tabela66[id],D134)=0,\"\",COUNTIF(Tabela66[id],D134))","v":""},null,"",null,null,{"$f":"IFERROR(VLOOKUP(O134,Cadastros!A:B,2),\"\")","v":""},"",{"$f":"IFERROR(VLOOKUP(O134,Cadastros!A:E,5,0),\"\")","v":""},{"$f":"IFERROR(VLOOKUP(O134,Cadastros!A:F,6,0),\"\")","v":""},{"$f":"IFERROR(VLOOKUP(O134,Cadastros!A:I,9,0),\"\")","v":""},"","","",null,{"$f":"INDEX(Tabela.abordagens[],SMALL(IF(Tabela.abordagens[Mês]=$L$2,ROW(Tabela.abordagens[id])-2),ROW(A87)),1)","v":{"$error":"#NUM!"}},{"$f":"INDEX(Tabela.abordagens[],SMALL(IF(Tabela.abordagens[Mês]=$L$2,ROW(Tabela.abordagens[Idade])-2),ROW(A87)),6)","v":{"$error":"#NUM!"}},{"$f":"INDEX(Tabela.abordagens[],SMALL(IF(Tabela.abordagens[Mês]=$L$2,ROW(Tabela.abordagens[Idade])-2),ROW(A87)),4)","v":{"$error":"#NUM!"}},{"$f":"INDEX(Tabela.abordagens[],SMALL(IF(Tabela.abordagens[Mês]=$L$2,ROW(Tabela.abordagens[Idade])-2),ROW(A87)),5)","v":{"$error":"#NUM!"}}]
[null,{"$f":"INDEX(Tabela.frequencia[],SMALL(IF(Tabela.frequencia[Mês]=$L$2,ROW(Tabela.frequencia[id])-1),ROW(A88)),1)","v":{"$error":"#NUM!"}},{"$f":"INDEX(Tabela.frequencia[],SMALL(IF(Tabela.frequencia[Mês]=$L$2,ROW(Tabela.frequencia[id])-1),ROW(A88)),4)","v":{"$error":"#NUM!"}},null,{"$f":"IFERROR(VLOOKUP(D135,Tabela.cadastro[[ID]:[Nome]],2,0),\"\")","v":""},{"$f":"IFERROR(VLOOKUP(D135,Tabela66[#All],2,0),\"\")","v":""},{"$f":"IFERROR(VLOOKUP(D135,Tabela.cadastro[[ID]:[CP ou M]],5,0),\"\")","v":""},{"$f":"IFERROR(VLOOKUP(D135,Cadastros!A:F,6,0),\"\")","v":""},{"$f":"IFERROR(VLOOKUP(D135,Cadastros!A:I,9,0),\"\")","v":""},{"$f":"IFERROR(VLOOKUP(D135,Cadastros!A:J,10,0),\"\")","v":""},{"$f":"IF(COUNTIF(Tabela66[id],D135)=0,\"\",COUNTIF(Tabela66[id],D135))","v":""},null,"",null,null,{"$f":"IFERROR(VLOOKUP(O135,Cadastros!A:B,2),\"\")","v":""},"",{"$f":"IFERROR(VLOOKUP(O135,Cadastros!A:E,5,0),\"\")","v":""},{"$f":"IFERROR(VLOOKUP(O135,Cadastros!A:F,6,0),\"\")","v":""},{"$f":"IFERROR(VLOOKUP(O135,Cadastros!A:I,9,0),\"\")","v":""},"","","",null,{"$f":"INDEX(Tabela.abordagens[],SMALL(IF(Tabela.abordagens[Mês]=$L$2,ROW(Tabela.abordagens[id])-2),ROW(A88)),1)","v":{"$error":"#NUM!"}},{"$f":"INDEX(Tabela.abordagens[],SMALL(IF(Tabela.abordagens[Mês]=$L$2,ROW(Tabela.abordagens[Idade])-2),ROW(A88)),6)","v":{"$error":"#NUM!"}},{"$f":"INDEX(Tabela.abordagens[],SMALL(IF(Tabela.abordagens[Mês]=$L$2,ROW(Tabela.abordagens[Idade])-2),ROW(A88)),4)","v":{"$error":"#NUM!"}},{"$f":"INDEX(Tabela.abordagens[],SMALL(IF(Tabela.abordagens[Mês]=$L$2,ROW(Tabela.abordagens[Idade])-2),ROW(A88)),5)","v":{"$error":"#NUM!"}}]
[null,{"$f":"INDEX(Tabela.frequencia[],SMALL(IF(Tabela.frequencia[Mês]=$L$2,ROW(Tabela.frequencia[id])-1),ROW(A89)),1)","v":{"$error":"#NUM!"}},{"$f":"INDEX(Tabela.frequencia[],SMALL(IF(Tabela.frequencia[Mês]=$L$2,ROW(Tabela.frequencia[id])-1),ROW(A89)),4)","v":{"$error":"#NUM!"}},null,{"$f":"IFERROR(VLOOKUP(D136,Tabela.cadastro[[ID]:[Nome]],2,0),\"\")","v":""},{"$f":"IFERROR(VLOOKUP(D136,Tabela66[#All],2,0),\"\")","v":""},{"$f":"IFERROR(VLOOKUP(D136,Tabela.cadastro[[ID]:[CP ou M]],5,0),\"\")","v":""},{"$f":"IFERROR(VLOOKUP(D136,Cadastros!A:F,6,0),\"\")","v":""},{"$f":"IFERROR(VLOOKUP(D136,Cadastros!A:I,9,0),\"\")","v":""},{"$f":"IFERROR(VLOOKUP(D136,Cadastros!A:J,10,0),\"\")","v":""},{"$f":"IF(COUNTIF(Tabela66[id],D136)=0,\"\",COUNTIF(Tabela66[id],D136))","v":""},null,"",null,null,{"$f":"IFERROR(VLOOKUP(O136,Cadastros!A:B,2),\"\")","v":""},"",{"$f":"IFERROR(VLOOKUP(O136,Cadastros!A:E,5,0),\"\")","v":""},{"$f":"IFERROR(VLOOKUP(O136,Cadastros!A:F,6,0),\"\")","v":""},{"$f":"IFERROR(VLOOKUP(O136,Cadastros!A:I,9,0),\"\")","v":""},"","","",null,{"$f":"INDEX(Tabela.abordagens[],SMALL(IF(Tabela.abordagens[Mês]=$L$2,ROW(Tabela.abordagens[id])-2),ROW(A89)),1)","v":{"$error":"#NUM!"}},{"$f":"INDEX(Tabela.abordagens[],SMALL(IF(Tabela.abordagens[Mês]=$L$2,ROW(Tabela.abordagens[Idade])-2),ROW(A89)),6)","v":{"$error":"#NUM!"}},{"$f":"INDEX(Tabela.abordagens[],SMALL(IF(Tabela.abordagens[Mês]=$L$2,ROW(Tabela.abordagens[Idade])-2),ROW(A89)),4)","v":{"$error":"#NUM!"}},{"$f":"INDEX(Tabela.abordagens[],SMALL(IF(Tabela.abordagens[Mês]=$L$2,ROW(Tabela.abordagens[Idade])-2),ROW(A89)),5)","v":{"$error":"#NUM!"}}]
[null,{"$f":"INDEX(Tabela.frequencia[],SMALL(IF(Tabela.frequencia[Mês]=$L$2,ROW(Tabela.frequencia[id])-1),ROW(A90)),1)","v":{"$error":"#NUM!"}},{"$f":"INDEX(Tabela.frequencia[],SMALL(IF(Tabela.frequencia[Mês]=$L$2,ROW(Tabela.frequencia[id])-1),ROW(A90)),4)","v":{"$error":"#NUM!"}},null,{"$f":"IFERROR(VLOOKUP(D137,Tabela.cadastro[[ID]:[Nome]],2,0),\"\")","v":""},{"$f":"IFERROR(VLOOKUP(D137,Tabela66[#All],2,0),\"\")","v":""},{"$f":"IFERROR(VLOOKUP(D137,Tabela.cadastro[[ID]:[CP ou M]],5,0),\"\")","v":""},{"$f":"IFERROR(VLOOKUP(D137,Cadastros!A:F,6,0),\"\")","v":""},{"$f":"IFERROR(VLOOKUP(D137,Cadastros!A:I,9,0),\"\")","v":""},{"$f":"IFERROR(VLOOKUP(D137,Cadastros!A:J,10,0),\"\")","v":""},{"$f":"IF(COUNTIF(Tabela66[id],D137)=0,\"\",COUNTIF(Tabela66[id],D137))","v":""},null,"",null,null,{"$f":"IFERROR(VLOOKUP(O137,Cadastros!A:B,2),\"\")","v":""},"",{"$f":"IFERROR(VLOOKUP(O137,Cadastros!A:E,5,0),\"\")","v":""},{"$f":"IFERROR(VLOOKUP(O137,Cadastros!A:F,6,0),\"\")","v":""},{"$f":"IFERROR(VLOOKUP(O137,Cadastros!A:I,9,0),\"\")","v":""},"","","",null,{"$f":"INDEX(Tabela.abordagens[],SMALL(IF(Tabela.abordagens[Mês]=$L$2,ROW(Tabela.abordagens[id])-2),ROW(A90)),1)","v":{"$error":"#NUM!"}},{"$f":"INDEX(Tabela.abordagens[],SMALL(IF(Tabela.abordagens[Mês]=$L$2,ROW(Tabela.abordagens[Idade])-2),ROW(A90)),6)","v":{"$error":"#NUM!"}},{"$f":"INDEX(Tabela.abordagens[],SMALL(IF(Tabela.abordagens[Mês]=$L$2,ROW(Tabela.abordagens[Idade])-2),ROW(A90)),4)","v":{"$error":"#NUM!"}},{"$f":"INDEX(Tabela.abordagens[],SMALL(IF(Tabela.abordagens[Mês]=$L$2,ROW(Tabela.abordagens[Idade])-2),ROW(A90)),5)","v":{"$error":"#NUM!"}}]
[null,{"$f":"INDEX(Tabela.frequencia[],SMALL(IF(Tabela.frequencia[Mês]=$L$2,ROW(Tabela.frequencia[id])-1),ROW(A91)),1)","v":{"$error":"#NUM!"}},{"$f":"INDEX(Tabela.frequencia[],SMALL(IF(Tabela.frequencia[Mês]=$L$2,ROW(Tabela.frequencia[id])-1),ROW(A91)),4)","v":{"$error":"#NUM!"}},null,{"$f":"IFERROR(VLOOKUP(D138,Tabela.cadastro[[ID]:[Nome]],2,0),\"\")","v":""},{"$f":"IFERROR(VLOOKUP(D138,Tabela66[#All],2,0),\"\")","v":""},{"$f":"IFERROR(VLOOKUP(D138,Tabela.cadastro[[ID]:[CP ou M]],5,0),\"\")","v":""},{"$f":"IFERROR(VLOOKUP(D138,Cadastros!A:F,6,0),\"\")","v":""},{"$f":"IFERROR(VLOOKUP(D138,Cadastros!A:I,9,0),\"\")","v":""},{"$f":"IFERROR(VLOOKUP(D138,Cadastros!A:J,10,0),\"\")","v":""},{"$f":"IF(COUNTIF(Tabela66[id],D138)=0,\"\",COUNTIF(Tabela66[id],D138))","v":""},null,"",null,null,{"$f":"IFERROR(VLOOKUP(O138,Cadastros!A:B,2),\"\")","v":""},"",{"$f":"IFERROR(VLOOKUP(O138,Cadastros!A:E,5,0),\"\")","v":""},{"$f":"IFERROR(VLOOKUP(O138,Cadastros!A:F,6,0),\"\")","v":""},{"$f":"IFERROR(VLOOKUP(O138,Cadastros!A:I,9,0),\"\")","v":""},"","","",null,{"$f":"INDEX(Tabela.abordagens[],SMALL(IF(Tabela.abordagens[Mês]=$L$2,ROW(Tabela.abordagens[id])-2),ROW(A91)),1)","v":{"$error":"#NUM!"}},{"$f":"INDEX(Tabela.abordagens[],SMALL(IF(Tabela.abordagens[Mês]=$L$2,ROW(Tabela.abordagens[Idade])-2),ROW(A91)),6)","v":{"$error":"#NUM!"}},{"$f":"INDEX(Tabela.abordagens[],SMALL(IF(Tabela.abordagens[Mês]=$L$2,ROW(Tabela.abordagens[Idade])-2),ROW(A91)),4)","v":{"$error":"#NUM!"}},{"$f":"INDEX(Tabela.abordagens[],SMALL(IF(Tabela.abordagens[Mês]=$L$2,ROW(Tabela.abordagens[Idade])-2),ROW(A91)),5)","v":{"$error":"#NUM!"}}]
[null,{"$f":"INDEX(Tabela.frequencia[],SMALL(IF(Tabela.frequencia[Mês]=$L$2,ROW(Tabela.frequencia[id])-1),ROW(A92)),1)","v":{"$error":"#NUM!"}},{"$f":"INDEX(Tabela.frequencia[],SMALL(IF(Tabela.frequencia[Mês]=$L$2,ROW(Tabela.frequencia[id])-1),ROW(A92)),4)","v":{"$error":"#NUM!"}},null,{"$f":"IFERROR(VLOOKUP(D139,Tabela.cadastro[[ID]:[Nome]],2,0),\"\")","v":""},{"$f":"IFERROR(VLOOKUP(D139,Tabela66[#All],2,0),\"\")","v":""},{"$f":"IFERROR(VLOOKUP(D139,Tabela.cadastro[[ID]:[CP ou M]],5,0),\"\")","v":""},{"$f":"IFERROR(VLOOKUP(D139,Cadastros!A:F,6,0),\"\")","v":""},{"$f":"IFERROR(VLOOKUP(D139,Cadastros!A:I,9,0),\"\")","v":""},{"$f":"IFERROR(VLOOKUP(D139,Cadastros!A:J,10,0),\"\")","v":""},{"$f":"IF(COUNTIF(Tabela66[id],D139)=0,\"\",COUNTIF(Tabela66[id],D139))","v":""},null,"",null,null,{"$f":"IFERROR(VLOOKUP(O139,Cadastros!A:B,2),\"\")","v":""},"",{"$f":"IFERROR(VLOOKUP(O139,Cadastros!A:E,5,0),\"\")","v":""},{"$f":"IFERROR(VLOOKUP(O139,Cadastros!A:F,6,0),\"\")","v":""},{"$f":"IFERROR(VLOOKUP(O139,Cadastros!A:I,9,0),\"\")","v":""},"","","",null,{"$f":"INDEX(Tabela.abordagens[],SMALL(IF(Tabela.abordagens[Mês]=$L$2,ROW(Tabela.abordagens[id])-2),ROW(A92)),1)","v":{"$error":"#NUM!"}},{"$f":"INDEX(Tabela.abordagens[],SMALL(IF(Tabela.abordagens[Mês]=$L$2,ROW(Tabela.abordagens[Idade])-2),ROW(A92)),6)","v":{"$error":"#NUM!"}},{"$f":"INDEX(Tabela.abordagens[],SMALL(IF(Tabela.abordagens[Mês]=$L$2,ROW(Tabela.abordagens[Idade])-2),ROW(A92)),4)","v":{"$error":"#NUM!"}},{"$f":"INDEX(Tabela.abordagens[],SMALL(IF(Tabela.abordagens[Mês]=$L$2,ROW(Tabela.abordagens[Idade])-2),ROW(A92)),5)","v":{"$error":"#NUM!"}}]
[null,{"$f":"INDEX(Tabela.frequencia[],SMALL(IF(Tabela.frequencia[Mês]=$L$2,ROW(Tabela.frequencia[id])-1),ROW(A93)),1)","v":{"$error":"#NUM!"}},{"$f":"INDEX(Tabela.frequencia[],SMALL(IF(Tabela.frequencia[Mês]=$L$2,ROW(Tabela.frequencia[id])-1),ROW(A93)),4)","v":{"$error":"#NUM!"}},null,{"$f":"IFERROR(VLOOKUP(D140,Tabela.cadastro[[ID]:[Nome]],2,0),\"\")","v":""},{"$f":"IFERROR(VLOOKUP(D140,Tabela66[#All],2,0),\"\")","v":""},{"$f":"IFERROR(VLOOKUP(D140,Tabela.cadastro[[ID]:[CP ou M]],5,0),\"\")","v":""},{"$f":"IFERROR(VLOOKUP(D140,Cadastros!A:F,6,0),\"\")","v":""},{"$f":"IFERROR(VLOOKUP(D140,Cadastros!A:I,9,0),\"\")","v":""},{"$f":"IFERROR(VLOOKUP(D140,Cadastros!A:J,10,0),\"\")","v":""},{"$f":"IF(COUNTIF(Tabela66[id],D140)=0,\"\",COUNTIF(Tabela66[id],D140))","v":""},null,"",null,null,{"$f":"IFERROR(VLOOKUP(O140,Cadastros!A:B,2),\"\")","v":""},"",{"$f":"IFERROR(VLOOKUP(O140,Cadastros!A:E,5,0),\"\")","v":""},{"$f":"IFERROR(VLOOKUP(O140,Cadastros!A:F,6,0),\"\")","v":""},{"$f":"IFERROR(VLOOKUP(O140,Cadastros!A:I,9,0),\"\")","v":""},"","","",null,{"$f":"INDEX(Tabela.abordagens[],SMALL(IF(Tabela.abordagens[Mês]=$L$2,ROW(Tabela.abordagens[id])-2),ROW(A93)),1)","v":{"$error":"#NUM!"}},{"$f":"INDEX(Tabela.abordagens[],SMALL(IF(Tabela.abordagens[Mês]=$L$2,ROW(Tabela.abordagens[Idade])-2),ROW(A93)),6)","v":{"$error":"#NUM!"}},{"$f":"INDEX(Tabela.abordagens[],SMALL(IF(Tabela.abordagens[Mês]=$L$2,ROW(Tabela.abordagens[Idade])-2),ROW(A93)),4)","v":{"$error":"#NUM!"}},{"$f":"INDEX(Tabela.abordagens[],SMALL(IF(Tabela.abordagens[Mês]=$L$2,ROW(Tabela.abordagens[Idade])-2),ROW(A93)),5)","v":{"$error":"#NUM!"}}]
[null,{"$f":"INDEX(Tabela.frequencia[],SMALL(IF(Tabela.frequencia[Mês]=$L$2,ROW(Tabela.frequencia[id])-1),ROW(A94)),1)","v":{"$error":"#NUM!"}},{"$f":"INDEX(Tabela.frequencia[],SMALL(IF(Tabela.frequencia[Mês]=$L$2,ROW(Tabela.frequencia[id])-1),ROW(A94)),4)","v":{"$error":"#NUM!"}},null,{"$f":"IFERROR(VLOOKUP(D141,Tabela.cadastro[[ID]:[Nome]],2,0),\"\")","v":""},{"$f":"IFERROR(VLOOKUP(D141,Tabela66[#All],2,0),\"\")","v":""},{"$f":"IFERROR(VLOOKUP(D141,Tabela.cadastro[[ID]:[CP ou M]],5,0),\"\")","v":""},{"$f":"IFERROR(VLOOKUP(D141,Cadastros!A:F,6,0),\"\")","v":""},{"$f":"IFERROR(VLOOKUP(D141,Cadastros!A:I,9,0),\"\")","v":""},{"$f":"IFERROR(VLOOKUP(D141,Cadastros!A:J,10,0),\"\")","v":""},{"$f":"IF(COUNTIF(Tabela66[id],D141)=0,\"\",COUNTIF(Tabela66[id],D141))","v":""},null,"",null,null,{"$f":"IFERROR(VLOOKUP(O141,Cadastros!A:B,2),\"\")","v":""},"",{"$f":"IFERROR(VLOOKUP(O141,Cadastros!A:E,5,0),\"\")","v":""},{"$f":"IFERROR(VLOOKUP(O141,Cadastros!A:F,6,0),\"\")","v":""},{"$f":"IFERROR(VLOOKUP(O141,Cadastros!A:I,9,0),\"\")","v":""},"","","",null,{"$f":"INDEX(Tabela.abordagens[],SMALL(IF(Tabela.abordagens[Mês]=$L$2,ROW(Tabela.abordagens[id])-2),ROW(A94)),1)","v":{"$error":"#NUM!"}},{"$f":"INDEX(Tabela.abordagens[],SMALL(IF(Tabela.abordagens[Mês]=$L$2,ROW(Tabela.abordagens[Idade])-2),ROW(A94)),6)","v":{"$error":"#NUM!"}},{"$f":"INDEX(Tabela.abordagens[],SMALL(IF(Tabela.abordagens[Mês]=$L$2,ROW(Tabela.abordagens[Idade])-2),ROW(A94)),4)","v":{"$error":"#NUM!"}},{"$f":"INDEX(Tabela.abordagens[],SMALL(IF(Tabela.abordagens[Mês]=$L$2,ROW(Tabela.abordagens[Idade])-2),ROW(A94)),5)","v":{"$error":"#NUM!"}}]
[null,{"$f":"INDEX(Tabela.frequencia[],SMALL(IF(Tabela.frequencia[Mês]=$L$2,ROW(Tabela.frequencia[id])-1),ROW(A95)),1)","v":{"$error":"#NUM!"}},{"$f":"INDEX(Tabela.frequencia[],SMALL(IF(Tabela.frequencia[Mês]=$L$2,ROW(Tabela.frequencia[id])-1),ROW(A95)),4)","v":{"$error":"#NUM!"}},null,{"$f":"IFERROR(VLOOKUP(D142,Tabela.cadastro[[ID]:[Nome]],2,0),\"\")","v":""},{"$f":"IFERROR(VLOOKUP(D142,Tabela66[#All],2,0),\"\")","v":""},{"$f":"IFERROR(VLOOKUP(D142,Tabela.cadastro[[ID]:[CP ou M]],5,0),\"\")","v":""},{"$f":"IFERROR(VLOOKUP(D142,Cadastros!A:F,6,0),\"\")","v":""},{"$f":"IFERROR(VLOOKUP(D142,Cadastros!A:I,9,0),\"\")","v":""},{"$f":"IFERROR(VLOOKUP(D142,Cadastros!A:J,10,0),\"\")","v":""},{"$f":"IF(COUNTIF(Tabela66[id],D142)=0,\"\",COUNTIF(Tabela66[id],D142))","v":""},null,"",null,null,{"$f":"IFERROR(VLOOKUP(O142,Cadastros!A:B,2),\"\")","v":""},"",{"$f":"IFERROR(VLOOKUP(O142,Cadastros!A:E,5,0),\"\")","v":""},{"$f":"IFERROR(VLOOKUP(O142,Cadastros!A:F,6,0),\"\")","v":""},{"$f":"IFERROR(VLOOKUP(O142,Cadastros!A:I,9,0),\"\")","v":""},"","","",null,{"$f":"INDEX(Tabela.abordagens[],SMALL(IF(Tabela.abordagens[Mês]=$L$2,ROW(Tabela.abordagens[id])-2),ROW(A95)),1)","v":{"$error":"#NUM!"}},{"$f":"INDEX(Tabela.abordagens[],SMALL(IF(Tabela.abordagens[Mês]=$L$2,ROW(Tabela.abordagens[Idade])-2),ROW(A95)),6)","v":{"$error":"#NUM!"}},{"$f":"INDEX(Tabela.abordagens[],SMALL(IF(Tabela.abordagens[Mês]=$L$2,ROW(Tabela.abordagens[Idade])-2),ROW(A95)),4)","v":{"$error":"#NUM!"}},{"$f":"INDEX(Tabela.abordagens[],SMALL(IF(Tabela.abordagens[Mês]=$L$2,ROW(Tabela.abordagens[Idade])-2),ROW(A95)),5)","v":{"$error":"#NUM!"}}]
[null,{"$f":"INDEX(Tabela.frequencia[],SMALL(IF(Tabela.frequencia[Mês]=$L$2,ROW(Tabela.frequencia[id])-1),ROW(A96)),1)","v":{"$error":"#NUM!"}},{"$f":"INDEX(Tabela.frequencia[],SMALL(IF(Tabela.frequencia[Mês]=$L$2,ROW(Tabela.frequencia[id])-1),ROW(A96)),4)","v":{"$error":"#NUM!"}},null,{"$f":"IFERROR(VLOOKUP(D143,Tabela.cadastro[[ID]:[Nome]],2,0),\"\")","v":""},{"$f":"IFERROR(VLOOKUP(D143,Tabela66[#All],2,0),\"\")","v":""},{"$f":"IFERROR(VLOOKUP(D143,Tabela.cadastro[[ID]:[CP ou M]],5,0),\"\")","v":""},{"$f":"IFERROR(VLOOKUP(D143,Cadastros!A:F,6,0),\"\")","v":""},{"$f":"IFERROR(VLOOKUP(D143,Cadastros!A:I,9,0),\"\")","v":""},{"$f":"IFERROR(VLOOKUP(D143,Cadastros!A:J,10,0),\"\")","v":""},{"$f":"IF(COUNTIF(Tabela66[id],D143)=0,\"\",COUNTIF(Tabela66[id],D143))","v":""},null,"",null,null,{"$f":"IFERROR(VLOOKUP(O143,Cadastros!A:B,2),\"\")","v":""},"",{"$f":"IFERROR(VLOOKUP(O143,Cadastros!A:E,5,0),\"\")","v":""},{"$f":"IFERROR(VLOOKUP(O143,Cadastros!A:F,6,0),\"\")","v":""},{"$f":"IFERROR(VLOOKUP(O143,Cadastros!A:I,9,0),\"\")","v":""},"","","",null,{"$f":"INDEX(Tabela.abordagens[],SMALL(IF(Tabela.abordagens[Mês]=$L$2,ROW(Tabela.abordagens[id])-2),ROW(A96)),1)","v":{"$error":"#NUM!"}},{"$f":"INDEX(Tabela.abordagens[],SMALL(IF(Tabela.abordagens[Mês]=$L$2,ROW(Tabela.abordagens[Idade])-2),ROW(A96)),6)","v":{"$error":"#NUM!"}},{"$f":"INDEX(Tabela.abordagens[],SMALL(IF(Tabela.abordagens[Mês]=$L$2,ROW(Tabela.abordagens[Idade])-2),ROW(A96)),4)","v":{"$error":"#NUM!"}},{"$f":"INDEX(Tabela.abordagens[],SMALL(IF(Tabela.abordagens[Mês]=$L$2,ROW(Tabela.abordagens[Idade])-2),ROW(A96)),5)","v":{"$error":"#NUM!"}}]
[null,{"$f":"INDEX(Tabela.frequencia[],SMALL(IF(Tabela.frequencia[Mês]=$L$2,ROW(Tabela.frequencia[id])-1),ROW(A97)),1)","v":{"$error":"#NUM!"}},{"$f":"INDEX(Tabela.frequencia[],SMALL(IF(Tabela.frequencia[Mês]=$L$2,ROW(Tabela.frequencia[id])-1),ROW(A97)),4)","v":{"$error":"#NUM!"}},null,{"$f":"IFERROR(VLOOKUP(D144,Tabela.cadastro[[ID]:[Nome]],2,0),\"\")","v":""},{"$f":"IFERROR(VLOOKUP(D144,Tabela66[#All],2,0),\"\")","v":""},{"$f":"IFERROR(VLOOKUP(D144,Tabela.cadastro[[ID]:[CP ou M]],5,0),\"\")","v":""},{"$f":"IFERROR(VLOOKUP(D144,Cadastros!A:F,6,0),\"\")","v":""},{"$f":"IFERROR(VLOOKUP(D144,Cadastros!A:I,9,0),\"\")","v":""},{"$f":"IFERROR(VLOOKUP(D144,Cadastros!A:J,10,0),\"\")","v":""},{"$f":"IF(COUNTIF(Tabela66[id],D144)=0,\"\",COUNTIF(Tabela66[id],D144))","v":""},null,"",null,null,{"$f":"IFERROR(VLOOKUP(O144,Cadastros!A:B,2),\"\")","v":""},"",{"$f":"IFERROR(VLOOKUP(O144,Cadastros!A:E,5,0),\"\")","v":""},{"$f":"IFERROR(VLOOKUP(O144,Cadastros!A:F,6,0),\"\")","v":""},{"$f":"IFERROR(VLOOKUP(O144,Cadastros!A:I,9,0),\"\")","v":""},"","","",null,{"$f":"INDEX(Tabela.abordagens[],SMALL(IF(Tabela.abordagens[Mês]=$L$2,ROW(Tabela.abordagens[id])-2),ROW(A97)),1)","v":{"$error":"#NUM!"}},{"$f":"INDEX(Tabela.abordagens[],SMALL(IF(Tabela.abordagens[Mês]=$L$2,ROW(Tabela.abordagens[Idade])-2),ROW(A97)),6)","v":{"$error":"#NUM!"}},{"$f":"INDEX(Tabela.abordagens[],SMALL(IF(Tabela.abordagens[Mês]=$L$2,ROW(Tabela.abordagens[Idade])-2),ROW(A97)),4)","v":{"$error":"#NUM!"}},{"$f":"INDEX(Tabela.abordagens[],SMALL(IF(Tabela.abordagens[Mês]=$L$2,ROW(Tabela.abordagens[Idade])-2),ROW(A97)),5)","v":{"$error":"#NUM!"}}]
[null,{"$f":"INDEX(Tabela.frequencia[],SMALL(IF(Tabela.frequencia[Mês]=$L$2,ROW(Tabela.frequencia[id])-1),ROW(A98)),1)","v":{"$error":"#NUM!"}},{"$f":"INDEX(Tabela.frequencia[],SMALL(IF(Tabela.frequencia[Mês]=$L$2,ROW(Tabela.frequencia[id])-1),ROW(A98)),4)","v":{"$error":"#NUM!"}},null,{"$f":"IFERROR(VLOOKUP(D145,Tabela.cadastro[[ID]:[Nome]],2,0),\"\")","v":""},{"$f":"IFERROR(VLOOKUP(D145,Tabela66[#All],2,0),\"\")","v":""},{"$f":"IFERROR(VLOOKUP(D145,Tabela.cadastro[[ID]:[CP ou M]],5,0),\"\")","v":""},{"$f":"IFERROR(VLOOKUP(D145,Cadastros!A:F,6,0),\"\")","v":""},{"$f":"IFERROR(VLOOKUP(D145,Cadastros!A:I,9,0),\"\")","v":""},{"$f":"IFERROR(VLOOKUP(D145,Cadastros!A:J,10,0),\"\")","v":""},{"$f":"IF(COUNTIF(Tabela66[id],D145)=0,\"\",COUNTIF(Tabela66[id],D145))","v":""},null,"",null,null,{"$f":"IFERROR(VLOOKUP(O145,Cadastros!A:B,2),\"\")","v":""},"",{"$f":"IFERROR(VLOOKUP(O145,Cadastros!A:E,5,0),\"\")","v":""},{"$f":"IFERROR(VLOOKUP(O145,Cadastros!A:F,6,0),\"\")","v":""},{"$f":"IFERROR(VLOOKUP(O145,Cadastros!A:I,9,0),\"\")","v":""},"","","",null,{"$f":"INDEX(Tabela.abordagens[],SMALL(IF(Tabela.abordagens[Mês]=$L$2,ROW(Tabela.abordagens[id])-2),ROW(A98)),1)","v":{"$error":"#NUM!"}},{"$f":"INDEX(Tabela.abordagens[],SMALL(IF(Tabela.abordagens[Mês]=$L$2,ROW(Tabela.abordagens[Idade])-2),ROW(A98)),6)","v":{"$error":"#NUM!"}},{"$f":"INDEX(Tabela.abordagens[],SMALL(IF(Tabela.abordagens[Mês]=$L$2,ROW(Tabela.abordagens[Idade])-2),ROW(A98)),4)","v":{"$error":"#NUM!"}},{"$f":"INDEX(Tabela.abordagens[],SMALL(IF(Tabela.abordagens[Mês]=$L$2,ROW(Tabela.abordagens[Idade])-2),ROW(A98)),5)","v":{"$error":"#NUM!"}}]
[null,{"$f":"INDEX(Tabela.frequencia[],SMALL(IF(Tabela.frequencia[Mês]=$L$2,ROW(Tabela.frequencia[id])-1),ROW(A99)),1)","v":{"$error":"#NUM!"}},{"$f":"INDEX(Tabela.frequencia[],SMALL(IF(Tabela.frequencia[Mês]=$L$2,ROW(Tabela.frequencia[id])-1),ROW(A99)),4)","v":{"$error":"#NUM!"}},null,{"$f":"IFERROR(VLOOKUP(D146,Tabela.cadastro[[ID]:[Nome]],2,0),\"\")","v":""},{"$f":"IFERROR(VLOOKUP(D146,Tabela66[#All],2,0),\"\")","v":""},{"$f":"IFERROR(VLOOKUP(D146,Tabela.cadastro[[ID]:[CP ou M]],5,0),\"\")","v":""},{"$f":"IFERROR(VLOOKUP(D146,Cadastros!A:F,6,0),\"\")","v":""},{"$f":"IFERROR(VLOOKUP(D146,Cadastros!A:I,9,0),\"\")","v":""},{"$f":"IFERROR(VLOOKUP(D146,Cadastros!A:J,10,0),\"\")","v":""},{"$f":"IF(COUNTIF(Tabela66[id],D146)=0,\"\",COUNTIF(Tabela66[id],D146))","v":""},null,"",null,null,{"$f":"IFERROR(VLOOKUP(O146,Cadastros!A:B,2),\"\")","v":""},"",{"$f":"IFERROR(VLOOKUP(O146,Cadastros!A:E,5,0),\"\")","v":""},{"$f":"IFERROR(VLOOKUP(O146,Cadastros!A:F,6,0),\"\")","v":""},{"$f":"IFERROR(VLOOKUP(O146,Cadastros!A:I,9,0),\"\")","v":""},"","","",null,{"$f":"INDEX(Tabela.abordagens[],SMALL(IF(Tabela.abordagens[Mês]=$L$2,ROW(Tabela.abordagens[id])-2),ROW(A99)),1)","v":{"$error":"#NUM!"}},{"$f":"INDEX(Tabela.abordagens[],SMALL(IF(Tabela.abordagens[Mês]=$L$2,ROW(Tabela.abordagens[Idade])-2),ROW(A99)),6)","v":{"$error":"#NUM!"}},{"$f":"INDEX(Tabela.abordagens[],SMALL(IF(Tabela.abordagens[Mês]=$L$2,ROW(Tabela.abordagens[Idade])-2),ROW(A99)),4)","v":{"$error":"#NUM!"}},{"$f":"INDEX(Tabela.abordagens[],SMALL(IF(Tabela.abordagens[Mês]=$L$2,ROW(Tabela.abordagens[Idade])-2),ROW(A99)),5)","v":{"$error":"#NUM!"}}]
[null,{"$f":"INDEX(Tabela.frequencia[],SMALL(IF(Tabela.frequencia[Mês]=$L$2,ROW(Tabela.frequencia[id])-1),ROW(A100)),1)","v":{"$error":"#NUM!"}},{"$f":"INDEX(Tabela.frequencia[],SMALL(IF(Tabela.frequencia[Mês]=$L$2,ROW(Tabela.frequencia[id])-1),ROW(A100)),4)","v":{"$error":"#NUM!"}},null,{"$f":"IFERROR(VLOOKUP(D147,Tabela.cadastro[[ID]:[Nome]],2,0),\"\")","v":""},{"$f":"IFERROR(VLOOKUP(D147,Tabela66[#All],2,0),\"\")","v":""},{"$f":"IFERROR(VLOOKUP(D147,Tabela.cadastro[[ID]:[CP ou M]],5,0),\"\")","v":""},{"$f":"IFERROR(VLOOKUP(D147,Cadastros!A:F,6,0),\"\")","v":""},{"$f":"IFERROR(VLOOKUP(D147,Cadastros!A:I,9,0),\"\")","v":""},{"$f":"IFERROR(VLOOKUP(D147,Cadastros!A:J,10,0),\"\")","v":""},{"$f":"IF(COUNTIF(Tabela66[id],D147)=0,\"\",COUNTIF(Tabela66[id],D147))","v":""},null,"",null,null,{"$f":"IFERROR(VLOOKUP(O147,Cadastros!A:B,2),\"\")","v":""},"",{"$f":"IFERROR(VLOOKUP(O147,Cadastros!A:E,5,0),\"\")","v":""},{"$f":"IFERROR(VLOOKUP(O147,Cadastros!A:F,6,0),\"\")","v":""},{"$f":"IFERROR(VLOOKUP(O147,Cadastros!A:I,9,0),\"\")","v":""},"","","",null,{"$f":"INDEX(Tabela.abordagens[],SMALL(IF(Tabela.abordagens[Mês]=$L$2,ROW(Tabela.abordagens[id])-2),ROW(A100)),1)","v":{"$error":"#NUM!"}},{"$f":"INDEX(Tabela.abordagens[],SMALL(IF(Tabela.abordagens[Mês]=$L$2,ROW(Tabela.abordagens[Idade])-2),ROW(A100)),6)","v":{"$error":"#NUM!"}},{"$f":"INDEX(Tabela.abordagens[],SMALL(IF(Tabela.abordagens[Mês]=$L$2,ROW(Tabela.abordagens[Idade])-2),ROW(A100)),4)","v":{"$error":"#NUM!"}},{"$f":"INDEX(Tabela.abordagens[],SMALL(IF(Tabela.abordagens[Mês]=$L$2,ROW(Tabela.abordagens[Idade])-2),ROW(A100)),5)","v":{"$error":"#NUM!"}}]
[null,{"$f":"INDEX(Tabela.frequencia[],SMALL(IF(Tabela.frequencia[Mês]=$L$2,ROW(Tabela.frequencia[id])-1),ROW(A101)),1)","v":{"$error":"#NUM!"}},{"$f":"INDEX(Tabela.frequencia[],SMALL(IF(Tabela.frequencia[Mês]=$L$2,ROW(Tabela.frequencia[id])-1),ROW(A101)),4)","v":{"$error":"#NUM!"}},null,{"$f":"IFERROR(VLOOKUP(D148,Tabela.cadastro[[ID]:[Nome]],2,0),\"\")","v":""},{"$f":"IFERROR(VLOOKUP(D148,Tabela66[#All],2,0),\"\")","v":""},{"$f":"IFERROR(VLOOKUP(D148,Tabela.cadastro[[ID]:[CP ou M]],5,0),\"\")","v":""},{"$f":"IFERROR(VLOOKUP(D148,Cadastros!A:F,6,0),\"\")","v":""},{"$f":"IFERROR(VLOOKUP(D148,Cadastros!A:I,9,0),\"\")","v":""},{"$f":"IFERROR(VLOOKUP(D148,Cadastros!A:J,10,0),\"\")","v":""},{"$f":"IF(COUNTIF(Tabela66[id],D148)=0,\"\",COUNTIF(Tabela66[id],D148))","v":""},null,"",null,null,{"$f":"IFERROR(VLOOKUP(O148,Cadastros!A:B,2),\"\")","v":""},"",{"$f":"IFERROR(VLOOKUP(O148,Cadastros!A:E,5,0),\"\")","v":""},{"$f":"IFERROR(VLOOKUP(O148,Cadastros!A:F,6,0),\"\")","v":""},{"$f":"IFERROR(VLOOKUP(O148,Cadastros!A:I,9,0),\"\")","v":""},"","","",null,{"$f":"INDEX(Tabela.abordagens[],SMALL(IF(Tabela.abordagens[Mês]=$L$2,ROW(Tabela.abordagens[id])-2),ROW(A101)),1)","v":{"$error":"#NUM!"}},{"$f":"INDEX(Tabela.abordagens[],SMALL(IF(Tabela.abordagens[Mês]=$L$2,ROW(Tabela.abordagens[Idade])-2),ROW(A101)),6)","v":{"$error":"#NUM!"}},{"$f":"INDEX(Tabela.abordagens[],SMALL(IF(Tabela.abordagens[Mês]=$L$2,ROW(Tabela.abordagens[Idade])-2),ROW(A101)),4)","v":{"$error":"#NUM!"}},{"$f":"INDEX(Tabela.abordagens[],SMALL(IF(Tabela.abordagens[Mês]=$L$2,ROW(Tabela.abordagens[Idade])-2),ROW(A101)),5)","v":{"$error":"#NUM!"}}]
[null,{"$f":"INDEX(Tabela.frequencia[],SMALL(IF(Tabela.frequencia[Mês]=$L$2,ROW(Tabela.frequencia[id])-1),ROW(A102)),1)","v":{"$error":"#NUM!"}},{"$f":"INDEX(Tabela.frequencia[],SMALL(IF(Tabela.frequencia[Mês]=$L$2,ROW(Tabela.frequencia[id])-1),ROW(A102)),4)","v":{"$error":"#NUM!"}},null,{"$f":"IFERROR(VLOOKUP(D149,Tabela.cadastro[[ID]:[Nome]],2,0),\"\")","v":""},{"$f":"IFERROR(VLOOKUP(D149,Tabela66[#All],2,0),\"\")","v":""},{"$f":"IFERROR(VLOOKUP(D149,Tabela.cadastro[[ID]:[CP ou M]],5,0),\"\")","v":""},{"$f":"IFERROR(VLOOKUP(D149,Cadastros!A:F,6,0),\"\")","v":""},{"$f":"IFERROR(VLOOKUP(D149,Cadastros!A:I,9,0),\"\")","v":""},{"$f":"IFERROR(VLOOKUP(D149,Cadastros!A:J,10,0),\"\")","v":""},{"$f":"IF(COUNTIF(Tabela66[id],D149)=0,\"\",COUNTIF(Tabela66[id],D149))","v":""},null,"",null,null,{"$f":"IFERROR(VLOOKUP(O149,Cadastros!A:B,2),\"\")","v":""},"",{"$f":"IFERROR(VLOOKUP(O149,Cadastros!A:E,5,0),\"\")","v":""},{"$f":"IFERROR(VLOOKUP(O149,Cadastros!A:F,6,0),\"\")","v":""},{"$f":"IFERROR(VLOOKUP(O149,Cadastros!A:I,9,0),\"\")","v":""},"","","",null,{"$f":"INDEX(Tabela.abordagens[],SMALL(IF(Tabela.abordagens[Mês]=$L$2,ROW(Tabela.abordagens[id])-2),ROW(A102)),1)","v":{"$error":"#NUM!"}},{"$f":"INDEX(Tabela.abordagens[],SMALL(IF(Tabela.abordagens[Mês]=$L$2,ROW(Tabela.abordagens[Idade])-2),ROW(A102)),6)","v":{"$error":"#NUM!"}},{"$f":"INDEX(Tabela.abordagens[],SMALL(IF(Tabela.abordagens[Mês]=$L$2,ROW(Tabela.abordagens[Idade])-2),ROW(A102)),4)","v":{"$error":"#NUM!"}},{"$f":"INDEX(Tabela.abordagens[],SMALL(IF(Tabela.abordagens[Mês]=$L$2,ROW(Tabela.abordagens[Idade])-2),ROW(A102)),5)","v":{"$error":"#NUM!"}}]
[null,{"$f":"INDEX(Tabela.frequencia[],SMALL(IF(Tabela.frequencia[Mês]=$L$2,ROW(Tabela.frequencia[id])-1),ROW(A103)),1)","v":{"$error":"#NUM!"}},{"$f":"INDEX(Tabela.frequencia[],SMALL(IF(Tabela.frequencia[Mês]=$L$2,ROW(Tabela.frequencia[id])-1),ROW(A103)),4)","v":{"$error":"#NUM!"}},null,{"$f":"IFERROR(VLOOKUP(D150,Tabela.cadastro[[ID]:[Nome]],2,0),\"\")","v":""},{"$f":"IFERROR(VLOOKUP(D150,Tabela66[#All],2,0),\"\")","v":""},{"$f":"IFERROR(VLOOKUP(D150,Tabela.cadastro[[ID]:[CP ou M]],5,0),\"\")","v":""},{"$f":"IFERROR(VLOOKUP(D150,Cadastros!A:F,6,0),\"\")","v":""},{"$f":"IFERROR(VLOOKUP(D150,Cadastros!A:I,9,0),\"\")","v":""},{"$f":"IFERROR(VLOOKUP(D150,Cadastros!A:J,10,0),\"\")","v":""},{"$f":"IF(COUNTIF(Tabela66[id],D150)=0,\"\",COUNTIF(Tabela66[id],D150))","v":""},null,"",null,null,{"$f":"IFERROR(VLOOKUP(O150,Cadastros!A:B,2),\"\")","v":""},"",{"$f":"IFERROR(VLOOKUP(O150,Cadastros!A:E,5,0),\"\")","v":""},{"$f":"IFERROR(VLOOKUP(O150,Cadastros!A:F,6,0),\"\")","v":""},{"$f":"IFERROR(VLOOKUP(O150,Cadastros!A:I,9,0),\"\")","v":""},"","","",null,{"$f":"INDEX(Tabela.abordagens[],SMALL(IF(Tabela.abordagens[Mês]=$L$2,ROW(Tabela.abordagens[id])-2),ROW(A103)),1)","v":{"$error":"#NUM!"}},{"$f":"INDEX(Tabela.abordagens[],SMALL(IF(Tabela.abordagens[Mês]=$L$2,ROW(Tabela.abordagens[Idade])-2),ROW(A103)),6)","v":{"$error":"#NUM!"}},{"$f":"INDEX(Tabela.abordagens[],SMALL(IF(Tabela.abordagens[Mês]=$L$2,ROW(Tabela.abordagens[Idade])-2),ROW(A103)),4)","v":{"$error":"#NUM!"}},{"$f":"INDEX(Tabela.abordagens[],SMALL(IF(Tabela.abordagens[Mês]=$L$2,ROW(Tabela.abordagens[Idade])-2),ROW(A103)),5)","v":{"$error":"#NUM!"}}]
[null,{"$f":"INDEX(Tabela.frequencia[],SMALL(IF(Tabela.frequencia[Mês]=$L$2,ROW(Tabela.frequencia[id])-1),ROW(A104)),1)","v":{"$error":"#NUM!"}},{"$f":"INDEX(Tabela.frequencia[],SMALL(IF(Tabela.frequencia[Mês]=$L$2,ROW(Tabela.frequencia[id])-1),ROW(A104)),4)","v":{"$error":"#NUM!"}},null,{"$f":"IFERROR(VLOOKUP(D151,Tabela.cadastro[[ID]:[Nome]],2,0),\"\")","v":""},{"$f":"IFERROR(VLOOKUP(D151,Tabela66[#All],2,0),\"\")","v":""},{"$f":"IFERROR(VLOOKUP(D151,Tabela.cadastro[[ID]:[CP ou M]],5,0),\"\")","v":""},{"$f":"IFERROR(VLOOKUP(D151,Cadastros!A:F,6,0),\"\")","v":""},{"$f":"IFERROR(VLOOKUP(D151,Cadastros!A:I,9,0),\"\")","v":""},{"$f":"IFERROR(VLOOKUP(D151,Cadastros!A:J,10,0),\"\")","v":""},{"$f":"IF(COUNTIF(Tabela66[id],D151)=0,\"\",COUNTIF(Tabela66[id],D151))","v":""},null,"",null,null,{"$f":"IFERROR(VLOOKUP(O151,Cadastros!A:B,2),\"\")","v":""},"",{"$f":"IFERROR(VLOOKUP(O151,Cadastros!A:E,5,0),\"\")","v":""},{"$f":"IFERROR(VLOOKUP(O151,Cadastros!A:F,6,0),\"\")","v":""},{"$f":"IFERROR(VLOOKUP(O151,Cadastros!A:I,9,0),\"\")","v":""},"","","",null,{"$f":"INDEX(Tabela.abordagens[],SMALL(IF(Tabela.abordagens[Mês]=$L$2,ROW(Tabela.abordagens[id])-2),ROW(A104)),1)","v":{"$error":"#NUM!"}},{"$f":"INDEX(Tabela.abordagens[],SMALL(IF(Tabela.abordagens[Mês]=$L$2,ROW(Tabela.abordagens[Idade])-2),ROW(A104)),6)","v":{"$error":"#NUM!"}},{"$f":"INDEX(Tabela.abordagens[],SMALL(IF(Tabela.abordagens[Mês]=$L$2,ROW(Tabela.abordagens[Idade])-2),ROW(A104)),4)","v":{"$error":"#NUM!"}},{"$f":"INDEX(Tabela.abordagens[],SMALL(IF(Tabela.abordagens[Mês]=$L$2,ROW(Tabela.abordagens[Idade])-2),ROW(A104)),5)","v":{"$error":"#NUM!"}}]
[null,{"$f":"INDEX(Tabela.frequencia[],SMALL(IF(Tabela.frequencia[Mês]=$L$2,ROW(Tabela.frequencia[id])-1),ROW(A105)),1)","v":{"$error":"#NUM!"}},{"$f":"INDEX(Tabela.frequencia[],SMALL(IF(Tabela.frequencia[Mês]=$L$2,ROW(Tabela.frequencia[id])-1),ROW(A105)),4)","v":{"$error":"#NUM!"}},null,{"$f":"IFERROR(VLOOKUP(D152,Tabela.cadastro[[ID]:[Nome]],2,0),\"\")","v":""},{"$f":"IFERROR(VLOOKUP(D152,Tabela66[#All],2,0),\"\")","v":""},{"$f":"IFERROR(VLOOKUP(D152,Tabela.cadastro[[ID]:[CP ou M]],5,0),\"\")","v":""},{"$f":"IFERROR(VLOOKUP(D152,Cadastros!A:F,6,0),\"\")","v":""},{"$f":"IFERROR(VLOOKUP(D152,Cadastros!A:I,9,0),\"\")","v":""},{"$f":"IFERROR(VLOOKUP(D152,Cadastros!A:J,10,0),\"\")","v":""},{"$f":"IF(COUNTIF(Tabela66[id],D152)=0,\"\",COUNTIF(Tabela66[id],D152))","v":""},null,"",null,null,{"$f":"IFERROR(VLOOKUP(O152,Cadastros!A:B,2),\"\")","v":""},"",{"$f":"IFERROR(VLOOKUP(O152,Cadastros!A:E,5,0),\"\")","v":""},{"$f":"IFERROR(VLOOKUP(O152,Cadastros!A:F,6,0),\"\")","v":""},{"$f":"IFERROR(VLOOKUP(O152,Cadastros!A:I,9,0),\"\")","v":""},"","","",null,{"$f":"INDEX(Tabela.abordagens[],SMALL(IF(Tabela.abordagens[Mês]=$L$2,ROW(Tabela.abordagens[id])-2),ROW(A105)),1)","v":{"$error":"#NUM!"}},{"$f":"INDEX(Tabela.abordagens[],SMALL(IF(Tabela.abordagens[Mês]=$L$2,ROW(Tabela.abordagens[Idade])-2),ROW(A105)),6)","v":{"$error":"#NUM!"}},{"$f":"INDEX(Tabela.abordagens[],SMALL(IF(Tabela.abordagens[Mês]=$L$2,ROW(Tabela.abordagens[Idade])-2),ROW(A105)),4)","v":{"$error":"#NUM!"}},{"$f":"INDEX(Tabela.abordagens[],SMALL(IF(Tabela.abordagens[Mês]=$L$2,ROW(Tabela.abordagens[Idade])-2),ROW(A105)),5)","v":{"$error":"#NUM!"}}]
[null,{"$f":"INDEX(Tabela.frequencia[],SMALL(IF(Tabela.frequencia[Mês]=$L$2,ROW(Tabela.frequencia[id])-1),ROW(A106)),1)","v":{"$error":"#NUM!"}},{"$f":"INDEX(Tabela.frequencia[],SMALL(IF(Tabela.frequencia[Mês]=$L$2,ROW(Tabela.frequencia[id])-1),ROW(A106)),4)","v":{"$error":"#NUM!"}},null,{"$f":"IFERROR(VLOOKUP(D153,Tabela.cadastro[[ID]:[Nome]],2,0),\"\")","v":""},{"$f":"IFERROR(VLOOKUP(D153,Tabela66[#All],2,0),\"\")","v":""},{"$f":"IFERROR(VLOOKUP(D153,Tabela.cadastro[[ID]:[CP ou M]],5,0),\"\")","v":""},{"$f":"IFERROR(VLOOKUP(D153,Cadastros!A:F,6,0),\"\")","v":""},{"$f":"IFERROR(VLOOKUP(D153,Cadastros!A:I,9,0),\"\")","v":""},{"$f":"IFERROR(VLOOKUP(D153,Cadastros!A:J,10,0),\"\")","v":""},{"$f":"IF(COUNTIF(Tabela66[id],D153)=0,\"\",COUNTIF(Tabela66[id],D153))","v":""},null,"",null,null,{"$f":"IFERROR(VLOOKUP(O153,Cadastros!A:B,2),\"\")","v":""},"",{"$f":"IFERROR(VLOOKUP(O153,Cadastros!A:E,5,0),\"\")","v":""},{"$f":"IFERROR(VLOOKUP(O153,Cadastros!A:F,6,0),\"\")","v":""},{"$f":"IFERROR(VLOOKUP(O153,Cadastros!A:I,9,0),\"\")","v":""},"","","",null,{"$f":"INDEX(Tabela.abordagens[],SMALL(IF(Tabela.abordagens[Mês]=$L$2,ROW(Tabela.abordagens[id])-2),ROW(A106)),1)","v":{"$error":"#NUM!"}},{"$f":"INDEX(Tabela.abordagens[],SMALL(IF(Tabela.abordagens[Mês]=$L$2,ROW(Tabela.abordagens[Idade])-2),ROW(A106)),6)","v":{"$error":"#NUM!"}},{"$f":"INDEX(Tabela.abordagens[],SMALL(IF(Tabela.abordagens[Mês]=$L$2,ROW(Tabela.abordagens[Idade])-2),ROW(A106)),4)","v":{"$error":"#NUM!"}},{"$f":"INDEX(Tabela.abordagens[],SMALL(IF(Tabela.abordagens[Mês]=$L$2,ROW(Tabela.abordagens[Idade])-2),ROW(A106)),5)","v":{"$error":"#NUM!"}}]
[null,{"$f":"INDEX(Tabela.frequencia[],SMALL(IF(Tabela.frequencia[Mês]=$L$2,ROW(Tabela.frequencia[id])-1),ROW(A107)),1)","v":{"$error":"#NUM!"}},{"$f":"INDEX(Tabela.frequencia[],SMALL(IF(Tabela.frequencia[Mês]=$L$2,ROW(Tabela.frequencia[id])-1),ROW(A107)),4)","v":{"$error":"#NUM!"}},null,{"$f":"IFERROR(VLOOKUP(D154,Tabela.cadastro[[ID]:[Nome]],2,0),\"\")","v":""},{"$f":"IFERROR(VLOOKUP(D154,Tabela66[#All],2,0),\"\")","v":""},{"$f":"IFERROR(VLOOKUP(D154,Tabela.cadastro[[ID]:[CP ou M]],5,0),\"\")","v":""},{"$f":"IFERROR(VLOOKUP(D154,Cadastros!A:F,6,0),\"\")","v":""},{"$f":"IFERROR(VLOOKUP(D154,Cadastros!A:I,9,0),\"\")","v":""},{"$f":"IFERROR(VLOOKUP(D154,Cadastros!A:J,10,0),\"\")","v":""},{"$f":"IF(COUNTIF(Tabela66[id],D154)=0,\"\",COUNTIF(Tabela66[id],D154))","v":""},null,"",null,null,{"$f":"IFERROR(VLOOKUP(O154,Cadastros!A:B,2),\"\")","v":""},"",{"$f":"IFERROR(VLOOKUP(O154,Cadastros!A:E,5,0),\"\")","v":""},{"$f":"IFERROR(VLOOKUP(O154,Cadastros!A:F,6,0),\"\")","v":""},{"$f":"IFERROR(VLOOKUP(O154,Cadastros!A:I,9,0),\"\")","v":""},"","","",null,{"$f":"INDEX(Tabela.abordagens[],SMALL(IF(Tabela.abordagens[Mês]=$L$2,ROW(Tabela.abordagens[id])-2),ROW(A107)),1)","v":{"$error":"#NUM!"}},{"$f":"INDEX(Tabela.abordagens[],SMALL(IF(Tabela.abordagens[Mês]=$L$2,ROW(Tabela.abordagens[Idade])-2),ROW(A107)),6)","v":{"$error":"#NUM!"}},{"$f":"INDEX(Tabela.abordagens[],SMALL(IF(Tabela.abordagens[Mês]=$L$2,ROW(Tabela.abordagens[Idade])-2),ROW(A107)),4)","v":{"$error":"#NUM!"}},{"$f":"INDEX(Tabela.abordagens[],SMALL(IF(Tabela.abordagens[Mês]=$L$2,ROW(Tabela.abordagens[Idade])-2),ROW(A107)),5)","v":{"$error":"#NUM!"}}]
[null,{"$f":"INDEX(Tabela.frequencia[],SMALL(IF(Tabela.frequencia[Mês]=$L$2,ROW(Tabela.frequencia[id])-1),ROW(A108)),1)","v":{"$error":"#NUM!"}},{"$f":"INDEX(Tabela.frequencia[],SMALL(IF(Tabela.frequencia[Mês]=$L$2,ROW(Tabela.frequencia[id])-1),ROW(A108)),4)","v":{"$error":"#NUM!"}},null,{"$f":"IFERROR(VLOOKUP(D155,Tabela.cadastro[[ID]:[Nome]],2,0),\"\")","v":""},{"$f":"IFERROR(VLOOKUP(D155,Tabela66[#All],2,0),\"\")","v":""},{"$f":"IFERROR(VLOOKUP(D155,Tabela.cadastro[[ID]:[CP ou M]],5,0),\"\")","v":""},{"$f":"IFERROR(VLOOKUP(D155,Cadastros!A:F,6,0),\"\")","v":""},{"$f":"IFERROR(VLOOKUP(D155,Cadastros!A:I,9,0),\"\")","v":""},{"$f":"IFERROR(VLOOKUP(D155,Cadastros!A:J,10,0),\"\")","v":""},{"$f":"IF(COUNTIF(Tabela66[id],D155)=0,\"\",COUNTIF(Tabela66[id],D155))","v":""},null,"",null,null,{"$f":"IFERROR(VLOOKUP(O155,Cadastros!A:B,2),\"\")","v":""},"",{"$f":"IFERROR(VLOOKUP(O155,Cadastros!A:E,5,0),\"\")","v":""},{"$f":"IFERROR(VLOOKUP(O155,Cadastros!A:F,6,0),\"\")","v":""},{"$f":"IFERROR(VLOOKUP(O155,Cadastros!A:I,9,0),\"\")","v":""},"","","",null,{"$f":"INDEX(Tabela.abordagens[],SMALL(IF(Tabela.abordagens[Mês]=$L$2,ROW(Tabela.abordagens[id])-2),ROW(A108)),1)","v":{"$error":"#NUM!"}},{"$f":"INDEX(Tabela.abordagens[],SMALL(IF(Tabela.abordagens[Mês]=$L$2,ROW(Tabela.abordagens[Idade])-2),ROW(A108)),6)","v":{"$error":"#NUM!"}},{"$f":"INDEX(Tabela.abordagens[],SMALL(IF(Tabela.abordagens[Mês]=$L$2,ROW(Tabela.abordagens[Idade])-2),ROW(A108)),4)","v":{"$error":"#NUM!"}},{"$f":"INDEX(Tabela.abordagens[],SMALL(IF(Tabela.abordagens[Mês]=$L$2,ROW(Tabela.abordagens[Idade])-2),ROW(A108)),5)","v":{"$error":"#NUM!"}}]
[null,{"$f":"INDEX(Tabela.frequencia[],SMALL(IF(Tabela.frequencia[Mês]=$L$2,ROW(Tabela.frequencia[id])-1),ROW(A109)),1)","v":{"$error":"#NUM!"}},{"$f":"INDEX(Tabela.frequencia[],SMALL(IF(Tabela.frequencia[Mês]=$L$2,ROW(Tabela.frequencia[id])-1),ROW(A109)),4)","v":{"$error":"#NUM!"}},null,{"$f":"IFERROR(VLOOKUP(D156,Tabela.cadastro[[ID]:[Nome]],2,0),\"\")","v":""},{"$f":"IFERROR(VLOOKUP(D156,Tabela66[#All],2,0),\"\")","v":""},{"$f":"IFERROR(VLOOKUP(D156,Tabela.cadastro[[ID]:[CP ou M]],5,0),\"\")","v":""},{"$f":"IFERROR(VLOOKUP(D156,Cadastros!A:F,6,0),\"\")","v":""},{"$f":"IFERROR(VLOOKUP(D156,Cadastros!A:I,9,0),\"\")","v":""},{"$f":"IFERROR(VLOOKUP(D156,Cadastros!A:J,10,0),\"\")","v":""},{"$f":"IF(COUNTIF(Tabela66[id],D156)=0,\"\",COUNTIF(Tabela66[id],D156))","v":""},null,"",null,null,{"$f":"IFERROR(VLOOKUP(O156,Cadastros!A:B,2),\"\")","v":""},"",{"$f":"IFERROR(VLOOKUP(O156,Cadastros!A:E,5,0),\"\")","v":""},{"$f":"IFERROR(VLOOKUP(O156,Cadastros!A:F,6,0),\"\")","v":""},{"$f":"IFERROR(VLOOKUP(O156,Cadastros!A:I,9,0),\"\")","v":""},"","","",null,{"$f":"INDEX(Tabela.abordagens[],SMALL(IF(Tabela.abordagens[Mês]=$L$2,ROW(Tabela.abordagens[id])-2),ROW(A109)),1)","v":{"$error":"#NUM!"}},{"$f":"INDEX(Tabela.abordagens[],SMALL(IF(Tabela.abordagens[Mês]=$L$2,ROW(Tabela.abordagens[Idade])-2),ROW(A109)),6)","v":{"$error":"#NUM!"}},{"$f":"INDEX(Tabela.abordagens[],SMALL(IF(Tabela.abordagens[Mês]=$L$2,ROW(Tabela.abordagens[Idade])-2),ROW(A109)),4)","v":{"$error":"#NUM!"}},{"$f":"INDEX(Tabela.abordagens[],SMALL(IF(Tabela.abordagens[Mês]=$L$2,ROW(Tabela.abordagens[Idade])-2),ROW(A109)),5)","v":{"$error":"#NUM!"}}]
[null,{"$f":"INDEX(Tabela.frequencia[],SMALL(IF(Tabela.frequencia[Mês]=$L$2,ROW(Tabela.frequencia[id])-1),ROW(A110)),1)","v":{"$error":"#NUM!"}},{"$f":"INDEX(Tabela.frequencia[],SMALL(IF(Tabela.frequencia[Mês]=$L$2,ROW(Tabela.frequencia[id])-1),ROW(A110)),4)","v":{"$error":"#NUM!"}},null,{"$f":"IFERROR(VLOOKUP(D157,Tabela.cadastro[[ID]:[Nome]],2,0),\"\")","v":""},{"$f":"IFERROR(VLOOKUP(D157,Tabela66[#All],2,0),\"\")","v":""},{"$f":"IFERROR(VLOOKUP(D157,Tabela.cadastro[[ID]:[CP ou M]],5,0),\"\")","v":""},{"$f":"IFERROR(VLOOKUP(D157,Cadastros!A:F,6,0),\"\")","v":""},{"$f":"IFERROR(VLOOKUP(D157,Cadastros!A:I,9,0),\"\")","v":""},{"$f":"IFERROR(VLOOKUP(D157,Cadastros!A:J,10,0),\"\")","v":""},{"$f":"IF(COUNTIF(Tabela66[id],D157)=0,\"\",COUNTIF(Tabela66[id],D157))","v":""},null,"",null,null,{"$f":"IFERROR(VLOOKUP(O157,Cadastros!A:B,2),\"\")","v":""},"",{"$f":"IFERROR(VLOOKUP(O157,Cadastros!A:E,5,0),\"\")","v":""},{"$f":"IFERROR(VLOOKUP(O157,Cadastros!A:F,6,0),\"\")","v":""},{"$f":"IFERROR(VLOOKUP(O157,Cadastros!A:I,9,0),\"\")","v":""},"","","",null,{"$f":"INDEX(Tabela.abordagens[],SMALL(IF(Tabela.abordagens[Mês]=$L$2,ROW(Tabela.abordagens[id])-2),ROW(A110)),1)","v":{"$error":"#NUM!"}},{"$f":"INDEX(Tabela.abordagens[],SMALL(IF(Tabela.abordagens[Mês]=$L$2,ROW(Tabela.abordagens[Idade])-2),ROW(A110)),6)","v":{"$error":"#NUM!"}},{"$f":"INDEX(Tabela.abordagens[],SMALL(IF(Tabela.abordagens[Mês]=$L$2,ROW(Tabela.abordagens[Idade])-2),ROW(A110)),4)","v":{"$error":"#NUM!"}},{"$f":"INDEX(Tabela.abordagens[],SMALL(IF(Tabela.abordagens[Mês]=$L$2,ROW(Tabela.abordagens[Idade])-2),ROW(A110)),5)","v":{"$error":"#NUM!"}}]
[null,{"$f":"INDEX(Tabela.frequencia[],SMALL(IF(Tabela.frequencia[Mês]=$L$2,ROW(Tabela.frequencia[id])-1),ROW(A111)),1)","v":{"$error":"#NUM!"}},{"$f":"INDEX(Tabela.frequencia[],SMALL(IF(Tabela.frequencia[Mês]=$L$2,ROW(Tabela.frequencia[id])-1),ROW(A111)),4)","v":{"$error":"#NUM!"}},null,{"$f":"IFERROR(VLOOKUP(D158,Tabela.cadastro[[ID]:[Nome]],2,0),\"\")","v":""},{"$f":"IFERROR(VLOOKUP(D158,Tabela66[#All],2,0),\"\")","v":""},{"$f":"IFERROR(VLOOKUP(D158,Tabela.cadastro[[ID]:[CP ou M]],5,0),\"\")","v":""},{"$f":"IFERROR(VLOOKUP(D158,Cadastros!A:F,6,0),\"\")","v":""},{"$f":"IFERROR(VLOOKUP(D158,Cadastros!A:I,9,0),\"\")","v":""},{"$f":"IFERROR(VLOOKUP(D158,Cadastros!A:J,10,0),\"\")","v":""},{"$f":"IF(COUNTIF(Tabela66[id],D158)=0,\"\",COUNTIF(Tabela66[id],D158))","v":""},null,"",null,null,{"$f":"IFERROR(VLOOKUP(O158,Cadastros!A:B,2),\"\")","v":""},"",{"$f":"IFERROR(VLOOKUP(O158,Cadastros!A:E,5,0),\"\")","v":""},{"$f":"IFERROR(VLOOKUP(O158,Cadastros!A:F,6,0),\"\")","v":""},{"$f":"IFERROR(VLOOKUP(O158,Cadastros!A:I,9,0),\"\")","v":""},"","","",null,{"$f":"INDEX(Tabela.abordagens[],SMALL(IF(Tabela.abordagens[Mês]=$L$2,ROW(Tabela.abordagens[id])-2),ROW(A111)),1)","v":{"$error":"#NUM!"}},{"$f":"INDEX(Tabela.abordagens[],SMALL(IF(Tabela.abordagens[Mês]=$L$2,ROW(Tabela.abordagens[Idade])-2),ROW(A111)),6)","v":{"$error":"#NUM!"}},{"$f":"INDEX(Tabela.abordagens[],SMALL(IF(Tabela.abordagens[Mês]=$L$2,ROW(Tabela.abordagens[Idade])-2),ROW(A111)),4)","v":{"$error":"#NUM!"}},{"$f":"INDEX(Tabela.abordagens[],SMALL(IF(Tabela.abordagens[Mês]=$L$2,ROW(Tabela.abordagens[Idade])-2),ROW(A111)),5)","v":{"$error":"#NUM!"}}]
[null,{"$f":"INDEX(Tabela.frequencia[],SMALL(IF(Tabela.frequencia[Mês]=$L$2,ROW(Tabela.frequencia[id])-1),ROW(A112)),1)","v":{"$error":"#NUM!"}},{"$f":"INDEX(Tabela.frequencia[],SMALL(IF(Tabela.frequencia[Mês]=$L$2,ROW(Tabela.frequencia[id])-1),ROW(A112)),4)","v":{"$error":"#NUM!"}},null,{"$f":"IFERROR(VLOOKUP(D159,Tabela.cadastro[[ID]:[Nome]],2,0),\"\")","v":""},{"$f":"IFERROR(VLOOKUP(D159,Tabela66[#All],2,0),\"\")","v":""},{"$f":"IFERROR(VLOOKUP(D159,Tabela.cadastro[[ID]:[CP ou M]],5,0),\"\")","v":""},{"$f":"IFERROR(VLOOKUP(D159,Cadastros!A:F,6,0),\"\")","v":""},{"$f":"IFERROR(VLOOKUP(D159,Cadastros!A:I,9,0),\"\")","v":""},{"$f":"IFERROR(VLOOKUP(D159,Cadastros!A:J,10,0),\"\")","v":""},{"$f":"IF(COUNTIF(Tabela66[id],D159)=0,\"\",COUNTIF(Tabela66[id],D159))","v":""},null,"",null,null,{"$f":"IFERROR(VLOOKUP(O159,Cadastros!A:B,2),\"\")","v":""},"",{"$f":"IFERROR(VLOOKUP(O159,Cadastros!A:E,5,0),\"\")","v":""},{"$f":"IFERROR(VLOOKUP(O159,Cadastros!A:F,6,0),\"\")","v":""},{"$f":"IFERROR(VLOOKUP(O159,Cadastros!A:I,9,0),\"\")","v":""},"","","",null,{"$f":"INDEX(Tabela.abordagens[],SMALL(IF(Tabela.abordagens[Mês]=$L$2,ROW(Tabela.abordagens[id])-2),ROW(A112)),1)","v":{"$error":"#NUM!"}},{"$f":"INDEX(Tabela.abordagens[],SMALL(IF(Tabela.abordagens[Mês]=$L$2,ROW(Tabela.abordagens[Idade])-2),ROW(A112)),6)","v":{"$error":"#NUM!"}},{"$f":"INDEX(Tabela.abordagens[],SMALL(IF(Tabela.abordagens[Mês]=$L$2,ROW(Tabela.abordagens[Idade])-2),ROW(A112)),4)","v":{"$error":"#NUM!"}},{"$f":"INDEX(Tabela.abordagens[],SMALL(IF(Tabela.abordagens[Mês]=$L$2,ROW(Tabela.abordagens[Idade])-2),ROW(A112)),5)","v":{"$error":"#NUM!"}}]
[null,{"$f":"INDEX(Tabela.frequencia[],SMALL(IF(Tabela.frequencia[Mês]=$L$2,ROW(Tabela.frequencia[id])-1),ROW(A113)),1)","v":{"$error":"#NUM!"}},{"$f":"INDEX(Tabela.frequencia[],SMALL(IF(Tabela.frequencia[Mês]=$L$2,ROW(Tabela.frequencia[id])-1),ROW(A113)),4)","v":{"$error":"#NUM!"}},null,{"$f":"IFERROR(VLOOKUP(D160,Tabela.cadastro[[ID]:[Nome]],2,0),\"\")","v":""},{"$f":"IFERROR(VLOOKUP(D160,Tabela66[#All],2,0),\"\")","v":""},{"$f":"IFERROR(VLOOKUP(D160,Tabela.cadastro[[ID]:[CP ou M]],5,0),\"\")","v":""},{"$f":"IFERROR(VLOOKUP(D160,Cadastros!A:F,6,0),\"\")","v":""},{"$f":"IFERROR(VLOOKUP(D160,Cadastros!A:I,9,0),\"\")","v":""},{"$f":"IFERROR(VLOOKUP(D160,Cadastros!A:J,10,0),\"\")","v":""},{"$f":"IF(COUNTIF(Tabela66[id],D160)=0,\"\",COUNTIF(Tabela66[id],D160))","v":""},null,"",null,null,{"$f":"IFERROR(VLOOKUP(O160,Cadastros!A:B,2),\"\")","v":""},"",{"$f":"IFERROR(VLOOKUP(O160,Cadastros!A:E,5,0),\"\")","v":""},{"$f":"IFERROR(VLOOKUP(O160,Cadastros!A:F,6,0),\"\")","v":""},{"$f":"IFERROR(VLOOKUP(O160,Cadastros!A:I,9,0),\"\")","v":""},"","","",null,{"$f":"INDEX(Tabela.abordagens[],SMALL(IF(Tabela.abordagens[Mês]=$L$2,ROW(Tabela.abordagens[id])-2),ROW(A113)),1)","v":{"$error":"#NUM!"}},{"$f":"INDEX(Tabela.abordagens[],SMALL(IF(Tabela.abordagens[Mês]=$L$2,ROW(Tabela.abordagens[Idade])-2),ROW(A113)),6)","v":{"$error":"#NUM!"}},{"$f":"INDEX(Tabela.abordagens[],SMALL(IF(Tabela.abordagens[Mês]=$L$2,ROW(Tabela.abordagens[Idade])-2),ROW(A113)),4)","v":{"$error":"#NUM!"}},{"$f":"INDEX(Tabela.abordagens[],SMALL(IF(Tabela.abordagens[Mês]=$L$2,ROW(Tabela.abordagens[Idade])-2),ROW(A113)),5)","v":{"$error":"#NUM!"}}]
[null,{"$f":"INDEX(Tabela.frequencia[],SMALL(IF(Tabela.frequencia[Mês]=$L$2,ROW(Tabela.frequencia[id])-1),ROW(A114)),1)","v":{"$error":"#NUM!"}},{"$f":"INDEX(Tabela.frequencia[],SMALL(IF(Tabela.frequencia[Mês]=$L$2,ROW(Tabela.frequencia[id])-1),ROW(A114)),4)","v":{"$error":"#NUM!"}},null,{"$f":"IFERROR(VLOOKUP(D161,Tabela.cadastro[[ID]:[Nome]],2,0),\"\")","v":""},{"$f":"IFERROR(VLOOKUP(D161,Tabela66[#All],2,0),\"\")","v":""},{"$f":"IFERROR(VLOOKUP(D161,Tabela.cadastro[[ID]:[CP ou M]],5,0),\"\")","v":""},{"$f":"IFERROR(VLOOKUP(D161,Cadastros!A:F,6,0),\"\")","v":""},{"$f":"IFERROR(VLOOKUP(D161,Cadastros!A:I,9,0),\"\")","v":""},{"$f":"IFERROR(VLOOKUP(D161,Cadastros!A:J,10,0),\"\")","v":""},{"$f":"IF(COUNTIF(Tabela66[id],D161)=0,\"\",COUNTIF(Tabela66[id],D161))","v":""},null,"",null,null,{"$f":"IFERROR(VLOOKUP(O161,Cadastros!A:B,2),\"\")","v":""},"",{"$f":"IFERROR(VLOOKUP(O161,Cadastros!A:E,5,0),\"\")","v":""},{"$f":"IFERROR(VLOOKUP(O161,Cadastros!A:F,6,0),\"\")","v":""},{"$f":"IFERROR(VLOOKUP(O161,Cadastros!A:I,9,0),\"\")","v":""},"","","",null,{"$f":"INDEX(Tabela.abordagens[],SMALL(IF(Tabela.abordagens[Mês]=$L$2,ROW(Tabela.abordagens[id])-2),ROW(A114)),1)","v":{"$error":"#NUM!"}},{"$f":"INDEX(Tabela.abordagens[],SMALL(IF(Tabela.abordagens[Mês]=$L$2,ROW(Tabela.abordagens[Idade])-2),ROW(A114)),6)","v":{"$error":"#NUM!"}},{"$f":"INDEX(Tabela.abordagens[],SMALL(IF(Tabela.abordagens[Mês]=$L$2,ROW(Tabela.abordagens[Idade])-2),ROW(A114)),4)","v":{"$error":"#NUM!"}},{"$f":"INDEX(Tabela.abordagens[],SMALL(IF(Tabela.abordagens[Mês]=$L$2,ROW(Tabela.abordagens[Idade])-2),ROW(A114)),5)","v":{"$error":"#NUM!"}}]
[null,{"$f":"INDEX(Tabela.frequencia[],SMALL(IF(Tabela.frequencia[Mês]=$L$2,ROW(Tabela.frequencia[id])-1),ROW(A115)),1)","v":{"$error":"#NUM!"}},{"$f":"INDEX(Tabela.frequencia[],SMALL(IF(Tabela.frequencia[Mês]=$L$2,ROW(Tabela.frequencia[id])-1),ROW(A115)),4)","v":{"$error":"#NUM!"}},null,{"$f":"IFERROR(VLOOKUP(D162,Tabela.cadastro[[ID]:[Nome]],2,0),\"\")","v":""},{"$f":"IFERROR(VLOOKUP(D162,Tabela66[#All],2,0),\"\")","v":""},{"$f":"IFERROR(VLOOKUP(D162,Tabela.cadastro[[ID]:[CP ou M]],5,0),\"\")","v":""},{"$f":"IFERROR(VLOOKUP(D162,Cadastros!A:F,6,0),\"\")","v":""},{"$f":"IFERROR(VLOOKUP(D162,Cadastros!A:I,9,0),\"\")","v":""},{"$f":"IFERROR(VLOOKUP(D162,Cadastros!A:J,10,0),\"\")","v":""},{"$f":"IF(COUNTIF(Tabela66[id],D162)=0,\"\",COUNTIF(Tabela66[id],D162))","v":""},null,"",null,null,{"$f":"IFERROR(VLOOKUP(O162,Cadastros!A:B,2),\"\")","v":""},{"$f":"IFERROR(VLOOKUP(O162,$Y$33:$Z$866,2,0),\"\")","v":""},{"$f":"IFERROR(VLOOKUP(O162,Cadastros!A:E,5,0),\"\")","v":""},{"$f":"IFERROR(VLOOKUP(O162,Cadastros!A:F,6,0),\"\")","v":""},{"$f":"IFERROR(VLOOKUP(O162,Cadastros!A:I,9,0),\"\")","v":""},{"$f":"IFERROR(VLOOKUP(O162,Y$33:AB$866,3,0),\"\")","v":""},{"$f":"IFERROR(VLOOKUP(O162,Y$33:AB$866,4,0),\"\")","v":""},{"$f":"IF(COUNTIF(Y$33:Y$866,O162)=0,\"\",COUNTIF(Y$33:Y$866,O162))","v":""},null,{"$f":"INDEX(Tabela.abordagens[],SMALL(IF(Tabela.abordagens[Mês]=$L$2,ROW(Tabela.abordagens[id])-2),ROW(A115)),1)","v":{"$error":"#NUM!"}},{"$f":"INDEX(Tabela.abordagens[],SMALL(IF(Tabela.abordagens[Mês]=$L$2,ROW(Tabela.abordagens[Idade])-2),ROW(A115)),6)","v":{"$error":"#NUM!"}},{"$f":"INDEX(Tabela.abordagens[],SMALL(IF(Tabela.abordagens[Mês]=$L$2,ROW(Tabela.abordagens[Idade])-2),ROW(A115)),4)","v":{"$error":"#NUM!"}},{"$f":"INDEX(Tabela.abordagens[],SMALL(IF(Tabela.abordagens[Mês]=$L$2,ROW(Tabela.abordagens[Idade])-2),ROW(A115)),5)","v":{"$error":"#NUM!"}}]
[null,{"$f":"INDEX(Tabela.frequencia[],SMALL(IF(Tabela.frequencia[Mês]=$L$2,ROW(Tabela.frequencia[id])-1),ROW(A116)),1)","v":{"$error":"#NUM!"}},{"$f":"INDEX(Tabela.frequencia[],SMALL(IF(Tabela.frequencia[Mês]=$L$2,ROW(Tabela.frequencia[id])-1),ROW(A116)),4)","v":{"$error":"#NUM!"}},null,{"$f":"IFERROR(VLOOKUP(D163,Tabela.cadastro[[ID]:[Nome]],2,0),\"\")","v":""},{"$f":"IFERROR(VLOOKUP(D163,Tabela66[#All],2,0),\"\")","v":""},{"$f":"IFERROR(VLOOKUP(D163,Tabela.cadastro[[ID]:[CP ou M]],5,0),\"\")","v":""},{"$f":"IFERROR(VLOOKUP(D163,Cadastros!A:F,6,0),\"\")","v":""},{"$f":"IFERROR(VLOOKUP(D163,Cadastros!A:I,9,0),\"\")","v":""},{"$f":"IFERROR(VLOOKUP(D163,Cadastros!A:J,10,0),\"\")","v":""},{"$f":"IF(COUNTIF(Tabela66[id],D163)=0,\"\",COUNTIF(Tabela66[id],D163))","v":""},null,"",null,null,{"$f":"IFERROR(VLOOKUP(O163,Cadastros!A:B,2),\"\")","v":""},"",{"$f":"IFERROR(VLOOKUP(O163,Cadastros!A:E,5,0),\"\")","v":""},{"$f":"IFERROR(VLOOKUP(O163,Cadastros!A:F,6,0),\"\")","v":""},{"$f":"IFERROR(VLOOKUP(O163,Cadastros!A:I,9,0),\"\")","v":""},"","","",null,{"$f":"INDEX(Tabela.abordagens[],SMALL(IF(Tabela.abordagens[Mês]=$L$2,ROW(Tabela.abordagens[id])-2),ROW(A116)),1)","v":{"$error":"#NUM!"}},{"$f":"INDEX(Tabela.abordagens[],SMALL(IF(Tabela.abordagens[Mês]=$L$2,ROW(Tabela.abordagens[Idade])-2),ROW(A116)),6)","v":{"$error":"#NUM!"}},{"$f":"INDEX(Tabela.abordagens[],SMALL(IF(Tabela.abordagens[Mês]=$L$2,ROW(Tabela.abordagens[Idade])-2),ROW(A116)),4)","v":{"$error":"#NUM!"}},{"$f":"INDEX(Tabela.abordagens[],SMALL(IF(Tabela.abordagens[Mês]=$L$2,ROW(Tabela.abordagens[Idade])-2),ROW(A116)),5)","v":{"$error":"#NUM!"}}]
[null,{"$f":"INDEX(Tabela.frequencia[],SMALL(IF(Tabela.frequencia[Mês]=$L$2,ROW(Tabela.frequencia[id])-1),ROW(A117)),1)","v":{"$error":"#NUM!"}},{"$f":"INDEX(Tabela.frequencia[],SMALL(IF(Tabela.frequencia[Mês]=$L$2,ROW(Tabela.frequencia[id])-1),ROW(A117)),4)","v":{"$error":"#NUM!"}},null,{"$f":"IFERROR(VLOOKUP(D164,Tabela.cadastro[[ID]:[Nome]],2,0),\"\")","v":""},{"$f":"IFERROR(VLOOKUP(D164,Tabela66[#All],2,0),\"\")","v":""},{"$f":"IFERROR(VLOOKUP(D164,Tabela.cadastro[[ID]:[CP ou M]],5,0),\"\")","v":""},{"$f":"IFERROR(VLOOKUP(D164,Cadastros!A:F,6,0),\"\")","v":""},{"$f":"IFERROR(VLOOKUP(D164,Cadastros!A:I,9,0),\"\")","v":""},{"$f":"IFERROR(VLOOKUP(D164,Cadastros!A:J,10,0),\"\")","v":""},{"$f":"IF(COUNTIF(Tabela66[id],D164)=0,\"\",COUNTIF(Tabela66[id],D164))","v":""},null,"",null,null,{"$f":"IFERROR(VLOOKUP(O164,Cadastros!A:B,2),\"\")","v":""},"",{"$f":"IFERROR(VLOOKUP(O164,Cadastros!A:E,5,0),\"\")","v":""},{"$f":"IFERROR(VLOOKUP(O164,Cadastros!A:F,6,0),\"\")","v":""},{"$f":"IFERROR(VLOOKUP(O164,Cadastros!A:I,9,0),\"\")","v":""},"","","",null,{"$f":"INDEX(Tabela.abordagens[],SMALL(IF(Tabela.abordagens[Mês]=$L$2,ROW(Tabela.abordagens[id])-2),ROW(A117)),1)","v":{"$error":"#NUM!"}},{"$f":"INDEX(Tabela.abordagens[],SMALL(IF(Tabela.abordagens[Mês]=$L$2,ROW(Tabela.abordagens[Idade])-2),ROW(A117)),6)","v":{"$error":"#NUM!"}},{"$f":"INDEX(Tabela.abordagens[],SMALL(IF(Tabela.abordagens[Mês]=$L$2,ROW(Tabela.abordagens[Idade])-2),ROW(A117)),4)","v":{"$error":"#NUM!"}},{"$f":"INDEX(Tabela.abordagens[],SMALL(IF(Tabela.abordagens[Mês]=$L$2,ROW(Tabela.abordagens[Idade])-2),ROW(A117)),5)","v":{"$error":"#NUM!"}}]
[null,{"$f":"INDEX(Tabela.frequencia[],SMALL(IF(Tabela.frequencia[Mês]=$L$2,ROW(Tabela.frequencia[id])-1),ROW(A118)),1)","v":{"$error":"#NUM!"}},{"$f":"INDEX(Tabela.frequencia[],SMALL(IF(Tabela.frequencia[Mês]=$L$2,ROW(Tabela.frequencia[id])-1),ROW(A118)),4)","v":{"$error":"#NUM!"}},null,{"$f":"IFERROR(VLOOKUP(D165,Tabela.cadastro[[ID]:[Nome]],2,0),\"\")","v":""},{"$f":"IFERROR(VLOOKUP(D165,Tabela66[#All],2,0),\"\")","v":""},{"$f":"IFERROR(VLOOKUP(D165,Tabela.cadastro[[ID]:[CP ou M]],5,0),\"\")","v":""},{"$f":"IFERROR(VLOOKUP(D165,Cadastros!A:F,6,0),\"\")","v":""},{"$f":"IFERROR(VLOOKUP(D165,Cadastros!A:I,9,0),\"\")","v":""},{"$f":"IFERROR(VLOOKUP(D165,Cadastros!A:J,10,0),\"\")","v":""},{"$f":"IF(COUNTIF(Tabela66[id],D165)=0,\"\",COUNTIF(Tabela66[id],D165))","v":""},null,"",null,null,{"$f":"IFERROR(VLOOKUP(O165,Cadastros!A:B,2),\"\")","v":""},"",{"$f":"IFERROR(VLOOKUP(O165,Cadastros!A:E,5,0),\"\")","v":""},{"$f":"IFERROR(VLOOKUP(O165,Cadastros!A:F,6,0),\"\")","v":""},{"$f":"IFERROR(VLOOKUP(O165,Cadastros!A:I,9,0),\"\")","v":""},"","","",null,{"$f":"INDEX(Tabela.abordagens[],SMALL(IF(Tabela.abordagens[Mês]=$L$2,ROW(Tabela.abordagens[id])-2),ROW(A118)),1)","v":{"$error":"#NUM!"}},{"$f":"INDEX(Tabela.abordagens[],SMALL(IF(Tabela.abordagens[Mês]=$L$2,ROW(Tabela.abordagens[Idade])-2),ROW(A118)),6)","v":{"$error":"#NUM!"}},{"$f":"INDEX(Tabela.abordagens[],SMALL(IF(Tabela.abordagens[Mês]=$L$2,ROW(Tabela.abordagens[Idade])-2),ROW(A118)),4)","v":{"$error":"#NUM!"}},{"$f":"INDEX(Tabela.abordagens[],SMALL(IF(Tabela.abordagens[Mês]=$L$2,ROW(Tabela.abordagens[Idade])-2),ROW(A118)),5)","v":{"$error":"#NUM!"}}]
[null,{"$f":"INDEX(Tabela.frequencia[],SMALL(IF(Tabela.frequencia[Mês]=$L$2,ROW(Tabela.frequencia[id])-1),ROW(A119)),1)","v":{"$error":"#NUM!"}},{"$f":"INDEX(Tabela.frequencia[],SMALL(IF(Tabela.frequencia[Mês]=$L$2,ROW(Tabela.frequencia[id])-1),ROW(A119)),4)","v":{"$error":"#NUM!"}},null,{"$f":"IFERROR(VLOOKUP(D166,Tabela.cadastro[[ID]:[Nome]],2,0),\"\")","v":""},{"$f":"IFERROR(VLOOKUP(D166,Tabela66[#All],2,0),\"\")","v":""},{"$f":"IFERROR(VLOOKUP(D166,Tabela.cadastro[[ID]:[CP ou M]],5,0),\"\")","v":""},{"$f":"IFERROR(VLOOKUP(D166,Cadastros!A:F,6,0),\"\")","v":""},{"$f":"IFERROR(VLOOKUP(D166,Cadastros!A:I,9,0),\"\")","v":""},{"$f":"IFERROR(VLOOKUP(D166,Cadastros!A:J,10,0),\"\")","v":""},{"$f":"IF(COUNTIF(Tabela66[id],D166)=0,\"\",COUNTIF(Tabela66[id],D166))","v":""},null,"",null,null,{"$f":"IFERROR(VLOOKUP(O166,Cadastros!A:B,2),\"\")","v":""},"",{"$f":"IFERROR(VLOOKUP(O166,Cadastros!A:E,5,0),\"\")","v":""},{"$f":"IFERROR(VLOOKUP(O166,Cadastros!A:F,6,0),\"\")","v":""},{"$f":"IFERROR(VLOOKUP(O166,Cadastros!A:I,9,0),\"\")","v":""},"","","",null,{"$f":"INDEX(Tabela.abordagens[],SMALL(IF(Tabela.abordagens[Mês]=$L$2,ROW(Tabela.abordagens[id])-2),ROW(A119)),1)","v":{"$error":"#NUM!"}},{"$f":"INDEX(Tabela.abordagens[],SMALL(IF(Tabela.abordagens[Mês]=$L$2,ROW(Tabela.abordagens[Idade])-2),ROW(A119)),6)","v":{"$error":"#NUM!"}},{"$f":"INDEX(Tabela.abordagens[],SMALL(IF(Tabela.abordagens[Mês]=$L$2,ROW(Tabela.abordagens[Idade])-2),ROW(A119)),4)","v":{"$error":"#NUM!"}},{"$f":"INDEX(Tabela.abordagens[],SMALL(IF(Tabela.abordagens[Mês]=$L$2,ROW(Tabela.abordagens[Idade])-2),ROW(A119)),5)","v":{"$error":"#NUM!"}}]
[null,{"$f":"INDEX(Tabela.frequencia[],SMALL(IF(Tabela.frequencia[Mês]=$L$2,ROW(Tabela.frequencia[id])-1),ROW(A120)),1)","v":{"$error":"#NUM!"}},{"$f":"INDEX(Tabela.frequencia[],SMALL(IF(Tabela.frequencia[Mês]=$L$2,ROW(Tabela.frequencia[id])-1),ROW(A120)),4)","v":{"$error":"#NUM!"}},null,{"$f":"IFERROR(VLOOKUP(D167,Tabela.cadastro[[ID]:[Nome]],2,0),\"\")","v":""},{"$f":"IFERROR(VLOOKUP(D167,Tabela66[#All],2,0),\"\")","v":""},{"$f":"IFERROR(VLOOKUP(D167,Tabela.cadastro[[ID]:[CP ou M]],5,0),\"\")","v":""},{"$f":"IFERROR(VLOOKUP(D167,Cadastros!A:F,6,0),\"\")","v":""},{"$f":"IFERROR(VLOOKUP(D167,Cadastros!A:I,9,0),\"\")","v":""},{"$f":"IFERROR(VLOOKUP(D167,Cadastros!A:J,10,0),\"\")","v":""},{"$f":"IF(COUNTIF(Tabela66[id],D167)=0,\"\",COUNTIF(Tabela66[id],D167))","v":""},null,"",null,null,{"$f":"IFERROR(VLOOKUP(O167,Cadastros!A:B,2),\"\")","v":""},"",{"$f":"IFERROR(VLOOKUP(O167,Cadastros!A:E,5,0),\"\")","v":""},{"$f":"IFERROR(VLOOKUP(O167,Cadastros!A:F,6,0),\"\")","v":""},{"$f":"IFERROR(VLOOKUP(O167,Cadastros!A:I,9,0),\"\")","v":""},"","","",null,{"$f":"INDEX(Tabela.abordagens[],SMALL(IF(Tabela.abordagens[Mês]=$L$2,ROW(Tabela.abordagens[id])-2),ROW(A120)),1)","v":{"$error":"#NUM!"}},{"$f":"INDEX(Tabela.abordagens[],SMALL(IF(Tabela.abordagens[Mês]=$L$2,ROW(Tabela.abordagens[Idade])-2),ROW(A120)),6)","v":{"$error":"#NUM!"}},{"$f":"INDEX(Tabela.abordagens[],SMALL(IF(Tabela.abordagens[Mês]=$L$2,ROW(Tabela.abordagens[Idade])-2),ROW(A120)),4)","v":{"$error":"#NUM!"}},{"$f":"INDEX(Tabela.abordagens[],SMALL(IF(Tabela.abordagens[Mês]=$L$2,ROW(Tabela.abordagens[Idade])-2),ROW(A120)),5)","v":{"$error":"#NUM!"}}]
[null,{"$f":"INDEX(Tabela.frequencia[],SMALL(IF(Tabela.frequencia[Mês]=$L$2,ROW(Tabela.frequencia[id])-1),ROW(A121)),1)","v":{"$error":"#NUM!"}},{"$f":"INDEX(Tabela.frequencia[],SMALL(IF(Tabela.frequencia[Mês]=$L$2,ROW(Tabela.frequencia[id])-1),ROW(A121)),4)","v":{"$error":"#NUM!"}},null,{"$f":"IFERROR(VLOOKUP(D168,Tabela.cadastro[[ID]:[Nome]],2,0),\"\")","v":""},{"$f":"IFERROR(VLOOKUP(D168,Tabela66[#All],2,0),\"\")","v":""},{"$f":"IFERROR(VLOOKUP(D168,Tabela.cadastro[[ID]:[CP ou M]],5,0),\"\")","v":""},{"$f":"IFERROR(VLOOKUP(D168,Cadastros!A:F,6,0),\"\")","v":""},{"$f":"IFERROR(VLOOKUP(D168,Cadastros!A:I,9,0),\"\")","v":""},{"$f":"IFERROR(VLOOKUP(D168,Cadastros!A:J,10,0),\"\")","v":""},{"$f":"IF(COUNTIF(Tabela66[id],D168)=0,\"\",COUNTIF(Tabela66[id],D168))","v":""},null,"",null,null,{"$f":"IFERROR(VLOOKUP(O168,Cadastros!A:B,2),\"\")","v":""},"",{"$f":"IFERROR(VLOOKUP(O168,Cadastros!A:E,5,0),\"\")","v":""},{"$f":"IFERROR(VLOOKUP(O168,Cadastros!A:F,6,0),\"\")","v":""},{"$f":"IFERROR(VLOOKUP(O168,Cadastros!A:I,9,0),\"\")","v":""},"","","",null,{"$f":"INDEX(Tabela.abordagens[],SMALL(IF(Tabela.abordagens[Mês]=$L$2,ROW(Tabela.abordagens[id])-2),ROW(A121)),1)","v":{"$error":"#NUM!"}},{"$f":"INDEX(Tabela.abordagens[],SMALL(IF(Tabela.abordagens[Mês]=$L$2,ROW(Tabela.abordagens[Idade])-2),ROW(A121)),6)","v":{"$error":"#NUM!"}},{"$f":"INDEX(Tabela.abordagens[],SMALL(IF(Tabela.abordagens[Mês]=$L$2,ROW(Tabela.abordagens[Idade])-2),ROW(A121)),4)","v":{"$error":"#NUM!"}},{"$f":"INDEX(Tabela.abordagens[],SMALL(IF(Tabela.abordagens[Mês]=$L$2,ROW(Tabela.abordagens[Idade])-2),ROW(A121)),5)","v":{"$error":"#NUM!"}}]
[null,{"$f":"INDEX(Tabela.frequencia[],SMALL(IF(Tabela.frequencia[Mês]=$L$2,ROW(Tabela.frequencia[id])-1),ROW(A122)),1)","v":{"$error":"#NUM!"}},{"$f":"INDEX(Tabela.frequencia[],SMALL(IF(Tabela.frequencia[Mês]=$L$2,ROW(Tabela.frequencia[id])-1),ROW(A122)),4)","v":{"$error":"#NUM!"}},null,{"$f":"IFERROR(VLOOKUP(D169,Tabela.cadastro[[ID]:[Nome]],2,0),\"\")","v":""},{"$f":"IFERROR(VLOOKUP(D169,Tabela66[#All],2,0),\"\")","v":""},{"$f":"IFERROR(VLOOKUP(D169,Tabela.cadastro[[ID]:[CP ou M]],5,0),\"\")","v":""},{"$f":"IFERROR(VLOOKUP(D169,Cadastros!A:F,6,0),\"\")","v":""},{"$f":"IFERROR(VLOOKUP(D169,Cadastros!A:I,9,0),\"\")","v":""},{"$f":"IFERROR(VLOOKUP(D169,Cadastros!A:J,10,0),\"\")","v":""},{"$f":"IF(COUNTIF(Tabela66[id],D169)=0,\"\",COUNTIF(Tabela66[id],D169))","v":""},null,"",null,null,{"$f":"IFERROR(VLOOKUP(O169,Cadastros!A:B,2),\"\")","v":""},"",{"$f":"IFERROR(VLOOKUP(O169,Cadastros!A:E,5,0),\"\")","v":""},{"$f":"IFERROR(VLOOKUP(O169,Cadastros!A:F,6,0),\"\")","v":""},{"$f":"IFERROR(VLOOKUP(O169,Cadastros!A:I,9,0),\"\")","v":""},"","","",null,{"$f":"INDEX(Tabela.abordagens[],SMALL(IF(Tabela.abordagens[Mês]=$L$2,ROW(Tabela.abordagens[id])-2),ROW(A122)),1)","v":{"$error":"#NUM!"}},{"$f":"INDEX(Tabela.abordagens[],SMALL(IF(Tabela.abordagens[Mês]=$L$2,ROW(Tabela.abordagens[Idade])-2),ROW(A122)),6)","v":{"$error":"#NUM!"}},{"$f":"INDEX(Tabela.abordagens[],SMALL(IF(Tabela.abordagens[Mês]=$L$2,ROW(Tabela.abordagens[Idade])-2),ROW(A122)),4)","v":{"$error":"#NUM!"}},{"$f":"INDEX(Tabela.abordagens[],SMALL(IF(Tabela.abordagens[Mês]=$L$2,ROW(Tabela.abordagens[Idade])-2),ROW(A122)),5)","v":{"$error":"#NUM!"}}]
[null,{"$f":"INDEX(Tabela.frequencia[],SMALL(IF(Tabela.frequencia[Mês]=$L$2,ROW(Tabela.frequencia[id])-1),ROW(A123)),1)","v":{"$error":"#NUM!"}},{"$f":"INDEX(Tabela.frequencia[],SMALL(IF(Tabela.frequencia[Mês]=$L$2,ROW(Tabela.frequencia[id])-1),ROW(A123)),4)","v":{"$error":"#NUM!"}},null,{"$f":"IFERROR(VLOOKUP(D170,Tabela.cadastro[[ID]:[Nome]],2,0),\"\")","v":""},{"$f":"IFERROR(VLOOKUP(D170,Tabela66[#All],2,0),\"\")","v":""},{"$f":"IFERROR(VLOOKUP(D170,Tabela.cadastro[[ID]:[CP ou M]],5,0),\"\")","v":""},{"$f":"IFERROR(VLOOKUP(D170,Cadastros!A:F,6,0),\"\")","v":""},{"$f":"IFERROR(VLOOKUP(D170,Cadastros!A:I,9,0),\"\")","v":""},{"$f":"IFERROR(VLOOKUP(D170,Cadastros!A:J,10,0),\"\")","v":""},{"$f":"IF(COUNTIF(Tabela66[id],D170)=0,\"\",COUNTIF(Tabela66[id],D170))","v":""},null,{"$f":"IF(AND(K170:K1001>=5,L170:L1001=\"Não\"),\"*\",\"\")","v":""},null,null,{"$f":"IFERROR(VLOOKUP(O170,Cadastros!A:B,2),\"\")","v":""},"",{"$f":"IFERROR(VLOOKUP(O170,Cadastros!A:E,5,0),\"\")","v":""},{"$f":"IFERROR(VLOOKUP(O170,Cadastros!A:F,6,0),\"\")","v":""},{"$f":"IFERROR(VLOOKUP(O170,Cadastros!A:I,9,0),\"\")","v":""},"","","",null,{"$f":"INDEX(Tabela.abordagens[],SMALL(IF(Tabela.abordagens[Mês]=$L$2,ROW(Tabela.abordagens[id])-2),ROW(A123)),1)","v":{"$error":"#NUM!"}},{"$f":"INDEX(Tabela.abordagens[],SMALL(IF(Tabela.abordagens[Mês]=$L$2,ROW(Tabela.abordagens[Idade])-2),ROW(A123)),6)","v":{"$error":"#NUM!"}},{"$f":"INDEX(Tabela.abordagens[],SMALL(IF(Tabela.abordagens[Mês]=$L$2,ROW(Tabela.abordagens[Idade])-2),ROW(A123)),4)","v":{"$error":"#NUM!"}},{"$f":"INDEX(Tabela.abordagens[],SMALL(IF(Tabela.abordagens[Mês]=$L$2,ROW(Tabela.abordagens[Idade])-2),ROW(A123)),5)","v":{"$error":"#NUM!"}}]
[null,{"$f":"INDEX(Tabela.frequencia[],SMALL(IF(Tabela.frequencia[Mês]=$L$2,ROW(Tabela.frequencia[id])-1),ROW(A124)),1)","v":{"$error":"#NUM!"}},{"$f":"INDEX(Tabela.frequencia[],SMALL(IF(Tabela.frequencia[Mês]=$L$2,ROW(Tabela.frequencia[id])-1),ROW(A124)),4)","v":{"$error":"#NUM!"}},null,{"$f":"IFERROR(VLOOKUP(D171,Tabela.cadastro[[ID]:[Nome]],2,0),\"\")","v":""},{"$f":"IFERROR(VLOOKUP(D171,Tabela66[#All],2,0),\"\")","v":""},{"$f":"IFERROR(VLOOKUP(D171,Tabela.cadastro[[ID]:[CP ou M]],5,0),\"\")","v":""},{"$f":"IFERROR(VLOOKUP(D171,Cadastros!A:F,6,0),\"\")","v":""},{"$f":"IFERROR(VLOOKUP(D171,Cadastros!A:I,9,0),\"\")","v":""},{"$f":"IFERROR(VLOOKUP(D171,Cadastros!A:J,10,0),\"\")","v":""},{"$f":"IF(COUNTIF(Tabela66[id],D171)=0,\"\",COUNTIF(Tabela66[id],D171))","v":""},null,"",null,null,{"$f":"IFERROR(VLOOKUP(O171,Cadastros!A:B,2),\"\")","v":""},"",{"$f":"IFERROR(VLOOKUP(O171,Cadastros!A:E,5,0),\"\")","v":""},{"$f":"IFERROR(VLOOKUP(O171,Cadastros!A:F,6,0),\"\")","v":""},{"$f":"IFERROR(VLOOKUP(O171,Cadastros!A:I,9,0),\"\")","v":""},"","","",null,{"$f":"INDEX(Tabela.abordagens[],SMALL(IF(Tabela.abordagens[Mês]=$L$2,ROW(Tabela.abordagens[id])-2),ROW(A124)),1)","v":{"$error":"#NUM!"}},{"$f":"INDEX(Tabela.abordagens[],SMALL(IF(Tabela.abordagens[Mês]=$L$2,ROW(Tabela.abordagens[Idade])-2),ROW(A124)),6)","v":{"$error":"#NUM!"}},{"$f":"INDEX(Tabela.abordagens[],SMALL(IF(Tabela.abordagens[Mês]=$L$2,ROW(Tabela.abordagens[Idade])-2),ROW(A124)),4)","v":{"$error":"#NUM!"}},{"$f":"INDEX(Tabela.abordagens[],SMALL(IF(Tabela.abordagens[Mês]=$L$2,ROW(Tabela.abordagens[Idade])-2),ROW(A124)),5)","v":{"$error":"#NUM!"}}]
[null,{"$f":"INDEX(Tabela.frequencia[],SMALL(IF(Tabela.frequencia[Mês]=$L$2,ROW(Tabela.frequencia[id])-1),ROW(A125)),1)","v":{"$error":"#NUM!"}},{"$f":"INDEX(Tabela.frequencia[],SMALL(IF(Tabela.frequencia[Mês]=$L$2,ROW(Tabela.frequencia[id])-1),ROW(A125)),4)","v":{"$error":"#NUM!"}},null,{"$f":"IFERROR(VLOOKUP(D172,Tabela.cadastro[[ID]:[Nome]],2,0),\"\")","v":""},{"$f":"IFERROR(VLOOKUP(D172,Tabela66[#All],2,0),\"\")","v":""},{"$f":"IFERROR(VLOOKUP(D172,Tabela.cadastro[[ID]:[CP ou M]],5,0),\"\")","v":""},{"$f":"IFERROR(VLOOKUP(D172,Cadastros!A:F,6,0),\"\")","v":""},{"$f":"IFERROR(VLOOKUP(D172,Cadastros!A:I,9,0),\"\")","v":""},{"$f":"IFERROR(VLOOKUP(D172,Cadastros!A:J,10,0),\"\")","v":""},{"$f":"IF(COUNTIF(Tabela66[id],D172)=0,\"\",COUNTIF(Tabela66[id],D172))","v":""},null,"",null,null,{"$f":"IFERROR(VLOOKUP(O172,Cadastros!A:B,2),\"\")","v":""},"",{"$f":"IFERROR(VLOOKUP(O172,Cadastros!A:E,5,0),\"\")","v":""},{"$f":"IFERROR(VLOOKUP(O172,Cadastros!A:F,6,0),\"\")","v":""},{"$f":"IFERROR(VLOOKUP(O172,Cadastros!A:I,9,0),\"\")","v":""},"","","",null,{"$f":"INDEX(Tabela.abordagens[],SMALL(IF(Tabela.abordagens[Mês]=$L$2,ROW(Tabela.abordagens[id])-2),ROW(A125)),1)","v":{"$error":"#NUM!"}},{"$f":"INDEX(Tabela.abordagens[],SMALL(IF(Tabela.abordagens[Mês]=$L$2,ROW(Tabela.abordagens[Idade])-2),ROW(A125)),6)","v":{"$error":"#NUM!"}},{"$f":"INDEX(Tabela.abordagens[],SMALL(IF(Tabela.abordagens[Mês]=$L$2,ROW(Tabela.abordagens[Idade])-2),ROW(A125)),4)","v":{"$error":"#NUM!"}},{"$f":"INDEX(Tabela.abordagens[],SMALL(IF(Tabela.abordagens[Mês]=$L$2,ROW(Tabela.abordagens[Idade])-2),ROW(A125)),5)","v":{"$error":"#NUM!"}}]
[null,{"$f":"INDEX(Tabela.frequencia[],SMALL(IF(Tabela.frequencia[Mês]=$L$2,ROW(Tabela.frequencia[id])-1),ROW(A126)),1)","v":{"$error":"#NUM!"}},{"$f":"INDEX(Tabela.frequencia[],SMALL(IF(Tabela.frequencia[Mês]=$L$2,ROW(Tabela.frequencia[id])-1),ROW(A126)),4)","v":{"$error":"#NUM!"}},null,{"$f":"IFERROR(VLOOKUP(D173,Tabela.cadastro[[ID]:[Nome]],2,0),\"\")","v":""},{"$f":"IFERROR(VLOOKUP(D173,Tabela66[#All],2,0),\"\")","v":""},{"$f":"IFERROR(VLOOKUP(D173,Tabela.cadastro[[ID]:[CP ou M]],5,0),\"\")","v":""},{"$f":"IFERROR(VLOOKUP(D173,Cadastros!A:F,6,0),\"\")","v":""},{"$f":"IFERROR(VLOOKUP(D173,Cadastros!A:I,9,0),\"\")","v":""},{"$f":"IFERROR(VLOOKUP(D173,Cadastros!A:J,10,0),\"\")","v":""},{"$f":"IF(COUNTIF(Tabela66[id],D173)=0,\"\",COUNTIF(Tabela66[id],D173))","v":""},null,"",null,null,{"$f":"IFERROR(VLOOKUP(O173,Cadastros!A:B,2),\"\")","v":""},"",{"$f":"IFERROR(VLOOKUP(O173,Cadastros!A:E,5,0),\"\")","v":""},{"$f":"IFERROR(VLOOKUP(O173,Cadastros!A:F,6,0),\"\")","v":""},{"$f":"IFERROR(VLOOKUP(O173,Cadastros!A:I,9,0),\"\")","v":""},"","","",null,{"$f":"INDEX(Tabela.abordagens[],SMALL(IF(Tabela.abordagens[Mês]=$L$2,ROW(Tabela.abordagens[id])-2),ROW(A126)),1)","v":{"$error":"#NUM!"}},{"$f":"INDEX(Tabela.abordagens[],SMALL(IF(Tabela.abordagens[Mês]=$L$2,ROW(Tabela.abordagens[Idade])-2),ROW(A126)),6)","v":{"$error":"#NUM!"}},{"$f":"INDEX(Tabela.abordagens[],SMALL(IF(Tabela.abordagens[Mês]=$L$2,ROW(Tabela.abordagens[Idade])-2),ROW(A126)),4)","v":{"$error":"#NUM!"}},{"$f":"INDEX(Tabela.abordagens[],SMALL(IF(Tabela.abordagens[Mês]=$L$2,ROW(Tabela.abordagens[Idade])-2),ROW(A126)),5)","v":{"$error":"#NUM!"}}]
[null,{"$f":"INDEX(Tabela.frequencia[],SMALL(IF(Tabela.frequencia[Mês]=$L$2,ROW(Tabela.frequencia[id])-1),ROW(A127)),1)","v":{"$error":"#NUM!"}},{"$f":"INDEX(Tabela.frequencia[],SMALL(IF(Tabela.frequencia[Mês]=$L$2,ROW(Tabela.frequencia[id])-1),ROW(A127)),4)","v":{"$error":"#NUM!"}},null,{"$f":"IFERROR(VLOOKUP(D174,Tabela.cadastro[[ID]:[Nome]],2,0),\"\")","v":""},{"$f":"IFERROR(VLOOKUP(D174,Tabela66[#All],2,0),\"\")","v":""},{"$f":"IFERROR(VLOOKUP(D174,Tabela.cadastro[[ID]:[CP ou M]],5,0),\"\")","v":""},{"$f":"IFERROR(VLOOKUP(D174,Cadastros!A:F,6,0),\"\")","v":""},{"$f":"IFERROR(VLOOKUP(D174,Cadastros!A:I,9,0),\"\")","v":""},{"$f":"IFERROR(VLOOKUP(D174,Cadastros!A:J,10,0),\"\")","v":""},{"$f":"IF(COUNTIF(Tabela66[id],D174)=0,\"\",COUNTIF(Tabela66[id],D174))","v":""},null,"",null,null,{"$f":"IFERROR(VLOOKUP(O174,Cadastros!A:B,2),\"\")","v":""},"",{"$f":"IFERROR(VLOOKUP(O174,Cadastros!A:E,5,0),\"\")","v":""},{"$f":"IFERROR(VLOOKUP(O174,Cadastros!A:F,6,0),\"\")","v":""},{"$f":"IFERROR(VLOOKUP(O174,Cadastros!A:I,9,0),\"\")","v":""},"","","",null,{"$f":"INDEX(Tabela.abordagens[],SMALL(IF(Tabela.abordagens[Mês]=$L$2,ROW(Tabela.abordagens[id])-2),ROW(A127)),1)","v":{"$error":"#NUM!"}},{"$f":"INDEX(Tabela.abordagens[],SMALL(IF(Tabela.abordagens[Mês]=$L$2,ROW(Tabela.abordagens[Idade])-2),ROW(A127)),6)","v":{"$error":"#NUM!"}},{"$f":"INDEX(Tabela.abordagens[],SMALL(IF(Tabela.abordagens[Mês]=$L$2,ROW(Tabela.abordagens[Idade])-2),ROW(A127)),4)","v":{"$error":"#NUM!"}},{"$f":"INDEX(Tabela.abordagens[],SMALL(IF(Tabela.abordagens[Mês]=$L$2,ROW(Tabela.abordagens[Idade])-2),ROW(A127)),5)","v":{"$error":"#NUM!"}}]
[null,{"$f":"INDEX(Tabela.frequencia[],SMALL(IF(Tabela.frequencia[Mês]=$L$2,ROW(Tabela.frequencia[id])-1),ROW(A128)),1)","v":{"$error":"#NUM!"}},{"$f":"INDEX(Tabela.frequencia[],SMALL(IF(Tabela.frequencia[Mês]=$L$2,ROW(Tabela.frequencia[id])-1),ROW(A128)),4)","v":{"$error":"#NUM!"}},null,{"$f":"IFERROR(VLOOKUP(D175,Tabela.cadastro[[ID]:[Nome]],2,0),\"\")","v":""},{"$f":"IFERROR(VLOOKUP(D175,Tabela66[#All],2,0),\"\")","v":""},{"$f":"IFERROR(VLOOKUP(D175,Tabela.cadastro[[ID]:[CP ou M]],5,0),\"\")","v":""},{"$f":"IFERROR(VLOOKUP(D175,Cadastros!A:F,6,0),\"\")","v":""},{"$f":"IFERROR(VLOOKUP(D175,Cadastros!A:I,9,0),\"\")","v":""},{"$f":"IFERROR(VLOOKUP(D175,Cadastros!A:J,10,0),\"\")","v":""},{"$f":"IF(COUNTIF(Tabela66[id],D175)=0,\"\",COUNTIF(Tabela66[id],D175))","v":""},null,"",null,null,{"$f":"IFERROR(VLOOKUP(O175,Cadastros!A:B,2),\"\")","v":""},"",{"$f":"IFERROR(VLOOKUP(O175,Cadastros!A:E,5,0),\"\")","v":""},{"$f":"IFERROR(VLOOKUP(O175,Cadastros!A:F,6,0),\"\")","v":""},{"$f":"IFERROR(VLOOKUP(O175,Cadastros!A:I,9,0),\"\")","v":""},"","","",null,{"$f":"INDEX(Tabela.abordagens[],SMALL(IF(Tabela.abordagens[Mês]=$L$2,ROW(Tabela.abordagens[id])-2),ROW(A128)),1)","v":{"$error":"#NUM!"}},{"$f":"INDEX(Tabela.abordagens[],SMALL(IF(Tabela.abordagens[Mês]=$L$2,ROW(Tabela.abordagens[Idade])-2),ROW(A128)),6)","v":{"$error":"#NUM!"}},{"$f":"INDEX(Tabela.abordagens[],SMALL(IF(Tabela.abordagens[Mês]=$L$2,ROW(Tabela.abordagens[Idade])-2),ROW(A128)),4)","v":{"$error":"#NUM!"}},{"$f":"INDEX(Tabela.abordagens[],SMALL(IF(Tabela.abordagens[Mês]=$L$2,ROW(Tabela.abordagens[Idade])-2),ROW(A128)),5)","v":{"$error":"#NUM!"}}]
[null,{"$f":"INDEX(Tabela.frequencia[],SMALL(IF(Tabela.frequencia[Mês]=$L$2,ROW(Tabela.frequencia[id])-1),ROW(A129)),1)","v":{"$error":"#NUM!"}},{"$f":"INDEX(Tabela.frequencia[],SMALL(IF(Tabela.frequencia[Mês]=$L$2,ROW(Tabela.frequencia[id])-1),ROW(A129)),4)","v":{"$error":"#NUM!"}},null,{"$f":"IFERROR(VLOOKUP(D176,Tabela.cadastro[[ID]:[Nome]],2,0),\"\")","v":""},{"$f":"IFERROR(VLOOKUP(D176,Tabela66[#All],2,0),\"\")","v":""},{"$f":"IFERROR(VLOOKUP(D176,Tabela.cadastro[[ID]:[CP ou M]],5,0),\"\")","v":""},{"$f":"IFERROR(VLOOKUP(D176,Cadastros!A:F,6,0),\"\")","v":""},{"$f":"IFERROR(VLOOKUP(D176,Cadastros!A:I,9,0),\"\")","v":""},{"$f":"IFERROR(VLOOKUP(D176,Cadastros!A:J,10,0),\"\")","v":""},{"$f":"IF(COUNTIF(Tabela66[id],D176)=0,\"\",COUNTIF(Tabela66[id],D176))","v":""},null,"",null,null,{"$f":"IFERROR(VLOOKUP(O176,Cadastros!A:B,2),\"\")","v":""},"",{"$f":"IFERROR(VLOOKUP(O176,Cadastros!A:E,5,0),\"\")","v":""},{"$f":"IFERROR(VLOOKUP(O176,Cadastros!A:F,6,0),\"\")","v":""},{"$f":"IFERROR(VLOOKUP(O176,Cadastros!A:I,9,0),\"\")","v":""},"","","",null,{"$f":"INDEX(Tabela.abordagens[],SMALL(IF(Tabela.abordagens[Mês]=$L$2,ROW(Tabela.abordagens[id])-2),ROW(A129)),1)","v":{"$error":"#NUM!"}},{"$f":"INDEX(Tabela.abordagens[],SMALL(IF(Tabela.abordagens[Mês]=$L$2,ROW(Tabela.abordagens[Idade])-2),ROW(A129)),6)","v":{"$error":"#NUM!"}},{"$f":"INDEX(Tabela.abordagens[],SMALL(IF(Tabela.abordagens[Mês]=$L$2,ROW(Tabela.abordagens[Idade])-2),ROW(A129)),4)","v":{"$error":"#NUM!"}},{"$f":"INDEX(Tabela.abordagens[],SMALL(IF(Tabela.abordagens[Mês]=$L$2,ROW(Tabela.abordagens[Idade])-2),ROW(A129)),5)","v":{"$error":"#NUM!"}}]
[null,{"$f":"INDEX(Tabela.frequencia[],SMALL(IF(Tabela.frequencia[Mês]=$L$2,ROW(Tabela.frequencia[id])-1),ROW(A130)),1)","v":{"$error":"#NUM!"}},{"$f":"INDEX(Tabela.frequencia[],SMALL(IF(Tabela.frequencia[Mês]=$L$2,ROW(Tabela.frequencia[id])-1),ROW(A130)),4)","v":{"$error":"#NUM!"}},null,{"$f":"IFERROR(VLOOKUP(D177,Tabela.cadastro[[ID]:[Nome]],2,0),\"\")","v":""},{"$f":"IFERROR(VLOOKUP(D177,Tabela66[#All],2,0),\"\")","v":""},{"$f":"IFERROR(VLOOKUP(D177,Tabela.cadastro[[ID]:[CP ou M]],5,0),\"\")","v":""},{"$f":"IFERROR(VLOOKUP(D177,Cadastros!A:F,6,0),\"\")","v":""},{"$f":"IFERROR(VLOOKUP(D177,Cadastros!A:I,9,0),\"\")","v":""},{"$f":"IFERROR(VLOOKUP(D177,Cadastros!A:J,10,0),\"\")","v":""},{"$f":"IF(COUNTIF(Tabela66[id],D177)=0,\"\",COUNTIF(Tabela66[id],D177))","v":""},null,"",null,null,{"$f":"IFERROR(VLOOKUP(O177,Cadastros!A:B,2),\"\")","v":""},"",{"$f":"IFERROR(VLOOKUP(O177,Cadastros!A:E,5,0),\"\")","v":""},{"$f":"IFERROR(VLOOKUP(O177,Cadastros!A:F,6,0),\"\")","v":""},{"$f":"IFERROR(VLOOKUP(O177,Cadastros!A:I,9,0),\"\")","v":""},"","","",null,{"$f":"INDEX(Tabela.abordagens[],SMALL(IF(Tabela.abordagens[Mês]=$L$2,ROW(Tabela.abordagens[id])-2),ROW(A130)),1)","v":{"$error":"#NUM!"}},{"$f":"INDEX(Tabela.abordagens[],SMALL(IF(Tabela.abordagens[Mês]=$L$2,ROW(Tabela.abordagens[Idade])-2),ROW(A130)),6)","v":{"$error":"#NUM!"}},{"$f":"INDEX(Tabela.abordagens[],SMALL(IF(Tabela.abordagens[Mês]=$L$2,ROW(Tabela.abordagens[Idade])-2),ROW(A130)),4)","v":{"$error":"#NUM!"}},{"$f":"INDEX(Tabela.abordagens[],SMALL(IF(Tabela.abordagens[Mês]=$L$2,ROW(Tabela.abordagens[Idade])-2),ROW(A130)),5)","v":{"$error":"#NUM!"}}]
[null,{"$f":"INDEX(Tabela.frequencia[],SMALL(IF(Tabela.frequencia[Mês]=$L$2,ROW(Tabela.frequencia[id])-1),ROW(A131)),1)","v":{"$error":"#NUM!"}},{"$f":"INDEX(Tabela.frequencia[],SMALL(IF(Tabela.frequencia[Mês]=$L$2,ROW(Tabela.frequencia[id])-1),ROW(A131)),4)","v":{"$error":"#NUM!"}},null,{"$f":"IFERROR(VLOOKUP(D178,Tabela.cadastro[[ID]:[Nome]],2,0),\"\")","v":""},{"$f":"IFERROR(VLOOKUP(D178,Tabela66[#All],2,0),\"\")","v":""},{"$f":"IFERROR(VLOOKUP(D178,Tabela.cadastro[[ID]:[CP ou M]],5,0),\"\")","v":""},{"$f":"IFERROR(VLOOKUP(D178,Cadastros!A:F,6,0),\"\")","v":""},{"$f":"IFERROR(VLOOKUP(D178,Cadastros!A:I,9,0),\"\")","v":""},{"$f":"IFERROR(VLOOKUP(D178,Cadastros!A:J,10,0),\"\")","v":""},{"$f":"IF(COUNTIF(Tabela66[id],D178)=0,\"\",COUNTIF(Tabela66[id],D178))","v":""},null,"",null,null,{"$f":"IFERROR(VLOOKUP(O178,Cadastros!A:B,2),\"\")","v":""},"",{"$f":"IFERROR(VLOOKUP(O178,Cadastros!A:E,5,0),\"\")","v":""},{"$f":"IFERROR(VLOOKUP(O178,Cadastros!A:F,6,0),\"\")","v":""},{"$f":"IFERROR(VLOOKUP(O178,Cadastros!A:I,9,0),\"\")","v":""},"","","",null,{"$f":"INDEX(Tabela.abordagens[],SMALL(IF(Tabela.abordagens[Mês]=$L$2,ROW(Tabela.abordagens[id])-2),ROW(A131)),1)","v":{"$error":"#NUM!"}},{"$f":"INDEX(Tabela.abordagens[],SMALL(IF(Tabela.abordagens[Mês]=$L$2,ROW(Tabela.abordagens[Idade])-2),ROW(A131)),6)","v":{"$error":"#NUM!"}},{"$f":"INDEX(Tabela.abordagens[],SMALL(IF(Tabela.abordagens[Mês]=$L$2,ROW(Tabela.abordagens[Idade])-2),ROW(A131)),4)","v":{"$error":"#NUM!"}},{"$f":"INDEX(Tabela.abordagens[],SMALL(IF(Tabela.abordagens[Mês]=$L$2,ROW(Tabela.abordagens[Idade])-2),ROW(A131)),5)","v":{"$error":"#NUM!"}}]
[null,{"$f":"INDEX(Tabela.frequencia[],SMALL(IF(Tabela.frequencia[Mês]=$L$2,ROW(Tabela.frequencia[id])-1),ROW(A132)),1)","v":{"$error":"#NUM!"}},{"$f":"INDEX(Tabela.frequencia[],SMALL(IF(Tabela.frequencia[Mês]=$L$2,ROW(Tabela.frequencia[id])-1),ROW(A132)),4)","v":{"$error":"#NUM!"}},null,{"$f":"IFERROR(VLOOKUP(D179,Tabela.cadastro[[ID]:[Nome]],2,0),\"\")","v":""},{"$f":"IFERROR(VLOOKUP(D179,Tabela66[#All],2,0),\"\")","v":""},{"$f":"IFERROR(VLOOKUP(D179,Tabela.cadastro[[ID]:[CP ou M]],5,0),\"\")","v":""},{"$f":"IFERROR(VLOOKUP(D179,Cadastros!A:F,6,0),\"\")","v":""},{"$f":"IFERROR(VLOOKUP(D179,Cadastros!A:I,9,0),\"\")","v":""},{"$f":"IFERROR(VLOOKUP(D179,Cadastros!A:J,10,0),\"\")","v":""},{"$f":"IF(COUNTIF(Tabela66[id],D179)=0,\"\",COUNTIF(Tabela66[id],D179))","v":""},null,"",null,null,{"$f":"IFERROR(VLOOKUP(O179,Cadastros!A:B,2),\"\")","v":""},"",{"$f":"IFERROR(VLOOKUP(O179,Cadastros!A:E,5,0),\"\")","v":""},{"$f":"IFERROR(VLOOKUP(O179,Cadastros!A:F,6,0),\"\")","v":""},{"$f":"IFERROR(VLOOKUP(O179,Cadastros!A:I,9,0),\"\")","v":""},"","","",null,{"$f":"INDEX(Tabela.abordagens[],SMALL(IF(Tabela.abordagens[Mês]=$L$2,ROW(Tabela.abordagens[id])-2),ROW(A132)),1)","v":{"$error":"#NUM!"}},{"$f":"INDEX(Tabela.abordagens[],SMALL(IF(Tabela.abordagens[Mês]=$L$2,ROW(Tabela.abordagens[Idade])-2),ROW(A132)),6)","v":{"$error":"#NUM!"}},{"$f":"INDEX(Tabela.abordagens[],SMALL(IF(Tabela.abordagens[Mês]=$L$2,ROW(Tabela.abordagens[Idade])-2),ROW(A132)),4)","v":{"$error":"#NUM!"}},{"$f":"INDEX(Tabela.abordagens[],SMALL(IF(Tabela.abordagens[Mês]=$L$2,ROW(Tabela.abordagens[Idade])-2),ROW(A132)),5)","v":{"$error":"#NUM!"}}]
[null,{"$f":"INDEX(Tabela.frequencia[],SMALL(IF(Tabela.frequencia[Mês]=$L$2,ROW(Tabela.frequencia[id])-1),ROW(A133)),1)","v":{"$error":"#NUM!"}},{"$f":"INDEX(Tabela.frequencia[],SMALL(IF(Tabela.frequencia[Mês]=$L$2,ROW(Tabela.frequencia[id])-1),ROW(A133)),4)","v":{"$error":"#NUM!"}},null,{"$f":"IFERROR(VLOOKUP(D180,Tabela.cadastro[[ID]:[Nome]],2,0),\"\")","v":""},{"$f":"IFERROR(VLOOKUP(D180,Tabela66[#All],2,0),\"\")","v":""},{"$f":"IFERROR(VLOOKUP(D180,Tabela.cadastro[[ID]:[CP ou M]],5,0),\"\")","v":""},{"$f":"IFERROR(VLOOKUP(D180,Cadastros!A:F,6,0),\"\")","v":""},{"$f":"IFERROR(VLOOKUP(D180,Cadastros!A:I,9,0),\"\")","v":""},{"$f":"IFERROR(VLOOKUP(D180,Cadastros!A:J,10,0),\"\")","v":""},{"$f":"IF(COUNTIF(Tabela66[id],D180)=0,\"\",COUNTIF(Tabela66[id],D180))","v":""},null,"",null,null,{"$f":"IFERROR(VLOOKUP(O180,Cadastros!A:B,2),\"\")","v":""},"",{"$f":"IFERROR(VLOOKUP(O180,Cadastros!A:E,5,0),\"\")","v":""},{"$f":"IFERROR(VLOOKUP(O180,Cadastros!A:F,6,0),\"\")","v":""},{"$f":"IFERROR(VLOOKUP(O180,Cadastros!A:I,9,0),\"\")","v":""},"","","",null,{"$f":"INDEX(Tabela.abordagens[],SMALL(IF(Tabela.abordagens[Mês]=$L$2,ROW(Tabela.abordagens[id])-2),ROW(A133)),1)","v":{"$error":"#NUM!"}},{"$f":"INDEX(Tabela.abordagens[],SMALL(IF(Tabela.abordagens[Mês]=$L$2,ROW(Tabela.abordagens[Idade])-2),ROW(A133)),6)","v":{"$error":"#NUM!"}},{"$f":"INDEX(Tabela.abordagens[],SMALL(IF(Tabela.abordagens[Mês]=$L$2,ROW(Tabela.abordagens[Idade])-2),ROW(A133)),4)","v":{"$error":"#NUM!"}},{"$f":"INDEX(Tabela.abordagens[],SMALL(IF(Tabela.abordagens[Mês]=$L$2,ROW(Tabela.abordagens[Idade])-2),ROW(A133)),5)","v":{"$error":"#NUM!"}}]
[null,{"$f":"INDEX(Tabela.frequencia[],SMALL(IF(Tabela.frequencia[Mês]=$L$2,ROW(Tabela.frequencia[id])-1),ROW(A134)),1)","v":{"$error":"#NUM!"}},{"$f":"INDEX(Tabela.frequencia[],SMALL(IF(Tabela.frequencia[Mês]=$L$2,ROW(Tabela.frequencia[id])-1),ROW(A134)),4)","v":{"$error":"#NUM!"}},null,{"$f":"IFERROR(VLOOKUP(D181,Tabela.cadastro[[ID]:[Nome]],2,0),\"\")","v":""},{"$f":"IFERROR(VLOOKUP(D181,Tabela66[#All],2,0),\"\")","v":""},{"$f":"IFERROR(VLOOKUP(D181,Tabela.cadastro[[ID]:[CP ou M]],5,0),\"\")","v":""},{"$f":"IFERROR(VLOOKUP(D181,Cadastros!A:F,6,0),\"\")","v":""},{"$f":"IFERROR(VLOOKUP(D181,Cadastros!A:I,9,0),\"\")","v":""},{"$f":"IFERROR(VLOOKUP(D181,Cadastros!A:J,10,0),\"\")","v":""},{"$f":"IF(COUNTIF(Tabela66[id],D181)=0,\"\",COUNTIF(Tabela66[id],D181))","v":""},null,"",null,null,{"$f":"IFERROR(VLOOKUP(O181,Cadastros!A:B,2),\"\")","v":""},"",{"$f":"IFERROR(VLOOKUP(O181,Cadastros!A:E,5,0),\"\")","v":""},{"$f":"IFERROR(VLOOKUP(O181,Cadastros!A:F,6,0),\"\")","v":""},{"$f":"IFERROR(VLOOKUP(O181,Cadastros!A:I,9,0),\"\")","v":""},"","","",null,{"$f":"INDEX(Tabela.abordagens[],SMALL(IF(Tabela.abordagens[Mês]=$L$2,ROW(Tabela.abordagens[id])-2),ROW(A134)),1)","v":{"$error":"#NUM!"}},{"$f":"INDEX(Tabela.abordagens[],SMALL(IF(Tabela.abordagens[Mês]=$L$2,ROW(Tabela.abordagens[Idade])-2),ROW(A134)),6)","v":{"$error":"#NUM!"}},{"$f":"INDEX(Tabela.abordagens[],SMALL(IF(Tabela.abordagens[Mês]=$L$2,ROW(Tabela.abordagens[Idade])-2),ROW(A134)),4)","v":{"$error":"#NUM!"}},{"$f":"INDEX(Tabela.abordagens[],SMALL(IF(Tabela.abordagens[Mês]=$L$2,ROW(Tabela.abordagens[Idade])-2),ROW(A134)),5)","v":{"$error":"#NUM!"}}]
[null,{"$f":"INDEX(Tabela.frequencia[],SMALL(IF(Tabela.frequencia[Mês]=$L$2,ROW(Tabela.frequencia[id])-1),ROW(A135)),1)","v":{"$error":"#NUM!"}},{"$f":"INDEX(Tabela.frequencia[],SMALL(IF(Tabela.frequencia[Mês]=$L$2,ROW(Tabela.frequencia[id])-1),ROW(A135)),4)","v":{"$error":"#NUM!"}},null,{"$f":"IFERROR(VLOOKUP(D182,Tabela.cadastro[[ID]:[Nome]],2,0),\"\")","v":""},{"$f":"IFERROR(VLOOKUP(D182,Tabela66[#All],2,0),\"\")","v":""},{"$f":"IFERROR(VLOOKUP(D182,Tabela.cadastro[[ID]:[CP ou M]],5,0),\"\")","v":""},{"$f":"IFERROR(VLOOKUP(D182,Cadastros!A:F,6,0),\"\")","v":""},{"$f":"IFERROR(VLOOKUP(D182,Cadastros!A:I,9,0),\"\")","v":""},{"$f":"IFERROR(VLOOKUP(D182,Cadastros!A:J,10,0),\"\")","v":""},{"$f":"IF(COUNTIF(Tabela66[id],D182)=0,\"\",COUNTIF(Tabela66[id],D182))","v":""},null,"",null,null,{"$f":"IFERROR(VLOOKUP(O182,Cadastros!A:B,2),\"\")","v":""},"",{"$f":"IFERROR(VLOOKUP(O182,Cadastros!A:E,5,0),\"\")","v":""},{"$f":"IFERROR(VLOOKUP(O182,Cadastros!A:F,6,0),\"\")","v":""},{"$f":"IFERROR(VLOOKUP(O182,Cadastros!A:I,9,0),\"\")","v":""},"","","",null,{"$f":"INDEX(Tabela.abordagens[],SMALL(IF(Tabela.abordagens[Mês]=$L$2,ROW(Tabela.abordagens[id])-2),ROW(A135)),1)","v":{"$error":"#NUM!"}},{"$f":"INDEX(Tabela.abordagens[],SMALL(IF(Tabela.abordagens[Mês]=$L$2,ROW(Tabela.abordagens[Idade])-2),ROW(A135)),6)","v":{"$error":"#NUM!"}},{"$f":"INDEX(Tabela.abordagens[],SMALL(IF(Tabela.abordagens[Mês]=$L$2,ROW(Tabela.abordagens[Idade])-2),ROW(A135)),4)","v":{"$error":"#NUM!"}},{"$f":"INDEX(Tabela.abordagens[],SMALL(IF(Tabela.abordagens[Mês]=$L$2,ROW(Tabela.abordagens[Idade])-2),ROW(A135)),5)","v":{"$error":"#NUM!"}}]
[null,{"$f":"INDEX(Tabela.frequencia[],SMALL(IF(Tabela.frequencia[Mês]=$L$2,ROW(Tabela.frequencia[id])-1),ROW(A136)),1)","v":{"$error":"#NUM!"}},{"$f":"INDEX(Tabela.frequencia[],SMALL(IF(Tabela.frequencia[Mês]=$L$2,ROW(Tabela.frequencia[id])-1),ROW(A136)),4)","v":{"$error":"#NUM!"}},null,{"$f":"IFERROR(VLOOKUP(D183,Tabela.cadastro[[ID]:[Nome]],2,0),\"\")","v":""},{"$f":"IFERROR(VLOOKUP(D183,Tabela66[#All],2,0),\"\")","v":""},{"$f":"IFERROR(VLOOKUP(D183,Tabela.cadastro[[ID]:[CP ou M]],5,0),\"\")","v":""},{"$f":"IFERROR(VLOOKUP(D183,Cadastros!A:F,6,0),\"\")","v":""},{"$f":"IFERROR(VLOOKUP(D183,Cadastros!A:I,9,0),\"\")","v":""},{"$f":"IFERROR(VLOOKUP(D183,Cadastros!A:J,10,0),\"\")","v":""},{"$f":"IF(COUNTIF(Tabela66[id],D183)=0,\"\",COUNTIF(Tabela66[id],D183))","v":""},null,"",null,null,{"$f":"IFERROR(VLOOKUP(O183,Cadastros!A:B,2),\"\")","v":""},"",{"$f":"IFERROR(VLOOKUP(O183,Cadastros!A:E,5,0),\"\")","v":""},{"$f":"IFERROR(VLOOKUP(O183,Cadastros!A:F,6,0),\"\")","v":""},{"$f":"IFERROR(VLOOKUP(O183,Cadastros!A:I,9,0),\"\")","v":""},"","","",null,{"$f":"INDEX(Tabela.abordagens[],SMALL(IF(Tabela.abordagens[Mês]=$L$2,ROW(Tabela.abordagens[id])-2),ROW(A136)),1)","v":{"$error":"#NUM!"}},{"$f":"INDEX(Tabela.abordagens[],SMALL(IF(Tabela.abordagens[Mês]=$L$2,ROW(Tabela.abordagens[Idade])-2),ROW(A136)),6)","v":{"$error":"#NUM!"}},{"$f":"INDEX(Tabela.abordagens[],SMALL(IF(Tabela.abordagens[Mês]=$L$2,ROW(Tabela.abordagens[Idade])-2),ROW(A136)),4)","v":{"$error":"#NUM!"}},{"$f":"INDEX(Tabela.abordagens[],SMALL(IF(Tabela.abordagens[Mês]=$L$2,ROW(Tabela.abordagens[Idade])-2),ROW(A136)),5)","v":{"$error":"#NUM!"}}]
[null,{"$f":"INDEX(Tabela.frequencia[],SMALL(IF(Tabela.frequencia[Mês]=$L$2,ROW(Tabela.frequencia[id])-1),ROW(A137)),1)","v":{"$error":"#NUM!"}},{"$f":"INDEX(Tabela.frequencia[],SMALL(IF(Tabela.frequencia[Mês]=$L$2,ROW(Tabela.frequencia[id])-1),ROW(A137)),4)","v":{"$error":"#NUM!"}},null,{"$f":"IFERROR(VLOOKUP(D184,Tabela.cadastro[[ID]:[Nome]],2,0),\"\")","v":""},{"$f":"IFERROR(VLOOKUP(D184,Tabela66[#All],2,0),\"\")","v":""},{"$f":"IFERROR(VLOOKUP(D184,Tabela.cadastro[[ID]:[CP ou M]],5,0),\"\")","v":""},{"$f":"IFERROR(VLOOKUP(D184,Cadastros!A:F,6,0),\"\")","v":""},{"$f":"IFERROR(VLOOKUP(D184,Cadastros!A:I,9,0),\"\")","v":""},{"$f":"IFERROR(VLOOKUP(D184,Cadastros!A:J,10,0),\"\")","v":""},{"$f":"IF(COUNTIF(Tabela66[id],D184)=0,\"\",COUNTIF(Tabela66[id],D184))","v":""},null,"",null,null,{"$f":"IFERROR(VLOOKUP(O184,Cadastros!A:B,2),\"\")","v":""},"",{"$f":"IFERROR(VLOOKUP(O184,Cadastros!A:E,5,0),\"\")","v":""},{"$f":"IFERROR(VLOOKUP(O184,Cadastros!A:F,6,0),\"\")","v":""},{"$f":"IFERROR(VLOOKUP(O184,Cadastros!A:I,9,0),\"\")","v":""},"","","",null,{"$f":"INDEX(Tabela.abordagens[],SMALL(IF(Tabela.abordagens[Mês]=$L$2,ROW(Tabela.abordagens[id])-2),ROW(A137)),1)","v":{"$error":"#NUM!"}},{"$f":"INDEX(Tabela.abordagens[],SMALL(IF(Tabela.abordagens[Mês]=$L$2,ROW(Tabela.abordagens[Idade])-2),ROW(A137)),6)","v":{"$error":"#NUM!"}},{"$f":"INDEX(Tabela.abordagens[],SMALL(IF(Tabela.abordagens[Mês]=$L$2,ROW(Tabela.abordagens[Idade])-2),ROW(A137)),4)","v":{"$error":"#NUM!"}},{"$f":"INDEX(Tabela.abordagens[],SMALL(IF(Tabela.abordagens[Mês]=$L$2,ROW(Tabela.abordagens[Idade])-2),ROW(A137)),5)","v":{"$error":"#NUM!"}}]
[null,{"$f":"INDEX(Tabela.frequencia[],SMALL(IF(Tabela.frequencia[Mês]=$L$2,ROW(Tabela.frequencia[id])-1),ROW(A138)),1)","v":{"$error":"#NUM!"}},{"$f":"INDEX(Tabela.frequencia[],SMALL(IF(Tabela.frequencia[Mês]=$L$2,ROW(Tabela.frequencia[id])-1),ROW(A138)),4)","v":{"$error":"#NUM!"}},null,{"$f":"IFERROR(VLOOKUP(D185,Tabela.cadastro[[ID]:[Nome]],2,0),\"\")","v":""},{"$f":"IFERROR(VLOOKUP(D185,Tabela66[#All],2,0),\"\")","v":""},{"$f":"IFERROR(VLOOKUP(D185,Tabela.cadastro[[ID]:[CP ou M]],5,0),\"\")","v":""},{"$f":"IFERROR(VLOOKUP(D185,Cadastros!A:F,6,0),\"\")","v":""},{"$f":"IFERROR(VLOOKUP(D185,Cadastros!A:I,9,0),\"\")","v":""},{"$f":"IFERROR(VLOOKUP(D185,Cadastros!A:J,10,0),\"\")","v":""},{"$f":"IF(COUNTIF(Tabela66[id],D185)=0,\"\",COUNTIF(Tabela66[id],D185))","v":""},null,"",null,null,{"$f":"IFERROR(VLOOKUP(O185,Cadastros!A:B,2),\"\")","v":""},"",{"$f":"IFERROR(VLOOKUP(O185,Cadastros!A:E,5,0),\"\")","v":""},{"$f":"IFERROR(VLOOKUP(O185,Cadastros!A:F,6,0),\"\")","v":""},{"$f":"IFERROR(VLOOKUP(O185,Cadastros!A:I,9,0),\"\")","v":""},"","","",null,{"$f":"INDEX(Tabela.abordagens[],SMALL(IF(Tabela.abordagens[Mês]=$L$2,ROW(Tabela.abordagens[id])-2),ROW(A138)),1)","v":{"$error":"#NUM!"}},{"$f":"INDEX(Tabela.abordagens[],SMALL(IF(Tabela.abordagens[Mês]=$L$2,ROW(Tabela.abordagens[Idade])-2),ROW(A138)),6)","v":{"$error":"#NUM!"}},{"$f":"INDEX(Tabela.abordagens[],SMALL(IF(Tabela.abordagens[Mês]=$L$2,ROW(Tabela.abordagens[Idade])-2),ROW(A138)),4)","v":{"$error":"#NUM!"}},{"$f":"INDEX(Tabela.abordagens[],SMALL(IF(Tabela.abordagens[Mês]=$L$2,ROW(Tabela.abordagens[Idade])-2),ROW(A138)),5)","v":{"$error":"#NUM!"}}]
[null,{"$f":"INDEX(Tabela.frequencia[],SMALL(IF(Tabela.frequencia[Mês]=$L$2,ROW(Tabela.frequencia[id])-1),ROW(A139)),1)","v":{"$error":"#NUM!"}},{"$f":"INDEX(Tabela.frequencia[],SMALL(IF(Tabela.frequencia[Mês]=$L$2,ROW(Tabela.frequencia[id])-1),ROW(A139)),4)","v":{"$error":"#NUM!"}},null,{"$f":"IFERROR(VLOOKUP(D186,Tabela.cadastro[[ID]:[Nome]],2,0),\"\")","v":""},{"$f":"IFERROR(VLOOKUP(D186,Tabela66[#All],2,0),\"\")","v":""},{"$f":"IFERROR(VLOOKUP(D186,Tabela.cadastro[[ID]:[CP ou M]],5,0),\"\")","v":""},{"$f":"IFERROR(VLOOKUP(D186,Cadastros!A:F,6,0),\"\")","v":""},{"$f":"IFERROR(VLOOKUP(D186,Cadastros!A:I,9,0),\"\")","v":""},{"$f":"IFERROR(VLOOKUP(D186,Cadastros!A:J,10,0),\"\")","v":""},{"$f":"IF(COUNTIF(Tabela66[id],D186)=0,\"\",COUNTIF(Tabela66[id],D186))","v":""},null,"",null,null,{"$f":"IFERROR(VLOOKUP(O186,Cadastros!A:B,2),\"\")","v":""},"",{"$f":"IFERROR(VLOOKUP(O186,Cadastros!A:E,5,0),\"\")","v":""},{"$f":"IFERROR(VLOOKUP(O186,Cadastros!A:F,6,0),\"\")","v":""},{"$f":"IFERROR(VLOOKUP(O186,Cadastros!A:I,9,0),\"\")","v":""},"","","",null,{"$f":"INDEX(Tabela.abordagens[],SMALL(IF(Tabela.abordagens[Mês]=$L$2,ROW(Tabela.abordagens[id])-2),ROW(A139)),1)","v":{"$error":"#NUM!"}},{"$f":"INDEX(Tabela.abordagens[],SMALL(IF(Tabela.abordagens[Mês]=$L$2,ROW(Tabela.abordagens[Idade])-2),ROW(A139)),6)","v":{"$error":"#NUM!"}},{"$f":"INDEX(Tabela.abordagens[],SMALL(IF(Tabela.abordagens[Mês]=$L$2,ROW(Tabela.abordagens[Idade])-2),ROW(A139)),4)","v":{"$error":"#NUM!"}},{"$f":"INDEX(Tabela.abordagens[],SMALL(IF(Tabela.abordagens[Mês]=$L$2,ROW(Tabela.abordagens[Idade])-2),ROW(A139)),5)","v":{"$error":"#NUM!"}}]
[null,{"$f":"INDEX(Tabela.frequencia[],SMALL(IF(Tabela.frequencia[Mês]=$L$2,ROW(Tabela.frequencia[id])-1),ROW(A140)),1)","v":{"$error":"#NUM!"}},{"$f":"INDEX(Tabela.frequencia[],SMALL(IF(Tabela.frequencia[Mês]=$L$2,ROW(Tabela.frequencia[id])-1),ROW(A140)),4)","v":{"$error":"#NUM!"}},null,{"$f":"IFERROR(VLOOKUP(D187,Tabela.cadastro[[ID]:[Nome]],2,0),\"\")","v":""},{"$f":"IFERROR(VLOOKUP(D187,Tabela66[#All],2,0),\"\")","v":""},{"$f":"IFERROR(VLOOKUP(D187,Tabela.cadastro[[ID]:[CP ou M]],5,0),\"\")","v":""},{"$f":"IFERROR(VLOOKUP(D187,Cadastros!A:F,6,0),\"\")","v":""},{"$f":"IFERROR(VLOOKUP(D187,Cadastros!A:I,9,0),\"\")","v":""},{"$f":"IFERROR(VLOOKUP(D187,Cadastros!A:J,10,0),\"\")","v":""},{"$f":"IF(COUNTIF(Tabela66[id],D187)=0,\"\",COUNTIF(Tabela66[id],D187))","v":""},null,"",null,null,{"$f":"IFERROR(VLOOKUP(O187,Cadastros!A:B,2),\"\")","v":""},"",{"$f":"IFERROR(VLOOKUP(O187,Cadastros!A:E,5,0),\"\")","v":""},{"$f":"IFERROR(VLOOKUP(O187,Cadastros!A:F,6,0),\"\")","v":""},{"$f":"IFERROR(VLOOKUP(O187,Cadastros!A:I,9,0),\"\")","v":""},"","","",null,{"$f":"INDEX(Tabela.abordagens[],SMALL(IF(Tabela.abordagens[Mês]=$L$2,ROW(Tabela.abordagens[id])-2),ROW(A140)),1)","v":{"$error":"#NUM!"}},{"$f":"INDEX(Tabela.abordagens[],SMALL(IF(Tabela.abordagens[Mês]=$L$2,ROW(Tabela.abordagens[Idade])-2),ROW(A140)),6)","v":{"$error":"#NUM!"}},{"$f":"INDEX(Tabela.abordagens[],SMALL(IF(Tabela.abordagens[Mês]=$L$2,ROW(Tabela.abordagens[Idade])-2),ROW(A140)),4)","v":{"$error":"#NUM!"}},{"$f":"INDEX(Tabela.abordagens[],SMALL(IF(Tabela.abordagens[Mês]=$L$2,ROW(Tabela.abordagens[Idade])-2),ROW(A140)),5)","v":{"$error":"#NUM!"}}]
[null,{"$f":"INDEX(Tabela.frequencia[],SMALL(IF(Tabela.frequencia[Mês]=$L$2,ROW(Tabela.frequencia[id])-1),ROW(A141)),1)","v":{"$error":"#NUM!"}},{"$f":"INDEX(Tabela.frequencia[],SMALL(IF(Tabela.frequencia[Mês]=$L$2,ROW(Tabela.frequencia[id])-1),ROW(A141)),4)","v":{"$error":"#NUM!"}},null,{"$f":"IFERROR(VLOOKUP(D188,Tabela.cadastro[[ID]:[Nome]],2,0),\"\")","v":""},{"$f":"IFERROR(VLOOKUP(D188,Tabela66[#All],2,0),\"\")","v":""},{"$f":"IFERROR(VLOOKUP(D188,Tabela.cadastro[[ID]:[CP ou M]],5,0),\"\")","v":""},{"$f":"IFERROR(VLOOKUP(D188,Cadastros!A:F,6,0),\"\")","v":""},{"$f":"IFERROR(VLOOKUP(D188,Cadastros!A:I,9,0),\"\")","v":""},{"$f":"IFERROR(VLOOKUP(D188,Cadastros!A:J,10,0),\"\")","v":""},{"$f":"IF(COUNTIF(Tabela66[id],D188)=0,\"\",COUNTIF(Tabela66[id],D188))","v":""},null,"",null,null,{"$f":"IFERROR(VLOOKUP(O188,Cadastros!A:B,2),\"\")","v":""},"",{"$f":"IFERROR(VLOOKUP(O188,Cadastros!A:E,5,0),\"\")","v":""},{"$f":"IFERROR(VLOOKUP(O188,Cadastros!A:F,6,0),\"\")","v":""},{"$f":"IFERROR(VLOOKUP(O188,Cadastros!A:I,9,0),\"\")","v":""},"","","",null,{"$f":"INDEX(Tabela.abordagens[],SMALL(IF(Tabela.abordagens[Mês]=$L$2,ROW(Tabela.abordagens[id])-2),ROW(A141)),1)","v":{"$error":"#NUM!"}},{"$f":"INDEX(Tabela.abordagens[],SMALL(IF(Tabela.abordagens[Mês]=$L$2,ROW(Tabela.abordagens[Idade])-2),ROW(A141)),6)","v":{"$error":"#NUM!"}},{"$f":"INDEX(Tabela.abordagens[],SMALL(IF(Tabela.abordagens[Mês]=$L$2,ROW(Tabela.abordagens[Idade])-2),ROW(A141)),4)","v":{"$error":"#NUM!"}},{"$f":"INDEX(Tabela.abordagens[],SMALL(IF(Tabela.abordagens[Mês]=$L$2,ROW(Tabela.abordagens[Idade])-2),ROW(A141)),5)","v":{"$error":"#NUM!"}}]
[null,{"$f":"INDEX(Tabela.frequencia[],SMALL(IF(Tabela.frequencia[Mês]=$L$2,ROW(Tabela.frequencia[id])-1),ROW(A142)),1)","v":{"$error":"#NUM!"}},{"$f":"INDEX(Tabela.frequencia[],SMALL(IF(Tabela.frequencia[Mês]=$L$2,ROW(Tabela.frequencia[id])-1),ROW(A142)),4)","v":{"$error":"#NUM!"}},null,{"$f":"IFERROR(VLOOKUP(D189,Tabela.cadastro[[ID]:[Nome]],2,0),\"\")","v":""},{"$f":"IFERROR(VLOOKUP(D189,Tabela66[#All],2,0),\"\")","v":""},{"$f":"IFERROR(VLOOKUP(D189,Tabela.cadastro[[ID]:[CP ou M]],5,0),\"\")","v":""},{"$f":"IFERROR(VLOOKUP(D189,Cadastros!A:F,6,0),\"\")","v":""},{"$f":"IFERROR(VLOOKUP(D189,Cadastros!A:I,9,0),\"\")","v":""},{"$f":"IFERROR(VLOOKUP(D189,Cadastros!A:J,10,0),\"\")","v":""},{"$f":"IF(COUNTIF(Tabela66[id],D189)=0,\"\",COUNTIF(Tabela66[id],D189))","v":""},null,"",null,null,{"$f":"IFERROR(VLOOKUP(O189,Cadastros!A:B,2),\"\")","v":""},"",{"$f":"IFERROR(VLOOKUP(O189,Cadastros!A:E,5,0),\"\")","v":""},{"$f":"IFERROR(VLOOKUP(O189,Cadastros!A:F,6,0),\"\")","v":""},{"$f":"IFERROR(VLOOKUP(O189,Cadastros!A:I,9,0),\"\")","v":""},"","","",null,{"$f":"INDEX(Tabela.abordagens[],SMALL(IF(Tabela.abordagens[Mês]=$L$2,ROW(Tabela.abordagens[id])-2),ROW(A142)),1)","v":{"$error":"#NUM!"}},{"$f":"INDEX(Tabela.abordagens[],SMALL(IF(Tabela.abordagens[Mês]=$L$2,ROW(Tabela.abordagens[Idade])-2),ROW(A142)),6)","v":{"$error":"#NUM!"}},{"$f":"INDEX(Tabela.abordagens[],SMALL(IF(Tabela.abordagens[Mês]=$L$2,ROW(Tabela.abordagens[Idade])-2),ROW(A142)),4)","v":{"$error":"#NUM!"}},{"$f":"INDEX(Tabela.abordagens[],SMALL(IF(Tabela.abordagens[Mês]=$L$2,ROW(Tabela.abordagens[Idade])-2),ROW(A142)),5)","v":{"$error":"#NUM!"}}]
[null,{"$f":"INDEX(Tabela.frequencia[],SMALL(IF(Tabela.frequencia[Mês]=$L$2,ROW(Tabela.frequencia[id])-1),ROW(A143)),1)","v":{"$error":"#NUM!"}},{"$f":"INDEX(Tabela.frequencia[],SMALL(IF(Tabela.frequencia[Mês]=$L$2,ROW(Tabela.frequencia[id])-1),ROW(A143)),4)","v":{"$error":"#NUM!"}},null,{"$f":"IFERROR(VLOOKUP(D190,Tabela.cadastro[[ID]:[Nome]],2,0),\"\")","v":""},{"$f":"IFERROR(VLOOKUP(D190,Tabela66[#All],2,0),\"\")","v":""},{"$f":"IFERROR(VLOOKUP(D190,Tabela.cadastro[[ID]:[CP ou M]],5,0),\"\")","v":""},{"$f":"IFERROR(VLOOKUP(D190,Cadastros!A:F,6,0),\"\")","v":""},{"$f":"IFERROR(VLOOKUP(D190,Cadastros!A:I,9,0),\"\")","v":""},{"$f":"IFERROR(VLOOKUP(D190,Cadastros!A:J,10,0),\"\")","v":""},{"$f":"IF(COUNTIF(Tabela66[id],D190)=0,\"\",COUNTIF(Tabela66[id],D190))","v":""},null,"",null,null,{"$f":"IFERROR(VLOOKUP(O190,Cadastros!A:B,2),\"\")","v":""},"",{"$f":"IFERROR(VLOOKUP(O190,Cadastros!A:E,5,0),\"\")","v":""},{"$f":"IFERROR(VLOOKUP(O190,Cadastros!A:F,6,0),\"\")","v":""},{"$f":"IFERROR(VLOOKUP(O190,Cadastros!A:I,9,0),\"\")","v":""},"","","",null,{"$f":"INDEX(Tabela.abordagens[],SMALL(IF(Tabela.abordagens[Mês]=$L$2,ROW(Tabela.abordagens[id])-2),ROW(A143)),1)","v":{"$error":"#NUM!"}},{"$f":"INDEX(Tabela.abordagens[],SMALL(IF(Tabela.abordagens[Mês]=$L$2,ROW(Tabela.abordagens[Idade])-2),ROW(A143)),6)","v":{"$error":"#NUM!"}},{"$f":"INDEX(Tabela.abordagens[],SMALL(IF(Tabela.abordagens[Mês]=$L$2,ROW(Tabela.abordagens[Idade])-2),ROW(A143)),4)","v":{"$error":"#NUM!"}},{"$f":"INDEX(Tabela.abordagens[],SMALL(IF(Tabela.abordagens[Mês]=$L$2,ROW(Tabela.abordagens[Idade])-2),ROW(A143)),5)","v":{"$error":"#NUM!"}}]
[null,{"$f":"INDEX(Tabela.frequencia[],SMALL(IF(Tabela.frequencia[Mês]=$L$2,ROW(Tabela.frequencia[id])-1),ROW(A144)),1)","v":{"$error":"#NUM!"}},{"$f":"INDEX(Tabela.frequencia[],SMALL(IF(Tabela.frequencia[Mês]=$L$2,ROW(Tabela.frequencia[id])-1),ROW(A144)),4)","v":{"$error":"#NUM!"}},null,{"$f":"IFERROR(VLOOKUP(D191,Tabela.cadastro[[ID]:[Nome]],2,0),\"\")","v":""},{"$f":"IFERROR(VLOOKUP(D191,Tabela66[#All],2,0),\"\")","v":""},{"$f":"IFERROR(VLOOKUP(D191,Tabela.cadastro[[ID]:[CP ou M]],5,0),\"\")","v":""},{"$f":"IFERROR(VLOOKUP(D191,Cadastros!A:F,6,0),\"\")","v":""},{"$f":"IFERROR(VLOOKUP(D191,Cadastros!A:I,9,0),\"\")","v":""},{"$f":"IFERROR(VLOOKUP(D191,Cadastros!A:J,10,0),\"\")","v":""},{"$f":"IF(COUNTIF(Tabela66[id],D191)=0,\"\",COUNTIF(Tabela66[id],D191))","v":""},null,"",null,null,{"$f":"IFERROR(VLOOKUP(O191,Cadastros!A:B,2),\"\")","v":""},"",{"$f":"IFERROR(VLOOKUP(O191,Cadastros!A:E,5,0),\"\")","v":""},{"$f":"IFERROR(VLOOKUP(O191,Cadastros!A:F,6,0),\"\")","v":""},{"$f":"IFERROR(VLOOKUP(O191,Cadastros!A:I,9,0),\"\")","v":""},"","","",null,{"$f":"INDEX(Tabela.abordagens[],SMALL(IF(Tabela.abordagens[Mês]=$L$2,ROW(Tabela.abordagens[id])-2),ROW(A144)),1)","v":{"$error":"#NUM!"}},{"$f":"INDEX(Tabela.abordagens[],SMALL(IF(Tabela.abordagens[Mês]=$L$2,ROW(Tabela.abordagens[Idade])-2),ROW(A144)),6)","v":{"$error":"#NUM!"}},{"$f":"INDEX(Tabela.abordagens[],SMALL(IF(Tabela.abordagens[Mês]=$L$2,ROW(Tabela.abordagens[Idade])-2),ROW(A144)),4)","v":{"$error":"#NUM!"}},{"$f":"INDEX(Tabela.abordagens[],SMALL(IF(Tabela.abordagens[Mês]=$L$2,ROW(Tabela.abordagens[Idade])-2),ROW(A144)),5)","v":{"$error":"#NUM!"}}]
[null,{"$f":"INDEX(Tabela.frequencia[],SMALL(IF(Tabela.frequencia[Mês]=$L$2,ROW(Tabela.frequencia[id])-1),ROW(A145)),1)","v":{"$error":"#NUM!"}},{"$f":"INDEX(Tabela.frequencia[],SMALL(IF(Tabela.frequencia[Mês]=$L$2,ROW(Tabela.frequencia[id])-1),ROW(A145)),4)","v":{"$error":"#NUM!"}},null,{"$f":"IFERROR(VLOOKUP(D192,Tabela.cadastro[[ID]:[Nome]],2,0),\"\")","v":""},{"$f":"IFERROR(VLOOKUP(D192,Tabela66[#All],2,0),\"\")","v":""},{"$f":"IFERROR(VLOOKUP(D192,Tabela.cadastro[[ID]:[CP ou M]],5,0),\"\")","v":""},{"$f":"IFERROR(VLOOKUP(D192,Cadastros!A:F,6,0),\"\")","v":""},{"$f":"IFERROR(VLOOKUP(D192,Cadastros!A:I,9,0),\"\")","v":""},{"$f":"IFERROR(VLOOKUP(D192,Cadastros!A:J,10,0),\"\")","v":""},{"$f":"IF(COUNTIF(Tabela66[id],D192)=0,\"\",COUNTIF(Tabela66[id],D192))","v":""},null,"",null,null,{"$f":"IFERROR(VLOOKUP(O192,Cadastros!A:B,2),\"\")","v":""},"",{"$f":"IFERROR(VLOOKUP(O192,Cadastros!A:E,5,0),\"\")","v":""},{"$f":"IFERROR(VLOOKUP(O192,Cadastros!A:F,6,0),\"\")","v":""},{"$f":"IFERROR(VLOOKUP(O192,Cadastros!A:I,9,0),\"\")","v":""},"","","",null,{"$f":"INDEX(Tabela.abordagens[],SMALL(IF(Tabela.abordagens[Mês]=$L$2,ROW(Tabela.abordagens[id])-2),ROW(A145)),1)","v":{"$error":"#NUM!"}},{"$f":"INDEX(Tabela.abordagens[],SMALL(IF(Tabela.abordagens[Mês]=$L$2,ROW(Tabela.abordagens[Idade])-2),ROW(A145)),6)","v":{"$error":"#NUM!"}},{"$f":"INDEX(Tabela.abordagens[],SMALL(IF(Tabela.abordagens[Mês]=$L$2,ROW(Tabela.abordagens[Idade])-2),ROW(A145)),4)","v":{"$error":"#NUM!"}},{"$f":"INDEX(Tabela.abordagens[],SMALL(IF(Tabela.abordagens[Mês]=$L$2,ROW(Tabela.abordagens[Idade])-2),ROW(A145)),5)","v":{"$error":"#NUM!"}}]
[null,{"$f":"INDEX(Tabela.frequencia[],SMALL(IF(Tabela.frequencia[Mês]=$L$2,ROW(Tabela.frequencia[id])-1),ROW(A146)),1)","v":{"$error":"#NUM!"}},{"$f":"INDEX(Tabela.frequencia[],SMALL(IF(Tabela.frequencia[Mês]=$L$2,ROW(Tabela.frequencia[id])-1),ROW(A146)),4)","v":{"$error":"#NUM!"}},null,{"$f":"IFERROR(VLOOKUP(D193,Tabela.cadastro[[ID]:[Nome]],2,0),\"\")","v":""},{"$f":"IFERROR(VLOOKUP(D193,Tabela66[#All],2,0),\"\")","v":""},{"$f":"IFERROR(VLOOKUP(D193,Tabela.cadastro[[ID]:[CP ou M]],5,0),\"\")","v":""},{"$f":"IFERROR(VLOOKUP(D193,Cadastros!A:F,6,0),\"\")","v":""},{"$f":"IFERROR(VLOOKUP(D193,Cadastros!A:I,9,0),\"\")","v":""},{"$f":"IFERROR(VLOOKUP(D193,Cadastros!A:J,10,0),\"\")","v":""},{"$f":"IF(COUNTIF(Tabela66[id],D193)=0,\"\",COUNTIF(Tabela66[id],D193))","v":""},null,"",null,null,{"$f":"IFERROR(VLOOKUP(O193,Cadastros!A:B,2),\"\")","v":""},"",{"$f":"IFERROR(VLOOKUP(O193,Cadastros!A:E,5,0),\"\")","v":""},{"$f":"IFERROR(VLOOKUP(O193,Cadastros!A:F,6,0),\"\")","v":""},{"$f":"IFERROR(VLOOKUP(O193,Cadastros!A:I,9,0),\"\")","v":""},"","","",null,{"$f":"INDEX(Tabela.abordagens[],SMALL(IF(Tabela.abordagens[Mês]=$L$2,ROW(Tabela.abordagens[id])-2),ROW(A146)),1)","v":{"$error":"#NUM!"}},{"$f":"INDEX(Tabela.abordagens[],SMALL(IF(Tabela.abordagens[Mês]=$L$2,ROW(Tabela.abordagens[Idade])-2),ROW(A146)),6)","v":{"$error":"#NUM!"}},{"$f":"INDEX(Tabela.abordagens[],SMALL(IF(Tabela.abordagens[Mês]=$L$2,ROW(Tabela.abordagens[Idade])-2),ROW(A146)),4)","v":{"$error":"#NUM!"}},{"$f":"INDEX(Tabela.abordagens[],SMALL(IF(Tabela.abordagens[Mês]=$L$2,ROW(Tabela.abordagens[Idade])-2),ROW(A146)),5)","v":{"$error":"#NUM!"}}]
[null,{"$f":"INDEX(Tabela.frequencia[],SMALL(IF(Tabela.frequencia[Mês]=$L$2,ROW(Tabela.frequencia[id])-1),ROW(A147)),1)","v":{"$error":"#NUM!"}},{"$f":"INDEX(Tabela.frequencia[],SMALL(IF(Tabela.frequencia[Mês]=$L$2,ROW(Tabela.frequencia[id])-1),ROW(A147)),4)","v":{"$error":"#NUM!"}},null,{"$f":"IFERROR(VLOOKUP(D194,Tabela.cadastro[[ID]:[Nome]],2,0),\"\")","v":""},{"$f":"IFERROR(VLOOKUP(D194,Tabela66[#All],2,0),\"\")","v":""},{"$f":"IFERROR(VLOOKUP(D194,Tabela.cadastro[[ID]:[CP ou M]],5,0),\"\")","v":""},{"$f":"IFERROR(VLOOKUP(D194,Cadastros!A:F,6,0),\"\")","v":""},{"$f":"IFERROR(VLOOKUP(D194,Cadastros!A:I,9,0),\"\")","v":""},{"$f":"IFERROR(VLOOKUP(D194,Cadastros!A:J,10,0),\"\")","v":""},{"$f":"IF(COUNTIF(Tabela66[id],D194)=0,\"\",COUNTIF(Tabela66[id],D194))","v":""},null,"",null,null,{"$f":"IFERROR(VLOOKUP(O194,Cadastros!A:B,2),\"\")","v":""},"",{"$f":"IFERROR(VLOOKUP(O194,Cadastros!A:E,5,0),\"\")","v":""},{"$f":"IFERROR(VLOOKUP(O194,Cadastros!A:F,6,0),\"\")","v":""},{"$f":"IFERROR(VLOOKUP(O194,Cadastros!A:I,9,0),\"\")","v":""},"","","",null,{"$f":"INDEX(Tabela.abordagens[],SMALL(IF(Tabela.abordagens[Mês]=$L$2,ROW(Tabela.abordagens[id])-2),ROW(A147)),1)","v":{"$error":"#NUM!"}},{"$f":"INDEX(Tabela.abordagens[],SMALL(IF(Tabela.abordagens[Mês]=$L$2,ROW(Tabela.abordagens[Idade])-2),ROW(A147)),6)","v":{"$error":"#NUM!"}},{"$f":"INDEX(Tabela.abordagens[],SMALL(IF(Tabela.abordagens[Mês]=$L$2,ROW(Tabela.abordagens[Idade])-2),ROW(A147)),4)","v":{"$error":"#NUM!"}},{"$f":"INDEX(Tabela.abordagens[],SMALL(IF(Tabela.abordagens[Mês]=$L$2,ROW(Tabela.abordagens[Idade])-2),ROW(A147)),5)","v":{"$error":"#NUM!"}}]
[null,{"$f":"INDEX(Tabela.frequencia[],SMALL(IF(Tabela.frequencia[Mês]=$L$2,ROW(Tabela.frequencia[id])-1),ROW(A148)),1)","v":{"$error":"#NUM!"}},{"$f":"INDEX(Tabela.frequencia[],SMALL(IF(Tabela.frequencia[Mês]=$L$2,ROW(Tabela.frequencia[id])-1),ROW(A148)),4)","v":{"$error":"#NUM!"}},null,{"$f":"IFERROR(VLOOKUP(D195,Tabela.cadastro[[ID]:[Nome]],2,0),\"\")","v":""},{"$f":"IFERROR(VLOOKUP(D195,Tabela66[#All],2,0),\"\")","v":""},{"$f":"IFERROR(VLOOKUP(D195,Tabela.cadastro[[ID]:[CP ou M]],5,0),\"\")","v":""},{"$f":"IFERROR(VLOOKUP(D195,Cadastros!A:F,6,0),\"\")","v":""},{"$f":"IFERROR(VLOOKUP(D195,Cadastros!A:I,9,0),\"\")","v":""},{"$f":"IFERROR(VLOOKUP(D195,Cadastros!A:J,10,0),\"\")","v":""},{"$f":"IF(COUNTIF(Tabela66[id],D195)=0,\"\",COUNTIF(Tabela66[id],D195))","v":""},null,"",null,null,{"$f":"IFERROR(VLOOKUP(O195,Cadastros!A:B,2),\"\")","v":""},"",{"$f":"IFERROR(VLOOKUP(O195,Cadastros!A:E,5,0),\"\")","v":""},{"$f":"IFERROR(VLOOKUP(O195,Cadastros!A:F,6,0),\"\")","v":""},{"$f":"IFERROR(VLOOKUP(O195,Cadastros!A:I,9,0),\"\")","v":""},"","","",null,{"$f":"INDEX(Tabela.abordagens[],SMALL(IF(Tabela.abordagens[Mês]=$L$2,ROW(Tabela.abordagens[id])-2),ROW(A148)),1)","v":{"$error":"#NUM!"}},{"$f":"INDEX(Tabela.abordagens[],SMALL(IF(Tabela.abordagens[Mês]=$L$2,ROW(Tabela.abordagens[Idade])-2),ROW(A148)),6)","v":{"$error":"#NUM!"}},{"$f":"INDEX(Tabela.abordagens[],SMALL(IF(Tabela.abordagens[Mês]=$L$2,ROW(Tabela.abordagens[Idade])-2),ROW(A148)),4)","v":{"$error":"#NUM!"}},{"$f":"INDEX(Tabela.abordagens[],SMALL(IF(Tabela.abordagens[Mês]=$L$2,ROW(Tabela.abordagens[Idade])-2),ROW(A148)),5)","v":{"$error":"#NUM!"}}]
[null,{"$f":"INDEX(Tabela.frequencia[],SMALL(IF(Tabela.frequencia[Mês]=$L$2,ROW(Tabela.frequencia[id])-1),ROW(A149)),1)","v":{"$error":"#NUM!"}},{"$f":"INDEX(Tabela.frequencia[],SMALL(IF(Tabela.frequencia[Mês]=$L$2,ROW(Tabela.frequencia[id])-1),ROW(A149)),4)","v":{"$error":"#NUM!"}},null,{"$f":"IFERROR(VLOOKUP(D196,Tabela.cadastro[[ID]:[Nome]],2,0),\"\")","v":""},{"$f":"IFERROR(VLOOKUP(D196,Tabela66[#All],2,0),\"\")","v":""},{"$f":"IFERROR(VLOOKUP(D196,Tabela.cadastro[[ID]:[CP ou M]],5,0),\"\")","v":""},{"$f":"IFERROR(VLOOKUP(D196,Cadastros!A:F,6,0),\"\")","v":""},{"$f":"IFERROR(VLOOKUP(D196,Cadastros!A:I,9,0),\"\")","v":""},{"$f":"IFERROR(VLOOKUP(D196,Cadastros!A:J,10,0),\"\")","v":""},{"$f":"IF(COUNTIF(Tabela66[id],D196)=0,\"\",COUNTIF(Tabela66[id],D196))","v":""},null,"",null,null,{"$f":"IFERROR(VLOOKUP(O196,Cadastros!A:B,2),\"\")","v":""},"",{"$f":"IFERROR(VLOOKUP(O196,Cadastros!A:E,5,0),\"\")","v":""},{"$f":"IFERROR(VLOOKUP(O196,Cadastros!A:F,6,0),\"\")","v":""},{"$f":"IFERROR(VLOOKUP(O196,Cadastros!A:I,9,0),\"\")","v":""},"","","",null,{"$f":"INDEX(Tabela.abordagens[],SMALL(IF(Tabela.abordagens[Mês]=$L$2,ROW(Tabela.abordagens[id])-2),ROW(A149)),1)","v":{"$error":"#NUM!"}},{"$f":"INDEX(Tabela.abordagens[],SMALL(IF(Tabela.abordagens[Mês]=$L$2,ROW(Tabela.abordagens[Idade])-2),ROW(A149)),6)","v":{"$error":"#NUM!"}},{"$f":"INDEX(Tabela.abordagens[],SMALL(IF(Tabela.abordagens[Mês]=$L$2,ROW(Tabela.abordagens[Idade])-2),ROW(A149)),4)","v":{"$error":"#NUM!"}},{"$f":"INDEX(Tabela.abordagens[],SMALL(IF(Tabela.abordagens[Mês]=$L$2,ROW(Tabela.abordagens[Idade])-2),ROW(A149)),5)","v":{"$error":"#NUM!"}}]
[null,{"$f":"INDEX(Tabela.frequencia[],SMALL(IF(Tabela.frequencia[Mês]=$L$2,ROW(Tabela.frequencia[id])-1),ROW(A150)),1)","v":{"$error":"#NUM!"}},{"$f":"INDEX(Tabela.frequencia[],SMALL(IF(Tabela.frequencia[Mês]=$L$2,ROW(Tabela.frequencia[id])-1),ROW(A150)),4)","v":{"$error":"#NUM!"}},null,{"$f":"IFERROR(VLOOKUP(D197,Tabela.cadastro[[ID]:[Nome]],2,0),\"\")","v":""},{"$f":"IFERROR(VLOOKUP(D197,Tabela66[#All],2,0),\"\")","v":""},{"$f":"IFERROR(VLOOKUP(D197,Tabela.cadastro[[ID]:[CP ou M]],5,0),\"\")","v":""},{"$f":"IFERROR(VLOOKUP(D197,Cadastros!A:F,6,0),\"\")","v":""},{"$f":"IFERROR(VLOOKUP(D197,Cadastros!A:I,9,0),\"\")","v":""},{"$f":"IFERROR(VLOOKUP(D197,Cadastros!A:J,10,0),\"\")","v":""},{"$f":"IF(COUNTIF(Tabela66[id],D197)=0,\"\",COUNTIF(Tabela66[id],D197))","v":""},null,"",null,null,{"$f":"IFERROR(VLOOKUP(O197,Cadastros!A:B,2),\"\")","v":""},"",{"$f":"IFERROR(VLOOKUP(O197,Cadastros!A:E,5,0),\"\")","v":""},{"$f":"IFERROR(VLOOKUP(O197,Cadastros!A:F,6,0),\"\")","v":""},{"$f":"IFERROR(VLOOKUP(O197,Cadastros!A:I,9,0),\"\")","v":""},"","","",null,{"$f":"INDEX(Tabela.abordagens[],SMALL(IF(Tabela.abordagens[Mês]=$L$2,ROW(Tabela.abordagens[id])-2),ROW(A150)),1)","v":{"$error":"#NUM!"}},{"$f":"INDEX(Tabela.abordagens[],SMALL(IF(Tabela.abordagens[Mês]=$L$2,ROW(Tabela.abordagens[Idade])-2),ROW(A150)),6)","v":{"$error":"#NUM!"}},{"$f":"INDEX(Tabela.abordagens[],SMALL(IF(Tabela.abordagens[Mês]=$L$2,ROW(Tabela.abordagens[Idade])-2),ROW(A150)),4)","v":{"$error":"#NUM!"}},{"$f":"INDEX(Tabela.abordagens[],SMALL(IF(Tabela.abordagens[Mês]=$L$2,ROW(Tabela.abordagens[Idade])-2),ROW(A150)),5)","v":{"$error":"#NUM!"}}]
[null,{"$f":"INDEX(Tabela.frequencia[],SMALL(IF(Tabela.frequencia[Mês]=$L$2,ROW(Tabela.frequencia[id])-1),ROW(A151)),1)","v":{"$error":"#NUM!"}},{"$f":"INDEX(Tabela.frequencia[],SMALL(IF(Tabela.frequencia[Mês]=$L$2,ROW(Tabela.frequencia[id])-1),ROW(A151)),4)","v":{"$error":"#NUM!"}},null,{"$f":"IFERROR(VLOOKUP(D198,Tabela.cadastro[[ID]:[Nome]],2,0),\"\")","v":""},{"$f":"IFERROR(VLOOKUP(D198,Tabela66[#All],2,0),\"\")","v":""},{"$f":"IFERROR(VLOOKUP(D198,Tabela.cadastro[[ID]:[CP ou M]],5,0),\"\")","v":""},{"$f":"IFERROR(VLOOKUP(D198,Cadastros!A:F,6,0),\"\")","v":""},{"$f":"IFERROR(VLOOKUP(D198,Cadastros!A:I,9,0),\"\")","v":""},{"$f":"IFERROR(VLOOKUP(D198,Cadastros!A:J,10,0),\"\")","v":""},{"$f":"IF(COUNTIF(Tabela66[id],D198)=0,\"\",COUNTIF(Tabela66[id],D198))","v":""},null,"",null,null,{"$f":"IFERROR(VLOOKUP(O198,Cadastros!A:B,2),\"\")","v":""},"",{"$f":"IFERROR(VLOOKUP(O198,Cadastros!A:E,5,0),\"\")","v":""},{"$f":"IFERROR(VLOOKUP(O198,Cadastros!A:F,6,0),\"\")","v":""},{"$f":"IFERROR(VLOOKUP(O198,Cadastros!A:I,9,0),\"\")","v":""},"","","",null,{"$f":"INDEX(Tabela.abordagens[],SMALL(IF(Tabela.abordagens[Mês]=$L$2,ROW(Tabela.abordagens[id])-2),ROW(A151)),1)","v":{"$error":"#NUM!"}},{"$f":"INDEX(Tabela.abordagens[],SMALL(IF(Tabela.abordagens[Mês]=$L$2,ROW(Tabela.abordagens[Idade])-2),ROW(A151)),6)","v":{"$error":"#NUM!"}},{"$f":"INDEX(Tabela.abordagens[],SMALL(IF(Tabela.abordagens[Mês]=$L$2,ROW(Tabela.abordagens[Idade])-2),ROW(A151)),4)","v":{"$error":"#NUM!"}},{"$f":"INDEX(Tabela.abordagens[],SMALL(IF(Tabela.abordagens[Mês]=$L$2,ROW(Tabela.abordagens[Idade])-2),ROW(A151)),5)","v":{"$error":"#NUM!"}}]
[null,{"$f":"INDEX(Tabela.frequencia[],SMALL(IF(Tabela.frequencia[Mês]=$L$2,ROW(Tabela.frequencia[id])-1),ROW(A152)),1)","v":{"$error":"#NUM!"}},{"$f":"INDEX(Tabela.frequencia[],SMALL(IF(Tabela.frequencia[Mês]=$L$2,ROW(Tabela.frequencia[id])-1),ROW(A152)),4)","v":{"$error":"#NUM!"}},null,{"$f":"IFERROR(VLOOKUP(D199,Tabela.cadastro[[ID]:[Nome]],2,0),\"\")","v":""},{"$f":"IFERROR(VLOOKUP(D199,Tabela66[#All],2,0),\"\")","v":""},{"$f":"IFERROR(VLOOKUP(D199,Tabela.cadastro[[ID]:[CP ou M]],5,0),\"\")","v":""},{"$f":"IFERROR(VLOOKUP(D199,Cadastros!A:F,6,0),\"\")","v":""},{"$f":"IFERROR(VLOOKUP(D199,Cadastros!A:I,9,0),\"\")","v":""},{"$f":"IFERROR(VLOOKUP(D199,Cadastros!A:J,10,0),\"\")","v":""},{"$f":"IF(COUNTIF(Tabela66[id],D199)=0,\"\",COUNTIF(Tabela66[id],D199))","v":""},null,"",null,null,{"$f":"IFERROR(VLOOKUP(O199,Cadastros!A:B,2),\"\")","v":""},"",{"$f":"IFERROR(VLOOKUP(O199,Cadastros!A:E,5,0),\"\")","v":""},{"$f":"IFERROR(VLOOKUP(O199,Cadastros!A:F,6,0),\"\")","v":""},{"$f":"IFERROR(VLOOKUP(O199,Cadastros!A:I,9,0),\"\")","v":""},"","","",null,{"$f":"INDEX(Tabela.abordagens[],SMALL(IF(Tabela.abordagens[Mês]=$L$2,ROW(Tabela.abordagens[id])-2),ROW(A152)),1)","v":{"$error":"#NUM!"}},{"$f":"INDEX(Tabela.abordagens[],SMALL(IF(Tabela.abordagens[Mês]=$L$2,ROW(Tabela.abordagens[Idade])-2),ROW(A152)),6)","v":{"$error":"#NUM!"}},{"$f":"INDEX(Tabela.abordagens[],SMALL(IF(Tabela.abordagens[Mês]=$L$2,ROW(Tabela.abordagens[Idade])-2),ROW(A152)),4)","v":{"$error":"#NUM!"}},{"$f":"INDEX(Tabela.abordagens[],SMALL(IF(Tabela.abordagens[Mês]=$L$2,ROW(Tabela.abordagens[Idade])-2),ROW(A152)),5)","v":{"$error":"#NUM!"}}]
[null,{"$f":"INDEX(Tabela.frequencia[],SMALL(IF(Tabela.frequencia[Mês]=$L$2,ROW(Tabela.frequencia[id])-1),ROW(A153)),1)","v":{"$error":"#NUM!"}},{"$f":"INDEX(Tabela.frequencia[],SMALL(IF(Tabela.frequencia[Mês]=$L$2,ROW(Tabela.frequencia[id])-1),ROW(A153)),4)","v":{"$error":"#NUM!"}},null,{"$f":"IFERROR(VLOOKUP(D200,Tabela.cadastro[[ID]:[Nome]],2,0),\"\")","v":""},{"$f":"IFERROR(VLOOKUP(D200,Tabela66[#All],2,0),\"\")","v":""},{"$f":"IFERROR(VLOOKUP(D200,Tabela.cadastro[[ID]:[CP ou M]],5,0),\"\")","v":""},{"$f":"IFERROR(VLOOKUP(D200,Cadastros!A:F,6,0),\"\")","v":""},{"$f":"IFERROR(VLOOKUP(D200,Cadastros!A:I,9,0),\"\")","v":""},{"$f":"IFERROR(VLOOKUP(D200,Cadastros!A:J,10,0),\"\")","v":""},{"$f":"IF(COUNTIF(Tabela66[id],D200)=0,\"\",COUNTIF(Tabela66[id],D200))","v":""},null,"",null,null,{"$f":"IFERROR(VLOOKUP(O200,Cadastros!A:B,2),\"\")","v":""},"",{"$f":"IFERROR(VLOOKUP(O200,Cadastros!A:E,5,0),\"\")","v":""},{"$f":"IFERROR(VLOOKUP(O200,Cadastros!A:F,6,0),\"\")","v":""},{"$f":"IFERROR(VLOOKUP(O200,Cadastros!A:I,9,0),\"\")","v":""},"","","",null,{"$f":"INDEX(Tabela.abordagens[],SMALL(IF(Tabela.abordagens[Mês]=$L$2,ROW(Tabela.abordagens[id])-2),ROW(A153)),1)","v":{"$error":"#NUM!"}},{"$f":"INDEX(Tabela.abordagens[],SMALL(IF(Tabela.abordagens[Mês]=$L$2,ROW(Tabela.abordagens[Idade])-2),ROW(A153)),6)","v":{"$error":"#NUM!"}},{"$f":"INDEX(Tabela.abordagens[],SMALL(IF(Tabela.abordagens[Mês]=$L$2,ROW(Tabela.abordagens[Idade])-2),ROW(A153)),4)","v":{"$error":"#NUM!"}},{"$f":"INDEX(Tabela.abordagens[],SMALL(IF(Tabela.abordagens[Mês]=$L$2,ROW(Tabela.abordagens[Idade])-2),ROW(A153)),5)","v":{"$error":"#NUM!"}}]
[null,{"$f":"INDEX(Tabela.frequencia[],SMALL(IF(Tabela.frequencia[Mês]=$L$2,ROW(Tabela.frequencia[id])-1),ROW(A154)),1)","v":{"$error":"#NUM!"}},{"$f":"INDEX(Tabela.frequencia[],SMALL(IF(Tabela.frequencia[Mês]=$L$2,ROW(Tabela.frequencia[id])-1),ROW(A154)),4)","v":{"$error":"#NUM!"}},null,{"$f":"IFERROR(VLOOKUP(D201,Tabela.cadastro[[ID]:[Nome]],2,0),\"\")","v":""},{"$f":"IFERROR(VLOOKUP(D201,Tabela66[#All],2,0),\"\")","v":""},{"$f":"IFERROR(VLOOKUP(D201,Tabela.cadastro[[ID]:[CP ou M]],5,0),\"\")","v":""},{"$f":"IFERROR(VLOOKUP(D201,Cadastros!A:F,6,0),\"\")","v":""},{"$f":"IFERROR(VLOOKUP(D201,Cadastros!A:I,9,0),\"\")","v":""},{"$f":"IFERROR(VLOOKUP(D201,Cadastros!A:J,10,0),\"\")","v":""},{"$f":"IF(COUNTIF(Tabela66[id],D201)=0,\"\",COUNTIF(Tabela66[id],D201))","v":""},null,"",null,null,{"$f":"IFERROR(VLOOKUP(O201,Cadastros!A:B,2),\"\")","v":""},"",{"$f":"IFERROR(VLOOKUP(O201,Cadastros!A:E,5,0),\"\")","v":""},{"$f":"IFERROR(VLOOKUP(O201,Cadastros!A:F,6,0),\"\")","v":""},{"$f":"IFERROR(VLOOKUP(O201,Cadastros!A:I,9,0),\"\")","v":""},"","","",null,{"$f":"INDEX(Tabela.abordagens[],SMALL(IF(Tabela.abordagens[Mês]=$L$2,ROW(Tabela.abordagens[id])-2),ROW(A154)),1)","v":{"$error":"#NUM!"}},{"$f":"INDEX(Tabela.abordagens[],SMALL(IF(Tabela.abordagens[Mês]=$L$2,ROW(Tabela.abordagens[Idade])-2),ROW(A154)),6)","v":{"$error":"#NUM!"}},{"$f":"INDEX(Tabela.abordagens[],SMALL(IF(Tabela.abordagens[Mês]=$L$2,ROW(Tabela.abordagens[Idade])-2),ROW(A154)),4)","v":{"$error":"#NUM!"}},{"$f":"INDEX(Tabela.abordagens[],SMALL(IF(Tabela.abordagens[Mês]=$L$2,ROW(Tabela.abordagens[Idade])-2),ROW(A154)),5)","v":{"$error":"#NUM!"}}]
[null,{"$f":"INDEX(Tabela.frequencia[],SMALL(IF(Tabela.frequencia[Mês]=$L$2,ROW(Tabela.frequencia[id])-1),ROW(A155)),1)","v":{"$error":"#NUM!"}},{"$f":"INDEX(Tabela.frequencia[],SMALL(IF(Tabela.frequencia[Mês]=$L$2,ROW(Tabela.frequencia[id])-1),ROW(A155)),4)","v":{"$error":"#NUM!"}},null,{"$f":"IFERROR(VLOOKUP(D202,Tabela.cadastro[[ID]:[Nome]],2,0),\"\")","v":""},{"$f":"IFERROR(VLOOKUP(D202,Tabela66[#All],2,0),\"\")","v":""},{"$f":"IFERROR(VLOOKUP(D202,Tabela.cadastro[[ID]:[CP ou M]],5,0),\"\")","v":""},{"$f":"IFERROR(VLOOKUP(D202,Cadastros!A:F,6,0),\"\")","v":""},{"$f":"IFERROR(VLOOKUP(D202,Cadastros!A:I,9,0),\"\")","v":""},{"$f":"IFERROR(VLOOKUP(D202,Cadastros!A:J,10,0),\"\")","v":""},{"$f":"IF(COUNTIF(Tabela66[id],D202)=0,\"\",COUNTIF(Tabela66[id],D202))","v":""},null,"",null,null,{"$f":"IFERROR(VLOOKUP(O202,Cadastros!A:B,2),\"\")","v":""},"",{"$f":"IFERROR(VLOOKUP(O202,Cadastros!A:E,5,0),\"\")","v":""},{"$f":"IFERROR(VLOOKUP(O202,Cadastros!A:F,6,0),\"\")","v":""},{"$f":"IFERROR(VLOOKUP(O202,Cadastros!A:I,9,0),\"\")","v":""},"","","",null,{"$f":"INDEX(Tabela.abordagens[],SMALL(IF(Tabela.abordagens[Mês]=$L$2,ROW(Tabela.abordagens[id])-2),ROW(A155)),1)","v":{"$error":"#NUM!"}},{"$f":"INDEX(Tabela.abordagens[],SMALL(IF(Tabela.abordagens[Mês]=$L$2,ROW(Tabela.abordagens[Idade])-2),ROW(A155)),6)","v":{"$error":"#NUM!"}},{"$f":"INDEX(Tabela.abordagens[],SMALL(IF(Tabela.abordagens[Mês]=$L$2,ROW(Tabela.abordagens[Idade])-2),ROW(A155)),4)","v":{"$error":"#NUM!"}},{"$f":"INDEX(Tabela.abordagens[],SMALL(IF(Tabela.abordagens[Mês]=$L$2,ROW(Tabela.abordagens[Idade])-2),ROW(A155)),5)","v":{"$error":"#NUM!"}}]
[null,{"$f":"INDEX(Tabela.frequencia[],SMALL(IF(Tabela.frequencia[Mês]=$L$2,ROW(Tabela.frequencia[id])-1),ROW(A156)),1)","v":{"$error":"#NUM!"}},{"$f":"INDEX(Tabela.frequencia[],SMALL(IF(Tabela.frequencia[Mês]=$L$2,ROW(Tabela.frequencia[id])-1),ROW(A156)),4)","v":{"$error":"#NUM!"}},null,{"$f":"IFERROR(VLOOKUP(D203,Tabela.cadastro[[ID]:[Nome]],2,0),\"\")","v":""},{"$f":"IFERROR(VLOOKUP(D203,Tabela66[#All],2,0),\"\")","v":""},{"$f":"IFERROR(VLOOKUP(D203,Tabela.cadastro[[ID]:[CP ou M]],5,0),\"\")","v":""},{"$f":"IFERROR(VLOOKUP(D203,Cadastros!A:F,6,0),\"\")","v":""},{"$f":"IFERROR(VLOOKUP(D203,Cadastros!A:I,9,0),\"\")","v":""},{"$f":"IFERROR(VLOOKUP(D203,Cadastros!A:J,10,0),\"\")","v":""},{"$f":"IF(COUNTIF(Tabela66[id],D203)=0,\"\",COUNTIF(Tabela66[id],D203))","v":""},null,"",null,null,{"$f":"IFERROR(VLOOKUP(O203,Cadastros!A:B,2),\"\")","v":""},"",{"$f":"IFERROR(VLOOKUP(O203,Cadastros!A:E,5,0),\"\")","v":""},{"$f":"IFERROR(VLOOKUP(O203,Cadastros!A:F,6,0),\"\")","v":""},{"$f":"IFERROR(VLOOKUP(O203,Cadastros!A:I,9,0),\"\")","v":""},"","","",null,{"$f":"INDEX(Tabela.abordagens[],SMALL(IF(Tabela.abordagens[Mês]=$L$2,ROW(Tabela.abordagens[id])-2),ROW(A156)),1)","v":{"$error":"#NUM!"}},{"$f":"INDEX(Tabela.abordagens[],SMALL(IF(Tabela.abordagens[Mês]=$L$2,ROW(Tabela.abordagens[Idade])-2),ROW(A156)),6)","v":{"$error":"#NUM!"}},{"$f":"INDEX(Tabela.abordagens[],SMALL(IF(Tabela.abordagens[Mês]=$L$2,ROW(Tabela.abordagens[Idade])-2),ROW(A156)),4)","v":{"$error":"#NUM!"}},{"$f":"INDEX(Tabela.abordagens[],SMALL(IF(Tabela.abordagens[Mês]=$L$2,ROW(Tabela.abordagens[Idade])-2),ROW(A156)),5)","v":{"$error":"#NUM!"}}]
[null,{"$f":"INDEX(Tabela.frequencia[],SMALL(IF(Tabela.frequencia[Mês]=$L$2,ROW(Tabela.frequencia[id])-1),ROW(A157)),1)","v":{"$error":"#NUM!"}},{"$f":"INDEX(Tabela.frequencia[],SMALL(IF(Tabela.frequencia[Mês]=$L$2,ROW(Tabela.frequencia[id])-1),ROW(A157)),4)","v":{"$error":"#NUM!"}},null,{"$f":"IFERROR(VLOOKUP(D204,Tabela.cadastro[[ID]:[Nome]],2,0),\"\")","v":""},{"$f":"IFERROR(VLOOKUP(D204,Tabela66[#All],2,0),\"\")","v":""},{"$f":"IFERROR(VLOOKUP(D204,Tabela.cadastro[[ID]:[CP ou M]],5,0),\"\")","v":""},{"$f":"IFERROR(VLOOKUP(D204,Cadastros!A:F,6,0),\"\")","v":""},{"$f":"IFERROR(VLOOKUP(D204,Cadastros!A:I,9,0),\"\")","v":""},{"$f":"IFERROR(VLOOKUP(D204,Cadastros!A:J,10,0),\"\")","v":""},{"$f":"IF(COUNTIF(Tabela66[id],D204)=0,\"\",COUNTIF(Tabela66[id],D204))","v":""},null,"",null,null,{"$f":"IFERROR(VLOOKUP(O204,Cadastros!A:B,2),\"\")","v":""},"",{"$f":"IFERROR(VLOOKUP(O204,Cadastros!A:E,5,0),\"\")","v":""},{"$f":"IFERROR(VLOOKUP(O204,Cadastros!A:F,6,0),\"\")","v":""},{"$f":"IFERROR(VLOOKUP(O204,Cadastros!A:I,9,0),\"\")","v":""},"","","",null,{"$f":"INDEX(Tabela.abordagens[],SMALL(IF(Tabela.abordagens[Mês]=$L$2,ROW(Tabela.abordagens[id])-2),ROW(A157)),1)","v":{"$error":"#NUM!"}},{"$f":"INDEX(Tabela.abordagens[],SMALL(IF(Tabela.abordagens[Mês]=$L$2,ROW(Tabela.abordagens[Idade])-2),ROW(A157)),6)","v":{"$error":"#NUM!"}},{"$f":"INDEX(Tabela.abordagens[],SMALL(IF(Tabela.abordagens[Mês]=$L$2,ROW(Tabela.abordagens[Idade])-2),ROW(A157)),4)","v":{"$error":"#NUM!"}},{"$f":"INDEX(Tabela.abordagens[],SMALL(IF(Tabela.abordagens[Mês]=$L$2,ROW(Tabela.abordagens[Idade])-2),ROW(A157)),5)","v":{"$error":"#NUM!"}}]
[null,{"$f":"INDEX(Tabela.frequencia[],SMALL(IF(Tabela.frequencia[Mês]=$L$2,ROW(Tabela.frequencia[id])-1),ROW(A158)),1)","v":{"$error":"#NUM!"}},{"$f":"INDEX(Tabela.frequencia[],SMALL(IF(Tabela.frequencia[Mês]=$L$2,ROW(Tabela.frequencia[id])-1),ROW(A158)),4)","v":{"$error":"#NUM!"}},null,{"$f":"IFERROR(VLOOKUP(D205,Tabela.cadastro[[ID]:[Nome]],2,0),\"\")","v":""},{"$f":"IFERROR(VLOOKUP(D205,Tabela66[#All],2,0),\"\")","v":""},{"$f":"IFERROR(VLOOKUP(D205,Tabela.cadastro[[ID]:[CP ou M]],5,0),\"\")","v":""},{"$f":"IFERROR(VLOOKUP(D205,Cadastros!A:F,6,0),\"\")","v":""},{"$f":"IFERROR(VLOOKUP(D205,Cadastros!A:I,9,0),\"\")","v":""},{"$f":"IFERROR(VLOOKUP(D205,Cadastros!A:J,10,0),\"\")","v":""},{"$f":"IF(COUNTIF(Tabela66[id],D205)=0,\"\",COUNTIF(Tabela66[id],D205))","v":""},null,"",null,null,{"$f":"IFERROR(VLOOKUP(O205,Cadastros!A:B,2),\"\")","v":""},"",{"$f":"IFERROR(VLOOKUP(O205,Cadastros!A:E,5,0),\"\")","v":""},{"$f":"IFERROR(VLOOKUP(O205,Cadastros!A:F,6,0),\"\")","v":""},{"$f":"IFERROR(VLOOKUP(O205,Cadastros!A:I,9,0),\"\")","v":""},"","","",null,{"$f":"INDEX(Tabela.abordagens[],SMALL(IF(Tabela.abordagens[Mês]=$L$2,ROW(Tabela.abordagens[id])-2),ROW(A158)),1)","v":{"$error":"#NUM!"}},{"$f":"INDEX(Tabela.abordagens[],SMALL(IF(Tabela.abordagens[Mês]=$L$2,ROW(Tabela.abordagens[Idade])-2),ROW(A158)),6)","v":{"$error":"#NUM!"}},{"$f":"INDEX(Tabela.abordagens[],SMALL(IF(Tabela.abordagens[Mês]=$L$2,ROW(Tabela.abordagens[Idade])-2),ROW(A158)),4)","v":{"$error":"#NUM!"}},{"$f":"INDEX(Tabela.abordagens[],SMALL(IF(Tabela.abordagens[Mês]=$L$2,ROW(Tabela.abordagens[Idade])-2),ROW(A158)),5)","v":{"$error":"#NUM!"}}]
[null,{"$f":"INDEX(Tabela.frequencia[],SMALL(IF(Tabela.frequencia[Mês]=$L$2,ROW(Tabela.frequencia[id])-1),ROW(A159)),1)","v":{"$error":"#NUM!"}},{"$f":"INDEX(Tabela.frequencia[],SMALL(IF(Tabela.frequencia[Mês]=$L$2,ROW(Tabela.frequencia[id])-1),ROW(A159)),4)","v":{"$error":"#NUM!"}},null,{"$f":"IFERROR(VLOOKUP(D206,Tabela.cadastro[[ID]:[Nome]],2,0),\"\")","v":""},{"$f":"IFERROR(VLOOKUP(D206,Tabela66[#All],2,0),\"\")","v":""},{"$f":"IFERROR(VLOOKUP(D206,Tabela.cadastro[[ID]:[CP ou M]],5,0),\"\")","v":""},{"$f":"IFERROR(VLOOKUP(D206,Cadastros!A:F,6,0),\"\")","v":""},{"$f":"IFERROR(VLOOKUP(D206,Cadastros!A:I,9,0),\"\")","v":""},{"$f":"IFERROR(VLOOKUP(D206,Cadastros!A:J,10,0),\"\")","v":""},{"$f":"IF(COUNTIF(Tabela66[id],D206)=0,\"\",COUNTIF(Tabela66[id],D206))","v":""},null,"",null,null,{"$f":"IFERROR(VLOOKUP(O206,Cadastros!A:B,2),\"\")","v":""},"",{"$f":"IFERROR(VLOOKUP(O206,Cadastros!A:E,5,0),\"\")","v":""},{"$f":"IFERROR(VLOOKUP(O206,Cadastros!A:F,6,0),\"\")","v":""},{"$f":"IFERROR(VLOOKUP(O206,Cadastros!A:I,9,0),\"\")","v":""},"","","",null,{"$f":"INDEX(Tabela.abordagens[],SMALL(IF(Tabela.abordagens[Mês]=$L$2,ROW(Tabela.abordagens[id])-2),ROW(A159)),1)","v":{"$error":"#NUM!"}},{"$f":"INDEX(Tabela.abordagens[],SMALL(IF(Tabela.abordagens[Mês]=$L$2,ROW(Tabela.abordagens[Idade])-2),ROW(A159)),6)","v":{"$error":"#NUM!"}},{"$f":"INDEX(Tabela.abordagens[],SMALL(IF(Tabela.abordagens[Mês]=$L$2,ROW(Tabela.abordagens[Idade])-2),ROW(A159)),4)","v":{"$error":"#NUM!"}},{"$f":"INDEX(Tabela.abordagens[],SMALL(IF(Tabela.abordagens[Mês]=$L$2,ROW(Tabela.abordagens[Idade])-2),ROW(A159)),5)","v":{"$error":"#NUM!"}}]
[null,{"$f":"INDEX(Tabela.frequencia[],SMALL(IF(Tabela.frequencia[Mês]=$L$2,ROW(Tabela.frequencia[id])-1),ROW(A160)),1)","v":{"$error":"#NUM!"}},{"$f":"INDEX(Tabela.frequencia[],SMALL(IF(Tabela.frequencia[Mês]=$L$2,ROW(Tabela.frequencia[id])-1),ROW(A160)),4)","v":{"$error":"#NUM!"}},null,{"$f":"IFERROR(VLOOKUP(D207,Tabela.cadastro[[ID]:[Nome]],2,0),\"\")","v":""},{"$f":"IFERROR(VLOOKUP(D207,Tabela66[#All],2,0),\"\")","v":""},{"$f":"IFERROR(VLOOKUP(D207,Tabela.cadastro[[ID]:[CP ou M]],5,0),\"\")","v":""},{"$f":"IFERROR(VLOOKUP(D207,Cadastros!A:F,6,0),\"\")","v":""},{"$f":"IFERROR(VLOOKUP(D207,Cadastros!A:I,9,0),\"\")","v":""},{"$f":"IFERROR(VLOOKUP(D207,Cadastros!A:J,10,0),\"\")","v":""},{"$f":"IF(COUNTIF(Tabela66[id],D207)=0,\"\",COUNTIF(Tabela66[id],D207))","v":""},null,"",null,null,{"$f":"IFERROR(VLOOKUP(O207,Cadastros!A:B,2),\"\")","v":""},"",{"$f":"IFERROR(VLOOKUP(O207,Cadastros!A:E,5,0),\"\")","v":""},{"$f":"IFERROR(VLOOKUP(O207,Cadastros!A:F,6,0),\"\")","v":""},{"$f":"IFERROR(VLOOKUP(O207,Cadastros!A:I,9,0),\"\")","v":""},"","","",null,{"$f":"INDEX(Tabela.abordagens[],SMALL(IF(Tabela.abordagens[Mês]=$L$2,ROW(Tabela.abordagens[id])-2),ROW(A160)),1)","v":{"$error":"#NUM!"}},{"$f":"INDEX(Tabela.abordagens[],SMALL(IF(Tabela.abordagens[Mês]=$L$2,ROW(Tabela.abordagens[Idade])-2),ROW(A160)),6)","v":{"$error":"#NUM!"}},{"$f":"INDEX(Tabela.abordagens[],SMALL(IF(Tabela.abordagens[Mês]=$L$2,ROW(Tabela.abordagens[Idade])-2),ROW(A160)),4)","v":{"$error":"#NUM!"}},{"$f":"INDEX(Tabela.abordagens[],SMALL(IF(Tabela.abordagens[Mês]=$L$2,ROW(Tabela.abordagens[Idade])-2),ROW(A160)),5)","v":{"$error":"#NUM!"}}]
[null,{"$f":"INDEX(Tabela.frequencia[],SMALL(IF(Tabela.frequencia[Mês]=$L$2,ROW(Tabela.frequencia[id])-1),ROW(A161)),1)","v":{"$error":"#NUM!"}},{"$f":"INDEX(Tabela.frequencia[],SMALL(IF(Tabela.frequencia[Mês]=$L$2,ROW(Tabela.frequencia[id])-1),ROW(A161)),4)","v":{"$error":"#NUM!"}},null,{"$f":"IFERROR(VLOOKUP(D208,Tabela.cadastro[[ID]:[Nome]],2,0),\"\")","v":""},{"$f":"IFERROR(VLOOKUP(D208,Tabela66[#All],2,0),\"\")","v":""},{"$f":"IFERROR(VLOOKUP(D208,Tabela.cadastro[[ID]:[CP ou M]],5,0),\"\")","v":""},{"$f":"IFERROR(VLOOKUP(D208,Cadastros!A:F,6,0),\"\")","v":""},{"$f":"IFERROR(VLOOKUP(D208,Cadastros!A:I,9,0),\"\")","v":""},{"$f":"IFERROR(VLOOKUP(D208,Cadastros!A:J,10,0),\"\")","v":""},{"$f":"IF(COUNTIF(Tabela66[id],D208)=0,\"\",COUNTIF(Tabela66[id],D208))","v":""},null,"",null,null,{"$f":"IFERROR(VLOOKUP(O208,Cadastros!A:B,2),\"\")","v":""},"",{"$f":"IFERROR(VLOOKUP(O208,Cadastros!A:E,5,0),\"\")","v":""},{"$f":"IFERROR(VLOOKUP(O208,Cadastros!A:F,6,0),\"\")","v":""},{"$f":"IFERROR(VLOOKUP(O208,Cadastros!A:I,9,0),\"\")","v":""},"","","",null,{"$f":"INDEX(Tabela.abordagens[],SMALL(IF(Tabela.abordagens[Mês]=$L$2,ROW(Tabela.abordagens[id])-2),ROW(A161)),1)","v":{"$error":"#NUM!"}},{"$f":"INDEX(Tabela.abordagens[],SMALL(IF(Tabela.abordagens[Mês]=$L$2,ROW(Tabela.abordagens[Idade])-2),ROW(A161)),6)","v":{"$error":"#NUM!"}},{"$f":"INDEX(Tabela.abordagens[],SMALL(IF(Tabela.abordagens[Mês]=$L$2,ROW(Tabela.abordagens[Idade])-2),ROW(A161)),4)","v":{"$error":"#NUM!"}},{"$f":"INDEX(Tabela.abordagens[],SMALL(IF(Tabela.abordagens[Mês]=$L$2,ROW(Tabela.abordagens[Idade])-2),ROW(A161)),5)","v":{"$error":"#NUM!"}}]
[null,{"$f":"INDEX(Tabela.frequencia[],SMALL(IF(Tabela.frequencia[Mês]=$L$2,ROW(Tabela.frequencia[id])-1),ROW(A162)),1)","v":{"$error":"#NUM!"}},{"$f":"INDEX(Tabela.frequencia[],SMALL(IF(Tabela.frequencia[Mês]=$L$2,ROW(Tabela.frequencia[id])-1),ROW(A162)),4)","v":{"$error":"#NUM!"}},null,{"$f":"IFERROR(VLOOKUP(D209,Tabela.cadastro[[ID]:[Nome]],2,0),\"\")","v":""},{"$f":"IFERROR(VLOOKUP(D209,Tabela66[#All],2,0),\"\")","v":""},{"$f":"IFERROR(VLOOKUP(D209,Tabela.cadastro[[ID]:[CP ou M]],5,0),\"\")","v":""},{"$f":"IFERROR(VLOOKUP(D209,Cadastros!A:F,6,0),\"\")","v":""},{"$f":"IFERROR(VLOOKUP(D209,Cadastros!A:I,9,0),\"\")","v":""},{"$f":"IFERROR(VLOOKUP(D209,Cadastros!A:J,10,0),\"\")","v":""},{"$f":"IF(COUNTIF(Tabela66[id],D209)=0,\"\",COUNTIF(Tabela66[id],D209))","v":""},null,"",null,null,{"$f":"IFERROR(VLOOKUP(O209,Cadastros!A:B,2),\"\")","v":""},"",{"$f":"IFERROR(VLOOKUP(O209,Cadastros!A:E,5,0),\"\")","v":""},{"$f":"IFERROR(VLOOKUP(O209,Cadastros!A:F,6,0),\"\")","v":""},{"$f":"IFERROR(VLOOKUP(O209,Cadastros!A:I,9,0),\"\")","v":""},"","","",null,{"$f":"INDEX(Tabela.abordagens[],SMALL(IF(Tabela.abordagens[Mês]=$L$2,ROW(Tabela.abordagens[id])-2),ROW(A162)),1)","v":{"$error":"#NUM!"}},{"$f":"INDEX(Tabela.abordagens[],SMALL(IF(Tabela.abordagens[Mês]=$L$2,ROW(Tabela.abordagens[Idade])-2),ROW(A162)),6)","v":{"$error":"#NUM!"}},{"$f":"INDEX(Tabela.abordagens[],SMALL(IF(Tabela.abordagens[Mês]=$L$2,ROW(Tabela.abordagens[Idade])-2),ROW(A162)),4)","v":{"$error":"#NUM!"}},{"$f":"INDEX(Tabela.abordagens[],SMALL(IF(Tabela.abordagens[Mês]=$L$2,ROW(Tabela.abordagens[Idade])-2),ROW(A162)),5)","v":{"$error":"#NUM!"}}]
[null,{"$f":"INDEX(Tabela.frequencia[],SMALL(IF(Tabela.frequencia[Mês]=$L$2,ROW(Tabela.frequencia[id])-1),ROW(A163)),1)","v":{"$error":"#NUM!"}},{"$f":"INDEX(Tabela.frequencia[],SMALL(IF(Tabela.frequencia[Mês]=$L$2,ROW(Tabela.frequencia[id])-1),ROW(A163)),4)","v":{"$error":"#NUM!"}},null,{"$f":"IFERROR(VLOOKUP(D210,Tabela.cadastro[[ID]:[Nome]],2,0),\"\")","v":""},{"$f":"IFERROR(VLOOKUP(D210,Tabela66[#All],2,0),\"\")","v":""},{"$f":"IFERROR(VLOOKUP(D210,Tabela.cadastro[[ID]:[CP ou M]],5,0),\"\")","v":""},{"$f":"IFERROR(VLOOKUP(D210,Cadastros!A:F,6,0),\"\")","v":""},{"$f":"IFERROR(VLOOKUP(D210,Cadastros!A:I,9,0),\"\")","v":""},{"$f":"IFERROR(VLOOKUP(D210,Cadastros!A:J,10,0),\"\")","v":""},{"$f":"IF(COUNTIF(Tabela66[id],D210)=0,\"\",COUNTIF(Tabela66[id],D210))","v":""},null,"",null,null,{"$f":"IFERROR(VLOOKUP(O210,Cadastros!A:B,2),\"\")","v":""},"",{"$f":"IFERROR(VLOOKUP(O210,Cadastros!A:E,5,0),\"\")","v":""},{"$f":"IFERROR(VLOOKUP(O210,Cadastros!A:F,6,0),\"\")","v":""},{"$f":"IFERROR(VLOOKUP(O210,Cadastros!A:I,9,0),\"\")","v":""},"","","",null,{"$f":"INDEX(Tabela.abordagens[],SMALL(IF(Tabela.abordagens[Mês]=$L$2,ROW(Tabela.abordagens[id])-2),ROW(A163)),1)","v":{"$error":"#NUM!"}},{"$f":"INDEX(Tabela.abordagens[],SMALL(IF(Tabela.abordagens[Mês]=$L$2,ROW(Tabela.abordagens[Idade])-2),ROW(A163)),6)","v":{"$error":"#NUM!"}},{"$f":"INDEX(Tabela.abordagens[],SMALL(IF(Tabela.abordagens[Mês]=$L$2,ROW(Tabela.abordagens[Idade])-2),ROW(A163)),4)","v":{"$error":"#NUM!"}},{"$f":"INDEX(Tabela.abordagens[],SMALL(IF(Tabela.abordagens[Mês]=$L$2,ROW(Tabela.abordagens[Idade])-2),ROW(A163)),5)","v":{"$error":"#NUM!"}}]
[null,{"$f":"INDEX(Tabela.frequencia[],SMALL(IF(Tabela.frequencia[Mês]=$L$2,ROW(Tabela.frequencia[id])-1),ROW(A164)),1)","v":{"$error":"#NUM!"}},{"$f":"INDEX(Tabela.frequencia[],SMALL(IF(Tabela.frequencia[Mês]=$L$2,ROW(Tabela.frequencia[id])-1),ROW(A164)),4)","v":{"$error":"#NUM!"}},null,{"$f":"IFERROR(VLOOKUP(D211,Tabela.cadastro[[ID]:[Nome]],2,0),\"\")","v":""},{"$f":"IFERROR(VLOOKUP(D211,Tabela66[#All],2,0),\"\")","v":""},{"$f":"IFERROR(VLOOKUP(D211,Tabela.cadastro[[ID]:[CP ou M]],5,0),\"\")","v":""},{"$f":"IFERROR(VLOOKUP(D211,Cadastros!A:F,6,0),\"\")","v":""},{"$f":"IFERROR(VLOOKUP(D211,Cadastros!A:I,9,0),\"\")","v":""},{"$f":"IFERROR(VLOOKUP(D211,Cadastros!A:J,10,0),\"\")","v":""},{"$f":"IF(COUNTIF(Tabela66[id],D211)=0,\"\",COUNTIF(Tabela66[id],D211))","v":""},null,"",null,null,{"$f":"IFERROR(VLOOKUP(O211,Cadastros!A:B,2),\"\")","v":""},"",{"$f":"IFERROR(VLOOKUP(O211,Cadastros!A:E,5,0),\"\")","v":""},{"$f":"IFERROR(VLOOKUP(O211,Cadastros!A:F,6,0),\"\")","v":""},{"$f":"IFERROR(VLOOKUP(O211,Cadastros!A:I,9,0),\"\")","v":""},"","","",null,{"$f":"INDEX(Tabela.abordagens[],SMALL(IF(Tabela.abordagens[Mês]=$L$2,ROW(Tabela.abordagens[id])-2),ROW(A164)),1)","v":{"$error":"#NUM!"}},{"$f":"INDEX(Tabela.abordagens[],SMALL(IF(Tabela.abordagens[Mês]=$L$2,ROW(Tabela.abordagens[Idade])-2),ROW(A164)),6)","v":{"$error":"#NUM!"}},{"$f":"INDEX(Tabela.abordagens[],SMALL(IF(Tabela.abordagens[Mês]=$L$2,ROW(Tabela.abordagens[Idade])-2),ROW(A164)),4)","v":{"$error":"#NUM!"}},{"$f":"INDEX(Tabela.abordagens[],SMALL(IF(Tabela.abordagens[Mês]=$L$2,ROW(Tabela.abordagens[Idade])-2),ROW(A164)),5)","v":{"$error":"#NUM!"}}]
[null,{"$f":"INDEX(Tabela.frequencia[],SMALL(IF(Tabela.frequencia[Mês]=$L$2,ROW(Tabela.frequencia[id])-1),ROW(A165)),1)","v":{"$error":"#NUM!"}},{"$f":"INDEX(Tabela.frequencia[],SMALL(IF(Tabela.frequencia[Mês]=$L$2,ROW(Tabela.frequencia[id])-1),ROW(A165)),4)","v":{"$error":"#NUM!"}},null,{"$f":"IFERROR(VLOOKUP(D212,Tabela.cadastro[[ID]:[Nome]],2,0),\"\")","v":""},{"$f":"IFERROR(VLOOKUP(D212,Tabela66[#All],2,0),\"\")","v":""},{"$f":"IFERROR(VLOOKUP(D212,Tabela.cadastro[[ID]:[CP ou M]],5,0),\"\")","v":""},{"$f":"IFERROR(VLOOKUP(D212,Cadastros!A:F,6,0),\"\")","v":""},{"$f":"IFERROR(VLOOKUP(D212,Cadastros!A:I,9,0),\"\")","v":""},{"$f":"IFERROR(VLOOKUP(D212,Cadastros!A:J,10,0),\"\")","v":""},{"$f":"IF(COUNTIF(Tabela66[id],D212)=0,\"\",COUNTIF(Tabela66[id],D212))","v":""},null,"",null,null,{"$f":"IFERROR(VLOOKUP(O212,Cadastros!A:B,2),\"\")","v":""},"",{"$f":"IFERROR(VLOOKUP(O212,Cadastros!A:E,5,0),\"\")","v":""},{"$f":"IFERROR(VLOOKUP(O212,Cadastros!A:F,6,0),\"\")","v":""},{"$f":"IFERROR(VLOOKUP(O212,Cadastros!A:I,9,0),\"\")","v":""},"","","",null,{"$f":"INDEX(Tabela.abordagens[],SMALL(IF(Tabela.abordagens[Mês]=$L$2,ROW(Tabela.abordagens[id])-2),ROW(A165)),1)","v":{"$error":"#NUM!"}},{"$f":"INDEX(Tabela.abordagens[],SMALL(IF(Tabela.abordagens[Mês]=$L$2,ROW(Tabela.abordagens[Idade])-2),ROW(A165)),6)","v":{"$error":"#NUM!"}},{"$f":"INDEX(Tabela.abordagens[],SMALL(IF(Tabela.abordagens[Mês]=$L$2,ROW(Tabela.abordagens[Idade])-2),ROW(A165)),4)","v":{"$error":"#NUM!"}},{"$f":"INDEX(Tabela.abordagens[],SMALL(IF(Tabela.abordagens[Mês]=$L$2,ROW(Tabela.abordagens[Idade])-2),ROW(A165)),5)","v":{"$error":"#NUM!"}}]
[null,{"$f":"INDEX(Tabela.frequencia[],SMALL(IF(Tabela.frequencia[Mês]=$L$2,ROW(Tabela.frequencia[id])-1),ROW(A166)),1)","v":{"$error":"#NUM!"}},{"$f":"INDEX(Tabela.frequencia[],SMALL(IF(Tabela.frequencia[Mês]=$L$2,ROW(Tabela.frequencia[id])-1),ROW(A166)),4)","v":{"$error":"#NUM!"}},null,{"$f":"IFERROR(VLOOKUP(D213,Tabela.cadastro[[ID]:[Nome]],2,0),\"\")","v":""},{"$f":"IFERROR(VLOOKUP(D213,Tabela66[#All],2,0),\"\")","v":""},{"$f":"IFERROR(VLOOKUP(D213,Tabela.cadastro[[ID]:[CP ou M]],5,0),\"\")","v":""},{"$f":"IFERROR(VLOOKUP(D213,Cadastros!A:F,6,0),\"\")","v":""},{"$f":"IFERROR(VLOOKUP(D213,Cadastros!A:I,9,0),\"\")","v":""},{"$f":"IFERROR(VLOOKUP(D213,Cadastros!A:J,10,0),\"\")","v":""},{"$f":"IF(COUNTIF(Tabela66[id],D213)=0,\"\",COUNTIF(Tabela66[id],D213))","v":""},null,"",null,null,{"$f":"IFERROR(VLOOKUP(O213,Cadastros!A:B,2),\"\")","v":""},"",{"$f":"IFERROR(VLOOKUP(O213,Cadastros!A:E,5,0),\"\")","v":""},{"$f":"IFERROR(VLOOKUP(O213,Cadastros!A:F,6,0),\"\")","v":""},{"$f":"IFERROR(VLOOKUP(O213,Cadastros!A:I,9,0),\"\")","v":""},"","","",null,{"$f":"INDEX(Tabela.abordagens[],SMALL(IF(Tabela.abordagens[Mês]=$L$2,ROW(Tabela.abordagens[id])-2),ROW(A166)),1)","v":{"$error":"#NUM!"}},{"$f":"INDEX(Tabela.abordagens[],SMALL(IF(Tabela.abordagens[Mês]=$L$2,ROW(Tabela.abordagens[Idade])-2),ROW(A166)),6)","v":{"$error":"#NUM!"}},{"$f":"INDEX(Tabela.abordagens[],SMALL(IF(Tabela.abordagens[Mês]=$L$2,ROW(Tabela.abordagens[Idade])-2),ROW(A166)),4)","v":{"$error":"#NUM!"}},{"$f":"INDEX(Tabela.abordagens[],SMALL(IF(Tabela.abordagens[Mês]=$L$2,ROW(Tabela.abordagens[Idade])-2),ROW(A166)),5)","v":{"$error":"#NUM!"}}]
[null,{"$f":"INDEX(Tabela.frequencia[],SMALL(IF(Tabela.frequencia[Mês]=$L$2,ROW(Tabela.frequencia[id])-1),ROW(A167)),1)","v":{"$error":"#NUM!"}},{"$f":"INDEX(Tabela.frequencia[],SMALL(IF(Tabela.frequencia[Mês]=$L$2,ROW(Tabela.frequencia[id])-1),ROW(A167)),4)","v":{"$error":"#NUM!"}},null,{"$f":"IFERROR(VLOOKUP(D214,Tabela.cadastro[[ID]:[Nome]],2,0),\"\")","v":""},{"$f":"IFERROR(VLOOKUP(D214,Tabela66[#All],2,0),\"\")","v":""},{"$f":"IFERROR(VLOOKUP(D214,Tabela.cadastro[[ID]:[CP ou M]],5,0),\"\")","v":""},{"$f":"IFERROR(VLOOKUP(D214,Cadastros!A:F,6,0),\"\")","v":""},{"$f":"IFERROR(VLOOKUP(D214,Cadastros!A:I,9,0),\"\")","v":""},{"$f":"IFERROR(VLOOKUP(D214,Cadastros!A:J,10,0),\"\")","v":""},{"$f":"IF(COUNTIF(Tabela66[id],D214)=0,\"\",COUNTIF(Tabela66[id],D214))","v":""},null,"",null,null,{"$f":"IFERROR(VLOOKUP(O214,Cadastros!A:B,2),\"\")","v":""},"",{"$f":"IFERROR(VLOOKUP(O214,Cadastros!A:E,5,0),\"\")","v":""},{"$f":"IFERROR(VLOOKUP(O214,Cadastros!A:F,6,0),\"\")","v":""},{"$f":"IFERROR(VLOOKUP(O214,Cadastros!A:I,9,0),\"\")","v":""},"","","",null,{"$f":"INDEX(Tabela.abordagens[],SMALL(IF(Tabela.abordagens[Mês]=$L$2,ROW(Tabela.abordagens[id])-2),ROW(A167)),1)","v":{"$error":"#NUM!"}},{"$f":"INDEX(Tabela.abordagens[],SMALL(IF(Tabela.abordagens[Mês]=$L$2,ROW(Tabela.abordagens[Idade])-2),ROW(A167)),6)","v":{"$error":"#NUM!"}},{"$f":"INDEX(Tabela.abordagens[],SMALL(IF(Tabela.abordagens[Mês]=$L$2,ROW(Tabela.abordagens[Idade])-2),ROW(A167)),4)","v":{"$error":"#NUM!"}},{"$f":"INDEX(Tabela.abordagens[],SMALL(IF(Tabela.abordagens[Mês]=$L$2,ROW(Tabela.abordagens[Idade])-2),ROW(A167)),5)","v":{"$error":"#NUM!"}}]
[null,{"$f":"INDEX(Tabela.frequencia[],SMALL(IF(Tabela.frequencia[Mês]=$L$2,ROW(Tabela.frequencia[id])-1),ROW(A168)),1)","v":{"$error":"#NUM!"}},{"$f":"INDEX(Tabela.frequencia[],SMALL(IF(Tabela.frequencia[Mês]=$L$2,ROW(Tabela.frequencia[id])-1),ROW(A168)),4)","v":{"$error":"#NUM!"}},null,{"$f":"IFERROR(VLOOKUP(D215,Tabela.cadastro[[ID]:[Nome]],2,0),\"\")","v":""},{"$f":"IFERROR(VLOOKUP(D215,Tabela66[#All],2,0),\"\")","v":""},{"$f":"IFERROR(VLOOKUP(D215,Tabela.cadastro[[ID]:[CP ou M]],5,0),\"\")","v":""},{"$f":"IFERROR(VLOOKUP(D215,Cadastros!A:F,6,0),\"\")","v":""},{"$f":"IFERROR(VLOOKUP(D215,Cadastros!A:I,9,0),\"\")","v":""},{"$f":"IFERROR(VLOOKUP(D215,Cadastros!A:J,10,0),\"\")","v":""},{"$f":"IF(COUNTIF(Tabela66[id],D215)=0,\"\",COUNTIF(Tabela66[id],D215))","v":""},null,"",null,null,{"$f":"IFERROR(VLOOKUP(O215,Cadastros!A:B,2),\"\")","v":""},"",{"$f":"IFERROR(VLOOKUP(O215,Cadastros!A:E,5,0),\"\")","v":""},{"$f":"IFERROR(VLOOKUP(O215,Cadastros!A:F,6,0),\"\")","v":""},{"$f":"IFERROR(VLOOKUP(O215,Cadastros!A:I,9,0),\"\")","v":""},"","","",null,{"$f":"INDEX(Tabela.abordagens[],SMALL(IF(Tabela.abordagens[Mês]=$L$2,ROW(Tabela.abordagens[id])-2),ROW(A168)),1)","v":{"$error":"#NUM!"}},{"$f":"INDEX(Tabela.abordagens[],SMALL(IF(Tabela.abordagens[Mês]=$L$2,ROW(Tabela.abordagens[Idade])-2),ROW(A168)),6)","v":{"$error":"#NUM!"}},{"$f":"INDEX(Tabela.abordagens[],SMALL(IF(Tabela.abordagens[Mês]=$L$2,ROW(Tabela.abordagens[Idade])-2),ROW(A168)),4)","v":{"$error":"#NUM!"}},{"$f":"INDEX(Tabela.abordagens[],SMALL(IF(Tabela.abordagens[Mês]=$L$2,ROW(Tabela.abordagens[Idade])-2),ROW(A168)),5)","v":{"$error":"#NUM!"}}]
[null,{"$f":"INDEX(Tabela.frequencia[],SMALL(IF(Tabela.frequencia[Mês]=$L$2,ROW(Tabela.frequencia[id])-1),ROW(A169)),1)","v":{"$error":"#NUM!"}},{"$f":"INDEX(Tabela.frequencia[],SMALL(IF(Tabela.frequencia[Mês]=$L$2,ROW(Tabela.frequencia[id])-1),ROW(A169)),4)","v":{"$error":"#NUM!"}},null,{"$f":"IFERROR(VLOOKUP(D216,Tabela.cadastro[[ID]:[Nome]],2,0),\"\")","v":""},{"$f":"IFERROR(VLOOKUP(D216,Tabela66[#All],2,0),\"\")","v":""},{"$f":"IFERROR(VLOOKUP(D216,Tabela.cadastro[[ID]:[CP ou M]],5,0),\"\")","v":""},{"$f":"IFERROR(VLOOKUP(D216,Cadastros!A:F,6,0),\"\")","v":""},{"$f":"IFERROR(VLOOKUP(D216,Cadastros!A:I,9,0),\"\")","v":""},{"$f":"IFERROR(VLOOKUP(D216,Cadastros!A:J,10,0),\"\")","v":""},{"$f":"IF(COUNTIF(Tabela66[id],D216)=0,\"\",COUNTIF(Tabela66[id],D216))","v":""},null,"",null,null,{"$f":"IFERROR(VLOOKUP(O216,Cadastros!A:B,2),\"\")","v":""},"",{"$f":"IFERROR(VLOOKUP(O216,Cadastros!A:E,5,0),\"\")","v":""},{"$f":"IFERROR(VLOOKUP(O216,Cadastros!A:F,6,0),\"\")","v":""},{"$f":"IFERROR(VLOOKUP(O216,Cadastros!A:I,9,0),\"\")","v":""},"","","",null,{"$f":"INDEX(Tabela.abordagens[],SMALL(IF(Tabela.abordagens[Mês]=$L$2,ROW(Tabela.abordagens[id])-2),ROW(A169)),1)","v":{"$error":"#NUM!"}},{"$f":"INDEX(Tabela.abordagens[],SMALL(IF(Tabela.abordagens[Mês]=$L$2,ROW(Tabela.abordagens[Idade])-2),ROW(A169)),6)","v":{"$error":"#NUM!"}},{"$f":"INDEX(Tabela.abordagens[],SMALL(IF(Tabela.abordagens[Mês]=$L$2,ROW(Tabela.abordagens[Idade])-2),ROW(A169)),4)","v":{"$error":"#NUM!"}},{"$f":"INDEX(Tabela.abordagens[],SMALL(IF(Tabela.abordagens[Mês]=$L$2,ROW(Tabela.abordagens[Idade])-2),ROW(A169)),5)","v":{"$error":"#NUM!"}}]
[null,{"$f":"INDEX(Tabela.frequencia[],SMALL(IF(Tabela.frequencia[Mês]=$L$2,ROW(Tabela.frequencia[id])-1),ROW(A170)),1)","v":{"$error":"#NUM!"}},{"$f":"INDEX(Tabela.frequencia[],SMALL(IF(Tabela.frequencia[Mês]=$L$2,ROW(Tabela.frequencia[id])-1),ROW(A170)),4)","v":{"$error":"#NUM!"}},null,{"$f":"IFERROR(VLOOKUP(D217,Tabela.cadastro[[ID]:[Nome]],2,0),\"\")","v":""},{"$f":"IFERROR(VLOOKUP(D217,Tabela66[#All],2,0),\"\")","v":""},{"$f":"IFERROR(VLOOKUP(D217,Tabela.cadastro[[ID]:[CP ou M]],5,0),\"\")","v":""},{"$f":"IFERROR(VLOOKUP(D217,Cadastros!A:F,6,0),\"\")","v":""},{"$f":"IFERROR(VLOOKUP(D217,Cadastros!A:I,9,0),\"\")","v":""},{"$f":"IFERROR(VLOOKUP(D217,Cadastros!A:J,10,0),\"\")","v":""},{"$f":"IF(COUNTIF(Tabela66[id],D217)=0,\"\",COUNTIF(Tabela66[id],D217))","v":""},null,"",null,null,{"$f":"IFERROR(VLOOKUP(O217,Cadastros!A:B,2),\"\")","v":""},"",{"$f":"IFERROR(VLOOKUP(O217,Cadastros!A:E,5,0),\"\")","v":""},{"$f":"IFERROR(VLOOKUP(O217,Cadastros!A:F,6,0),\"\")","v":""},{"$f":"IFERROR(VLOOKUP(O217,Cadastros!A:I,9,0),\"\")","v":""},"","","",null,{"$f":"INDEX(Tabela.abordagens[],SMALL(IF(Tabela.abordagens[Mês]=$L$2,ROW(Tabela.abordagens[id])-2),ROW(A170)),1)","v":{"$error":"#NUM!"}},{"$f":"INDEX(Tabela.abordagens[],SMALL(IF(Tabela.abordagens[Mês]=$L$2,ROW(Tabela.abordagens[Idade])-2),ROW(A170)),6)","v":{"$error":"#NUM!"}},{"$f":"INDEX(Tabela.abordagens[],SMALL(IF(Tabela.abordagens[Mês]=$L$2,ROW(Tabela.abordagens[Idade])-2),ROW(A170)),4)","v":{"$error":"#NUM!"}},{"$f":"INDEX(Tabela.abordagens[],SMALL(IF(Tabela.abordagens[Mês]=$L$2,ROW(Tabela.abordagens[Idade])-2),ROW(A170)),5)","v":{"$error":"#NUM!"}}]
[null,{"$f":"INDEX(Tabela.frequencia[],SMALL(IF(Tabela.frequencia[Mês]=$L$2,ROW(Tabela.frequencia[id])-1),ROW(A171)),1)","v":{"$error":"#NUM!"}},{"$f":"INDEX(Tabela.frequencia[],SMALL(IF(Tabela.frequencia[Mês]=$L$2,ROW(Tabela.frequencia[id])-1),ROW(A171)),4)","v":{"$error":"#NUM!"}},null,{"$f":"IFERROR(VLOOKUP(D218,Tabela.cadastro[[ID]:[Nome]],2,0),\"\")","v":""},{"$f":"IFERROR(VLOOKUP(D218,Tabela66[#All],2,0),\"\")","v":""},{"$f":"IFERROR(VLOOKUP(D218,Tabela.cadastro[[ID]:[CP ou M]],5,0),\"\")","v":""},{"$f":"IFERROR(VLOOKUP(D218,Cadastros!A:F,6,0),\"\")","v":""},{"$f":"IFERROR(VLOOKUP(D218,Cadastros!A:I,9,0),\"\")","v":""},{"$f":"IFERROR(VLOOKUP(D218,Cadastros!A:J,10,0),\"\")","v":""},{"$f":"IF(COUNTIF(Tabela66[id],D218)=0,\"\",COUNTIF(Tabela66[id],D218))","v":""},null,"",null,null,{"$f":"IFERROR(VLOOKUP(O218,Cadastros!A:B,2),\"\")","v":""},"",{"$f":"IFERROR(VLOOKUP(O218,Cadastros!A:E,5,0),\"\")","v":""},{"$f":"IFERROR(VLOOKUP(O218,Cadastros!A:F,6,0),\"\")","v":""},{"$f":"IFERROR(VLOOKUP(O218,Cadastros!A:I,9,0),\"\")","v":""},"","","",null,{"$f":"INDEX(Tabela.abordagens[],SMALL(IF(Tabela.abordagens[Mês]=$L$2,ROW(Tabela.abordagens[id])-2),ROW(A171)),1)","v":{"$error":"#NUM!"}},{"$f":"INDEX(Tabela.abordagens[],SMALL(IF(Tabela.abordagens[Mês]=$L$2,ROW(Tabela.abordagens[Idade])-2),ROW(A171)),6)","v":{"$error":"#NUM!"}},{"$f":"INDEX(Tabela.abordagens[],SMALL(IF(Tabela.abordagens[Mês]=$L$2,ROW(Tabela.abordagens[Idade])-2),ROW(A171)),4)","v":{"$error":"#NUM!"}},{"$f":"INDEX(Tabela.abordagens[],SMALL(IF(Tabela.abordagens[Mês]=$L$2,ROW(Tabela.abordagens[Idade])-2),ROW(A171)),5)","v":{"$error":"#NUM!"}}]
[null,{"$f":"INDEX(Tabela.frequencia[],SMALL(IF(Tabela.frequencia[Mês]=$L$2,ROW(Tabela.frequencia[id])-1),ROW(A172)),1)","v":{"$error":"#NUM!"}},{"$f":"INDEX(Tabela.frequencia[],SMALL(IF(Tabela.frequencia[Mês]=$L$2,ROW(Tabela.frequencia[id])-1),ROW(A172)),4)","v":{"$error":"#NUM!"}},null,{"$f":"IFERROR(VLOOKUP(D219,Tabela.cadastro[[ID]:[Nome]],2,0),\"\")","v":""},{"$f":"IFERROR(VLOOKUP(D219,Tabela66[#All],2,0),\"\")","v":""},{"$f":"IFERROR(VLOOKUP(D219,Tabela.cadastro[[ID]:[CP ou M]],5,0),\"\")","v":""},{"$f":"IFERROR(VLOOKUP(D219,Cadastros!A:F,6,0),\"\")","v":""},{"$f":"IFERROR(VLOOKUP(D219,Cadastros!A:I,9,0),\"\")","v":""},{"$f":"IFERROR(VLOOKUP(D219,Cadastros!A:J,10,0),\"\")","v":""},{"$f":"IF(COUNTIF(Tabela66[id],D219)=0,\"\",COUNTIF(Tabela66[id],D219))","v":""},null,"",null,null,{"$f":"IFERROR(VLOOKUP(O219,Cadastros!A:B,2),\"\")","v":""},"",{"$f":"IFERROR(VLOOKUP(O219,Cadastros!A:E,5,0),\"\")","v":""},{"$f":"IFERROR(VLOOKUP(O219,Cadastros!A:F,6,0),\"\")","v":""},{"$f":"IFERROR(VLOOKUP(O219,Cadastros!A:I,9,0),\"\")","v":""},"","","",null,{"$f":"INDEX(Tabela.abordagens[],SMALL(IF(Tabela.abordagens[Mês]=$L$2,ROW(Tabela.abordagens[id])-2),ROW(A172)),1)","v":{"$error":"#NUM!"}},{"$f":"INDEX(Tabela.abordagens[],SMALL(IF(Tabela.abordagens[Mês]=$L$2,ROW(Tabela.abordagens[Idade])-2),ROW(A172)),6)","v":{"$error":"#NUM!"}},{"$f":"INDEX(Tabela.abordagens[],SMALL(IF(Tabela.abordagens[Mês]=$L$2,ROW(Tabela.abordagens[Idade])-2),ROW(A172)),4)","v":{"$error":"#NUM!"}},{"$f":"INDEX(Tabela.abordagens[],SMALL(IF(Tabela.abordagens[Mês]=$L$2,ROW(Tabela.abordagens[Idade])-2),ROW(A172)),5)","v":{"$error":"#NUM!"}}]
[null,{"$f":"INDEX(Tabela.frequencia[],SMALL(IF(Tabela.frequencia[Mês]=$L$2,ROW(Tabela.frequencia[id])-1),ROW(A173)),1)","v":{"$error":"#NUM!"}},{"$f":"INDEX(Tabela.frequencia[],SMALL(IF(Tabela.frequencia[Mês]=$L$2,ROW(Tabela.frequencia[id])-1),ROW(A173)),4)","v":{"$error":"#NUM!"}},null,{"$f":"IFERROR(VLOOKUP(D220,Tabela.cadastro[[ID]:[Nome]],2,0),\"\")","v":""},{"$f":"IFERROR(VLOOKUP(D220,Tabela66[#All],2,0),\"\")","v":""},{"$f":"IFERROR(VLOOKUP(D220,Tabela.cadastro[[ID]:[CP ou M]],5,0),\"\")","v":""},{"$f":"IFERROR(VLOOKUP(D220,Cadastros!A:F,6,0),\"\")","v":""},{"$f":"IFERROR(VLOOKUP(D220,Cadastros!A:I,9,0),\"\")","v":""},{"$f":"IFERROR(VLOOKUP(D220,Cadastros!A:J,10,0),\"\")","v":""},{"$f":"IF(COUNTIF(Tabela66[id],D220)=0,\"\",COUNTIF(Tabela66[id],D220))","v":""},null,"",null,null,{"$f":"IFERROR(VLOOKUP(O220,Cadastros!A:B,2),\"\")","v":""},"",{"$f":"IFERROR(VLOOKUP(O220,Cadastros!A:E,5,0),\"\")","v":""},{"$f":"IFERROR(VLOOKUP(O220,Cadastros!A:F,6,0),\"\")","v":""},{"$f":"IFERROR(VLOOKUP(O220,Cadastros!A:I,9,0),\"\")","v":""},"","","",null,{"$f":"INDEX(Tabela.abordagens[],SMALL(IF(Tabela.abordagens[Mês]=$L$2,ROW(Tabela.abordagens[id])-2),ROW(A173)),1)","v":{"$error":"#NUM!"}},{"$f":"INDEX(Tabela.abordagens[],SMALL(IF(Tabela.abordagens[Mês]=$L$2,ROW(Tabela.abordagens[Idade])-2),ROW(A173)),6)","v":{"$error":"#NUM!"}},{"$f":"INDEX(Tabela.abordagens[],SMALL(IF(Tabela.abordagens[Mês]=$L$2,ROW(Tabela.abordagens[Idade])-2),ROW(A173)),4)","v":{"$error":"#NUM!"}},{"$f":"INDEX(Tabela.abordagens[],SMALL(IF(Tabela.abordagens[Mês]=$L$2,ROW(Tabela.abordagens[Idade])-2),ROW(A173)),5)","v":{"$error":"#NUM!"}}]
[null,{"$f":"INDEX(Tabela.frequencia[],SMALL(IF(Tabela.frequencia[Mês]=$L$2,ROW(Tabela.frequencia[id])-1),ROW(A174)),1)","v":{"$error":"#NUM!"}},{"$f":"INDEX(Tabela.frequencia[],SMALL(IF(Tabela.frequencia[Mês]=$L$2,ROW(Tabela.frequencia[id])-1),ROW(A174)),4)","v":{"$error":"#NUM!"}},null,{"$f":"IFERROR(VLOOKUP(D221,Tabela.cadastro[[ID]:[Nome]],2,0),\"\")","v":""},{"$f":"IFERROR(VLOOKUP(D221,Tabela66[#All],2,0),\"\")","v":""},{"$f":"IFERROR(VLOOKUP(D221,Tabela.cadastro[[ID]:[CP ou M]],5,0),\"\")","v":""},{"$f":"IFERROR(VLOOKUP(D221,Cadastros!A:F,6,0),\"\")","v":""},{"$f":"IFERROR(VLOOKUP(D221,Cadastros!A:I,9,0),\"\")","v":""},{"$f":"IFERROR(VLOOKUP(D221,Cadastros!A:J,10,0),\"\")","v":""},{"$f":"IF(COUNTIF(Tabela66[id],D221)=0,\"\",COUNTIF(Tabela66[id],D221))","v":""},null,"",null,null,{"$f":"IFERROR(VLOOKUP(O221,Cadastros!A:B,2),\"\")","v":""},"",{"$f":"IFERROR(VLOOKUP(O221,Cadastros!A:E,5,0),\"\")","v":""},{"$f":"IFERROR(VLOOKUP(O221,Cadastros!A:F,6,0),\"\")","v":""},{"$f":"IFERROR(VLOOKUP(O221,Cadastros!A:I,9,0),\"\")","v":""},"","","",null,{"$f":"INDEX(Tabela.abordagens[],SMALL(IF(Tabela.abordagens[Mês]=$L$2,ROW(Tabela.abordagens[id])-2),ROW(A174)),1)","v":{"$error":"#NUM!"}},{"$f":"INDEX(Tabela.abordagens[],SMALL(IF(Tabela.abordagens[Mês]=$L$2,ROW(Tabela.abordagens[Idade])-2),ROW(A174)),6)","v":{"$error":"#NUM!"}},{"$f":"INDEX(Tabela.abordagens[],SMALL(IF(Tabela.abordagens[Mês]=$L$2,ROW(Tabela.abordagens[Idade])-2),ROW(A174)),4)","v":{"$error":"#NUM!"}},{"$f":"INDEX(Tabela.abordagens[],SMALL(IF(Tabela.abordagens[Mês]=$L$2,ROW(Tabela.abordagens[Idade])-2),ROW(A174)),5)","v":{"$error":"#NUM!"}}]
[null,{"$f":"INDEX(Tabela.frequencia[],SMALL(IF(Tabela.frequencia[Mês]=$L$2,ROW(Tabela.frequencia[id])-1),ROW(A175)),1)","v":{"$error":"#NUM!"}},{"$f":"INDEX(Tabela.frequencia[],SMALL(IF(Tabela.frequencia[Mês]=$L$2,ROW(Tabela.frequencia[id])-1),ROW(A175)),4)","v":{"$error":"#NUM!"}},null,{"$f":"IFERROR(VLOOKUP(D222,Tabela.cadastro[[ID]:[Nome]],2,0),\"\")","v":""},{"$f":"IFERROR(VLOOKUP(D222,Tabela66[#All],2,0),\"\")","v":""},{"$f":"IFERROR(VLOOKUP(D222,Tabela.cadastro[[ID]:[CP ou M]],5,0),\"\")","v":""},{"$f":"IFERROR(VLOOKUP(D222,Cadastros!A:F,6,0),\"\")","v":""},{"$f":"IFERROR(VLOOKUP(D222,Cadastros!A:I,9,0),\"\")","v":""},{"$f":"IFERROR(VLOOKUP(D222,Cadastros!A:J,10,0),\"\")","v":""},{"$f":"IF(COUNTIF(Tabela66[id],D222)=0,\"\",COUNTIF(Tabela66[id],D222))","v":""},null,"",null,null,{"$f":"IFERROR(VLOOKUP(O222,Cadastros!A:B,2),\"\")","v":""},"",{"$f":"IFERROR(VLOOKUP(O222,Cadastros!A:E,5,0),\"\")","v":""},{"$f":"IFERROR(VLOOKUP(O222,Cadastros!A:F,6,0),\"\")","v":""},{"$f":"IFERROR(VLOOKUP(O222,Cadastros!A:I,9,0),\"\")","v":""},"","","",null,{"$f":"INDEX(Tabela.abordagens[],SMALL(IF(Tabela.abordagens[Mês]=$L$2,ROW(Tabela.abordagens[id])-2),ROW(A175)),1)","v":{"$error":"#NUM!"}},{"$f":"INDEX(Tabela.abordagens[],SMALL(IF(Tabela.abordagens[Mês]=$L$2,ROW(Tabela.abordagens[Idade])-2),ROW(A175)),6)","v":{"$error":"#NUM!"}},{"$f":"INDEX(Tabela.abordagens[],SMALL(IF(Tabela.abordagens[Mês]=$L$2,ROW(Tabela.abordagens[Idade])-2),ROW(A175)),4)","v":{"$error":"#NUM!"}},{"$f":"INDEX(Tabela.abordagens[],SMALL(IF(Tabela.abordagens[Mês]=$L$2,ROW(Tabela.abordagens[Idade])-2),ROW(A175)),5)","v":{"$error":"#NUM!"}}]
[null,{"$f":"INDEX(Tabela.frequencia[],SMALL(IF(Tabela.frequencia[Mês]=$L$2,ROW(Tabela.frequencia[id])-1),ROW(A176)),1)","v":{"$error":"#NUM!"}},{"$f":"INDEX(Tabela.frequencia[],SMALL(IF(Tabela.frequencia[Mês]=$L$2,ROW(Tabela.frequencia[id])-1),ROW(A176)),4)","v":{"$error":"#NUM!"}},null,{"$f":"IFERROR(VLOOKUP(D223,Tabela.cadastro[[ID]:[Nome]],2,0),\"\")","v":""},{"$f":"IFERROR(VLOOKUP(D223,Tabela66[#All],2,0),\"\")","v":""},{"$f":"IFERROR(VLOOKUP(D223,Tabela.cadastro[[ID]:[CP ou M]],5,0),\"\")","v":""},{"$f":"IFERROR(VLOOKUP(D223,Cadastros!A:F,6,0),\"\")","v":""},{"$f":"IFERROR(VLOOKUP(D223,Cadastros!A:I,9,0),\"\")","v":""},{"$f":"IFERROR(VLOOKUP(D223,Cadastros!A:J,10,0),\"\")","v":""},{"$f":"IF(COUNTIF(Tabela66[id],D223)=0,\"\",COUNTIF(Tabela66[id],D223))","v":""},null,"",null,null,{"$f":"IFERROR(VLOOKUP(O223,Cadastros!A:B,2),\"\")","v":""},"",{"$f":"IFERROR(VLOOKUP(O223,Cadastros!A:E,5,0),\"\")","v":""},{"$f":"IFERROR(VLOOKUP(O223,Cadastros!A:F,6,0),\"\")","v":""},{"$f":"IFERROR(VLOOKUP(O223,Cadastros!A:I,9,0),\"\")","v":""},"","","",null,{"$f":"INDEX(Tabela.abordagens[],SMALL(IF(Tabela.abordagens[Mês]=$L$2,ROW(Tabela.abordagens[id])-2),ROW(A176)),1)","v":{"$error":"#NUM!"}},{"$f":"INDEX(Tabela.abordagens[],SMALL(IF(Tabela.abordagens[Mês]=$L$2,ROW(Tabela.abordagens[Idade])-2),ROW(A176)),6)","v":{"$error":"#NUM!"}},{"$f":"INDEX(Tabela.abordagens[],SMALL(IF(Tabela.abordagens[Mês]=$L$2,ROW(Tabela.abordagens[Idade])-2),ROW(A176)),4)","v":{"$error":"#NUM!"}},{"$f":"INDEX(Tabela.abordagens[],SMALL(IF(Tabela.abordagens[Mês]=$L$2,ROW(Tabela.abordagens[Idade])-2),ROW(A176)),5)","v":{"$error":"#NUM!"}}]
[null,{"$f":"INDEX(Tabela.frequencia[],SMALL(IF(Tabela.frequencia[Mês]=$L$2,ROW(Tabela.frequencia[id])-1),ROW(A177)),1)","v":{"$error":"#NUM!"}},{"$f":"INDEX(Tabela.frequencia[],SMALL(IF(Tabela.frequencia[Mês]=$L$2,ROW(Tabela.frequencia[id])-1),ROW(A177)),4)","v":{"$error":"#NUM!"}},null,{"$f":"IFERROR(VLOOKUP(D224,Tabela.cadastro[[ID]:[Nome]],2,0),\"\")","v":""},{"$f":"IFERROR(VLOOKUP(D224,Tabela66[#All],2,0),\"\")","v":""},{"$f":"IFERROR(VLOOKUP(D224,Tabela.cadastro[[ID]:[CP ou M]],5,0),\"\")","v":""},{"$f":"IFERROR(VLOOKUP(D224,Cadastros!A:F,6,0),\"\")","v":""},{"$f":"IFERROR(VLOOKUP(D224,Cadastros!A:I,9,0),\"\")","v":""},{"$f":"IFERROR(VLOOKUP(D224,Cadastros!A:J,10,0),\"\")","v":""},{"$f":"IF(COUNTIF(Tabela66[id],D224)=0,\"\",COUNTIF(Tabela66[id],D224))","v":""},null,"",null,null,{"$f":"IFERROR(VLOOKUP(O224,Cadastros!A:B,2),\"\")","v":""},"",{"$f":"IFERROR(VLOOKUP(O224,Cadastros!A:E,5,0),\"\")","v":""},{"$f":"IFERROR(VLOOKUP(O224,Cadastros!A:F,6,0),\"\")","v":""},{"$f":"IFERROR(VLOOKUP(O224,Cadastros!A:I,9,0),\"\")","v":""},"","","",null,{"$f":"INDEX(Tabela.abordagens[],SMALL(IF(Tabela.abordagens[Mês]=$L$2,ROW(Tabela.abordagens[id])-2),ROW(A177)),1)","v":{"$error":"#NUM!"}},{"$f":"INDEX(Tabela.abordagens[],SMALL(IF(Tabela.abordagens[Mês]=$L$2,ROW(Tabela.abordagens[Idade])-2),ROW(A177)),6)","v":{"$error":"#NUM!"}},{"$f":"INDEX(Tabela.abordagens[],SMALL(IF(Tabela.abordagens[Mês]=$L$2,ROW(Tabela.abordagens[Idade])-2),ROW(A177)),4)","v":{"$error":"#NUM!"}},{"$f":"INDEX(Tabela.abordagens[],SMALL(IF(Tabela.abordagens[Mês]=$L$2,ROW(Tabela.abordagens[Idade])-2),ROW(A177)),5)","v":{"$error":"#NUM!"}}]
[null,{"$f":"INDEX(Tabela.frequencia[],SMALL(IF(Tabela.frequencia[Mês]=$L$2,ROW(Tabela.frequencia[id])-1),ROW(A178)),1)","v":{"$error":"#NUM!"}},{"$f":"INDEX(Tabela.frequencia[],SMALL(IF(Tabela.frequencia[Mês]=$L$2,ROW(Tabela.frequencia[id])-1),ROW(A178)),4)","v":{"$error":"#NUM!"}},null,{"$f":"IFERROR(VLOOKUP(D225,Tabela.cadastro[[ID]:[Nome]],2,0),\"\")","v":""},{"$f":"IFERROR(VLOOKUP(D225,Tabela66[#All],2,0),\"\")","v":""},{"$f":"IFERROR(VLOOKUP(D225,Tabela.cadastro[[ID]:[CP ou M]],5,0),\"\")","v":""},{"$f":"IFERROR(VLOOKUP(D225,Cadastros!A:F,6,0),\"\")","v":""},{"$f":"IFERROR(VLOOKUP(D225,Cadastros!A:I,9,0),\"\")","v":""},{"$f":"IFERROR(VLOOKUP(D225,Cadastros!A:J,10,0),\"\")","v":""},{"$f":"IF(COUNTIF(Tabela66[id],D225)=0,\"\",COUNTIF(Tabela66[id],D225))","v":""},null,"",null,null,{"$f":"IFERROR(VLOOKUP(O225,Cadastros!A:B,2),\"\")","v":""},"",{"$f":"IFERROR(VLOOKUP(O225,Cadastros!A:E,5,0),\"\")","v":""},{"$f":"IFERROR(VLOOKUP(O225,Cadastros!A:F,6,0),\"\")","v":""},{"$f":"IFERROR(VLOOKUP(O225,Cadastros!A:I,9,0),\"\")","v":""},"","","",null,{"$f":"INDEX(Tabela.abordagens[],SMALL(IF(Tabela.abordagens[Mês]=$L$2,ROW(Tabela.abordagens[id])-2),ROW(A178)),1)","v":{"$error":"#NUM!"}},{"$f":"INDEX(Tabela.abordagens[],SMALL(IF(Tabela.abordagens[Mês]=$L$2,ROW(Tabela.abordagens[Idade])-2),ROW(A178)),6)","v":{"$error":"#NUM!"}},{"$f":"INDEX(Tabela.abordagens[],SMALL(IF(Tabela.abordagens[Mês]=$L$2,ROW(Tabela.abordagens[Idade])-2),ROW(A178)),4)","v":{"$error":"#NUM!"}},{"$f":"INDEX(Tabela.abordagens[],SMALL(IF(Tabela.abordagens[Mês]=$L$2,ROW(Tabela.abordagens[Idade])-2),ROW(A178)),5)","v":{"$error":"#NUM!"}}]
[null,{"$f":"INDEX(Tabela.frequencia[],SMALL(IF(Tabela.frequencia[Mês]=$L$2,ROW(Tabela.frequencia[id])-1),ROW(A179)),1)","v":{"$error":"#NUM!"}},{"$f":"INDEX(Tabela.frequencia[],SMALL(IF(Tabela.frequencia[Mês]=$L$2,ROW(Tabela.frequencia[id])-1),ROW(A179)),4)","v":{"$error":"#NUM!"}},null,{"$f":"IFERROR(VLOOKUP(D226,Tabela.cadastro[[ID]:[Nome]],2,0),\"\")","v":""},{"$f":"IFERROR(VLOOKUP(D226,Tabela66[#All],2,0),\"\")","v":""},{"$f":"IFERROR(VLOOKUP(D226,Tabela.cadastro[[ID]:[CP ou M]],5,0),\"\")","v":""},{"$f":"IFERROR(VLOOKUP(D226,Cadastros!A:F,6,0),\"\")","v":""},{"$f":"IFERROR(VLOOKUP(D226,Cadastros!A:I,9,0),\"\")","v":""},{"$f":"IFERROR(VLOOKUP(D226,Cadastros!A:J,10,0),\"\")","v":""},{"$f":"IF(COUNTIF(Tabela66[id],D226)=0,\"\",COUNTIF(Tabela66[id],D226))","v":""},null,"",null,null,{"$f":"IFERROR(VLOOKUP(O226,Cadastros!A:B,2),\"\")","v":""},{"$f":"IFERROR(VLOOKUP(O226,$Y$33:$Z$866,2,0),\"\")","v":""},{"$f":"IFERROR(VLOOKUP(O226,Cadastros!A:E,5,0),\"\")","v":""},{"$f":"IFERROR(VLOOKUP(O226,Cadastros!A:F,6,0),\"\")","v":""},{"$f":"IFERROR(VLOOKUP(O226,Cadastros!A:I,9,0),\"\")","v":""},{"$f":"IFERROR(VLOOKUP(O226,Y$33:AB$866,3,0),\"\")","v":""},{"$f":"IFERROR(VLOOKUP(O226,Y$33:AB$866,4,0),\"\")","v":""},{"$f":"IF(COUNTIF(Y$33:Y$866,O226)=0,\"\",COUNTIF(Y$33:Y$866,O226))","v":""},null,{"$f":"INDEX(Tabela.abordagens[],SMALL(IF(Tabela.abordagens[Mês]=$L$2,ROW(Tabela.abordagens[id])-2),ROW(A179)),1)","v":{"$error":"#NUM!"}},{"$f":"INDEX(Tabela.abordagens[],SMALL(IF(Tabela.abordagens[Mês]=$L$2,ROW(Tabela.abordagens[Idade])-2),ROW(A179)),6)","v":{"$error":"#NUM!"}},{"$f":"INDEX(Tabela.abordagens[],SMALL(IF(Tabela.abordagens[Mês]=$L$2,ROW(Tabela.abordagens[Idade])-2),ROW(A179)),4)","v":{"$error":"#NUM!"}},{"$f":"INDEX(Tabela.abordagens[],SMALL(IF(Tabela.abordagens[Mês]=$L$2,ROW(Tabela.abordagens[Idade])-2),ROW(A179)),5)","v":{"$error":"#NUM!"}}]
[null,{"$f":"INDEX(Tabela.frequencia[],SMALL(IF(Tabela.frequencia[Mês]=$L$2,ROW(Tabela.frequencia[id])-1),ROW(A180)),1)","v":{"$error":"#NUM!"}},{"$f":"INDEX(Tabela.frequencia[],SMALL(IF(Tabela.frequencia[Mês]=$L$2,ROW(Tabela.frequencia[id])-1),ROW(A180)),4)","v":{"$error":"#NUM!"}},null,{"$f":"IFERROR(VLOOKUP(D227,Tabela.cadastro[[ID]:[Nome]],2,0),\"\")","v":""},{"$f":"IFERROR(VLOOKUP(D227,Tabela66[#All],2,0),\"\")","v":""},{"$f":"IFERROR(VLOOKUP(D227,Tabela.cadastro[[ID]:[CP ou M]],5,0),\"\")","v":""},{"$f":"IFERROR(VLOOKUP(D227,Cadastros!A:F,6,0),\"\")","v":""},{"$f":"IFERROR(VLOOKUP(D227,Cadastros!A:I,9,0),\"\")","v":""},{"$f":"IFERROR(VLOOKUP(D227,Cadastros!A:J,10,0),\"\")","v":""},{"$f":"IF(COUNTIF(Tabela66[id],D227)=0,\"\",COUNTIF(Tabela66[id],D227))","v":""},null,"",null,null,{"$f":"IFERROR(VLOOKUP(O227,Cadastros!A:B,2),\"\")","v":""},"",{"$f":"IFERROR(VLOOKUP(O227,Cadastros!A:E,5,0),\"\")","v":""},{"$f":"IFERROR(VLOOKUP(O227,Cadastros!A:F,6,0),\"\")","v":""},{"$f":"IFERROR(VLOOKUP(O227,Cadastros!A:I,9,0),\"\")","v":""},"","","",null,{"$f":"INDEX(Tabela.abordagens[],SMALL(IF(Tabela.abordagens[Mês]=$L$2,ROW(Tabela.abordagens[id])-2),ROW(A180)),1)","v":{"$error":"#NUM!"}},{"$f":"INDEX(Tabela.abordagens[],SMALL(IF(Tabela.abordagens[Mês]=$L$2,ROW(Tabela.abordagens[Idade])-2),ROW(A180)),6)","v":{"$error":"#NUM!"}},{"$f":"INDEX(Tabela.abordagens[],SMALL(IF(Tabela.abordagens[Mês]=$L$2,ROW(Tabela.abordagens[Idade])-2),ROW(A180)),4)","v":{"$error":"#NUM!"}},{"$f":"INDEX(Tabela.abordagens[],SMALL(IF(Tabela.abordagens[Mês]=$L$2,ROW(Tabela.abordagens[Idade])-2),ROW(A180)),5)","v":{"$error":"#NUM!"}}]
[null,{"$f":"INDEX(Tabela.frequencia[],SMALL(IF(Tabela.frequencia[Mês]=$L$2,ROW(Tabela.frequencia[id])-1),ROW(A181)),1)","v":{"$error":"#NUM!"}},{"$f":"INDEX(Tabela.frequencia[],SMALL(IF(Tabela.frequencia[Mês]=$L$2,ROW(Tabela.frequencia[id])-1),ROW(A181)),4)","v":{"$error":"#NUM!"}},null,{"$f":"IFERROR(VLOOKUP(D228,Tabela.cadastro[[ID]:[Nome]],2,0),\"\")","v":""},{"$f":"IFERROR(VLOOKUP(D228,Tabela66[#All],2,0),\"\")","v":""},{"$f":"IFERROR(VLOOKUP(D228,Tabela.cadastro[[ID]:[CP ou M]],5,0),\"\")","v":""},{"$f":"IFERROR(VLOOKUP(D228,Cadastros!A:F,6,0),\"\")","v":""},{"$f":"IFERROR(VLOOKUP(D228,Cadastros!A:I,9,0),\"\")","v":""},{"$f":"IFERROR(VLOOKUP(D228,Cadastros!A:J,10,0),\"\")","v":""},{"$f":"IF(COUNTIF(Tabela66[id],D228)=0,\"\",COUNTIF(Tabela66[id],D228))","v":""},null,"",null,null,{"$f":"IFERROR(VLOOKUP(O228,Cadastros!A:B,2),\"\")","v":""},"",{"$f":"IFERROR(VLOOKUP(O228,Cadastros!A:E,5,0),\"\")","v":""},{"$f":"IFERROR(VLOOKUP(O228,Cadastros!A:F,6,0),\"\")","v":""},{"$f":"IFERROR(VLOOKUP(O228,Cadastros!A:I,9,0),\"\")","v":""},"","","",null,{"$f":"INDEX(Tabela.abordagens[],SMALL(IF(Tabela.abordagens[Mês]=$L$2,ROW(Tabela.abordagens[id])-2),ROW(A181)),1)","v":{"$error":"#NUM!"}},{"$f":"INDEX(Tabela.abordagens[],SMALL(IF(Tabela.abordagens[Mês]=$L$2,ROW(Tabela.abordagens[Idade])-2),ROW(A181)),6)","v":{"$error":"#NUM!"}},{"$f":"INDEX(Tabela.abordagens[],SMALL(IF(Tabela.abordagens[Mês]=$L$2,ROW(Tabela.abordagens[Idade])-2),ROW(A181)),4)","v":{"$error":"#NUM!"}},{"$f":"INDEX(Tabela.abordagens[],SMALL(IF(Tabela.abordagens[Mês]=$L$2,ROW(Tabela.abordagens[Idade])-2),ROW(A181)),5)","v":{"$error":"#NUM!"}}]
[null,{"$f":"INDEX(Tabela.frequencia[],SMALL(IF(Tabela.frequencia[Mês]=$L$2,ROW(Tabela.frequencia[id])-1),ROW(A182)),1)","v":{"$error":"#NUM!"}},{"$f":"INDEX(Tabela.frequencia[],SMALL(IF(Tabela.frequencia[Mês]=$L$2,ROW(Tabela.frequencia[id])-1),ROW(A182)),4)","v":{"$error":"#NUM!"}},null,{"$f":"IFERROR(VLOOKUP(D229,Tabela.cadastro[[ID]:[Nome]],2,0),\"\")","v":""},{"$f":"IFERROR(VLOOKUP(D229,Tabela66[#All],2,0),\"\")","v":""},{"$f":"IFERROR(VLOOKUP(D229,Tabela.cadastro[[ID]:[CP ou M]],5,0),\"\")","v":""},{"$f":"IFERROR(VLOOKUP(D229,Cadastros!A:F,6,0),\"\")","v":""},{"$f":"IFERROR(VLOOKUP(D229,Cadastros!A:I,9,0),\"\")","v":""},{"$f":"IFERROR(VLOOKUP(D229,Cadastros!A:J,10,0),\"\")","v":""},{"$f":"IF(COUNTIF(Tabela66[id],D229)=0,\"\",COUNTIF(Tabela66[id],D229))","v":""},null,"",null,null,{"$f":"IFERROR(VLOOKUP(O229,Cadastros!A:B,2),\"\")","v":""},"",{"$f":"IFERROR(VLOOKUP(O229,Cadastros!A:E,5,0),\"\")","v":""},{"$f":"IFERROR(VLOOKUP(O229,Cadastros!A:F,6,0),\"\")","v":""},{"$f":"IFERROR(VLOOKUP(O229,Cadastros!A:I,9,0),\"\")","v":""},"","","",null,{"$f":"INDEX(Tabela.abordagens[],SMALL(IF(Tabela.abordagens[Mês]=$L$2,ROW(Tabela.abordagens[id])-2),ROW(A182)),1)","v":{"$error":"#NUM!"}},{"$f":"INDEX(Tabela.abordagens[],SMALL(IF(Tabela.abordagens[Mês]=$L$2,ROW(Tabela.abordagens[Idade])-2),ROW(A182)),6)","v":{"$error":"#NUM!"}},{"$f":"INDEX(Tabela.abordagens[],SMALL(IF(Tabela.abordagens[Mês]=$L$2,ROW(Tabela.abordagens[Idade])-2),ROW(A182)),4)","v":{"$error":"#NUM!"}},{"$f":"INDEX(Tabela.abordagens[],SMALL(IF(Tabela.abordagens[Mês]=$L$2,ROW(Tabela.abordagens[Idade])-2),ROW(A182)),5)","v":{"$error":"#NUM!"}}]
[null,{"$f":"INDEX(Tabela.frequencia[],SMALL(IF(Tabela.frequencia[Mês]=$L$2,ROW(Tabela.frequencia[id])-1),ROW(A183)),1)","v":{"$error":"#NUM!"}},{"$f":"INDEX(Tabela.frequencia[],SMALL(IF(Tabela.frequencia[Mês]=$L$2,ROW(Tabela.frequencia[id])-1),ROW(A183)),4)","v":{"$error":"#NUM!"}},null,{"$f":"IFERROR(VLOOKUP(D230,Tabela.cadastro[[ID]:[Nome]],2,0),\"\")","v":""},{"$f":"IFERROR(VLOOKUP(D230,Tabela66[#All],2,0),\"\")","v":""},{"$f":"IFERROR(VLOOKUP(D230,Tabela.cadastro[[ID]:[CP ou M]],5,0),\"\")","v":""},{"$f":"IFERROR(VLOOKUP(D230,Cadastros!A:F,6,0),\"\")","v":""},{"$f":"IFERROR(VLOOKUP(D230,Cadastros!A:I,9,0),\"\")","v":""},{"$f":"IFERROR(VLOOKUP(D230,Cadastros!A:J,10,0),\"\")","v":""},{"$f":"IF(COUNTIF(Tabela66[id],D230)=0,\"\",COUNTIF(Tabela66[id],D230))","v":""},null,"",null,null,{"$f":"IFERROR(VLOOKUP(O230,Cadastros!A:B,2),\"\")","v":""},"",{"$f":"IFERROR(VLOOKUP(O230,Cadastros!A:E,5,0),\"\")","v":""},{"$f":"IFERROR(VLOOKUP(O230,Cadastros!A:F,6,0),\"\")","v":""},{"$f":"IFERROR(VLOOKUP(O230,Cadastros!A:I,9,0),\"\")","v":""},"","","",null,{"$f":"INDEX(Tabela.abordagens[],SMALL(IF(Tabela.abordagens[Mês]=$L$2,ROW(Tabela.abordagens[id])-2),ROW(A183)),1)","v":{"$error":"#NUM!"}},{"$f":"INDEX(Tabela.abordagens[],SMALL(IF(Tabela.abordagens[Mês]=$L$2,ROW(Tabela.abordagens[Idade])-2),ROW(A183)),6)","v":{"$error":"#NUM!"}},{"$f":"INDEX(Tabela.abordagens[],SMALL(IF(Tabela.abordagens[Mês]=$L$2,ROW(Tabela.abordagens[Idade])-2),ROW(A183)),4)","v":{"$error":"#NUM!"}},{"$f":"INDEX(Tabela.abordagens[],SMALL(IF(Tabela.abordagens[Mês]=$L$2,ROW(Tabela.abordagens[Idade])-2),ROW(A183)),5)","v":{"$error":"#NUM!"}}]
[null,{"$f":"INDEX(Tabela.frequencia[],SMALL(IF(Tabela.frequencia[Mês]=$L$2,ROW(Tabela.frequencia[id])-1),ROW(A184)),1)","v":{"$error":"#NUM!"}},{"$f":"INDEX(Tabela.frequencia[],SMALL(IF(Tabela.frequencia[Mês]=$L$2,ROW(Tabela.frequencia[id])-1),ROW(A184)),4)","v":{"$error":"#NUM!"}},null,{"$f":"IFERROR(VLOOKUP(D231,Tabela.cadastro[[ID]:[Nome]],2,0),\"\")","v":""},{"$f":"IFERROR(VLOOKUP(D231,Tabela66[#All],2,0),\"\")","v":""},{"$f":"IFERROR(VLOOKUP(D231,Tabela.cadastro[[ID]:[CP ou M]],5,0),\"\")","v":""},{"$f":"IFERROR(VLOOKUP(D231,Cadastros!A:F,6,0),\"\")","v":""},{"$f":"IFERROR(VLOOKUP(D231,Cadastros!A:I,9,0),\"\")","v":""},{"$f":"IFERROR(VLOOKUP(D231,Cadastros!A:J,10,0),\"\")","v":""},{"$f":"IF(COUNTIF(Tabela66[id],D231)=0,\"\",COUNTIF(Tabela66[id],D231))","v":""},null,"",null,null,{"$f":"IFERROR(VLOOKUP(O231,Cadastros!A:B,2),\"\")","v":""},"",{"$f":"IFERROR(VLOOKUP(O231,Cadastros!A:E,5,0),\"\")","v":""},{"$f":"IFERROR(VLOOKUP(O231,Cadastros!A:F,6,0),\"\")","v":""},{"$f":"IFERROR(VLOOKUP(O231,Cadastros!A:I,9,0),\"\")","v":""},"","","",null,{"$f":"INDEX(Tabela.abordagens[],SMALL(IF(Tabela.abordagens[Mês]=$L$2,ROW(Tabela.abordagens[id])-2),ROW(A184)),1)","v":{"$error":"#NUM!"}},{"$f":"INDEX(Tabela.abordagens[],SMALL(IF(Tabela.abordagens[Mês]=$L$2,ROW(Tabela.abordagens[Idade])-2),ROW(A184)),6)","v":{"$error":"#NUM!"}},{"$f":"INDEX(Tabela.abordagens[],SMALL(IF(Tabela.abordagens[Mês]=$L$2,ROW(Tabela.abordagens[Idade])-2),ROW(A184)),4)","v":{"$error":"#NUM!"}},{"$f":"INDEX(Tabela.abordagens[],SMALL(IF(Tabela.abordagens[Mês]=$L$2,ROW(Tabela.abordagens[Idade])-2),ROW(A184)),5)","v":{"$error":"#NUM!"}}]
[null,{"$f":"INDEX(Tabela.frequencia[],SMALL(IF(Tabela.frequencia[Mês]=$L$2,ROW(Tabela.frequencia[id])-1),ROW(A185)),1)","v":{"$error":"#NUM!"}},{"$f":"INDEX(Tabela.frequencia[],SMALL(IF(Tabela.frequencia[Mês]=$L$2,ROW(Tabela.frequencia[id])-1),ROW(A185)),4)","v":{"$error":"#NUM!"}},null,{"$f":"IFERROR(VLOOKUP(D232,Tabela.cadastro[[ID]:[Nome]],2,0),\"\")","v":""},{"$f":"IFERROR(VLOOKUP(D232,Tabela66[#All],2,0),\"\")","v":""},{"$f":"IFERROR(VLOOKUP(D232,Tabela.cadastro[[ID]:[CP ou M]],5,0),\"\")","v":""},{"$f":"IFERROR(VLOOKUP(D232,Cadastros!A:F,6,0),\"\")","v":""},{"$f":"IFERROR(VLOOKUP(D232,Cadastros!A:I,9,0),\"\")","v":""},{"$f":"IFERROR(VLOOKUP(D232,Cadastros!A:J,10,0),\"\")","v":""},{"$f":"IF(COUNTIF(Tabela66[id],D232)=0,\"\",COUNTIF(Tabela66[id],D232))","v":""},null,"",null,null,{"$f":"IFERROR(VLOOKUP(O232,Cadastros!A:B,2),\"\")","v":""},"",{"$f":"IFERROR(VLOOKUP(O232,Cadastros!A:E,5,0),\"\")","v":""},{"$f":"IFERROR(VLOOKUP(O232,Cadastros!A:F,6,0),\"\")","v":""},{"$f":"IFERROR(VLOOKUP(O232,Cadastros!A:I,9,0),\"\")","v":""},"","","",null,{"$f":"INDEX(Tabela.abordagens[],SMALL(IF(Tabela.abordagens[Mês]=$L$2,ROW(Tabela.abordagens[id])-2),ROW(A185)),1)","v":{"$error":"#NUM!"}},{"$f":"INDEX(Tabela.abordagens[],SMALL(IF(Tabela.abordagens[Mês]=$L$2,ROW(Tabela.abordagens[Idade])-2),ROW(A185)),6)","v":{"$error":"#NUM!"}},{"$f":"INDEX(Tabela.abordagens[],SMALL(IF(Tabela.abordagens[Mês]=$L$2,ROW(Tabela.abordagens[Idade])-2),ROW(A185)),4)","v":{"$error":"#NUM!"}},{"$f":"INDEX(Tabela.abordagens[],SMALL(IF(Tabela.abordagens[Mês]=$L$2,ROW(Tabela.abordagens[Idade])-2),ROW(A185)),5)","v":{"$error":"#NUM!"}}]
[null,{"$f":"INDEX(Tabela.frequencia[],SMALL(IF(Tabela.frequencia[Mês]=$L$2,ROW(Tabela.frequencia[id])-1),ROW(A186)),1)","v":{"$error":"#NUM!"}},{"$f":"INDEX(Tabela.frequencia[],SMALL(IF(Tabela.frequencia[Mês]=$L$2,ROW(Tabela.frequencia[id])-1),ROW(A186)),4)","v":{"$error":"#NUM!"}},null,{"$f":"IFERROR(VLOOKUP(D233,Tabela.cadastro[[ID]:[Nome]],2,0),\"\")","v":""},{"$f":"IFERROR(VLOOKUP(D233,Tabela66[#All],2,0),\"\")","v":""},{"$f":"IFERROR(VLOOKUP(D233,Tabela.cadastro[[ID]:[CP ou M]],5,0),\"\")","v":""},{"$f":"IFERROR(VLOOKUP(D233,Cadastros!A:F,6,0),\"\")","v":""},{"$f":"IFERROR(VLOOKUP(D233,Cadastros!A:I,9,0),\"\")","v":""},{"$f":"IFERROR(VLOOKUP(D233,Cadastros!A:J,10,0),\"\")","v":""},{"$f":"IF(COUNTIF(Tabela66[id],D233)=0,\"\",COUNTIF(Tabela66[id],D233))","v":""},null,"",null,null,{"$f":"IFERROR(VLOOKUP(O233,Cadastros!A:B,2),\"\")","v":""},"",{"$f":"IFERROR(VLOOKUP(O233,Cadastros!A:E,5,0),\"\")","v":""},{"$f":"IFERROR(VLOOKUP(O233,Cadastros!A:F,6,0),\"\")","v":""},{"$f":"IFERROR(VLOOKUP(O233,Cadastros!A:I,9,0),\"\")","v":""},"","","",null,{"$f":"INDEX(Tabela.abordagens[],SMALL(IF(Tabela.abordagens[Mês]=$L$2,ROW(Tabela.abordagens[id])-2),ROW(A186)),1)","v":{"$error":"#NUM!"}},{"$f":"INDEX(Tabela.abordagens[],SMALL(IF(Tabela.abordagens[Mês]=$L$2,ROW(Tabela.abordagens[Idade])-2),ROW(A186)),6)","v":{"$error":"#NUM!"}},{"$f":"INDEX(Tabela.abordagens[],SMALL(IF(Tabela.abordagens[Mês]=$L$2,ROW(Tabela.abordagens[Idade])-2),ROW(A186)),4)","v":{"$error":"#NUM!"}},{"$f":"INDEX(Tabela.abordagens[],SMALL(IF(Tabela.abordagens[Mês]=$L$2,ROW(Tabela.abordagens[Idade])-2),ROW(A186)),5)","v":{"$error":"#NUM!"}}]
[null,{"$f":"INDEX(Tabela.frequencia[],SMALL(IF(Tabela.frequencia[Mês]=$L$2,ROW(Tabela.frequencia[id])-1),ROW(A187)),1)","v":{"$error":"#NUM!"}},{"$f":"INDEX(Tabela.frequencia[],SMALL(IF(Tabela.frequencia[Mês]=$L$2,ROW(Tabela.frequencia[id])-1),ROW(A187)),4)","v":{"$error":"#NUM!"}},null,{"$f":"IFERROR(VLOOKUP(D234,Tabela.cadastro[[ID]:[Nome]],2,0),\"\")","v":""},{"$f":"IFERROR(VLOOKUP(D234,Tabela66[#All],2,0),\"\")","v":""},{"$f":"IFERROR(VLOOKUP(D234,Tabela.cadastro[[ID]:[CP ou M]],5,0),\"\")","v":""},{"$f":"IFERROR(VLOOKUP(D234,Cadastros!A:F,6,0),\"\")","v":""},{"$f":"IFERROR(VLOOKUP(D234,Cadastros!A:I,9,0),\"\")","v":""},{"$f":"IFERROR(VLOOKUP(D234,Cadastros!A:J,10,0),\"\")","v":""},{"$f":"IF(COUNTIF(Tabela66[id],D234)=0,\"\",COUNTIF(Tabela66[id],D234))","v":""},null,{"$f":"IF(AND(K234:K1065>=5,L234:L1065=\"Não\"),\"*\",\"\")","v":""},null,null,{"$f":"IFERROR(VLOOKUP(O234,Cadastros!A:B,2),\"\")","v":""},"",{"$f":"IFERROR(VLOOKUP(O234,Cadastros!A:E,5,0),\"\")","v":""},{"$f":"IFERROR(VLOOKUP(O234,Cadastros!A:F,6,0),\"\")","v":""},{"$f":"IFERROR(VLOOKUP(O234,Cadastros!A:I,9,0),\"\")","v":""},"","","",null,{"$f":"INDEX(Tabela.abordagens[],SMALL(IF(Tabela.abordagens[Mês]=$L$2,ROW(Tabela.abordagens[id])-2),ROW(A187)),1)","v":{"$error":"#NUM!"}},{"$f":"INDEX(Tabela.abordagens[],SMALL(IF(Tabela.abordagens[Mês]=$L$2,ROW(Tabela.abordagens[Idade])-2),ROW(A187)),6)","v":{"$error":"#NUM!"}},{"$f":"INDEX(Tabela.abordagens[],SMALL(IF(Tabela.abordagens[Mês]=$L$2,ROW(Tabela.abordagens[Idade])-2),ROW(A187)),4)","v":{"$error":"#NUM!"}},{"$f":"INDEX(Tabela.abordagens[],SMALL(IF(Tabela.abordagens[Mês]=$L$2,ROW(Tabela.abordagens[Idade])-2),ROW(A187)),5)","v":{"$error":"#NUM!"}}]
[null,{"$f":"INDEX(Tabela.frequencia[],SMALL(IF(Tabela.frequencia[Mês]=$L$2,ROW(Tabela.frequencia[id])-1),ROW(A188)),1)","v":{"$error":"#NUM!"}},{"$f":"INDEX(Tabela.frequencia[],SMALL(IF(Tabela.frequencia[Mês]=$L$2,ROW(Tabela.frequencia[id])-1),ROW(A188)),4)","v":{"$error":"#NUM!"}},null,{"$f":"IFERROR(VLOOKUP(D235,Tabela.cadastro[[ID]:[Nome]],2,0),\"\")","v":""},{"$f":"IFERROR(VLOOKUP(D235,Tabela66[#All],2,0),\"\")","v":""},{"$f":"IFERROR(VLOOKUP(D235,Tabela.cadastro[[ID]:[CP ou M]],5,0),\"\")","v":""},{"$f":"IFERROR(VLOOKUP(D235,Cadastros!A:F,6,0),\"\")","v":""},{"$f":"IFERROR(VLOOKUP(D235,Cadastros!A:I,9,0),\"\")","v":""},{"$f":"IFERROR(VLOOKUP(D235,Cadastros!A:J,10,0),\"\")","v":""},{"$f":"IF(COUNTIF(Tabela66[id],D235)=0,\"\",COUNTIF(Tabela66[id],D235))","v":""},null,"",null,null,{"$f":"IFERROR(VLOOKUP(O235,Cadastros!A:B,2),\"\")","v":""},"",{"$f":"IFERROR(VLOOKUP(O235,Cadastros!A:E,5,0),\"\")","v":""},{"$f":"IFERROR(VLOOKUP(O235,Cadastros!A:F,6,0),\"\")","v":""},{"$f":"IFERROR(VLOOKUP(O235,Cadastros!A:I,9,0),\"\")","v":""},"","","",null,{"$f":"INDEX(Tabela.abordagens[],SMALL(IF(Tabela.abordagens[Mês]=$L$2,ROW(Tabela.abordagens[id])-2),ROW(A188)),1)","v":{"$error":"#NUM!"}},{"$f":"INDEX(Tabela.abordagens[],SMALL(IF(Tabela.abordagens[Mês]=$L$2,ROW(Tabela.abordagens[Idade])-2),ROW(A188)),6)","v":{"$error":"#NUM!"}},{"$f":"INDEX(Tabela.abordagens[],SMALL(IF(Tabela.abordagens[Mês]=$L$2,ROW(Tabela.abordagens[Idade])-2),ROW(A188)),4)","v":{"$error":"#NUM!"}},{"$f":"INDEX(Tabela.abordagens[],SMALL(IF(Tabela.abordagens[Mês]=$L$2,ROW(Tabela.abordagens[Idade])-2),ROW(A188)),5)","v":{"$error":"#NUM!"}}]
[null,{"$f":"INDEX(Tabela.frequencia[],SMALL(IF(Tabela.frequencia[Mês]=$L$2,ROW(Tabela.frequencia[id])-1),ROW(A189)),1)","v":{"$error":"#NUM!"}},{"$f":"INDEX(Tabela.frequencia[],SMALL(IF(Tabela.frequencia[Mês]=$L$2,ROW(Tabela.frequencia[id])-1),ROW(A189)),4)","v":{"$error":"#NUM!"}},null,{"$f":"IFERROR(VLOOKUP(D236,Tabela.cadastro[[ID]:[Nome]],2,0),\"\")","v":""},{"$f":"IFERROR(VLOOKUP(D236,Tabela66[#All],2,0),\"\")","v":""},{"$f":"IFERROR(VLOOKUP(D236,Tabela.cadastro[[ID]:[CP ou M]],5,0),\"\")","v":""},{"$f":"IFERROR(VLOOKUP(D236,Cadastros!A:F,6,0),\"\")","v":""},{"$f":"IFERROR(VLOOKUP(D236,Cadastros!A:I,9,0),\"\")","v":""},{"$f":"IFERROR(VLOOKUP(D236,Cadastros!A:J,10,0),\"\")","v":""},{"$f":"IF(COUNTIF(Tabela66[id],D236)=0,\"\",COUNTIF(Tabela66[id],D236))","v":""},null,"",null,null,{"$f":"IFERROR(VLOOKUP(O236,Cadastros!A:B,2),\"\")","v":""},"",{"$f":"IFERROR(VLOOKUP(O236,Cadastros!A:E,5,0),\"\")","v":""},{"$f":"IFERROR(VLOOKUP(O236,Cadastros!A:F,6,0),\"\")","v":""},{"$f":"IFERROR(VLOOKUP(O236,Cadastros!A:I,9,0),\"\")","v":""},"","","",null,{"$f":"INDEX(Tabela.abordagens[],SMALL(IF(Tabela.abordagens[Mês]=$L$2,ROW(Tabela.abordagens[id])-2),ROW(A189)),1)","v":{"$error":"#NUM!"}},{"$f":"INDEX(Tabela.abordagens[],SMALL(IF(Tabela.abordagens[Mês]=$L$2,ROW(Tabela.abordagens[Idade])-2),ROW(A189)),6)","v":{"$error":"#NUM!"}},{"$f":"INDEX(Tabela.abordagens[],SMALL(IF(Tabela.abordagens[Mês]=$L$2,ROW(Tabela.abordagens[Idade])-2),ROW(A189)),4)","v":{"$error":"#NUM!"}},{"$f":"INDEX(Tabela.abordagens[],SMALL(IF(Tabela.abordagens[Mês]=$L$2,ROW(Tabela.abordagens[Idade])-2),ROW(A189)),5)","v":{"$error":"#NUM!"}}]
[null,{"$f":"INDEX(Tabela.frequencia[],SMALL(IF(Tabela.frequencia[Mês]=$L$2,ROW(Tabela.frequencia[id])-1),ROW(A190)),1)","v":{"$error":"#NUM!"}},{"$f":"INDEX(Tabela.frequencia[],SMALL(IF(Tabela.frequencia[Mês]=$L$2,ROW(Tabela.frequencia[id])-1),ROW(A190)),4)","v":{"$error":"#NUM!"}},null,{"$f":"IFERROR(VLOOKUP(D237,Tabela.cadastro[[ID]:[Nome]],2,0),\"\")","v":""},{"$f":"IFERROR(VLOOKUP(D237,Tabela66[#All],2,0),\"\")","v":""},{"$f":"IFERROR(VLOOKUP(D237,Tabela.cadastro[[ID]:[CP ou M]],5,0),\"\")","v":""},{"$f":"IFERROR(VLOOKUP(D237,Cadastros!A:F,6,0),\"\")","v":""},{"$f":"IFERROR(VLOOKUP(D237,Cadastros!A:I,9,0),\"\")","v":""},{"$f":"IFERROR(VLOOKUP(D237,Cadastros!A:J,10,0),\"\")","v":""},{"$f":"IF(COUNTIF(Tabela66[id],D237)=0,\"\",COUNTIF(Tabela66[id],D237))","v":""},null,"",null,null,{"$f":"IFERROR(VLOOKUP(O237,Cadastros!A:B,2),\"\")","v":""},"",{"$f":"IFERROR(VLOOKUP(O237,Cadastros!A:E,5,0),\"\")","v":""},{"$f":"IFERROR(VLOOKUP(O237,Cadastros!A:F,6,0),\"\")","v":""},{"$f":"IFERROR(VLOOKUP(O237,Cadastros!A:I,9,0),\"\")","v":""},"","","",null,{"$f":"INDEX(Tabela.abordagens[],SMALL(IF(Tabela.abordagens[Mês]=$L$2,ROW(Tabela.abordagens[id])-2),ROW(A190)),1)","v":{"$error":"#NUM!"}},{"$f":"INDEX(Tabela.abordagens[],SMALL(IF(Tabela.abordagens[Mês]=$L$2,ROW(Tabela.abordagens[Idade])-2),ROW(A190)),6)","v":{"$error":"#NUM!"}},{"$f":"INDEX(Tabela.abordagens[],SMALL(IF(Tabela.abordagens[Mês]=$L$2,ROW(Tabela.abordagens[Idade])-2),ROW(A190)),4)","v":{"$error":"#NUM!"}},{"$f":"INDEX(Tabela.abordagens[],SMALL(IF(Tabela.abordagens[Mês]=$L$2,ROW(Tabela.abordagens[Idade])-2),ROW(A190)),5)","v":{"$error":"#NUM!"}}]
[null,{"$f":"INDEX(Tabela.frequencia[],SMALL(IF(Tabela.frequencia[Mês]=$L$2,ROW(Tabela.frequencia[id])-1),ROW(A191)),1)","v":{"$error":"#NUM!"}},{"$f":"INDEX(Tabela.frequencia[],SMALL(IF(Tabela.frequencia[Mês]=$L$2,ROW(Tabela.frequencia[id])-1),ROW(A191)),4)","v":{"$error":"#NUM!"}},null,{"$f":"IFERROR(VLOOKUP(D238,Tabela.cadastro[[ID]:[Nome]],2,0),\"\")","v":""},{"$f":"IFERROR(VLOOKUP(D238,Tabela66[#All],2,0),\"\")","v":""},{"$f":"IFERROR(VLOOKUP(D238,Tabela.cadastro[[ID]:[CP ou M]],5,0),\"\")","v":""},{"$f":"IFERROR(VLOOKUP(D238,Cadastros!A:F,6,0),\"\")","v":""},{"$f":"IFERROR(VLOOKUP(D238,Cadastros!A:I,9,0),\"\")","v":""},{"$f":"IFERROR(VLOOKUP(D238,Cadastros!A:J,10,0),\"\")","v":""},{"$f":"IF(COUNTIF(Tabela66[id],D238)=0,\"\",COUNTIF(Tabela66[id],D238))","v":""},null,"",null,null,{"$f":"IFERROR(VLOOKUP(O238,Cadastros!A:B,2),\"\")","v":""},"",{"$f":"IFERROR(VLOOKUP(O238,Cadastros!A:E,5,0),\"\")","v":""},{"$f":"IFERROR(VLOOKUP(O238,Cadastros!A:F,6,0),\"\")","v":""},{"$f":"IFERROR(VLOOKUP(O238,Cadastros!A:I,9,0),\"\")","v":""},"","","",null,{"$f":"INDEX(Tabela.abordagens[],SMALL(IF(Tabela.abordagens[Mês]=$L$2,ROW(Tabela.abordagens[id])-2),ROW(A191)),1)","v":{"$error":"#NUM!"}},{"$f":"INDEX(Tabela.abordagens[],SMALL(IF(Tabela.abordagens[Mês]=$L$2,ROW(Tabela.abordagens[Idade])-2),ROW(A191)),6)","v":{"$error":"#NUM!"}},{"$f":"INDEX(Tabela.abordagens[],SMALL(IF(Tabela.abordagens[Mês]=$L$2,ROW(Tabela.abordagens[Idade])-2),ROW(A191)),4)","v":{"$error":"#NUM!"}},{"$f":"INDEX(Tabela.abordagens[],SMALL(IF(Tabela.abordagens[Mês]=$L$2,ROW(Tabela.abordagens[Idade])-2),ROW(A191)),5)","v":{"$error":"#NUM!"}}]
[null,{"$f":"INDEX(Tabela.frequencia[],SMALL(IF(Tabela.frequencia[Mês]=$L$2,ROW(Tabela.frequencia[id])-1),ROW(A192)),1)","v":{"$error":"#NUM!"}},{"$f":"INDEX(Tabela.frequencia[],SMALL(IF(Tabela.frequencia[Mês]=$L$2,ROW(Tabela.frequencia[id])-1),ROW(A192)),4)","v":{"$error":"#NUM!"}},null,{"$f":"IFERROR(VLOOKUP(D239,Tabela.cadastro[[ID]:[Nome]],2,0),\"\")","v":""},{"$f":"IFERROR(VLOOKUP(D239,Tabela66[#All],2,0),\"\")","v":""},{"$f":"IFERROR(VLOOKUP(D239,Tabela.cadastro[[ID]:[CP ou M]],5,0),\"\")","v":""},{"$f":"IFERROR(VLOOKUP(D239,Cadastros!A:F,6,0),\"\")","v":""},{"$f":"IFERROR(VLOOKUP(D239,Cadastros!A:I,9,0),\"\")","v":""},{"$f":"IFERROR(VLOOKUP(D239,Cadastros!A:J,10,0),\"\")","v":""},{"$f":"IF(COUNTIF(Tabela66[id],D239)=0,\"\",COUNTIF(Tabela66[id],D239))","v":""},null,"",null,null,{"$f":"IFERROR(VLOOKUP(O239,Cadastros!A:B,2),\"\")","v":""},"",{"$f":"IFERROR(VLOOKUP(O239,Cadastros!A:E,5,0),\"\")","v":""},{"$f":"IFERROR(VLOOKUP(O239,Cadastros!A:F,6,0),\"\")","v":""},{"$f":"IFERROR(VLOOKUP(O239,Cadastros!A:I,9,0),\"\")","v":""},"","","",null,{"$f":"INDEX(Tabela.abordagens[],SMALL(IF(Tabela.abordagens[Mês]=$L$2,ROW(Tabela.abordagens[id])-2),ROW(A192)),1)","v":{"$error":"#NUM!"}},{"$f":"INDEX(Tabela.abordagens[],SMALL(IF(Tabela.abordagens[Mês]=$L$2,ROW(Tabela.abordagens[Idade])-2),ROW(A192)),6)","v":{"$error":"#NUM!"}},{"$f":"INDEX(Tabela.abordagens[],SMALL(IF(Tabela.abordagens[Mês]=$L$2,ROW(Tabela.abordagens[Idade])-2),ROW(A192)),4)","v":{"$error":"#NUM!"}},{"$f":"INDEX(Tabela.abordagens[],SMALL(IF(Tabela.abordagens[Mês]=$L$2,ROW(Tabela.abordagens[Idade])-2),ROW(A192)),5)","v":{"$error":"#NUM!"}}]
[null,{"$f":"INDEX(Tabela.frequencia[],SMALL(IF(Tabela.frequencia[Mês]=$L$2,ROW(Tabela.frequencia[id])-1),ROW(A193)),1)","v":{"$error":"#NUM!"}},{"$f":"INDEX(Tabela.frequencia[],SMALL(IF(Tabela.frequencia[Mês]=$L$2,ROW(Tabela.frequencia[id])-1),ROW(A193)),4)","v":{"$error":"#NUM!"}},null,{"$f":"IFERROR(VLOOKUP(D240,Tabela.cadastro[[ID]:[Nome]],2,0),\"\")","v":""},{"$f":"IFERROR(VLOOKUP(D240,Tabela66[#All],2,0),\"\")","v":""},{"$f":"IFERROR(VLOOKUP(D240,Tabela.cadastro[[ID]:[CP ou M]],5,0),\"\")","v":""},{"$f":"IFERROR(VLOOKUP(D240,Cadastros!A:F,6,0),\"\")","v":""},{"$f":"IFERROR(VLOOKUP(D240,Cadastros!A:I,9,0),\"\")","v":""},{"$f":"IFERROR(VLOOKUP(D240,Cadastros!A:J,10,0),\"\")","v":""},{"$f":"IF(COUNTIF(Tabela66[id],D240)=0,\"\",COUNTIF(Tabela66[id],D240))","v":""},null,"",null,null,{"$f":"IFERROR(VLOOKUP(O240,Cadastros!A:B,2),\"\")","v":""},"",{"$f":"IFERROR(VLOOKUP(O240,Cadastros!A:E,5,0),\"\")","v":""},{"$f":"IFERROR(VLOOKUP(O240,Cadastros!A:F,6,0),\"\")","v":""},{"$f":"IFERROR(VLOOKUP(O240,Cadastros!A:I,9,0),\"\")","v":""},"","","",null,{"$f":"INDEX(Tabela.abordagens[],SMALL(IF(Tabela.abordagens[Mês]=$L$2,ROW(Tabela.abordagens[id])-2),ROW(A193)),1)","v":{"$error":"#NUM!"}},{"$f":"INDEX(Tabela.abordagens[],SMALL(IF(Tabela.abordagens[Mês]=$L$2,ROW(Tabela.abordagens[Idade])-2),ROW(A193)),6)","v":{"$error":"#NUM!"}},{"$f":"INDEX(Tabela.abordagens[],SMALL(IF(Tabela.abordagens[Mês]=$L$2,ROW(Tabela.abordagens[Idade])-2),ROW(A193)),4)","v":{"$error":"#NUM!"}},{"$f":"INDEX(Tabela.abordagens[],SMALL(IF(Tabela.abordagens[Mês]=$L$2,ROW(Tabela.abordagens[Idade])-2),ROW(A193)),5)","v":{"$error":"#NUM!"}}]
[null,{"$f":"INDEX(Tabela.frequencia[],SMALL(IF(Tabela.frequencia[Mês]=$L$2,ROW(Tabela.frequencia[id])-1),ROW(A194)),1)","v":{"$error":"#NUM!"}},{"$f":"INDEX(Tabela.frequencia[],SMALL(IF(Tabela.frequencia[Mês]=$L$2,ROW(Tabela.frequencia[id])-1),ROW(A194)),4)","v":{"$error":"#NUM!"}},null,{"$f":"IFERROR(VLOOKUP(D241,Tabela.cadastro[[ID]:[Nome]],2,0),\"\")","v":""},{"$f":"IFERROR(VLOOKUP(D241,Tabela66[#All],2,0),\"\")","v":""},{"$f":"IFERROR(VLOOKUP(D241,Tabela.cadastro[[ID]:[CP ou M]],5,0),\"\")","v":""},{"$f":"IFERROR(VLOOKUP(D241,Cadastros!A:F,6,0),\"\")","v":""},{"$f":"IFERROR(VLOOKUP(D241,Cadastros!A:I,9,0),\"\")","v":""},{"$f":"IFERROR(VLOOKUP(D241,Cadastros!A:J,10,0),\"\")","v":""},{"$f":"IF(COUNTIF(Tabela66[id],D241)=0,\"\",COUNTIF(Tabela66[id],D241))","v":""},null,"",null,null,{"$f":"IFERROR(VLOOKUP(O241,Cadastros!A:B,2),\"\")","v":""},"",{"$f":"IFERROR(VLOOKUP(O241,Cadastros!A:E,5,0),\"\")","v":""},{"$f":"IFERROR(VLOOKUP(O241,Cadastros!A:F,6,0),\"\")","v":""},{"$f":"IFERROR(VLOOKUP(O241,Cadastros!A:I,9,0),\"\")","v":""},"","","",null,{"$f":"INDEX(Tabela.abordagens[],SMALL(IF(Tabela.abordagens[Mês]=$L$2,ROW(Tabela.abordagens[id])-2),ROW(A194)),1)","v":{"$error":"#NUM!"}},{"$f":"INDEX(Tabela.abordagens[],SMALL(IF(Tabela.abordagens[Mês]=$L$2,ROW(Tabela.abordagens[Idade])-2),ROW(A194)),6)","v":{"$error":"#NUM!"}},{"$f":"INDEX(Tabela.abordagens[],SMALL(IF(Tabela.abordagens[Mês]=$L$2,ROW(Tabela.abordagens[Idade])-2),ROW(A194)),4)","v":{"$error":"#NUM!"}},{"$f":"INDEX(Tabela.abordagens[],SMALL(IF(Tabela.abordagens[Mês]=$L$2,ROW(Tabela.abordagens[Idade])-2),ROW(A194)),5)","v":{"$error":"#NUM!"}}]
[null,{"$f":"INDEX(Tabela.frequencia[],SMALL(IF(Tabela.frequencia[Mês]=$L$2,ROW(Tabela.frequencia[id])-1),ROW(A195)),1)","v":{"$error":"#NUM!"}},{"$f":"INDEX(Tabela.frequencia[],SMALL(IF(Tabela.frequencia[Mês]=$L$2,ROW(Tabela.frequencia[id])-1),ROW(A195)),4)","v":{"$error":"#NUM!"}},null,{"$f":"IFERROR(VLOOKUP(D242,Tabela.cadastro[[ID]:[Nome]],2,0),\"\")","v":""},{"$f":"IFERROR(VLOOKUP(D242,Tabela66[#All],2,0),\"\")","v":""},{"$f":"IFERROR(VLOOKUP(D242,Tabela.cadastro[[ID]:[CP ou M]],5,0),\"\")","v":""},{"$f":"IFERROR(VLOOKUP(D242,Cadastros!A:F,6,0),\"\")","v":""},{"$f":"IFERROR(VLOOKUP(D242,Cadastros!A:I,9,0),\"\")","v":""},{"$f":"IFERROR(VLOOKUP(D242,Cadastros!A:J,10,0),\"\")","v":""},{"$f":"IF(COUNTIF(Tabela66[id],D242)=0,\"\",COUNTIF(Tabela66[id],D242))","v":""},null,"",null,null,{"$f":"IFERROR(VLOOKUP(O242,Cadastros!A:B,2),\"\")","v":""},"",{"$f":"IFERROR(VLOOKUP(O242,Cadastros!A:E,5,0),\"\")","v":""},{"$f":"IFERROR(VLOOKUP(O242,Cadastros!A:F,6,0),\"\")","v":""},{"$f":"IFERROR(VLOOKUP(O242,Cadastros!A:I,9,0),\"\")","v":""},"","","",null,{"$f":"INDEX(Tabela.abordagens[],SMALL(IF(Tabela.abordagens[Mês]=$L$2,ROW(Tabela.abordagens[id])-2),ROW(A195)),1)","v":{"$error":"#NUM!"}},{"$f":"INDEX(Tabela.abordagens[],SMALL(IF(Tabela.abordagens[Mês]=$L$2,ROW(Tabela.abordagens[Idade])-2),ROW(A195)),6)","v":{"$error":"#NUM!"}},{"$f":"INDEX(Tabela.abordagens[],SMALL(IF(Tabela.abordagens[Mês]=$L$2,ROW(Tabela.abordagens[Idade])-2),ROW(A195)),4)","v":{"$error":"#NUM!"}},{"$f":"INDEX(Tabela.abordagens[],SMALL(IF(Tabela.abordagens[Mês]=$L$2,ROW(Tabela.abordagens[Idade])-2),ROW(A195)),5)","v":{"$error":"#NUM!"}}]
[null,{"$f":"INDEX(Tabela.frequencia[],SMALL(IF(Tabela.frequencia[Mês]=$L$2,ROW(Tabela.frequencia[id])-1),ROW(A196)),1)","v":{"$error":"#NUM!"}},{"$f":"INDEX(Tabela.frequencia[],SMALL(IF(Tabela.frequencia[Mês]=$L$2,ROW(Tabela.frequencia[id])-1),ROW(A196)),4)","v":{"$error":"#NUM!"}},null,{"$f":"IFERROR(VLOOKUP(D243,Tabela.cadastro[[ID]:[Nome]],2,0),\"\")","v":""},{"$f":"IFERROR(VLOOKUP(D243,Tabela66[#All],2,0),\"\")","v":""},{"$f":"IFERROR(VLOOKUP(D243,Tabela.cadastro[[ID]:[CP ou M]],5,0),\"\")","v":""},{"$f":"IFERROR(VLOOKUP(D243,Cadastros!A:F,6,0),\"\")","v":""},{"$f":"IFERROR(VLOOKUP(D243,Cadastros!A:I,9,0),\"\")","v":""},{"$f":"IFERROR(VLOOKUP(D243,Cadastros!A:J,10,0),\"\")","v":""},{"$f":"IF(COUNTIF(Tabela66[id],D243)=0,\"\",COUNTIF(Tabela66[id],D243))","v":""},null,"",null,null,{"$f":"IFERROR(VLOOKUP(O243,Cadastros!A:B,2),\"\")","v":""},"",{"$f":"IFERROR(VLOOKUP(O243,Cadastros!A:E,5,0),\"\")","v":""},{"$f":"IFERROR(VLOOKUP(O243,Cadastros!A:F,6,0),\"\")","v":""},{"$f":"IFERROR(VLOOKUP(O243,Cadastros!A:I,9,0),\"\")","v":""},"","","",null,{"$f":"INDEX(Tabela.abordagens[],SMALL(IF(Tabela.abordagens[Mês]=$L$2,ROW(Tabela.abordagens[id])-2),ROW(A196)),1)","v":{"$error":"#NUM!"}},{"$f":"INDEX(Tabela.abordagens[],SMALL(IF(Tabela.abordagens[Mês]=$L$2,ROW(Tabela.abordagens[Idade])-2),ROW(A196)),6)","v":{"$error":"#NUM!"}},{"$f":"INDEX(Tabela.abordagens[],SMALL(IF(Tabela.abordagens[Mês]=$L$2,ROW(Tabela.abordagens[Idade])-2),ROW(A196)),4)","v":{"$error":"#NUM!"}},{"$f":"INDEX(Tabela.abordagens[],SMALL(IF(Tabela.abordagens[Mês]=$L$2,ROW(Tabela.abordagens[Idade])-2),ROW(A196)),5)","v":{"$error":"#NUM!"}}]
[null,{"$f":"INDEX(Tabela.frequencia[],SMALL(IF(Tabela.frequencia[Mês]=$L$2,ROW(Tabela.frequencia[id])-1),ROW(A197)),1)","v":{"$error":"#NUM!"}},{"$f":"INDEX(Tabela.frequencia[],SMALL(IF(Tabela.frequencia[Mês]=$L$2,ROW(Tabela.frequencia[id])-1),ROW(A197)),4)","v":{"$error":"#NUM!"}},null,{"$f":"IFERROR(VLOOKUP(D244,Tabela.cadastro[[ID]:[Nome]],2,0),\"\")","v":""},{"$f":"IFERROR(VLOOKUP(D244,Tabela66[#All],2,0),\"\")","v":""},{"$f":"IFERROR(VLOOKUP(D244,Tabela.cadastro[[ID]:[CP ou M]],5,0),\"\")","v":""},{"$f":"IFERROR(VLOOKUP(D244,Cadastros!A:F,6,0),\"\")","v":""},{"$f":"IFERROR(VLOOKUP(D244,Cadastros!A:I,9,0),\"\")","v":""},{"$f":"IFERROR(VLOOKUP(D244,Cadastros!A:J,10,0),\"\")","v":""},{"$f":"IF(COUNTIF(Tabela66[id],D244)=0,\"\",COUNTIF(Tabela66[id],D244))","v":""},null,"",null,null,{"$f":"IFERROR(VLOOKUP(O244,Cadastros!A:B,2),\"\")","v":""},"",{"$f":"IFERROR(VLOOKUP(O244,Cadastros!A:E,5,0),\"\")","v":""},{"$f":"IFERROR(VLOOKUP(O244,Cadastros!A:F,6,0),\"\")","v":""},{"$f":"IFERROR(VLOOKUP(O244,Cadastros!A:I,9,0),\"\")","v":""},"","","",null,{"$f":"INDEX(Tabela.abordagens[],SMALL(IF(Tabela.abordagens[Mês]=$L$2,ROW(Tabela.abordagens[id])-2),ROW(A197)),1)","v":{"$error":"#NUM!"}},{"$f":"INDEX(Tabela.abordagens[],SMALL(IF(Tabela.abordagens[Mês]=$L$2,ROW(Tabela.abordagens[Idade])-2),ROW(A197)),6)","v":{"$error":"#NUM!"}},{"$f":"INDEX(Tabela.abordagens[],SMALL(IF(Tabela.abordagens[Mês]=$L$2,ROW(Tabela.abordagens[Idade])-2),ROW(A197)),4)","v":{"$error":"#NUM!"}},{"$f":"INDEX(Tabela.abordagens[],SMALL(IF(Tabela.abordagens[Mês]=$L$2,ROW(Tabela.abordagens[Idade])-2),ROW(A197)),5)","v":{"$error":"#NUM!"}}]
[null,{"$f":"INDEX(Tabela.frequencia[],SMALL(IF(Tabela.frequencia[Mês]=$L$2,ROW(Tabela.frequencia[id])-1),ROW(A198)),1)","v":{"$error":"#NUM!"}},{"$f":"INDEX(Tabela.frequencia[],SMALL(IF(Tabela.frequencia[Mês]=$L$2,ROW(Tabela.frequencia[id])-1),ROW(A198)),4)","v":{"$error":"#NUM!"}},null,{"$f":"IFERROR(VLOOKUP(D245,Tabela.cadastro[[ID]:[Nome]],2,0),\"\")","v":""},{"$f":"IFERROR(VLOOKUP(D245,Tabela66[#All],2,0),\"\")","v":""},{"$f":"IFERROR(VLOOKUP(D245,Tabela.cadastro[[ID]:[CP ou M]],5,0),\"\")","v":""},{"$f":"IFERROR(VLOOKUP(D245,Cadastros!A:F,6,0),\"\")","v":""},{"$f":"IFERROR(VLOOKUP(D245,Cadastros!A:I,9,0),\"\")","v":""},{"$f":"IFERROR(VLOOKUP(D245,Cadastros!A:J,10,0),\"\")","v":""},{"$f":"IF(COUNTIF(Tabela66[id],D245)=0,\"\",COUNTIF(Tabela66[id],D245))","v":""},null,"",null,null,{"$f":"IFERROR(VLOOKUP(O245,Cadastros!A:B,2),\"\")","v":""},"",{"$f":"IFERROR(VLOOKUP(O245,Cadastros!A:E,5,0),\"\")","v":""},{"$f":"IFERROR(VLOOKUP(O245,Cadastros!A:F,6,0),\"\")","v":""},{"$f":"IFERROR(VLOOKUP(O245,Cadastros!A:I,9,0),\"\")","v":""},"","","",null,{"$f":"INDEX(Tabela.abordagens[],SMALL(IF(Tabela.abordagens[Mês]=$L$2,ROW(Tabela.abordagens[id])-2),ROW(A198)),1)","v":{"$error":"#NUM!"}},{"$f":"INDEX(Tabela.abordagens[],SMALL(IF(Tabela.abordagens[Mês]=$L$2,ROW(Tabela.abordagens[Idade])-2),ROW(A198)),6)","v":{"$error":"#NUM!"}},{"$f":"INDEX(Tabela.abordagens[],SMALL(IF(Tabela.abordagens[Mês]=$L$2,ROW(Tabela.abordagens[Idade])-2),ROW(A198)),4)","v":{"$error":"#NUM!"}},{"$f":"INDEX(Tabela.abordagens[],SMALL(IF(Tabela.abordagens[Mês]=$L$2,ROW(Tabela.abordagens[Idade])-2),ROW(A198)),5)","v":{"$error":"#NUM!"}}]
[null,{"$f":"INDEX(Tabela.frequencia[],SMALL(IF(Tabela.frequencia[Mês]=$L$2,ROW(Tabela.frequencia[id])-1),ROW(A199)),1)","v":{"$error":"#NUM!"}},{"$f":"INDEX(Tabela.frequencia[],SMALL(IF(Tabela.frequencia[Mês]=$L$2,ROW(Tabela.frequencia[id])-1),ROW(A199)),4)","v":{"$error":"#NUM!"}},null,{"$f":"IFERROR(VLOOKUP(D246,Tabela.cadastro[[ID]:[Nome]],2,0),\"\")","v":""},{"$f":"IFERROR(VLOOKUP(D246,Tabela66[#All],2,0),\"\")","v":""},{"$f":"IFERROR(VLOOKUP(D246,Tabela.cadastro[[ID]:[CP ou M]],5,0),\"\")","v":""},{"$f":"IFERROR(VLOOKUP(D246,Cadastros!A:F,6,0),\"\")","v":""},{"$f":"IFERROR(VLOOKUP(D246,Cadastros!A:I,9,0),\"\")","v":""},{"$f":"IFERROR(VLOOKUP(D246,Cadastros!A:J,10,0),\"\")","v":""},{"$f":"IF(COUNTIF(Tabela66[id],D246)=0,\"\",COUNTIF(Tabela66[id],D246))","v":""},null,"",null,null,{"$f":"IFERROR(VLOOKUP(O246,Cadastros!A:B,2),\"\")","v":""},"",{"$f":"IFERROR(VLOOKUP(O246,Cadastros!A:E,5,0),\"\")","v":""},{"$f":"IFERROR(VLOOKUP(O246,Cadastros!A:F,6,0),\"\")","v":""},{"$f":"IFERROR(VLOOKUP(O246,Cadastros!A:I,9,0),\"\")","v":""},"","","",null,{"$f":"INDEX(Tabela.abordagens[],SMALL(IF(Tabela.abordagens[Mês]=$L$2,ROW(Tabela.abordagens[id])-2),ROW(A199)),1)","v":{"$error":"#NUM!"}},{"$f":"INDEX(Tabela.abordagens[],SMALL(IF(Tabela.abordagens[Mês]=$L$2,ROW(Tabela.abordagens[Idade])-2),ROW(A199)),6)","v":{"$error":"#NUM!"}},{"$f":"INDEX(Tabela.abordagens[],SMALL(IF(Tabela.abordagens[Mês]=$L$2,ROW(Tabela.abordagens[Idade])-2),ROW(A199)),4)","v":{"$error":"#NUM!"}},{"$f":"INDEX(Tabela.abordagens[],SMALL(IF(Tabela.abordagens[Mês]=$L$2,ROW(Tabela.abordagens[Idade])-2),ROW(A199)),5)","v":{"$error":"#NUM!"}}]
[null,{"$f":"INDEX(Tabela.frequencia[],SMALL(IF(Tabela.frequencia[Mês]=$L$2,ROW(Tabela.frequencia[id])-1),ROW(A200)),1)","v":{"$error":"#NUM!"}},{"$f":"INDEX(Tabela.frequencia[],SMALL(IF(Tabela.frequencia[Mês]=$L$2,ROW(Tabela.frequencia[id])-1),ROW(A200)),4)","v":{"$error":"#NUM!"}},null,{"$f":"IFERROR(VLOOKUP(D247,Tabela.cadastro[[ID]:[Nome]],2,0),\"\")","v":""},{"$f":"IFERROR(VLOOKUP(D247,Tabela66[#All],2,0),\"\")","v":""},{"$f":"IFERROR(VLOOKUP(D247,Tabela.cadastro[[ID]:[CP ou M]],5,0),\"\")","v":""},{"$f":"IFERROR(VLOOKUP(D247,Cadastros!A:F,6,0),\"\")","v":""},{"$f":"IFERROR(VLOOKUP(D247,Cadastros!A:I,9,0),\"\")","v":""},{"$f":"IFERROR(VLOOKUP(D247,Cadastros!A:J,10,0),\"\")","v":""},{"$f":"IF(COUNTIF(Tabela66[id],D247)=0,\"\",COUNTIF(Tabela66[id],D247))","v":""},null,"",null,null,{"$f":"IFERROR(VLOOKUP(O247,Cadastros!A:B,2),\"\")","v":""},"",{"$f":"IFERROR(VLOOKUP(O247,Cadastros!A:E,5,0),\"\")","v":""},{"$f":"IFERROR(VLOOKUP(O247,Cadastros!A:F,6,0),\"\")","v":""},{"$f":"IFERROR(VLOOKUP(O247,Cadastros!A:I,9,0),\"\")","v":""},"","","",null,{"$f":"INDEX(Tabela.abordagens[],SMALL(IF(Tabela.abordagens[Mês]=$L$2,ROW(Tabela.abordagens[id])-2),ROW(A200)),1)","v":{"$error":"#NUM!"}},{"$f":"INDEX(Tabela.abordagens[],SMALL(IF(Tabela.abordagens[Mês]=$L$2,ROW(Tabela.abordagens[Idade])-2),ROW(A200)),6)","v":{"$error":"#NUM!"}},{"$f":"INDEX(Tabela.abordagens[],SMALL(IF(Tabela.abordagens[Mês]=$L$2,ROW(Tabela.abordagens[Idade])-2),ROW(A200)),4)","v":{"$error":"#NUM!"}},{"$f":"INDEX(Tabela.abordagens[],SMALL(IF(Tabela.abordagens[Mês]=$L$2,ROW(Tabela.abordagens[Idade])-2),ROW(A200)),5)","v":{"$error":"#NUM!"}}]
[null,{"$f":"INDEX(Tabela.frequencia[],SMALL(IF(Tabela.frequencia[Mês]=$L$2,ROW(Tabela.frequencia[id])-1),ROW(A201)),1)","v":{"$error":"#NUM!"}},{"$f":"INDEX(Tabela.frequencia[],SMALL(IF(Tabela.frequencia[Mês]=$L$2,ROW(Tabela.frequencia[id])-1),ROW(A201)),4)","v":{"$error":"#NUM!"}},null,{"$f":"IFERROR(VLOOKUP(D248,Tabela.cadastro[[ID]:[Nome]],2,0),\"\")","v":""},{"$f":"IFERROR(VLOOKUP(D248,Tabela66[#All],2,0),\"\")","v":""},{"$f":"IFERROR(VLOOKUP(D248,Tabela.cadastro[[ID]:[CP ou M]],5,0),\"\")","v":""},{"$f":"IFERROR(VLOOKUP(D248,Cadastros!A:F,6,0),\"\")","v":""},{"$f":"IFERROR(VLOOKUP(D248,Cadastros!A:I,9,0),\"\")","v":""},{"$f":"IFERROR(VLOOKUP(D248,Cadastros!A:J,10,0),\"\")","v":""},{"$f":"IF(COUNTIF(Tabela66[id],D248)=0,\"\",COUNTIF(Tabela66[id],D248))","v":""},null,"",null,null,{"$f":"IFERROR(VLOOKUP(O248,Cadastros!A:B,2),\"\")","v":""},"",{"$f":"IFERROR(VLOOKUP(O248,Cadastros!A:E,5,0),\"\")","v":""},{"$f":"IFERROR(VLOOKUP(O248,Cadastros!A:F,6,0),\"\")","v":""},{"$f":"IFERROR(VLOOKUP(O248,Cadastros!A:I,9,0),\"\")","v":""},"","","",null,{"$f":"INDEX(Tabela.abordagens[],SMALL(IF(Tabela.abordagens[Mês]=$L$2,ROW(Tabela.abordagens[id])-2),ROW(A201)),1)","v":{"$error":"#NUM!"}},{"$f":"INDEX(Tabela.abordagens[],SMALL(IF(Tabela.abordagens[Mês]=$L$2,ROW(Tabela.abordagens[Idade])-2),ROW(A201)),6)","v":{"$error":"#NUM!"}},{"$f":"INDEX(Tabela.abordagens[],SMALL(IF(Tabela.abordagens[Mês]=$L$2,ROW(Tabela.abordagens[Idade])-2),ROW(A201)),4)","v":{"$error":"#NUM!"}},{"$f":"INDEX(Tabela.abordagens[],SMALL(IF(Tabela.abordagens[Mês]=$L$2,ROW(Tabela.abordagens[Idade])-2),ROW(A201)),5)","v":{"$error":"#NUM!"}}]
[null,{"$f":"INDEX(Tabela.frequencia[],SMALL(IF(Tabela.frequencia[Mês]=$L$2,ROW(Tabela.frequencia[id])-1),ROW(A202)),1)","v":{"$error":"#NUM!"}},{"$f":"INDEX(Tabela.frequencia[],SMALL(IF(Tabela.frequencia[Mês]=$L$2,ROW(Tabela.frequencia[id])-1),ROW(A202)),4)","v":{"$error":"#NUM!"}},null,{"$f":"IFERROR(VLOOKUP(D249,Tabela.cadastro[[ID]:[Nome]],2,0),\"\")","v":""},{"$f":"IFERROR(VLOOKUP(D249,Tabela66[#All],2,0),\"\")","v":""},{"$f":"IFERROR(VLOOKUP(D249,Tabela.cadastro[[ID]:[CP ou M]],5,0),\"\")","v":""},{"$f":"IFERROR(VLOOKUP(D249,Cadastros!A:F,6,0),\"\")","v":""},{"$f":"IFERROR(VLOOKUP(D249,Cadastros!A:I,9,0),\"\")","v":""},{"$f":"IFERROR(VLOOKUP(D249,Cadastros!A:J,10,0),\"\")","v":""},{"$f":"IF(COUNTIF(Tabela66[id],D249)=0,\"\",COUNTIF(Tabela66[id],D249))","v":""},null,"",null,null,{"$f":"IFERROR(VLOOKUP(O249,Cadastros!A:B,2),\"\")","v":""},"",{"$f":"IFERROR(VLOOKUP(O249,Cadastros!A:E,5,0),\"\")","v":""},{"$f":"IFERROR(VLOOKUP(O249,Cadastros!A:F,6,0),\"\")","v":""},{"$f":"IFERROR(VLOOKUP(O249,Cadastros!A:I,9,0),\"\")","v":""},"","","",null,{"$f":"INDEX(Tabela.abordagens[],SMALL(IF(Tabela.abordagens[Mês]=$L$2,ROW(Tabela.abordagens[id])-2),ROW(A202)),1)","v":{"$error":"#NUM!"}},{"$f":"INDEX(Tabela.abordagens[],SMALL(IF(Tabela.abordagens[Mês]=$L$2,ROW(Tabela.abordagens[Idade])-2),ROW(A202)),6)","v":{"$error":"#NUM!"}},{"$f":"INDEX(Tabela.abordagens[],SMALL(IF(Tabela.abordagens[Mês]=$L$2,ROW(Tabela.abordagens[Idade])-2),ROW(A202)),4)","v":{"$error":"#NUM!"}},{"$f":"INDEX(Tabela.abordagens[],SMALL(IF(Tabela.abordagens[Mês]=$L$2,ROW(Tabela.abordagens[Idade])-2),ROW(A202)),5)","v":{"$error":"#NUM!"}}]
[null,{"$f":"INDEX(Tabela.frequencia[],SMALL(IF(Tabela.frequencia[Mês]=$L$2,ROW(Tabela.frequencia[id])-1),ROW(A203)),1)","v":{"$error":"#NUM!"}},{"$f":"INDEX(Tabela.frequencia[],SMALL(IF(Tabela.frequencia[Mês]=$L$2,ROW(Tabela.frequencia[id])-1),ROW(A203)),4)","v":{"$error":"#NUM!"}},null,{"$f":"IFERROR(VLOOKUP(D250,Tabela.cadastro[[ID]:[Nome]],2,0),\"\")","v":""},{"$f":"IFERROR(VLOOKUP(D250,Tabela66[#All],2,0),\"\")","v":""},{"$f":"IFERROR(VLOOKUP(D250,Tabela.cadastro[[ID]:[CP ou M]],5,0),\"\")","v":""},{"$f":"IFERROR(VLOOKUP(D250,Cadastros!A:F,6,0),\"\")","v":""},{"$f":"IFERROR(VLOOKUP(D250,Cadastros!A:I,9,0),\"\")","v":""},{"$f":"IFERROR(VLOOKUP(D250,Cadastros!A:J,10,0),\"\")","v":""},{"$f":"IF(COUNTIF(Tabela66[id],D250)=0,\"\",COUNTIF(Tabela66[id],D250))","v":""},null,"",null,null,{"$f":"IFERROR(VLOOKUP(O250,Cadastros!A:B,2),\"\")","v":""},"",{"$f":"IFERROR(VLOOKUP(O250,Cadastros!A:E,5,0),\"\")","v":""},{"$f":"IFERROR(VLOOKUP(O250,Cadastros!A:F,6,0),\"\")","v":""},{"$f":"IFERROR(VLOOKUP(O250,Cadastros!A:I,9,0),\"\")","v":""},"","","",null,{"$f":"INDEX(Tabela.abordagens[],SMALL(IF(Tabela.abordagens[Mês]=$L$2,ROW(Tabela.abordagens[id])-2),ROW(A203)),1)","v":{"$error":"#NUM!"}},{"$f":"INDEX(Tabela.abordagens[],SMALL(IF(Tabela.abordagens[Mês]=$L$2,ROW(Tabela.abordagens[Idade])-2),ROW(A203)),6)","v":{"$error":"#NUM!"}},{"$f":"INDEX(Tabela.abordagens[],SMALL(IF(Tabela.abordagens[Mês]=$L$2,ROW(Tabela.abordagens[Idade])-2),ROW(A203)),4)","v":{"$error":"#NUM!"}},{"$f":"INDEX(Tabela.abordagens[],SMALL(IF(Tabela.abordagens[Mês]=$L$2,ROW(Tabela.abordagens[Idade])-2),ROW(A203)),5)","v":{"$error":"#NUM!"}}]
[null,{"$f":"INDEX(Tabela.frequencia[],SMALL(IF(Tabela.frequencia[Mês]=$L$2,ROW(Tabela.frequencia[id])-1),ROW(A204)),1)","v":{"$error":"#NUM!"}},{"$f":"INDEX(Tabela.frequencia[],SMALL(IF(Tabela.frequencia[Mês]=$L$2,ROW(Tabela.frequencia[id])-1),ROW(A204)),4)","v":{"$error":"#NUM!"}},null,{"$f":"IFERROR(VLOOKUP(D251,Tabela.cadastro[[ID]:[Nome]],2,0),\"\")","v":""},{"$f":"IFERROR(VLOOKUP(D251,Tabela66[#All],2,0),\"\")","v":""},{"$f":"IFERROR(VLOOKUP(D251,Tabela.cadastro[[ID]:[CP ou M]],5,0),\"\")","v":""},{"$f":"IFERROR(VLOOKUP(D251,Cadastros!A:F,6,0),\"\")","v":""},{"$f":"IFERROR(VLOOKUP(D251,Cadastros!A:I,9,0),\"\")","v":""},{"$f":"IFERROR(VLOOKUP(D251,Cadastros!A:J,10,0),\"\")","v":""},{"$f":"IF(COUNTIF(Tabela66[id],D251)=0,\"\",COUNTIF(Tabela66[id],D251))","v":""},null,"",null,null,{"$f":"IFERROR(VLOOKUP(O251,Cadastros!A:B,2),\"\")","v":""},"",{"$f":"IFERROR(VLOOKUP(O251,Cadastros!A:E,5,0),\"\")","v":""},{"$f":"IFERROR(VLOOKUP(O251,Cadastros!A:F,6,0),\"\")","v":""},{"$f":"IFERROR(VLOOKUP(O251,Cadastros!A:I,9,0),\"\")","v":""},"","","",null,{"$f":"INDEX(Tabela.abordagens[],SMALL(IF(Tabela.abordagens[Mês]=$L$2,ROW(Tabela.abordagens[id])-2),ROW(A204)),1)","v":{"$error":"#NUM!"}},{"$f":"INDEX(Tabela.abordagens[],SMALL(IF(Tabela.abordagens[Mês]=$L$2,ROW(Tabela.abordagens[Idade])-2),ROW(A204)),6)","v":{"$error":"#NUM!"}},{"$f":"INDEX(Tabela.abordagens[],SMALL(IF(Tabela.abordagens[Mês]=$L$2,ROW(Tabela.abordagens[Idade])-2),ROW(A204)),4)","v":{"$error":"#NUM!"}},{"$f":"INDEX(Tabela.abordagens[],SMALL(IF(Tabela.abordagens[Mês]=$L$2,ROW(Tabela.abordagens[Idade])-2),ROW(A204)),5)","v":{"$error":"#NUM!"}}]
[null,{"$f":"INDEX(Tabela.frequencia[],SMALL(IF(Tabela.frequencia[Mês]=$L$2,ROW(Tabela.frequencia[id])-1),ROW(A205)),1)","v":{"$error":"#NUM!"}},{"$f":"INDEX(Tabela.frequencia[],SMALL(IF(Tabela.frequencia[Mês]=$L$2,ROW(Tabela.frequencia[id])-1),ROW(A205)),4)","v":{"$error":"#NUM!"}},null,{"$f":"IFERROR(VLOOKUP(D252,Tabela.cadastro[[ID]:[Nome]],2,0),\"\")","v":""},{"$f":"IFERROR(VLOOKUP(D252,Tabela66[#All],2,0),\"\")","v":""},{"$f":"IFERROR(VLOOKUP(D252,Tabela.cadastro[[ID]:[CP ou M]],5,0),\"\")","v":""},{"$f":"IFERROR(VLOOKUP(D252,Cadastros!A:F,6,0),\"\")","v":""},{"$f":"IFERROR(VLOOKUP(D252,Cadastros!A:I,9,0),\"\")","v":""},{"$f":"IFERROR(VLOOKUP(D252,Cadastros!A:J,10,0),\"\")","v":""},{"$f":"IF(COUNTIF(Tabela66[id],D252)=0,\"\",COUNTIF(Tabela66[id],D252))","v":""},null,"",null,null,{"$f":"IFERROR(VLOOKUP(O252,Cadastros!A:B,2),\"\")","v":""},"",{"$f":"IFERROR(VLOOKUP(O252,Cadastros!A:E,5,0),\"\")","v":""},{"$f":"IFERROR(VLOOKUP(O252,Cadastros!A:F,6,0),\"\")","v":""},{"$f":"IFERROR(VLOOKUP(O252,Cadastros!A:I,9,0),\"\")","v":""},"","","",null,{"$f":"INDEX(Tabela.abordagens[],SMALL(IF(Tabela.abordagens[Mês]=$L$2,ROW(Tabela.abordagens[id])-2),ROW(A205)),1)","v":{"$error":"#NUM!"}},{"$f":"INDEX(Tabela.abordagens[],SMALL(IF(Tabela.abordagens[Mês]=$L$2,ROW(Tabela.abordagens[Idade])-2),ROW(A205)),6)","v":{"$error":"#NUM!"}},{"$f":"INDEX(Tabela.abordagens[],SMALL(IF(Tabela.abordagens[Mês]=$L$2,ROW(Tabela.abordagens[Idade])-2),ROW(A205)),4)","v":{"$error":"#NUM!"}},{"$f":"INDEX(Tabela.abordagens[],SMALL(IF(Tabela.abordagens[Mês]=$L$2,ROW(Tabela.abordagens[Idade])-2),ROW(A205)),5)","v":{"$error":"#NUM!"}}]
[null,{"$f":"INDEX(Tabela.frequencia[],SMALL(IF(Tabela.frequencia[Mês]=$L$2,ROW(Tabela.frequencia[id])-1),ROW(A206)),1)","v":{"$error":"#NUM!"}},{"$f":"INDEX(Tabela.frequencia[],SMALL(IF(Tabela.frequencia[Mês]=$L$2,ROW(Tabela.frequencia[id])-1),ROW(A206)),4)","v":{"$error":"#NUM!"}},null,{"$f":"IFERROR(VLOOKUP(D253,Tabela.cadastro[[ID]:[Nome]],2,0),\"\")","v":""},{"$f":"IFERROR(VLOOKUP(D253,Tabela66[#All],2,0),\"\")","v":""},{"$f":"IFERROR(VLOOKUP(D253,Tabela.cadastro[[ID]:[CP ou M]],5,0),\"\")","v":""},{"$f":"IFERROR(VLOOKUP(D253,Cadastros!A:F,6,0),\"\")","v":""},{"$f":"IFERROR(VLOOKUP(D253,Cadastros!A:I,9,0),\"\")","v":""},{"$f":"IFERROR(VLOOKUP(D253,Cadastros!A:J,10,0),\"\")","v":""},{"$f":"IF(COUNTIF(Tabela66[id],D253)=0,\"\",COUNTIF(Tabela66[id],D253))","v":""},null,"",null,null,{"$f":"IFERROR(VLOOKUP(O253,Cadastros!A:B,2),\"\")","v":""},"",{"$f":"IFERROR(VLOOKUP(O253,Cadastros!A:E,5,0),\"\")","v":""},{"$f":"IFERROR(VLOOKUP(O253,Cadastros!A:F,6,0),\"\")","v":""},{"$f":"IFERROR(VLOOKUP(O253,Cadastros!A:I,9,0),\"\")","v":""},"","","",null,{"$f":"INDEX(Tabela.abordagens[],SMALL(IF(Tabela.abordagens[Mês]=$L$2,ROW(Tabela.abordagens[id])-2),ROW(A206)),1)","v":{"$error":"#NUM!"}},{"$f":"INDEX(Tabela.abordagens[],SMALL(IF(Tabela.abordagens[Mês]=$L$2,ROW(Tabela.abordagens[Idade])-2),ROW(A206)),6)","v":{"$error":"#NUM!"}},{"$f":"INDEX(Tabela.abordagens[],SMALL(IF(Tabela.abordagens[Mês]=$L$2,ROW(Tabela.abordagens[Idade])-2),ROW(A206)),4)","v":{"$error":"#NUM!"}},{"$f":"INDEX(Tabela.abordagens[],SMALL(IF(Tabela.abordagens[Mês]=$L$2,ROW(Tabela.abordagens[Idade])-2),ROW(A206)),5)","v":{"$error":"#NUM!"}}]
[null,{"$f":"INDEX(Tabela.frequencia[],SMALL(IF(Tabela.frequencia[Mês]=$L$2,ROW(Tabela.frequencia[id])-1),ROW(A207)),1)","v":{"$error":"#NUM!"}},{"$f":"INDEX(Tabela.frequencia[],SMALL(IF(Tabela.frequencia[Mês]=$L$2,ROW(Tabela.frequencia[id])-1),ROW(A207)),4)","v":{"$error":"#NUM!"}},null,{"$f":"IFERROR(VLOOKUP(D254,Tabela.cadastro[[ID]:[Nome]],2,0),\"\")","v":""},{"$f":"IFERROR(VLOOKUP(D254,Tabela66[#All],2,0),\"\")","v":""},{"$f":"IFERROR(VLOOKUP(D254,Tabela.cadastro[[ID]:[CP ou M]],5,0),\"\")","v":""},{"$f":"IFERROR(VLOOKUP(D254,Cadastros!A:F,6,0),\"\")","v":""},{"$f":"IFERROR(VLOOKUP(D254,Cadastros!A:I,9,0),\"\")","v":""},{"$f":"IFERROR(VLOOKUP(D254,Cadastros!A:J,10,0),\"\")","v":""},{"$f":"IF(COUNTIF(Tabela66[id],D254)=0,\"\",COUNTIF(Tabela66[id],D254))","v":""},null,"",null,null,{"$f":"IFERROR(VLOOKUP(O254,Cadastros!A:B,2),\"\")","v":""},"",{"$f":"IFERROR(VLOOKUP(O254,Cadastros!A:E,5,0),\"\")","v":""},{"$f":"IFERROR(VLOOKUP(O254,Cadastros!A:F,6,0),\"\")","v":""},{"$f":"IFERROR(VLOOKUP(O254,Cadastros!A:I,9,0),\"\")","v":""},"","","",null,{"$f":"INDEX(Tabela.abordagens[],SMALL(IF(Tabela.abordagens[Mês]=$L$2,ROW(Tabela.abordagens[id])-2),ROW(A207)),1)","v":{"$error":"#NUM!"}},{"$f":"INDEX(Tabela.abordagens[],SMALL(IF(Tabela.abordagens[Mês]=$L$2,ROW(Tabela.abordagens[Idade])-2),ROW(A207)),6)","v":{"$error":"#NUM!"}},{"$f":"INDEX(Tabela.abordagens[],SMALL(IF(Tabela.abordagens[Mês]=$L$2,ROW(Tabela.abordagens[Idade])-2),ROW(A207)),4)","v":{"$error":"#NUM!"}},{"$f":"INDEX(Tabela.abordagens[],SMALL(IF(Tabela.abordagens[Mês]=$L$2,ROW(Tabela.abordagens[Idade])-2),ROW(A207)),5)","v":{"$error":"#NUM!"}}]
[null,{"$f":"INDEX(Tabela.frequencia[],SMALL(IF(Tabela.frequencia[Mês]=$L$2,ROW(Tabela.frequencia[id])-1),ROW(A208)),1)","v":{"$error":"#NUM!"}},{"$f":"INDEX(Tabela.frequencia[],SMALL(IF(Tabela.frequencia[Mês]=$L$2,ROW(Tabela.frequencia[id])-1),ROW(A208)),4)","v":{"$error":"#NUM!"}},null,{"$f":"IFERROR(VLOOKUP(D255,Tabela.cadastro[[ID]:[Nome]],2,0),\"\")","v":""},{"$f":"IFERROR(VLOOKUP(D255,Tabela66[#All],2,0),\"\")","v":""},{"$f":"IFERROR(VLOOKUP(D255,Tabela.cadastro[[ID]:[CP ou M]],5,0),\"\")","v":""},{"$f":"IFERROR(VLOOKUP(D255,Cadastros!A:F,6,0),\"\")","v":""},{"$f":"IFERROR(VLOOKUP(D255,Cadastros!A:I,9,0),\"\")","v":""},{"$f":"IFERROR(VLOOKUP(D255,Cadastros!A:J,10,0),\"\")","v":""},{"$f":"IF(COUNTIF(Tabela66[id],D255)=0,\"\",COUNTIF(Tabela66[id],D255))","v":""},null,"",null,null,{"$f":"IFERROR(VLOOKUP(O255,Cadastros!A:B,2),\"\")","v":""},"",{"$f":"IFERROR(VLOOKUP(O255,Cadastros!A:E,5,0),\"\")","v":""},{"$f":"IFERROR(VLOOKUP(O255,Cadastros!A:F,6,0),\"\")","v":""},{"$f":"IFERROR(VLOOKUP(O255,Cadastros!A:I,9,0),\"\")","v":""},"","","",null,{"$f":"INDEX(Tabela.abordagens[],SMALL(IF(Tabela.abordagens[Mês]=$L$2,ROW(Tabela.abordagens[id])-2),ROW(A208)),1)","v":{"$error":"#NUM!"}},{"$f":"INDEX(Tabela.abordagens[],SMALL(IF(Tabela.abordagens[Mês]=$L$2,ROW(Tabela.abordagens[Idade])-2),ROW(A208)),6)","v":{"$error":"#NUM!"}},{"$f":"INDEX(Tabela.abordagens[],SMALL(IF(Tabela.abordagens[Mês]=$L$2,ROW(Tabela.abordagens[Idade])-2),ROW(A208)),4)","v":{"$error":"#NUM!"}},{"$f":"INDEX(Tabela.abordagens[],SMALL(IF(Tabela.abordagens[Mês]=$L$2,ROW(Tabela.abordagens[Idade])-2),ROW(A208)),5)","v":{"$error":"#NUM!"}}]
[null,{"$f":"INDEX(Tabela.frequencia[],SMALL(IF(Tabela.frequencia[Mês]=$L$2,ROW(Tabela.frequencia[id])-1),ROW(A209)),1)","v":{"$error":"#NUM!"}},{"$f":"INDEX(Tabela.frequencia[],SMALL(IF(Tabela.frequencia[Mês]=$L$2,ROW(Tabela.frequencia[id])-1),ROW(A209)),4)","v":{"$error":"#NUM!"}},null,{"$f":"IFERROR(VLOOKUP(D256,Tabela.cadastro[[ID]:[Nome]],2,0),\"\")","v":""},{"$f":"IFERROR(VLOOKUP(D256,Tabela66[#All],2,0),\"\")","v":""},{"$f":"IFERROR(VLOOKUP(D256,Tabela.cadastro[[ID]:[CP ou M]],5,0),\"\")","v":""},{"$f":"IFERROR(VLOOKUP(D256,Cadastros!A:F,6,0),\"\")","v":""},{"$f":"IFERROR(VLOOKUP(D256,Cadastros!A:I,9,0),\"\")","v":""},{"$f":"IFERROR(VLOOKUP(D256,Cadastros!A:J,10,0),\"\")","v":""},{"$f":"IF(COUNTIF(Tabela66[id],D256)=0,\"\",COUNTIF(Tabela66[id],D256))","v":""},null,"",null,null,{"$f":"IFERROR(VLOOKUP(O256,Cadastros!A:B,2),\"\")","v":""},"",{"$f":"IFERROR(VLOOKUP(O256,Cadastros!A:E,5,0),\"\")","v":""},{"$f":"IFERROR(VLOOKUP(O256,Cadastros!A:F,6,0),\"\")","v":""},{"$f":"IFERROR(VLOOKUP(O256,Cadastros!A:I,9,0),\"\")","v":""},"","","",null,{"$f":"INDEX(Tabela.abordagens[],SMALL(IF(Tabela.abordagens[Mês]=$L$2,ROW(Tabela.abordagens[id])-2),ROW(A209)),1)","v":{"$error":"#NUM!"}},{"$f":"INDEX(Tabela.abordagens[],SMALL(IF(Tabela.abordagens[Mês]=$L$2,ROW(Tabela.abordagens[Idade])-2),ROW(A209)),6)","v":{"$error":"#NUM!"}},{"$f":"INDEX(Tabela.abordagens[],SMALL(IF(Tabela.abordagens[Mês]=$L$2,ROW(Tabela.abordagens[Idade])-2),ROW(A209)),4)","v":{"$error":"#NUM!"}},{"$f":"INDEX(Tabela.abordagens[],SMALL(IF(Tabela.abordagens[Mês]=$L$2,ROW(Tabela.abordagens[Idade])-2),ROW(A209)),5)","v":{"$error":"#NUM!"}}]
[null,{"$f":"INDEX(Tabela.frequencia[],SMALL(IF(Tabela.frequencia[Mês]=$L$2,ROW(Tabela.frequencia[id])-1),ROW(A210)),1)","v":{"$error":"#NUM!"}},{"$f":"INDEX(Tabela.frequencia[],SMALL(IF(Tabela.frequencia[Mês]=$L$2,ROW(Tabela.frequencia[id])-1),ROW(A210)),4)","v":{"$error":"#NUM!"}},null,{"$f":"IFERROR(VLOOKUP(D257,Tabela.cadastro[[ID]:[Nome]],2,0),\"\")","v":""},{"$f":"IFERROR(VLOOKUP(D257,Tabela66[#All],2,0),\"\")","v":""},{"$f":"IFERROR(VLOOKUP(D257,Tabela.cadastro[[ID]:[CP ou M]],5,0),\"\")","v":""},{"$f":"IFERROR(VLOOKUP(D257,Cadastros!A:F,6,0),\"\")","v":""},{"$f":"IFERROR(VLOOKUP(D257,Cadastros!A:I,9,0),\"\")","v":""},{"$f":"IFERROR(VLOOKUP(D257,Cadastros!A:J,10,0),\"\")","v":""},{"$f":"IF(COUNTIF(Tabela66[id],D257)=0,\"\",COUNTIF(Tabela66[id],D257))","v":""},null,"",null,null,{"$f":"IFERROR(VLOOKUP(O257,Cadastros!A:B,2),\"\")","v":""},"",{"$f":"IFERROR(VLOOKUP(O257,Cadastros!A:E,5,0),\"\")","v":""},{"$f":"IFERROR(VLOOKUP(O257,Cadastros!A:F,6,0),\"\")","v":""},{"$f":"IFERROR(VLOOKUP(O257,Cadastros!A:I,9,0),\"\")","v":""},"","","",null,{"$f":"INDEX(Tabela.abordagens[],SMALL(IF(Tabela.abordagens[Mês]=$L$2,ROW(Tabela.abordagens[id])-2),ROW(A210)),1)","v":{"$error":"#NUM!"}},{"$f":"INDEX(Tabela.abordagens[],SMALL(IF(Tabela.abordagens[Mês]=$L$2,ROW(Tabela.abordagens[Idade])-2),ROW(A210)),6)","v":{"$error":"#NUM!"}},{"$f":"INDEX(Tabela.abordagens[],SMALL(IF(Tabela.abordagens[Mês]=$L$2,ROW(Tabela.abordagens[Idade])-2),ROW(A210)),4)","v":{"$error":"#NUM!"}},{"$f":"INDEX(Tabela.abordagens[],SMALL(IF(Tabela.abordagens[Mês]=$L$2,ROW(Tabela.abordagens[Idade])-2),ROW(A210)),5)","v":{"$error":"#NUM!"}}]
[null,{"$f":"INDEX(Tabela.frequencia[],SMALL(IF(Tabela.frequencia[Mês]=$L$2,ROW(Tabela.frequencia[id])-1),ROW(A211)),1)","v":{"$error":"#NUM!"}},{"$f":"INDEX(Tabela.frequencia[],SMALL(IF(Tabela.frequencia[Mês]=$L$2,ROW(Tabela.frequencia[id])-1),ROW(A211)),4)","v":{"$error":"#NUM!"}},null,{"$f":"IFERROR(VLOOKUP(D258,Tabela.cadastro[[ID]:[Nome]],2,0),\"\")","v":""},{"$f":"IFERROR(VLOOKUP(D258,Tabela66[#All],2,0),\"\")","v":""},{"$f":"IFERROR(VLOOKUP(D258,Tabela.cadastro[[ID]:[CP ou M]],5,0),\"\")","v":""},{"$f":"IFERROR(VLOOKUP(D258,Cadastros!A:F,6,0),\"\")","v":""},{"$f":"IFERROR(VLOOKUP(D258,Cadastros!A:I,9,0),\"\")","v":""},{"$f":"IFERROR(VLOOKUP(D258,Cadastros!A:J,10,0),\"\")","v":""},{"$f":"IF(COUNTIF(Tabela66[id],D258)=0,\"\",COUNTIF(Tabela66[id],D258))","v":""},null,"",null,null,{"$f":"IFERROR(VLOOKUP(O258,Cadastros!A:B,2),\"\")","v":""},"",{"$f":"IFERROR(VLOOKUP(O258,Cadastros!A:E,5,0),\"\")","v":""},{"$f":"IFERROR(VLOOKUP(O258,Cadastros!A:F,6,0),\"\")","v":""},{"$f":"IFERROR(VLOOKUP(O258,Cadastros!A:I,9,0),\"\")","v":""},"","","",null,{"$f":"INDEX(Tabela.abordagens[],SMALL(IF(Tabela.abordagens[Mês]=$L$2,ROW(Tabela.abordagens[id])-2),ROW(A211)),1)","v":{"$error":"#NUM!"}},{"$f":"INDEX(Tabela.abordagens[],SMALL(IF(Tabela.abordagens[Mês]=$L$2,ROW(Tabela.abordagens[Idade])-2),ROW(A211)),6)","v":{"$error":"#NUM!"}},{"$f":"INDEX(Tabela.abordagens[],SMALL(IF(Tabela.abordagens[Mês]=$L$2,ROW(Tabela.abordagens[Idade])-2),ROW(A211)),4)","v":{"$error":"#NUM!"}},{"$f":"INDEX(Tabela.abordagens[],SMALL(IF(Tabela.abordagens[Mês]=$L$2,ROW(Tabela.abordagens[Idade])-2),ROW(A211)),5)","v":{"$error":"#NUM!"}}]
[null,{"$f":"INDEX(Tabela.frequencia[],SMALL(IF(Tabela.frequencia[Mês]=$L$2,ROW(Tabela.frequencia[id])-1),ROW(A212)),1)","v":{"$error":"#NUM!"}},{"$f":"INDEX(Tabela.frequencia[],SMALL(IF(Tabela.frequencia[Mês]=$L$2,ROW(Tabela.frequencia[id])-1),ROW(A212)),4)","v":{"$error":"#NUM!"}},null,{"$f":"IFERROR(VLOOKUP(D259,Tabela.cadastro[[ID]:[Nome]],2,0),\"\")","v":""},{"$f":"IFERROR(VLOOKUP(D259,Tabela66[#All],2,0),\"\")","v":""},{"$f":"IFERROR(VLOOKUP(D259,Tabela.cadastro[[ID]:[CP ou M]],5,0),\"\")","v":""},{"$f":"IFERROR(VLOOKUP(D259,Cadastros!A:F,6,0),\"\")","v":""},{"$f":"IFERROR(VLOOKUP(D259,Cadastros!A:I,9,0),\"\")","v":""},{"$f":"IFERROR(VLOOKUP(D259,Cadastros!A:J,10,0),\"\")","v":""},{"$f":"IF(COUNTIF(Tabela66[id],D259)=0,\"\",COUNTIF(Tabela66[id],D259))","v":""},null,"",null,null,{"$f":"IFERROR(VLOOKUP(O259,Cadastros!A:B,2),\"\")","v":""},"",{"$f":"IFERROR(VLOOKUP(O259,Cadastros!A:E,5,0),\"\")","v":""},{"$f":"IFERROR(VLOOKUP(O259,Cadastros!A:F,6,0),\"\")","v":""},{"$f":"IFERROR(VLOOKUP(O259,Cadastros!A:I,9,0),\"\")","v":""},"","","",null,{"$f":"INDEX(Tabela.abordagens[],SMALL(IF(Tabela.abordagens[Mês]=$L$2,ROW(Tabela.abordagens[id])-2),ROW(A212)),1)","v":{"$error":"#NUM!"}},{"$f":"INDEX(Tabela.abordagens[],SMALL(IF(Tabela.abordagens[Mês]=$L$2,ROW(Tabela.abordagens[Idade])-2),ROW(A212)),6)","v":{"$error":"#NUM!"}},{"$f":"INDEX(Tabela.abordagens[],SMALL(IF(Tabela.abordagens[Mês]=$L$2,ROW(Tabela.abordagens[Idade])-2),ROW(A212)),4)","v":{"$error":"#NUM!"}},{"$f":"INDEX(Tabela.abordagens[],SMALL(IF(Tabela.abordagens[Mês]=$L$2,ROW(Tabela.abordagens[Idade])-2),ROW(A212)),5)","v":{"$error":"#NUM!"}}]
[null,{"$f":"INDEX(Tabela.frequencia[],SMALL(IF(Tabela.frequencia[Mês]=$L$2,ROW(Tabela.frequencia[id])-1),ROW(A213)),1)","v":{"$error":"#NUM!"}},{"$f":"INDEX(Tabela.frequencia[],SMALL(IF(Tabela.frequencia[Mês]=$L$2,ROW(Tabela.frequencia[id])-1),ROW(A213)),4)","v":{"$error":"#NUM!"}},null,{"$f":"IFERROR(VLOOKUP(D260,Tabela.cadastro[[ID]:[Nome]],2,0),\"\")","v":""},{"$f":"IFERROR(VLOOKUP(D260,Tabela66[#All],2,0),\"\")","v":""},{"$f":"IFERROR(VLOOKUP(D260,Tabela.cadastro[[ID]:[CP ou M]],5,0),\"\")","v":""},{"$f":"IFERROR(VLOOKUP(D260,Cadastros!A:F,6,0),\"\")","v":""},{"$f":"IFERROR(VLOOKUP(D260,Cadastros!A:I,9,0),\"\")","v":""},{"$f":"IFERROR(VLOOKUP(D260,Cadastros!A:J,10,0),\"\")","v":""},{"$f":"IF(COUNTIF(Tabela66[id],D260)=0,\"\",COUNTIF(Tabela66[id],D260))","v":""},null,"",null,null,{"$f":"IFERROR(VLOOKUP(O260,Cadastros!A:B,2),\"\")","v":""},"",{"$f":"IFERROR(VLOOKUP(O260,Cadastros!A:E,5,0),\"\")","v":""},{"$f":"IFERROR(VLOOKUP(O260,Cadastros!A:F,6,0),\"\")","v":""},{"$f":"IFERROR(VLOOKUP(O260,Cadastros!A:I,9,0),\"\")","v":""},"","","",null,{"$f":"INDEX(Tabela.abordagens[],SMALL(IF(Tabela.abordagens[Mês]=$L$2,ROW(Tabela.abordagens[id])-2),ROW(A213)),1)","v":{"$error":"#NUM!"}},{"$f":"INDEX(Tabela.abordagens[],SMALL(IF(Tabela.abordagens[Mês]=$L$2,ROW(Tabela.abordagens[Idade])-2),ROW(A213)),6)","v":{"$error":"#NUM!"}},{"$f":"INDEX(Tabela.abordagens[],SMALL(IF(Tabela.abordagens[Mês]=$L$2,ROW(Tabela.abordagens[Idade])-2),ROW(A213)),4)","v":{"$error":"#NUM!"}},{"$f":"INDEX(Tabela.abordagens[],SMALL(IF(Tabela.abordagens[Mês]=$L$2,ROW(Tabela.abordagens[Idade])-2),ROW(A213)),5)","v":{"$error":"#NUM!"}}]
[null,{"$f":"INDEX(Tabela.frequencia[],SMALL(IF(Tabela.frequencia[Mês]=$L$2,ROW(Tabela.frequencia[id])-1),ROW(A214)),1)","v":{"$error":"#NUM!"}},{"$f":"INDEX(Tabela.frequencia[],SMALL(IF(Tabela.frequencia[Mês]=$L$2,ROW(Tabela.frequencia[id])-1),ROW(A214)),4)","v":{"$error":"#NUM!"}},null,{"$f":"IFERROR(VLOOKUP(D261,Tabela.cadastro[[ID]:[Nome]],2,0),\"\")","v":""},{"$f":"IFERROR(VLOOKUP(D261,Tabela66[#All],2,0),\"\")","v":""},{"$f":"IFERROR(VLOOKUP(D261,Tabela.cadastro[[ID]:[CP ou M]],5,0),\"\")","v":""},{"$f":"IFERROR(VLOOKUP(D261,Cadastros!A:F,6,0),\"\")","v":""},{"$f":"IFERROR(VLOOKUP(D261,Cadastros!A:I,9,0),\"\")","v":""},{"$f":"IFERROR(VLOOKUP(D261,Cadastros!A:J,10,0),\"\")","v":""},{"$f":"IF(COUNTIF(Tabela66[id],D261)=0,\"\",COUNTIF(Tabela66[id],D261))","v":""},null,"",null,null,{"$f":"IFERROR(VLOOKUP(O261,Cadastros!A:B,2),\"\")","v":""},"",{"$f":"IFERROR(VLOOKUP(O261,Cadastros!A:E,5,0),\"\")","v":""},{"$f":"IFERROR(VLOOKUP(O261,Cadastros!A:F,6,0),\"\")","v":""},{"$f":"IFERROR(VLOOKUP(O261,Cadastros!A:I,9,0),\"\")","v":""},"","","",null,{"$f":"INDEX(Tabela.abordagens[],SMALL(IF(Tabela.abordagens[Mês]=$L$2,ROW(Tabela.abordagens[id])-2),ROW(A214)),1)","v":{"$error":"#NUM!"}},{"$f":"INDEX(Tabela.abordagens[],SMALL(IF(Tabela.abordagens[Mês]=$L$2,ROW(Tabela.abordagens[Idade])-2),ROW(A214)),6)","v":{"$error":"#NUM!"}},{"$f":"INDEX(Tabela.abordagens[],SMALL(IF(Tabela.abordagens[Mês]=$L$2,ROW(Tabela.abordagens[Idade])-2),ROW(A214)),4)","v":{"$error":"#NUM!"}},{"$f":"INDEX(Tabela.abordagens[],SMALL(IF(Tabela.abordagens[Mês]=$L$2,ROW(Tabela.abordagens[Idade])-2),ROW(A214)),5)","v":{"$error":"#NUM!"}}]
[null,{"$f":"INDEX(Tabela.frequencia[],SMALL(IF(Tabela.frequencia[Mês]=$L$2,ROW(Tabela.frequencia[id])-1),ROW(A215)),1)","v":{"$error":"#NUM!"}},{"$f":"INDEX(Tabela.frequencia[],SMALL(IF(Tabela.frequencia[Mês]=$L$2,ROW(Tabela.frequencia[id])-1),ROW(A215)),4)","v":{"$error":"#NUM!"}},null,{"$f":"IFERROR(VLOOKUP(D262,Tabela.cadastro[[ID]:[Nome]],2,0),\"\")","v":""},{"$f":"IFERROR(VLOOKUP(D262,Tabela66[#All],2,0),\"\")","v":""},{"$f":"IFERROR(VLOOKUP(D262,Tabela.cadastro[[ID]:[CP ou M]],5,0),\"\")","v":""},{"$f":"IFERROR(VLOOKUP(D262,Cadastros!A:F,6,0),\"\")","v":""},{"$f":"IFERROR(VLOOKUP(D262,Cadastros!A:I,9,0),\"\")","v":""},{"$f":"IFERROR(VLOOKUP(D262,Cadastros!A:J,10,0),\"\")","v":""},{"$f":"IF(COUNTIF(Tabela66[id],D262)=0,\"\",COUNTIF(Tabela66[id],D262))","v":""},null,"",null,null,{"$f":"IFERROR(VLOOKUP(O262,Cadastros!A:B,2),\"\")","v":""},"",{"$f":"IFERROR(VLOOKUP(O262,Cadastros!A:E,5,0),\"\")","v":""},{"$f":"IFERROR(VLOOKUP(O262,Cadastros!A:F,6,0),\"\")","v":""},{"$f":"IFERROR(VLOOKUP(O262,Cadastros!A:I,9,0),\"\")","v":""},"","","",null,{"$f":"INDEX(Tabela.abordagens[],SMALL(IF(Tabela.abordagens[Mês]=$L$2,ROW(Tabela.abordagens[id])-2),ROW(A215)),1)","v":{"$error":"#NUM!"}},{"$f":"INDEX(Tabela.abordagens[],SMALL(IF(Tabela.abordagens[Mês]=$L$2,ROW(Tabela.abordagens[Idade])-2),ROW(A215)),6)","v":{"$error":"#NUM!"}},{"$f":"INDEX(Tabela.abordagens[],SMALL(IF(Tabela.abordagens[Mês]=$L$2,ROW(Tabela.abordagens[Idade])-2),ROW(A215)),4)","v":{"$error":"#NUM!"}},{"$f":"INDEX(Tabela.abordagens[],SMALL(IF(Tabela.abordagens[Mês]=$L$2,ROW(Tabela.abordagens[Idade])-2),ROW(A215)),5)","v":{"$error":"#NUM!"}}]
[null,{"$f":"INDEX(Tabela.frequencia[],SMALL(IF(Tabela.frequencia[Mês]=$L$2,ROW(Tabela.frequencia[id])-1),ROW(A216)),1)","v":{"$error":"#NUM!"}},{"$f":"INDEX(Tabela.frequencia[],SMALL(IF(Tabela.frequencia[Mês]=$L$2,ROW(Tabela.frequencia[id])-1),ROW(A216)),4)","v":{"$error":"#NUM!"}},null,{"$f":"IFERROR(VLOOKUP(D263,Tabela.cadastro[[ID]:[Nome]],2,0),\"\")","v":""},{"$f":"IFERROR(VLOOKUP(D263,Tabela66[#All],2,0),\"\")","v":""},{"$f":"IFERROR(VLOOKUP(D263,Tabela.cadastro[[ID]:[CP ou M]],5,0),\"\")","v":""},{"$f":"IFERROR(VLOOKUP(D263,Cadastros!A:F,6,0),\"\")","v":""},{"$f":"IFERROR(VLOOKUP(D263,Cadastros!A:I,9,0),\"\")","v":""},{"$f":"IFERROR(VLOOKUP(D263,Cadastros!A:J,10,0),\"\")","v":""},{"$f":"IF(COUNTIF(Tabela66[id],D263)=0,\"\",COUNTIF(Tabela66[id],D263))","v":""},null,"",null,null,{"$f":"IFERROR(VLOOKUP(O263,Cadastros!A:B,2),\"\")","v":""},"",{"$f":"IFERROR(VLOOKUP(O263,Cadastros!A:E,5,0),\"\")","v":""},{"$f":"IFERROR(VLOOKUP(O263,Cadastros!A:F,6,0),\"\")","v":""},{"$f":"IFERROR(VLOOKUP(O263,Cadastros!A:I,9,0),\"\")","v":""},"","","",null,{"$f":"INDEX(Tabela.abordagens[],SMALL(IF(Tabela.abordagens[Mês]=$L$2,ROW(Tabela.abordagens[id])-2),ROW(A216)),1)","v":{"$error":"#NUM!"}},{"$f":"INDEX(Tabela.abordagens[],SMALL(IF(Tabela.abordagens[Mês]=$L$2,ROW(Tabela.abordagens[Idade])-2),ROW(A216)),6)","v":{"$error":"#NUM!"}},{"$f":"INDEX(Tabela.abordagens[],SMALL(IF(Tabela.abordagens[Mês]=$L$2,ROW(Tabela.abordagens[Idade])-2),ROW(A216)),4)","v":{"$error":"#NUM!"}},{"$f":"INDEX(Tabela.abordagens[],SMALL(IF(Tabela.abordagens[Mês]=$L$2,ROW(Tabela.abordagens[Idade])-2),ROW(A216)),5)","v":{"$error":"#NUM!"}}]
[null,{"$f":"INDEX(Tabela.frequencia[],SMALL(IF(Tabela.frequencia[Mês]=$L$2,ROW(Tabela.frequencia[id])-1),ROW(A217)),1)","v":{"$error":"#NUM!"}},{"$f":"INDEX(Tabela.frequencia[],SMALL(IF(Tabela.frequencia[Mês]=$L$2,ROW(Tabela.frequencia[id])-1),ROW(A217)),4)","v":{"$error":"#NUM!"}},null,{"$f":"IFERROR(VLOOKUP(D264,Tabela.cadastro[[ID]:[Nome]],2,0),\"\")","v":""},{"$f":"IFERROR(VLOOKUP(D264,Tabela66[#All],2,0),\"\")","v":""},{"$f":"IFERROR(VLOOKUP(D264,Tabela.cadastro[[ID]:[CP ou M]],5,0),\"\")","v":""},{"$f":"IFERROR(VLOOKUP(D264,Cadastros!A:F,6,0),\"\")","v":""},{"$f":"IFERROR(VLOOKUP(D264,Cadastros!A:I,9,0),\"\")","v":""},{"$f":"IFERROR(VLOOKUP(D264,Cadastros!A:J,10,0),\"\")","v":""},{"$f":"IF(COUNTIF(Tabela66[id],D264)=0,\"\",COUNTIF(Tabela66[id],D264))","v":""},null,"",null,null,{"$f":"IFERROR(VLOOKUP(O264,Cadastros!A:B,2),\"\")","v":""},"",{"$f":"IFERROR(VLOOKUP(O264,Cadastros!A:E,5,0),\"\")","v":""},{"$f":"IFERROR(VLOOKUP(O264,Cadastros!A:F,6,0),\"\")","v":""},{"$f":"IFERROR(VLOOKUP(O264,Cadastros!A:I,9,0),\"\")","v":""},"","","",null,{"$f":"INDEX(Tabela.abordagens[],SMALL(IF(Tabela.abordagens[Mês]=$L$2,ROW(Tabela.abordagens[id])-2),ROW(A217)),1)","v":{"$error":"#NUM!"}},{"$f":"INDEX(Tabela.abordagens[],SMALL(IF(Tabela.abordagens[Mês]=$L$2,ROW(Tabela.abordagens[Idade])-2),ROW(A217)),6)","v":{"$error":"#NUM!"}},{"$f":"INDEX(Tabela.abordagens[],SMALL(IF(Tabela.abordagens[Mês]=$L$2,ROW(Tabela.abordagens[Idade])-2),ROW(A217)),4)","v":{"$error":"#NUM!"}},{"$f":"INDEX(Tabela.abordagens[],SMALL(IF(Tabela.abordagens[Mês]=$L$2,ROW(Tabela.abordagens[Idade])-2),ROW(A217)),5)","v":{"$error":"#NUM!"}}]
[null,{"$f":"INDEX(Tabela.frequencia[],SMALL(IF(Tabela.frequencia[Mês]=$L$2,ROW(Tabela.frequencia[id])-1),ROW(A218)),1)","v":{"$error":"#NUM!"}},{"$f":"INDEX(Tabela.frequencia[],SMALL(IF(Tabela.frequencia[Mês]=$L$2,ROW(Tabela.frequencia[id])-1),ROW(A218)),4)","v":{"$error":"#NUM!"}},null,{"$f":"IFERROR(VLOOKUP(D265,Tabela.cadastro[[ID]:[Nome]],2,0),\"\")","v":""},{"$f":"IFERROR(VLOOKUP(D265,Tabela66[#All],2,0),\"\")","v":""},{"$f":"IFERROR(VLOOKUP(D265,Tabela.cadastro[[ID]:[CP ou M]],5,0),\"\")","v":""},{"$f":"IFERROR(VLOOKUP(D265,Cadastros!A:F,6,0),\"\")","v":""},{"$f":"IFERROR(VLOOKUP(D265,Cadastros!A:I,9,0),\"\")","v":""},{"$f":"IFERROR(VLOOKUP(D265,Cadastros!A:J,10,0),\"\")","v":""},{"$f":"IF(COUNTIF(Tabela66[id],D265)=0,\"\",COUNTIF(Tabela66[id],D265))","v":""},null,"",null,null,{"$f":"IFERROR(VLOOKUP(O265,Cadastros!A:B,2),\"\")","v":""},"",{"$f":"IFERROR(VLOOKUP(O265,Cadastros!A:E,5,0),\"\")","v":""},{"$f":"IFERROR(VLOOKUP(O265,Cadastros!A:F,6,0),\"\")","v":""},{"$f":"IFERROR(VLOOKUP(O265,Cadastros!A:I,9,0),\"\")","v":""},"","","",null,{"$f":"INDEX(Tabela.abordagens[],SMALL(IF(Tabela.abordagens[Mês]=$L$2,ROW(Tabela.abordagens[id])-2),ROW(A218)),1)","v":{"$error":"#NUM!"}},{"$f":"INDEX(Tabela.abordagens[],SMALL(IF(Tabela.abordagens[Mês]=$L$2,ROW(Tabela.abordagens[Idade])-2),ROW(A218)),6)","v":{"$error":"#NUM!"}},{"$f":"INDEX(Tabela.abordagens[],SMALL(IF(Tabela.abordagens[Mês]=$L$2,ROW(Tabela.abordagens[Idade])-2),ROW(A218)),4)","v":{"$error":"#NUM!"}},{"$f":"INDEX(Tabela.abordagens[],SMALL(IF(Tabela.abordagens[Mês]=$L$2,ROW(Tabela.abordagens[Idade])-2),ROW(A218)),5)","v":{"$error":"#NUM!"}}]
[null,{"$f":"INDEX(Tabela.frequencia[],SMALL(IF(Tabela.frequencia[Mês]=$L$2,ROW(Tabela.frequencia[id])-1),ROW(A219)),1)","v":{"$error":"#NUM!"}},{"$f":"INDEX(Tabela.frequencia[],SMALL(IF(Tabela.frequencia[Mês]=$L$2,ROW(Tabela.frequencia[id])-1),ROW(A219)),4)","v":{"$error":"#NUM!"}},null,{"$f":"IFERROR(VLOOKUP(D266,Tabela.cadastro[[ID]:[Nome]],2,0),\"\")","v":""},{"$f":"IFERROR(VLOOKUP(D266,Tabela66[#All],2,0),\"\")","v":""},{"$f":"IFERROR(VLOOKUP(D266,Tabela.cadastro[[ID]:[CP ou M]],5,0),\"\")","v":""},{"$f":"IFERROR(VLOOKUP(D266,Cadastros!A:F,6,0),\"\")","v":""},{"$f":"IFERROR(VLOOKUP(D266,Cadastros!A:I,9,0),\"\")","v":""},{"$f":"IFERROR(VLOOKUP(D266,Cadastros!A:J,10,0),\"\")","v":""},{"$f":"IF(COUNTIF(Tabela66[id],D266)=0,\"\",COUNTIF(Tabela66[id],D266))","v":""},null,"",null,null,{"$f":"IFERROR(VLOOKUP(O266,Cadastros!A:B,2),\"\")","v":""},"",{"$f":"IFERROR(VLOOKUP(O266,Cadastros!A:E,5,0),\"\")","v":""},{"$f":"IFERROR(VLOOKUP(O266,Cadastros!A:F,6,0),\"\")","v":""},{"$f":"IFERROR(VLOOKUP(O266,Cadastros!A:I,9,0),\"\")","v":""},"","","",null,{"$f":"INDEX(Tabela.abordagens[],SMALL(IF(Tabela.abordagens[Mês]=$L$2,ROW(Tabela.abordagens[id])-2),ROW(A219)),1)","v":{"$error":"#NUM!"}},{"$f":"INDEX(Tabela.abordagens[],SMALL(IF(Tabela.abordagens[Mês]=$L$2,ROW(Tabela.abordagens[Idade])-2),ROW(A219)),6)","v":{"$error":"#NUM!"}},{"$f":"INDEX(Tabela.abordagens[],SMALL(IF(Tabela.abordagens[Mês]=$L$2,ROW(Tabela.abordagens[Idade])-2),ROW(A219)),4)","v":{"$error":"#NUM!"}},{"$f":"INDEX(Tabela.abordagens[],SMALL(IF(Tabela.abordagens[Mês]=$L$2,ROW(Tabela.abordagens[Idade])-2),ROW(A219)),5)","v":{"$error":"#NUM!"}}]
[null,{"$f":"INDEX(Tabela.frequencia[],SMALL(IF(Tabela.frequencia[Mês]=$L$2,ROW(Tabela.frequencia[id])-1),ROW(A220)),1)","v":{"$error":"#NUM!"}},{"$f":"INDEX(Tabela.frequencia[],SMALL(IF(Tabela.frequencia[Mês]=$L$2,ROW(Tabela.frequencia[id])-1),ROW(A220)),4)","v":{"$error":"#NUM!"}},null,{"$f":"IFERROR(VLOOKUP(D267,Tabela.cadastro[[ID]:[Nome]],2,0),\"\")","v":""},{"$f":"IFERROR(VLOOKUP(D267,Tabela66[#All],2,0),\"\")","v":""},{"$f":"IFERROR(VLOOKUP(D267,Tabela.cadastro[[ID]:[CP ou M]],5,0),\"\")","v":""},{"$f":"IFERROR(VLOOKUP(D267,Cadastros!A:F,6,0),\"\")","v":""},{"$f":"IFERROR(VLOOKUP(D267,Cadastros!A:I,9,0),\"\")","v":""},{"$f":"IFERROR(VLOOKUP(D267,Cadastros!A:J,10,0),\"\")","v":""},{"$f":"IF(COUNTIF(Tabela66[id],D267)=0,\"\",COUNTIF(Tabela66[id],D267))","v":""},null,"",null,null,{"$f":"IFERROR(VLOOKUP(O267,Cadastros!A:B,2),\"\")","v":""},"",{"$f":"IFERROR(VLOOKUP(O267,Cadastros!A:E,5,0),\"\")","v":""},{"$f":"IFERROR(VLOOKUP(O267,Cadastros!A:F,6,0),\"\")","v":""},{"$f":"IFERROR(VLOOKUP(O267,Cadastros!A:I,9,0),\"\")","v":""},"","","",null,{"$f":"INDEX(Tabela.abordagens[],SMALL(IF(Tabela.abordagens[Mês]=$L$2,ROW(Tabela.abordagens[id])-2),ROW(A220)),1)","v":{"$error":"#NUM!"}},{"$f":"INDEX(Tabela.abordagens[],SMALL(IF(Tabela.abordagens[Mês]=$L$2,ROW(Tabela.abordagens[Idade])-2),ROW(A220)),6)","v":{"$error":"#NUM!"}},{"$f":"INDEX(Tabela.abordagens[],SMALL(IF(Tabela.abordagens[Mês]=$L$2,ROW(Tabela.abordagens[Idade])-2),ROW(A220)),4)","v":{"$error":"#NUM!"}},{"$f":"INDEX(Tabela.abordagens[],SMALL(IF(Tabela.abordagens[Mês]=$L$2,ROW(Tabela.abordagens[Idade])-2),ROW(A220)),5)","v":{"$error":"#NUM!"}}]
[null,{"$f":"INDEX(Tabela.frequencia[],SMALL(IF(Tabela.frequencia[Mês]=$L$2,ROW(Tabela.frequencia[id])-1),ROW(A221)),1)","v":{"$error":"#NUM!"}},{"$f":"INDEX(Tabela.frequencia[],SMALL(IF(Tabela.frequencia[Mês]=$L$2,ROW(Tabela.frequencia[id])-1),ROW(A221)),4)","v":{"$error":"#NUM!"}},null,{"$f":"IFERROR(VLOOKUP(D268,Tabela.cadastro[[ID]:[Nome]],2,0),\"\")","v":""},{"$f":"IFERROR(VLOOKUP(D268,Tabela66[#All],2,0),\"\")","v":""},{"$f":"IFERROR(VLOOKUP(D268,Tabela.cadastro[[ID]:[CP ou M]],5,0),\"\")","v":""},{"$f":"IFERROR(VLOOKUP(D268,Cadastros!A:F,6,0),\"\")","v":""},{"$f":"IFERROR(VLOOKUP(D268,Cadastros!A:I,9,0),\"\")","v":""},{"$f":"IFERROR(VLOOKUP(D268,Cadastros!A:J,10,0),\"\")","v":""},{"$f":"IF(COUNTIF(Tabela66[id],D268)=0,\"\",COUNTIF(Tabela66[id],D268))","v":""},null,"",null,null,{"$f":"IFERROR(VLOOKUP(O268,Cadastros!A:B,2),\"\")","v":""},"",{"$f":"IFERROR(VLOOKUP(O268,Cadastros!A:E,5,0),\"\")","v":""},{"$f":"IFERROR(VLOOKUP(O268,Cadastros!A:F,6,0),\"\")","v":""},{"$f":"IFERROR(VLOOKUP(O268,Cadastros!A:I,9,0),\"\")","v":""},"","","",null,{"$f":"INDEX(Tabela.abordagens[],SMALL(IF(Tabela.abordagens[Mês]=$L$2,ROW(Tabela.abordagens[id])-2),ROW(A221)),1)","v":{"$error":"#NUM!"}},{"$f":"INDEX(Tabela.abordagens[],SMALL(IF(Tabela.abordagens[Mês]=$L$2,ROW(Tabela.abordagens[Idade])-2),ROW(A221)),6)","v":{"$error":"#NUM!"}},{"$f":"INDEX(Tabela.abordagens[],SMALL(IF(Tabela.abordagens[Mês]=$L$2,ROW(Tabela.abordagens[Idade])-2),ROW(A221)),4)","v":{"$error":"#NUM!"}},{"$f":"INDEX(Tabela.abordagens[],SMALL(IF(Tabela.abordagens[Mês]=$L$2,ROW(Tabela.abordagens[Idade])-2),ROW(A221)),5)","v":{"$error":"#NUM!"}}]
[null,{"$f":"INDEX(Tabela.frequencia[],SMALL(IF(Tabela.frequencia[Mês]=$L$2,ROW(Tabela.frequencia[id])-1),ROW(A222)),1)","v":{"$error":"#NUM!"}},{"$f":"INDEX(Tabela.frequencia[],SMALL(IF(Tabela.frequencia[Mês]=$L$2,ROW(Tabela.frequencia[id])-1),ROW(A222)),4)","v":{"$error":"#NUM!"}},null,{"$f":"IFERROR(VLOOKUP(D269,Tabela.cadastro[[ID]:[Nome]],2,0),\"\")","v":""},{"$f":"IFERROR(VLOOKUP(D269,Tabela66[#All],2,0),\"\")","v":""},{"$f":"IFERROR(VLOOKUP(D269,Tabela.cadastro[[ID]:[CP ou M]],5,0),\"\")","v":""},{"$f":"IFERROR(VLOOKUP(D269,Cadastros!A:F,6,0),\"\")","v":""},{"$f":"IFERROR(VLOOKUP(D269,Cadastros!A:I,9,0),\"\")","v":""},{"$f":"IFERROR(VLOOKUP(D269,Cadastros!A:J,10,0),\"\")","v":""},{"$f":"IF(COUNTIF(Tabela66[id],D269)=0,\"\",COUNTIF(Tabela66[id],D269))","v":""},null,"",null,null,{"$f":"IFERROR(VLOOKUP(O269,Cadastros!A:B,2),\"\")","v":""},"",{"$f":"IFERROR(VLOOKUP(O269,Cadastros!A:E,5,0),\"\")","v":""},{"$f":"IFERROR(VLOOKUP(O269,Cadastros!A:F,6,0),\"\")","v":""},{"$f":"IFERROR(VLOOKUP(O269,Cadastros!A:I,9,0),\"\")","v":""},"","","",null,{"$f":"INDEX(Tabela.abordagens[],SMALL(IF(Tabela.abordagens[Mês]=$L$2,ROW(Tabela.abordagens[id])-2),ROW(A222)),1)","v":{"$error":"#NUM!"}},{"$f":"INDEX(Tabela.abordagens[],SMALL(IF(Tabela.abordagens[Mês]=$L$2,ROW(Tabela.abordagens[Idade])-2),ROW(A222)),6)","v":{"$error":"#NUM!"}},{"$f":"INDEX(Tabela.abordagens[],SMALL(IF(Tabela.abordagens[Mês]=$L$2,ROW(Tabela.abordagens[Idade])-2),ROW(A222)),4)","v":{"$error":"#NUM!"}},{"$f":"INDEX(Tabela.abordagens[],SMALL(IF(Tabela.abordagens[Mês]=$L$2,ROW(Tabela.abordagens[Idade])-2),ROW(A222)),5)","v":{"$error":"#NUM!"}}]
[null,{"$f":"INDEX(Tabela.frequencia[],SMALL(IF(Tabela.frequencia[Mês]=$L$2,ROW(Tabela.frequencia[id])-1),ROW(A223)),1)","v":{"$error":"#NUM!"}},{"$f":"INDEX(Tabela.frequencia[],SMALL(IF(Tabela.frequencia[Mês]=$L$2,ROW(Tabela.frequencia[id])-1),ROW(A223)),4)","v":{"$error":"#NUM!"}},null,{"$f":"IFERROR(VLOOKUP(D270,Tabela.cadastro[[ID]:[Nome]],2,0),\"\")","v":""},{"$f":"IFERROR(VLOOKUP(D270,Tabela66[#All],2,0),\"\")","v":""},{"$f":"IFERROR(VLOOKUP(D270,Tabela.cadastro[[ID]:[CP ou M]],5,0),\"\")","v":""},{"$f":"IFERROR(VLOOKUP(D270,Cadastros!A:F,6,0),\"\")","v":""},{"$f":"IFERROR(VLOOKUP(D270,Cadastros!A:I,9,0),\"\")","v":""},{"$f":"IFERROR(VLOOKUP(D270,Cadastros!A:J,10,0),\"\")","v":""},{"$f":"IF(COUNTIF(Tabela66[id],D270)=0,\"\",COUNTIF(Tabela66[id],D270))","v":""},null,"",null,null,{"$f":"IFERROR(VLOOKUP(O270,Cadastros!A:B,2),\"\")","v":""},"",{"$f":"IFERROR(VLOOKUP(O270,Cadastros!A:E,5,0),\"\")","v":""},{"$f":"IFERROR(VLOOKUP(O270,Cadastros!A:F,6,0),\"\")","v":""},{"$f":"IFERROR(VLOOKUP(O270,Cadastros!A:I,9,0),\"\")","v":""},"","","",null,{"$f":"INDEX(Tabela.abordagens[],SMALL(IF(Tabela.abordagens[Mês]=$L$2,ROW(Tabela.abordagens[id])-2),ROW(A223)),1)","v":{"$error":"#NUM!"}},{"$f":"INDEX(Tabela.abordagens[],SMALL(IF(Tabela.abordagens[Mês]=$L$2,ROW(Tabela.abordagens[Idade])-2),ROW(A223)),6)","v":{"$error":"#NUM!"}},{"$f":"INDEX(Tabela.abordagens[],SMALL(IF(Tabela.abordagens[Mês]=$L$2,ROW(Tabela.abordagens[Idade])-2),ROW(A223)),4)","v":{"$error":"#NUM!"}},{"$f":"INDEX(Tabela.abordagens[],SMALL(IF(Tabela.abordagens[Mês]=$L$2,ROW(Tabela.abordagens[Idade])-2),ROW(A223)),5)","v":{"$error":"#NUM!"}}]
[null,{"$f":"INDEX(Tabela.frequencia[],SMALL(IF(Tabela.frequencia[Mês]=$L$2,ROW(Tabela.frequencia[id])-1),ROW(A224)),1)","v":{"$error":"#NUM!"}},{"$f":"INDEX(Tabela.frequencia[],SMALL(IF(Tabela.frequencia[Mês]=$L$2,ROW(Tabela.frequencia[id])-1),ROW(A224)),4)","v":{"$error":"#NUM!"}},null,{"$f":"IFERROR(VLOOKUP(D271,Tabela.cadastro[[ID]:[Nome]],2,0),\"\")","v":""},{"$f":"IFERROR(VLOOKUP(D271,Tabela66[#All],2,0),\"\")","v":""},{"$f":"IFERROR(VLOOKUP(D271,Tabela.cadastro[[ID]:[CP ou M]],5,0),\"\")","v":""},{"$f":"IFERROR(VLOOKUP(D271,Cadastros!A:F,6,0),\"\")","v":""},{"$f":"IFERROR(VLOOKUP(D271,Cadastros!A:I,9,0),\"\")","v":""},{"$f":"IFERROR(VLOOKUP(D271,Cadastros!A:J,10,0),\"\")","v":""},{"$f":"IF(COUNTIF(Tabela66[id],D271)=0,\"\",COUNTIF(Tabela66[id],D271))","v":""},null,"",null,null,{"$f":"IFERROR(VLOOKUP(O271,Cadastros!A:B,2),\"\")","v":""},"",{"$f":"IFERROR(VLOOKUP(O271,Cadastros!A:E,5,0),\"\")","v":""},{"$f":"IFERROR(VLOOKUP(O271,Cadastros!A:F,6,0),\"\")","v":""},{"$f":"IFERROR(VLOOKUP(O271,Cadastros!A:I,9,0),\"\")","v":""},"","","",null,{"$f":"INDEX(Tabela.abordagens[],SMALL(IF(Tabela.abordagens[Mês]=$L$2,ROW(Tabela.abordagens[id])-2),ROW(A224)),1)","v":{"$error":"#NUM!"}},{"$f":"INDEX(Tabela.abordagens[],SMALL(IF(Tabela.abordagens[Mês]=$L$2,ROW(Tabela.abordagens[Idade])-2),ROW(A224)),6)","v":{"$error":"#NUM!"}},{"$f":"INDEX(Tabela.abordagens[],SMALL(IF(Tabela.abordagens[Mês]=$L$2,ROW(Tabela.abordagens[Idade])-2),ROW(A224)),4)","v":{"$error":"#NUM!"}},{"$f":"INDEX(Tabela.abordagens[],SMALL(IF(Tabela.abordagens[Mês]=$L$2,ROW(Tabela.abordagens[Idade])-2),ROW(A224)),5)","v":{"$error":"#NUM!"}}]
[null,{"$f":"INDEX(Tabela.frequencia[],SMALL(IF(Tabela.frequencia[Mês]=$L$2,ROW(Tabela.frequencia[id])-1),ROW(A225)),1)","v":{"$error":"#NUM!"}},{"$f":"INDEX(Tabela.frequencia[],SMALL(IF(Tabela.frequencia[Mês]=$L$2,ROW(Tabela.frequencia[id])-1),ROW(A225)),4)","v":{"$error":"#NUM!"}},null,{"$f":"IFERROR(VLOOKUP(D272,Tabela.cadastro[[ID]:[Nome]],2,0),\"\")","v":""},{"$f":"IFERROR(VLOOKUP(D272,Tabela66[#All],2,0),\"\")","v":""},{"$f":"IFERROR(VLOOKUP(D272,Tabela.cadastro[[ID]:[CP ou M]],5,0),\"\")","v":""},{"$f":"IFERROR(VLOOKUP(D272,Cadastros!A:F,6,0),\"\")","v":""},{"$f":"IFERROR(VLOOKUP(D272,Cadastros!A:I,9,0),\"\")","v":""},{"$f":"IFERROR(VLOOKUP(D272,Cadastros!A:J,10,0),\"\")","v":""},{"$f":"IF(COUNTIF(Tabela66[id],D272)=0,\"\",COUNTIF(Tabela66[id],D272))","v":""},null,"",null,null,{"$f":"IFERROR(VLOOKUP(O272,Cadastros!A:B,2),\"\")","v":""},"",{"$f":"IFERROR(VLOOKUP(O272,Cadastros!A:E,5,0),\"\")","v":""},{"$f":"IFERROR(VLOOKUP(O272,Cadastros!A:F,6,0),\"\")","v":""},{"$f":"IFERROR(VLOOKUP(O272,Cadastros!A:I,9,0),\"\")","v":""},"","","",null,{"$f":"INDEX(Tabela.abordagens[],SMALL(IF(Tabela.abordagens[Mês]=$L$2,ROW(Tabela.abordagens[id])-2),ROW(A225)),1)","v":{"$error":"#NUM!"}},{"$f":"INDEX(Tabela.abordagens[],SMALL(IF(Tabela.abordagens[Mês]=$L$2,ROW(Tabela.abordagens[Idade])-2),ROW(A225)),6)","v":{"$error":"#NUM!"}},{"$f":"INDEX(Tabela.abordagens[],SMALL(IF(Tabela.abordagens[Mês]=$L$2,ROW(Tabela.abordagens[Idade])-2),ROW(A225)),4)","v":{"$error":"#NUM!"}},{"$f":"INDEX(Tabela.abordagens[],SMALL(IF(Tabela.abordagens[Mês]=$L$2,ROW(Tabela.abordagens[Idade])-2),ROW(A225)),5)","v":{"$error":"#NUM!"}}]
[null,{"$f":"INDEX(Tabela.frequencia[],SMALL(IF(Tabela.frequencia[Mês]=$L$2,ROW(Tabela.frequencia[id])-1),ROW(A226)),1)","v":{"$error":"#NUM!"}},{"$f":"INDEX(Tabela.frequencia[],SMALL(IF(Tabela.frequencia[Mês]=$L$2,ROW(Tabela.frequencia[id])-1),ROW(A226)),4)","v":{"$error":"#NUM!"}},null,{"$f":"IFERROR(VLOOKUP(D273,Tabela.cadastro[[ID]:[Nome]],2,0),\"\")","v":""},{"$f":"IFERROR(VLOOKUP(D273,Tabela66[#All],2,0),\"\")","v":""},{"$f":"IFERROR(VLOOKUP(D273,Tabela.cadastro[[ID]:[CP ou M]],5,0),\"\")","v":""},{"$f":"IFERROR(VLOOKUP(D273,Cadastros!A:F,6,0),\"\")","v":""},{"$f":"IFERROR(VLOOKUP(D273,Cadastros!A:I,9,0),\"\")","v":""},{"$f":"IFERROR(VLOOKUP(D273,Cadastros!A:J,10,0),\"\")","v":""},{"$f":"IF(COUNTIF(Tabela66[id],D273)=0,\"\",COUNTIF(Tabela66[id],D273))","v":""},null,"",null,null,{"$f":"IFERROR(VLOOKUP(O273,Cadastros!A:B,2),\"\")","v":""},"",{"$f":"IFERROR(VLOOKUP(O273,Cadastros!A:E,5,0),\"\")","v":""},{"$f":"IFERROR(VLOOKUP(O273,Cadastros!A:F,6,0),\"\")","v":""},{"$f":"IFERROR(VLOOKUP(O273,Cadastros!A:I,9,0),\"\")","v":""},"","","",null,{"$f":"INDEX(Tabela.abordagens[],SMALL(IF(Tabela.abordagens[Mês]=$L$2,ROW(Tabela.abordagens[id])-2),ROW(A226)),1)","v":{"$error":"#NUM!"}},{"$f":"INDEX(Tabela.abordagens[],SMALL(IF(Tabela.abordagens[Mês]=$L$2,ROW(Tabela.abordagens[Idade])-2),ROW(A226)),6)","v":{"$error":"#NUM!"}},{"$f":"INDEX(Tabela.abordagens[],SMALL(IF(Tabela.abordagens[Mês]=$L$2,ROW(Tabela.abordagens[Idade])-2),ROW(A226)),4)","v":{"$error":"#NUM!"}},{"$f":"INDEX(Tabela.abordagens[],SMALL(IF(Tabela.abordagens[Mês]=$L$2,ROW(Tabela.abordagens[Idade])-2),ROW(A226)),5)","v":{"$error":"#NUM!"}}]
[null,{"$f":"INDEX(Tabela.frequencia[],SMALL(IF(Tabela.frequencia[Mês]=$L$2,ROW(Tabela.frequencia[id])-1),ROW(A227)),1)","v":{"$error":"#NUM!"}},{"$f":"INDEX(Tabela.frequencia[],SMALL(IF(Tabela.frequencia[Mês]=$L$2,ROW(Tabela.frequencia[id])-1),ROW(A227)),4)","v":{"$error":"#NUM!"}},null,{"$f":"IFERROR(VLOOKUP(D274,Tabela.cadastro[[ID]:[Nome]],2,0),\"\")","v":""},{"$f":"IFERROR(VLOOKUP(D274,Tabela66[#All],2,0),\"\")","v":""},{"$f":"IFERROR(VLOOKUP(D274,Tabela.cadastro[[ID]:[CP ou M]],5,0),\"\")","v":""},{"$f":"IFERROR(VLOOKUP(D274,Cadastros!A:F,6,0),\"\")","v":""},{"$f":"IFERROR(VLOOKUP(D274,Cadastros!A:I,9,0),\"\")","v":""},{"$f":"IFERROR(VLOOKUP(D274,Cadastros!A:J,10,0),\"\")","v":""},{"$f":"IF(COUNTIF(Tabela66[id],D274)=0,\"\",COUNTIF(Tabela66[id],D274))","v":""},null,"",null,null,{"$f":"IFERROR(VLOOKUP(O274,Cadastros!A:B,2),\"\")","v":""},"",{"$f":"IFERROR(VLOOKUP(O274,Cadastros!A:E,5,0),\"\")","v":""},{"$f":"IFERROR(VLOOKUP(O274,Cadastros!A:F,6,0),\"\")","v":""},{"$f":"IFERROR(VLOOKUP(O274,Cadastros!A:I,9,0),\"\")","v":""},"","","",null,{"$f":"INDEX(Tabela.abordagens[],SMALL(IF(Tabela.abordagens[Mês]=$L$2,ROW(Tabela.abordagens[id])-2),ROW(A227)),1)","v":{"$error":"#NUM!"}},{"$f":"INDEX(Tabela.abordagens[],SMALL(IF(Tabela.abordagens[Mês]=$L$2,ROW(Tabela.abordagens[Idade])-2),ROW(A227)),6)","v":{"$error":"#NUM!"}},{"$f":"INDEX(Tabela.abordagens[],SMALL(IF(Tabela.abordagens[Mês]=$L$2,ROW(Tabela.abordagens[Idade])-2),ROW(A227)),4)","v":{"$error":"#NUM!"}},{"$f":"INDEX(Tabela.abordagens[],SMALL(IF(Tabela.abordagens[Mês]=$L$2,ROW(Tabela.abordagens[Idade])-2),ROW(A227)),5)","v":{"$error":"#NUM!"}}]
[null,{"$f":"INDEX(Tabela.frequencia[],SMALL(IF(Tabela.frequencia[Mês]=$L$2,ROW(Tabela.frequencia[id])-1),ROW(A228)),1)","v":{"$error":"#NUM!"}},{"$f":"INDEX(Tabela.frequencia[],SMALL(IF(Tabela.frequencia[Mês]=$L$2,ROW(Tabela.frequencia[id])-1),ROW(A228)),4)","v":{"$error":"#NUM!"}},null,{"$f":"IFERROR(VLOOKUP(D275,Tabela.cadastro[[ID]:[Nome]],2,0),\"\")","v":""},{"$f":"IFERROR(VLOOKUP(D275,Tabela66[#All],2,0),\"\")","v":""},{"$f":"IFERROR(VLOOKUP(D275,Tabela.cadastro[[ID]:[CP ou M]],5,0),\"\")","v":""},{"$f":"IFERROR(VLOOKUP(D275,Cadastros!A:F,6,0),\"\")","v":""},{"$f":"IFERROR(VLOOKUP(D275,Cadastros!A:I,9,0),\"\")","v":""},{"$f":"IFERROR(VLOOKUP(D275,Cadastros!A:J,10,0),\"\")","v":""},{"$f":"IF(COUNTIF(Tabela66[id],D275)=0,\"\",COUNTIF(Tabela66[id],D275))","v":""},null,"",null,null,{"$f":"IFERROR(VLOOKUP(O275,Cadastros!A:B,2),\"\")","v":""},"",{"$f":"IFERROR(VLOOKUP(O275,Cadastros!A:E,5,0),\"\")","v":""},{"$f":"IFERROR(VLOOKUP(O275,Cadastros!A:F,6,0),\"\")","v":""},{"$f":"IFERROR(VLOOKUP(O275,Cadastros!A:I,9,0),\"\")","v":""},"","","",null,{"$f":"INDEX(Tabela.abordagens[],SMALL(IF(Tabela.abordagens[Mês]=$L$2,ROW(Tabela.abordagens[id])-2),ROW(A228)),1)","v":{"$error":"#NUM!"}},{"$f":"INDEX(Tabela.abordagens[],SMALL(IF(Tabela.abordagens[Mês]=$L$2,ROW(Tabela.abordagens[Idade])-2),ROW(A228)),6)","v":{"$error":"#NUM!"}},{"$f":"INDEX(Tabela.abordagens[],SMALL(IF(Tabela.abordagens[Mês]=$L$2,ROW(Tabela.abordagens[Idade])-2),ROW(A228)),4)","v":{"$error":"#NUM!"}},{"$f":"INDEX(Tabela.abordagens[],SMALL(IF(Tabela.abordagens[Mês]=$L$2,ROW(Tabela.abordagens[Idade])-2),ROW(A228)),5)","v":{"$error":"#NUM!"}}]
[null,{"$f":"INDEX(Tabela.frequencia[],SMALL(IF(Tabela.frequencia[Mês]=$L$2,ROW(Tabela.frequencia[id])-1),ROW(A229)),1)","v":{"$error":"#NUM!"}},{"$f":"INDEX(Tabela.frequencia[],SMALL(IF(Tabela.frequencia[Mês]=$L$2,ROW(Tabela.frequencia[id])-1),ROW(A229)),4)","v":{"$error":"#NUM!"}},null,{"$f":"IFERROR(VLOOKUP(D276,Tabela.cadastro[[ID]:[Nome]],2,0),\"\")","v":""},{"$f":"IFERROR(VLOOKUP(D276,Tabela66[#All],2,0),\"\")","v":""},{"$f":"IFERROR(VLOOKUP(D276,Tabela.cadastro[[ID]:[CP ou M]],5,0),\"\")","v":""},{"$f":"IFERROR(VLOOKUP(D276,Cadastros!A:F,6,0),\"\")","v":""},{"$f":"IFERROR(VLOOKUP(D276,Cadastros!A:I,9,0),\"\")","v":""},{"$f":"IFERROR(VLOOKUP(D276,Cadastros!A:J,10,0),\"\")","v":""},{"$f":"IF(COUNTIF(Tabela66[id],D276)=0,\"\",COUNTIF(Tabela66[id],D276))","v":""},null,"",null,null,{"$f":"IFERROR(VLOOKUP(O276,Cadastros!A:B,2),\"\")","v":""},"",{"$f":"IFERROR(VLOOKUP(O276,Cadastros!A:E,5,0),\"\")","v":""},{"$f":"IFERROR(VLOOKUP(O276,Cadastros!A:F,6,0),\"\")","v":""},{"$f":"IFERROR(VLOOKUP(O276,Cadastros!A:I,9,0),\"\")","v":""},"","","",null,{"$f":"INDEX(Tabela.abordagens[],SMALL(IF(Tabela.abordagens[Mês]=$L$2,ROW(Tabela.abordagens[id])-2),ROW(A229)),1)","v":{"$error":"#NUM!"}},{"$f":"INDEX(Tabela.abordagens[],SMALL(IF(Tabela.abordagens[Mês]=$L$2,ROW(Tabela.abordagens[Idade])-2),ROW(A229)),6)","v":{"$error":"#NUM!"}},{"$f":"INDEX(Tabela.abordagens[],SMALL(IF(Tabela.abordagens[Mês]=$L$2,ROW(Tabela.abordagens[Idade])-2),ROW(A229)),4)","v":{"$error":"#NUM!"}},{"$f":"INDEX(Tabela.abordagens[],SMALL(IF(Tabela.abordagens[Mês]=$L$2,ROW(Tabela.abordagens[Idade])-2),ROW(A229)),5)","v":{"$error":"#NUM!"}}]
[null,{"$f":"INDEX(Tabela.frequencia[],SMALL(IF(Tabela.frequencia[Mês]=$L$2,ROW(Tabela.frequencia[id])-1),ROW(A230)),1)","v":{"$error":"#NUM!"}},{"$f":"INDEX(Tabela.frequencia[],SMALL(IF(Tabela.frequencia[Mês]=$L$2,ROW(Tabela.frequencia[id])-1),ROW(A230)),4)","v":{"$error":"#NUM!"}},null,{"$f":"IFERROR(VLOOKUP(D277,Tabela.cadastro[[ID]:[Nome]],2,0),\"\")","v":""},{"$f":"IFERROR(VLOOKUP(D277,Tabela66[#All],2,0),\"\")","v":""},{"$f":"IFERROR(VLOOKUP(D277,Tabela.cadastro[[ID]:[CP ou M]],5,0),\"\")","v":""},{"$f":"IFERROR(VLOOKUP(D277,Cadastros!A:F,6,0),\"\")","v":""},{"$f":"IFERROR(VLOOKUP(D277,Cadastros!A:I,9,0),\"\")","v":""},{"$f":"IFERROR(VLOOKUP(D277,Cadastros!A:J,10,0),\"\")","v":""},{"$f":"IF(COUNTIF(Tabela66[id],D277)=0,\"\",COUNTIF(Tabela66[id],D277))","v":""},null,"",null,null,{"$f":"IFERROR(VLOOKUP(O277,Cadastros!A:B,2),\"\")","v":""},"",{"$f":"IFERROR(VLOOKUP(O277,Cadastros!A:E,5,0),\"\")","v":""},{"$f":"IFERROR(VLOOKUP(O277,Cadastros!A:F,6,0),\"\")","v":""},{"$f":"IFERROR(VLOOKUP(O277,Cadastros!A:I,9,0),\"\")","v":""},"","","",null,{"$f":"INDEX(Tabela.abordagens[],SMALL(IF(Tabela.abordagens[Mês]=$L$2,ROW(Tabela.abordagens[id])-2),ROW(A230)),1)","v":{"$error":"#NUM!"}},{"$f":"INDEX(Tabela.abordagens[],SMALL(IF(Tabela.abordagens[Mês]=$L$2,ROW(Tabela.abordagens[Idade])-2),ROW(A230)),6)","v":{"$error":"#NUM!"}},{"$f":"INDEX(Tabela.abordagens[],SMALL(IF(Tabela.abordagens[Mês]=$L$2,ROW(Tabela.abordagens[Idade])-2),ROW(A230)),4)","v":{"$error":"#NUM!"}},{"$f":"INDEX(Tabela.abordagens[],SMALL(IF(Tabela.abordagens[Mês]=$L$2,ROW(Tabela.abordagens[Idade])-2),ROW(A230)),5)","v":{"$error":"#NUM!"}}]
[null,{"$f":"INDEX(Tabela.frequencia[],SMALL(IF(Tabela.frequencia[Mês]=$L$2,ROW(Tabela.frequencia[id])-1),ROW(A231)),1)","v":{"$error":"#NUM!"}},{"$f":"INDEX(Tabela.frequencia[],SMALL(IF(Tabela.frequencia[Mês]=$L$2,ROW(Tabela.frequencia[id])-1),ROW(A231)),4)","v":{"$error":"#NUM!"}},null,{"$f":"IFERROR(VLOOKUP(D278,Tabela.cadastro[[ID]:[Nome]],2,0),\"\")","v":""},{"$f":"IFERROR(VLOOKUP(D278,Tabela66[#All],2,0),\"\")","v":""},{"$f":"IFERROR(VLOOKUP(D278,Tabela.cadastro[[ID]:[CP ou M]],5,0),\"\")","v":""},{"$f":"IFERROR(VLOOKUP(D278,Cadastros!A:F,6,0),\"\")","v":""},{"$f":"IFERROR(VLOOKUP(D278,Cadastros!A:I,9,0),\"\")","v":""},{"$f":"IFERROR(VLOOKUP(D278,Cadastros!A:J,10,0),\"\")","v":""},{"$f":"IF(COUNTIF(Tabela66[id],D278)=0,\"\",COUNTIF(Tabela66[id],D278))","v":""},null,"",null,null,{"$f":"IFERROR(VLOOKUP(O278,Cadastros!A:B,2),\"\")","v":""},"",{"$f":"IFERROR(VLOOKUP(O278,Cadastros!A:E,5,0),\"\")","v":""},{"$f":"IFERROR(VLOOKUP(O278,Cadastros!A:F,6,0),\"\")","v":""},{"$f":"IFERROR(VLOOKUP(O278,Cadastros!A:I,9,0),\"\")","v":""},"","","",null,{"$f":"INDEX(Tabela.abordagens[],SMALL(IF(Tabela.abordagens[Mês]=$L$2,ROW(Tabela.abordagens[id])-2),ROW(A231)),1)","v":{"$error":"#NUM!"}},{"$f":"INDEX(Tabela.abordagens[],SMALL(IF(Tabela.abordagens[Mês]=$L$2,ROW(Tabela.abordagens[Idade])-2),ROW(A231)),6)","v":{"$error":"#NUM!"}},{"$f":"INDEX(Tabela.abordagens[],SMALL(IF(Tabela.abordagens[Mês]=$L$2,ROW(Tabela.abordagens[Idade])-2),ROW(A231)),4)","v":{"$error":"#NUM!"}},{"$f":"INDEX(Tabela.abordagens[],SMALL(IF(Tabela.abordagens[Mês]=$L$2,ROW(Tabela.abordagens[Idade])-2),ROW(A231)),5)","v":{"$error":"#NUM!"}}]
[null,{"$f":"INDEX(Tabela.frequencia[],SMALL(IF(Tabela.frequencia[Mês]=$L$2,ROW(Tabela.frequencia[id])-1),ROW(A232)),1)","v":{"$error":"#NUM!"}},{"$f":"INDEX(Tabela.frequencia[],SMALL(IF(Tabela.frequencia[Mês]=$L$2,ROW(Tabela.frequencia[id])-1),ROW(A232)),4)","v":{"$error":"#NUM!"}},null,{"$f":"IFERROR(VLOOKUP(D279,Tabela.cadastro[[ID]:[Nome]],2,0),\"\")","v":""},{"$f":"IFERROR(VLOOKUP(D279,Tabela66[#All],2,0),\"\")","v":""},{"$f":"IFERROR(VLOOKUP(D279,Tabela.cadastro[[ID]:[CP ou M]],5,0),\"\")","v":""},{"$f":"IFERROR(VLOOKUP(D279,Cadastros!A:F,6,0),\"\")","v":""},{"$f":"IFERROR(VLOOKUP(D279,Cadastros!A:I,9,0),\"\")","v":""},{"$f":"IFERROR(VLOOKUP(D279,Cadastros!A:J,10,0),\"\")","v":""},{"$f":"IF(COUNTIF(Tabela66[id],D279)=0,\"\",COUNTIF(Tabela66[id],D279))","v":""},null,"",null,null,{"$f":"IFERROR(VLOOKUP(O279,Cadastros!A:B,2),\"\")","v":""},"",{"$f":"IFERROR(VLOOKUP(O279,Cadastros!A:E,5,0),\"\")","v":""},{"$f":"IFERROR(VLOOKUP(O279,Cadastros!A:F,6,0),\"\")","v":""},{"$f":"IFERROR(VLOOKUP(O279,Cadastros!A:I,9,0),\"\")","v":""},"","","",null,{"$f":"INDEX(Tabela.abordagens[],SMALL(IF(Tabela.abordagens[Mês]=$L$2,ROW(Tabela.abordagens[id])-2),ROW(A232)),1)","v":{"$error":"#NUM!"}},{"$f":"INDEX(Tabela.abordagens[],SMALL(IF(Tabela.abordagens[Mês]=$L$2,ROW(Tabela.abordagens[Idade])-2),ROW(A232)),6)","v":{"$error":"#NUM!"}},{"$f":"INDEX(Tabela.abordagens[],SMALL(IF(Tabela.abordagens[Mês]=$L$2,ROW(Tabela.abordagens[Idade])-2),ROW(A232)),4)","v":{"$error":"#NUM!"}},{"$f":"INDEX(Tabela.abordagens[],SMALL(IF(Tabela.abordagens[Mês]=$L$2,ROW(Tabela.abordagens[Idade])-2),ROW(A232)),5)","v":{"$error":"#NUM!"}}]
[null,{"$f":"INDEX(Tabela.frequencia[],SMALL(IF(Tabela.frequencia[Mês]=$L$2,ROW(Tabela.frequencia[id])-1),ROW(A233)),1)","v":{"$error":"#NUM!"}},{"$f":"INDEX(Tabela.frequencia[],SMALL(IF(Tabela.frequencia[Mês]=$L$2,ROW(Tabela.frequencia[id])-1),ROW(A233)),4)","v":{"$error":"#NUM!"}},null,{"$f":"IFERROR(VLOOKUP(D280,Tabela.cadastro[[ID]:[Nome]],2,0),\"\")","v":""},{"$f":"IFERROR(VLOOKUP(D280,Tabela66[#All],2,0),\"\")","v":""},{"$f":"IFERROR(VLOOKUP(D280,Tabela.cadastro[[ID]:[CP ou M]],5,0),\"\")","v":""},{"$f":"IFERROR(VLOOKUP(D280,Cadastros!A:F,6,0),\"\")","v":""},{"$f":"IFERROR(VLOOKUP(D280,Cadastros!A:I,9,0),\"\")","v":""},{"$f":"IFERROR(VLOOKUP(D280,Cadastros!A:J,10,0),\"\")","v":""},{"$f":"IF(COUNTIF(Tabela66[id],D280)=0,\"\",COUNTIF(Tabela66[id],D280))","v":""},null,"",null,null,{"$f":"IFERROR(VLOOKUP(O280,Cadastros!A:B,2),\"\")","v":""},"",{"$f":"IFERROR(VLOOKUP(O280,Cadastros!A:E,5,0),\"\")","v":""},{"$f":"IFERROR(VLOOKUP(O280,Cadastros!A:F,6,0),\"\")","v":""},{"$f":"IFERROR(VLOOKUP(O280,Cadastros!A:I,9,0),\"\")","v":""},"","","",null,{"$f":"INDEX(Tabela.abordagens[],SMALL(IF(Tabela.abordagens[Mês]=$L$2,ROW(Tabela.abordagens[id])-2),ROW(A233)),1)","v":{"$error":"#NUM!"}},{"$f":"INDEX(Tabela.abordagens[],SMALL(IF(Tabela.abordagens[Mês]=$L$2,ROW(Tabela.abordagens[Idade])-2),ROW(A233)),6)","v":{"$error":"#NUM!"}},{"$f":"INDEX(Tabela.abordagens[],SMALL(IF(Tabela.abordagens[Mês]=$L$2,ROW(Tabela.abordagens[Idade])-2),ROW(A233)),4)","v":{"$error":"#NUM!"}},{"$f":"INDEX(Tabela.abordagens[],SMALL(IF(Tabela.abordagens[Mês]=$L$2,ROW(Tabela.abordagens[Idade])-2),ROW(A233)),5)","v":{"$error":"#NUM!"}}]
[null,{"$f":"INDEX(Tabela.frequencia[],SMALL(IF(Tabela.frequencia[Mês]=$L$2,ROW(Tabela.frequencia[id])-1),ROW(A234)),1)","v":{"$error":"#NUM!"}},{"$f":"INDEX(Tabela.frequencia[],SMALL(IF(Tabela.frequencia[Mês]=$L$2,ROW(Tabela.frequencia[id])-1),ROW(A234)),4)","v":{"$error":"#NUM!"}},null,{"$f":"IFERROR(VLOOKUP(D281,Tabela.cadastro[[ID]:[Nome]],2,0),\"\")","v":""},{"$f":"IFERROR(VLOOKUP(D281,Tabela66[#All],2,0),\"\")","v":""},{"$f":"IFERROR(VLOOKUP(D281,Tabela.cadastro[[ID]:[CP ou M]],5,0),\"\")","v":""},{"$f":"IFERROR(VLOOKUP(D281,Cadastros!A:F,6,0),\"\")","v":""},{"$f":"IFERROR(VLOOKUP(D281,Cadastros!A:I,9,0),\"\")","v":""},{"$f":"IFERROR(VLOOKUP(D281,Cadastros!A:J,10,0),\"\")","v":""},{"$f":"IF(COUNTIF(Tabela66[id],D281)=0,\"\",COUNTIF(Tabela66[id],D281))","v":""},null,"",null,null,{"$f":"IFERROR(VLOOKUP(O281,Cadastros!A:B,2),\"\")","v":""},"",{"$f":"IFERROR(VLOOKUP(O281,Cadastros!A:E,5,0),\"\")","v":""},{"$f":"IFERROR(VLOOKUP(O281,Cadastros!A:F,6,0),\"\")","v":""},{"$f":"IFERROR(VLOOKUP(O281,Cadastros!A:I,9,0),\"\")","v":""},"","","",null,{"$f":"INDEX(Tabela.abordagens[],SMALL(IF(Tabela.abordagens[Mês]=$L$2,ROW(Tabela.abordagens[id])-2),ROW(A234)),1)","v":{"$error":"#NUM!"}},{"$f":"INDEX(Tabela.abordagens[],SMALL(IF(Tabela.abordagens[Mês]=$L$2,ROW(Tabela.abordagens[Idade])-2),ROW(A234)),6)","v":{"$error":"#NUM!"}},{"$f":"INDEX(Tabela.abordagens[],SMALL(IF(Tabela.abordagens[Mês]=$L$2,ROW(Tabela.abordagens[Idade])-2),ROW(A234)),4)","v":{"$error":"#NUM!"}},{"$f":"INDEX(Tabela.abordagens[],SMALL(IF(Tabela.abordagens[Mês]=$L$2,ROW(Tabela.abordagens[Idade])-2),ROW(A234)),5)","v":{"$error":"#NUM!"}}]
[null,{"$f":"INDEX(Tabela.frequencia[],SMALL(IF(Tabela.frequencia[Mês]=$L$2,ROW(Tabela.frequencia[id])-1),ROW(A235)),1)","v":{"$error":"#NUM!"}},{"$f":"INDEX(Tabela.frequencia[],SMALL(IF(Tabela.frequencia[Mês]=$L$2,ROW(Tabela.frequencia[id])-1),ROW(A235)),4)","v":{"$error":"#NUM!"}},null,{"$f":"IFERROR(VLOOKUP(D282,Tabela.cadastro[[ID]:[Nome]],2,0),\"\")","v":""},{"$f":"IFERROR(VLOOKUP(D282,Tabela66[#All],2,0),\"\")","v":""},{"$f":"IFERROR(VLOOKUP(D282,Tabela.cadastro[[ID]:[CP ou M]],5,0),\"\")","v":""},{"$f":"IFERROR(VLOOKUP(D282,Cadastros!A:F,6,0),\"\")","v":""},{"$f":"IFERROR(VLOOKUP(D282,Cadastros!A:I,9,0),\"\")","v":""},{"$f":"IFERROR(VLOOKUP(D282,Cadastros!A:J,10,0),\"\")","v":""},{"$f":"IF(COUNTIF(Tabela66[id],D282)=0,\"\",COUNTIF(Tabela66[id],D282))","v":""},null,"",null,null,{"$f":"IFERROR(VLOOKUP(O282,Cadastros!A:B,2),\"\")","v":""},"",{"$f":"IFERROR(VLOOKUP(O282,Cadastros!A:E,5,0),\"\")","v":""},{"$f":"IFERROR(VLOOKUP(O282,Cadastros!A:F,6,0),\"\")","v":""},{"$f":"IFERROR(VLOOKUP(O282,Cadastros!A:I,9,0),\"\")","v":""},"","","",null,{"$f":"INDEX(Tabela.abordagens[],SMALL(IF(Tabela.abordagens[Mês]=$L$2,ROW(Tabela.abordagens[id])-2),ROW(A235)),1)","v":{"$error":"#NUM!"}},{"$f":"INDEX(Tabela.abordagens[],SMALL(IF(Tabela.abordagens[Mês]=$L$2,ROW(Tabela.abordagens[Idade])-2),ROW(A235)),6)","v":{"$error":"#NUM!"}},{"$f":"INDEX(Tabela.abordagens[],SMALL(IF(Tabela.abordagens[Mês]=$L$2,ROW(Tabela.abordagens[Idade])-2),ROW(A235)),4)","v":{"$error":"#NUM!"}},{"$f":"INDEX(Tabela.abordagens[],SMALL(IF(Tabela.abordagens[Mês]=$L$2,ROW(Tabela.abordagens[Idade])-2),ROW(A235)),5)","v":{"$error":"#NUM!"}}]
[null,{"$f":"INDEX(Tabela.frequencia[],SMALL(IF(Tabela.frequencia[Mês]=$L$2,ROW(Tabela.frequencia[id])-1),ROW(A236)),1)","v":{"$error":"#NUM!"}},{"$f":"INDEX(Tabela.frequencia[],SMALL(IF(Tabela.frequencia[Mês]=$L$2,ROW(Tabela.frequencia[id])-1),ROW(A236)),4)","v":{"$error":"#NUM!"}},null,{"$f":"IFERROR(VLOOKUP(D283,Tabela.cadastro[[ID]:[Nome]],2,0),\"\")","v":""},{"$f":"IFERROR(VLOOKUP(D283,Tabela66[#All],2,0),\"\")","v":""},{"$f":"IFERROR(VLOOKUP(D283,Tabela.cadastro[[ID]:[CP ou M]],5,0),\"\")","v":""},{"$f":"IFERROR(VLOOKUP(D283,Cadastros!A:F,6,0),\"\")","v":""},{"$f":"IFERROR(VLOOKUP(D283,Cadastros!A:I,9,0),\"\")","v":""},{"$f":"IFERROR(VLOOKUP(D283,Cadastros!A:J,10,0),\"\")","v":""},{"$f":"IF(COUNTIF(Tabela66[id],D283)=0,\"\",COUNTIF(Tabela66[id],D283))","v":""},null,"",null,null,{"$f":"IFERROR(VLOOKUP(O283,Cadastros!A:B,2),\"\")","v":""},"",{"$f":"IFERROR(VLOOKUP(O283,Cadastros!A:E,5,0),\"\")","v":""},{"$f":"IFERROR(VLOOKUP(O283,Cadastros!A:F,6,0),\"\")","v":""},{"$f":"IFERROR(VLOOKUP(O283,Cadastros!A:I,9,0),\"\")","v":""},"","","",null,{"$f":"INDEX(Tabela.abordagens[],SMALL(IF(Tabela.abordagens[Mês]=$L$2,ROW(Tabela.abordagens[id])-2),ROW(A236)),1)","v":{"$error":"#NUM!"}},{"$f":"INDEX(Tabela.abordagens[],SMALL(IF(Tabela.abordagens[Mês]=$L$2,ROW(Tabela.abordagens[Idade])-2),ROW(A236)),6)","v":{"$error":"#NUM!"}},{"$f":"INDEX(Tabela.abordagens[],SMALL(IF(Tabela.abordagens[Mês]=$L$2,ROW(Tabela.abordagens[Idade])-2),ROW(A236)),4)","v":{"$error":"#NUM!"}},{"$f":"INDEX(Tabela.abordagens[],SMALL(IF(Tabela.abordagens[Mês]=$L$2,ROW(Tabela.abordagens[Idade])-2),ROW(A236)),5)","v":{"$error":"#NUM!"}}]
[null,{"$f":"INDEX(Tabela.frequencia[],SMALL(IF(Tabela.frequencia[Mês]=$L$2,ROW(Tabela.frequencia[id])-1),ROW(A237)),1)","v":{"$error":"#NUM!"}},{"$f":"INDEX(Tabela.frequencia[],SMALL(IF(Tabela.frequencia[Mês]=$L$2,ROW(Tabela.frequencia[id])-1),ROW(A237)),4)","v":{"$error":"#NUM!"}},null,{"$f":"IFERROR(VLOOKUP(D284,Tabela.cadastro[[ID]:[Nome]],2,0),\"\")","v":""},{"$f":"IFERROR(VLOOKUP(D284,Tabela66[#All],2,0),\"\")","v":""},{"$f":"IFERROR(VLOOKUP(D284,Tabela.cadastro[[ID]:[CP ou M]],5,0),\"\")","v":""},{"$f":"IFERROR(VLOOKUP(D284,Cadastros!A:F,6,0),\"\")","v":""},{"$f":"IFERROR(VLOOKUP(D284,Cadastros!A:I,9,0),\"\")","v":""},{"$f":"IFERROR(VLOOKUP(D284,Cadastros!A:J,10,0),\"\")","v":""},{"$f":"IF(COUNTIF(Tabela66[id],D284)=0,\"\",COUNTIF(Tabela66[id],D284))","v":""},null,"",null,null,{"$f":"IFERROR(VLOOKUP(O284,Cadastros!A:B,2),\"\")","v":""},"",{"$f":"IFERROR(VLOOKUP(O284,Cadastros!A:E,5,0),\"\")","v":""},{"$f":"IFERROR(VLOOKUP(O284,Cadastros!A:F,6,0),\"\")","v":""},{"$f":"IFERROR(VLOOKUP(O284,Cadastros!A:I,9,0),\"\")","v":""},"","","",null,{"$f":"INDEX(Tabela.abordagens[],SMALL(IF(Tabela.abordagens[Mês]=$L$2,ROW(Tabela.abordagens[id])-2),ROW(A237)),1)","v":{"$error":"#NUM!"}},{"$f":"INDEX(Tabela.abordagens[],SMALL(IF(Tabela.abordagens[Mês]=$L$2,ROW(Tabela.abordagens[Idade])-2),ROW(A237)),6)","v":{"$error":"#NUM!"}},{"$f":"INDEX(Tabela.abordagens[],SMALL(IF(Tabela.abordagens[Mês]=$L$2,ROW(Tabela.abordagens[Idade])-2),ROW(A237)),4)","v":{"$error":"#NUM!"}},{"$f":"INDEX(Tabela.abordagens[],SMALL(IF(Tabela.abordagens[Mês]=$L$2,ROW(Tabela.abordagens[Idade])-2),ROW(A237)),5)","v":{"$error":"#NUM!"}}]
[null,{"$f":"INDEX(Tabela.frequencia[],SMALL(IF(Tabela.frequencia[Mês]=$L$2,ROW(Tabela.frequencia[id])-1),ROW(A238)),1)","v":{"$error":"#NUM!"}},{"$f":"INDEX(Tabela.frequencia[],SMALL(IF(Tabela.frequencia[Mês]=$L$2,ROW(Tabela.frequencia[id])-1),ROW(A238)),4)","v":{"$error":"#NUM!"}},null,{"$f":"IFERROR(VLOOKUP(D285,Tabela.cadastro[[ID]:[Nome]],2,0),\"\")","v":""},{"$f":"IFERROR(VLOOKUP(D285,Tabela66[#All],2,0),\"\")","v":""},{"$f":"IFERROR(VLOOKUP(D285,Tabela.cadastro[[ID]:[CP ou M]],5,0),\"\")","v":""},{"$f":"IFERROR(VLOOKUP(D285,Cadastros!A:F,6,0),\"\")","v":""},{"$f":"IFERROR(VLOOKUP(D285,Cadastros!A:I,9,0),\"\")","v":""},{"$f":"IFERROR(VLOOKUP(D285,Cadastros!A:J,10,0),\"\")","v":""},{"$f":"IF(COUNTIF(Tabela66[id],D285)=0,\"\",COUNTIF(Tabela66[id],D285))","v":""},null,"",null,null,{"$f":"IFERROR(VLOOKUP(O285,Cadastros!A:B,2),\"\")","v":""},"",{"$f":"IFERROR(VLOOKUP(O285,Cadastros!A:E,5,0),\"\")","v":""},{"$f":"IFERROR(VLOOKUP(O285,Cadastros!A:F,6,0),\"\")","v":""},{"$f":"IFERROR(VLOOKUP(O285,Cadastros!A:I,9,0),\"\")","v":""},"","","",null,{"$f":"INDEX(Tabela.abordagens[],SMALL(IF(Tabela.abordagens[Mês]=$L$2,ROW(Tabela.abordagens[id])-2),ROW(A238)),1)","v":{"$error":"#NUM!"}},{"$f":"INDEX(Tabela.abordagens[],SMALL(IF(Tabela.abordagens[Mês]=$L$2,ROW(Tabela.abordagens[Idade])-2),ROW(A238)),6)","v":{"$error":"#NUM!"}},{"$f":"INDEX(Tabela.abordagens[],SMALL(IF(Tabela.abordagens[Mês]=$L$2,ROW(Tabela.abordagens[Idade])-2),ROW(A238)),4)","v":{"$error":"#NUM!"}},{"$f":"INDEX(Tabela.abordagens[],SMALL(IF(Tabela.abordagens[Mês]=$L$2,ROW(Tabela.abordagens[Idade])-2),ROW(A238)),5)","v":{"$error":"#NUM!"}}]
[null,{"$f":"INDEX(Tabela.frequencia[],SMALL(IF(Tabela.frequencia[Mês]=$L$2,ROW(Tabela.frequencia[id])-1),ROW(A239)),1)","v":{"$error":"#NUM!"}},{"$f":"INDEX(Tabela.frequencia[],SMALL(IF(Tabela.frequencia[Mês]=$L$2,ROW(Tabela.frequencia[id])-1),ROW(A239)),4)","v":{"$error":"#NUM!"}},null,{"$f":"IFERROR(VLOOKUP(D286,Tabela.cadastro[[ID]:[Nome]],2,0),\"\")","v":""},{"$f":"IFERROR(VLOOKUP(D286,Tabela66[#All],2,0),\"\")","v":""},{"$f":"IFERROR(VLOOKUP(D286,Tabela.cadastro[[ID]:[CP ou M]],5,0),\"\")","v":""},{"$f":"IFERROR(VLOOKUP(D286,Cadastros!A:F,6,0),\"\")","v":""},{"$f":"IFERROR(VLOOKUP(D286,Cadastros!A:I,9,0),\"\")","v":""},{"$f":"IFERROR(VLOOKUP(D286,Cadastros!A:J,10,0),\"\")","v":""},{"$f":"IF(COUNTIF(Tabela66[id],D286)=0,\"\",COUNTIF(Tabela66[id],D286))","v":""},null,"",null,null,{"$f":"IFERROR(VLOOKUP(O286,Cadastros!A:B,2),\"\")","v":""},"",{"$f":"IFERROR(VLOOKUP(O286,Cadastros!A:E,5,0),\"\")","v":""},{"$f":"IFERROR(VLOOKUP(O286,Cadastros!A:F,6,0),\"\")","v":""},{"$f":"IFERROR(VLOOKUP(O286,Cadastros!A:I,9,0),\"\")","v":""},"","","",null,{"$f":"INDEX(Tabela.abordagens[],SMALL(IF(Tabela.abordagens[Mês]=$L$2,ROW(Tabela.abordagens[id])-2),ROW(A239)),1)","v":{"$error":"#NUM!"}},{"$f":"INDEX(Tabela.abordagens[],SMALL(IF(Tabela.abordagens[Mês]=$L$2,ROW(Tabela.abordagens[Idade])-2),ROW(A239)),6)","v":{"$error":"#NUM!"}},{"$f":"INDEX(Tabela.abordagens[],SMALL(IF(Tabela.abordagens[Mês]=$L$2,ROW(Tabela.abordagens[Idade])-2),ROW(A239)),4)","v":{"$error":"#NUM!"}},{"$f":"INDEX(Tabela.abordagens[],SMALL(IF(Tabela.abordagens[Mês]=$L$2,ROW(Tabela.abordagens[Idade])-2),ROW(A239)),5)","v":{"$error":"#NUM!"}}]
[null,{"$f":"INDEX(Tabela.frequencia[],SMALL(IF(Tabela.frequencia[Mês]=$L$2,ROW(Tabela.frequencia[id])-1),ROW(A240)),1)","v":{"$error":"#NUM!"}},{"$f":"INDEX(Tabela.frequencia[],SMALL(IF(Tabela.frequencia[Mês]=$L$2,ROW(Tabela.frequencia[id])-1),ROW(A240)),4)","v":{"$error":"#NUM!"}},null,{"$f":"IFERROR(VLOOKUP(D287,Tabela.cadastro[[ID]:[Nome]],2,0),\"\")","v":""},{"$f":"IFERROR(VLOOKUP(D287,Tabela66[#All],2,0),\"\")","v":""},{"$f":"IFERROR(VLOOKUP(D287,Tabela.cadastro[[ID]:[CP ou M]],5,0),\"\")","v":""},{"$f":"IFERROR(VLOOKUP(D287,Cadastros!A:F,6,0),\"\")","v":""},{"$f":"IFERROR(VLOOKUP(D287,Cadastros!A:I,9,0),\"\")","v":""},{"$f":"IFERROR(VLOOKUP(D287,Cadastros!A:J,10,0),\"\")","v":""},{"$f":"IF(COUNTIF(Tabela66[id],D287)=0,\"\",COUNTIF(Tabela66[id],D287))","v":""},null,"",null,null,{"$f":"IFERROR(VLOOKUP(O287,Cadastros!A:B,2),\"\")","v":""},"",{"$f":"IFERROR(VLOOKUP(O287,Cadastros!A:E,5,0),\"\")","v":""},{"$f":"IFERROR(VLOOKUP(O287,Cadastros!A:F,6,0),\"\")","v":""},{"$f":"IFERROR(VLOOKUP(O287,Cadastros!A:I,9,0),\"\")","v":""},"","","",null,{"$f":"INDEX(Tabela.abordagens[],SMALL(IF(Tabela.abordagens[Mês]=$L$2,ROW(Tabela.abordagens[id])-2),ROW(A240)),1)","v":{"$error":"#NUM!"}},{"$f":"INDEX(Tabela.abordagens[],SMALL(IF(Tabela.abordagens[Mês]=$L$2,ROW(Tabela.abordagens[Idade])-2),ROW(A240)),6)","v":{"$error":"#NUM!"}},{"$f":"INDEX(Tabela.abordagens[],SMALL(IF(Tabela.abordagens[Mês]=$L$2,ROW(Tabela.abordagens[Idade])-2),ROW(A240)),4)","v":{"$error":"#NUM!"}},{"$f":"INDEX(Tabela.abordagens[],SMALL(IF(Tabela.abordagens[Mês]=$L$2,ROW(Tabela.abordagens[Idade])-2),ROW(A240)),5)","v":{"$error":"#NUM!"}}]
[null,{"$f":"INDEX(Tabela.frequencia[],SMALL(IF(Tabela.frequencia[Mês]=$L$2,ROW(Tabela.frequencia[id])-1),ROW(A241)),1)","v":{"$error":"#NUM!"}},{"$f":"INDEX(Tabela.frequencia[],SMALL(IF(Tabela.frequencia[Mês]=$L$2,ROW(Tabela.frequencia[id])-1),ROW(A241)),4)","v":{"$error":"#NUM!"}},null,{"$f":"IFERROR(VLOOKUP(D288,Tabela.cadastro[[ID]:[Nome]],2,0),\"\")","v":""},{"$f":"IFERROR(VLOOKUP(D288,Tabela66[#All],2,0),\"\")","v":""},{"$f":"IFERROR(VLOOKUP(D288,Tabela.cadastro[[ID]:[CP ou M]],5,0),\"\")","v":""},{"$f":"IFERROR(VLOOKUP(D288,Cadastros!A:F,6,0),\"\")","v":""},{"$f":"IFERROR(VLOOKUP(D288,Cadastros!A:I,9,0),\"\")","v":""},{"$f":"IFERROR(VLOOKUP(D288,Cadastros!A:J,10,0),\"\")","v":""},{"$f":"IF(COUNTIF(Tabela66[id],D288)=0,\"\",COUNTIF(Tabela66[id],D288))","v":""},null,"",null,null,{"$f":"IFERROR(VLOOKUP(O288,Cadastros!A:B,2),\"\")","v":""},"",{"$f":"IFERROR(VLOOKUP(O288,Cadastros!A:E,5,0),\"\")","v":""},{"$f":"IFERROR(VLOOKUP(O288,Cadastros!A:F,6,0),\"\")","v":""},{"$f":"IFERROR(VLOOKUP(O288,Cadastros!A:I,9,0),\"\")","v":""},"","","",null,{"$f":"INDEX(Tabela.abordagens[],SMALL(IF(Tabela.abordagens[Mês]=$L$2,ROW(Tabela.abordagens[id])-2),ROW(A241)),1)","v":{"$error":"#NUM!"}},{"$f":"INDEX(Tabela.abordagens[],SMALL(IF(Tabela.abordagens[Mês]=$L$2,ROW(Tabela.abordagens[Idade])-2),ROW(A241)),6)","v":{"$error":"#NUM!"}},{"$f":"INDEX(Tabela.abordagens[],SMALL(IF(Tabela.abordagens[Mês]=$L$2,ROW(Tabela.abordagens[Idade])-2),ROW(A241)),4)","v":{"$error":"#NUM!"}},{"$f":"INDEX(Tabela.abordagens[],SMALL(IF(Tabela.abordagens[Mês]=$L$2,ROW(Tabela.abordagens[Idade])-2),ROW(A241)),5)","v":{"$error":"#NUM!"}}]
[null,{"$f":"INDEX(Tabela.frequencia[],SMALL(IF(Tabela.frequencia[Mês]=$L$2,ROW(Tabela.frequencia[id])-1),ROW(A242)),1)","v":{"$error":"#NUM!"}},{"$f":"INDEX(Tabela.frequencia[],SMALL(IF(Tabela.frequencia[Mês]=$L$2,ROW(Tabela.frequencia[id])-1),ROW(A242)),4)","v":{"$error":"#NUM!"}},null,{"$f":"IFERROR(VLOOKUP(D289,Tabela.cadastro[[ID]:[Nome]],2,0),\"\")","v":""},{"$f":"IFERROR(VLOOKUP(D289,Tabela66[#All],2,0),\"\")","v":""},{"$f":"IFERROR(VLOOKUP(D289,Tabela.cadastro[[ID]:[CP ou M]],5,0),\"\")","v":""},{"$f":"IFERROR(VLOOKUP(D289,Cadastros!A:F,6,0),\"\")","v":""},{"$f":"IFERROR(VLOOKUP(D289,Cadastros!A:I,9,0),\"\")","v":""},{"$f":"IFERROR(VLOOKUP(D289,Cadastros!A:J,10,0),\"\")","v":""},{"$f":"IF(COUNTIF(Tabela66[id],D289)=0,\"\",COUNTIF(Tabela66[id],D289))","v":""},null,"",null,null,{"$f":"IFERROR(VLOOKUP(O289,Cadastros!A:B,2),\"\")","v":""},"",{"$f":"IFERROR(VLOOKUP(O289,Cadastros!A:E,5,0),\"\")","v":""},{"$f":"IFERROR(VLOOKUP(O289,Cadastros!A:F,6,0),\"\")","v":""},{"$f":"IFERROR(VLOOKUP(O289,Cadastros!A:I,9,0),\"\")","v":""},"","","",null,{"$f":"INDEX(Tabela.abordagens[],SMALL(IF(Tabela.abordagens[Mês]=$L$2,ROW(Tabela.abordagens[id])-2),ROW(A242)),1)","v":{"$error":"#NUM!"}},{"$f":"INDEX(Tabela.abordagens[],SMALL(IF(Tabela.abordagens[Mês]=$L$2,ROW(Tabela.abordagens[Idade])-2),ROW(A242)),6)","v":{"$error":"#NUM!"}},{"$f":"INDEX(Tabela.abordagens[],SMALL(IF(Tabela.abordagens[Mês]=$L$2,ROW(Tabela.abordagens[Idade])-2),ROW(A242)),4)","v":{"$error":"#NUM!"}},{"$f":"INDEX(Tabela.abordagens[],SMALL(IF(Tabela.abordagens[Mês]=$L$2,ROW(Tabela.abordagens[Idade])-2),ROW(A242)),5)","v":{"$error":"#NUM!"}}]
[null,{"$f":"INDEX(Tabela.frequencia[],SMALL(IF(Tabela.frequencia[Mês]=$L$2,ROW(Tabela.frequencia[id])-1),ROW(A243)),1)","v":{"$error":"#NUM!"}},{"$f":"INDEX(Tabela.frequencia[],SMALL(IF(Tabela.frequencia[Mês]=$L$2,ROW(Tabela.frequencia[id])-1),ROW(A243)),4)","v":{"$error":"#NUM!"}},null,{"$f":"IFERROR(VLOOKUP(D290,Tabela.cadastro[[ID]:[Nome]],2,0),\"\")","v":""},{"$f":"IFERROR(VLOOKUP(D290,Tabela66[#All],2,0),\"\")","v":""},{"$f":"IFERROR(VLOOKUP(D290,Tabela.cadastro[[ID]:[CP ou M]],5,0),\"\")","v":""},{"$f":"IFERROR(VLOOKUP(D290,Cadastros!A:F,6,0),\"\")","v":""},{"$f":"IFERROR(VLOOKUP(D290,Cadastros!A:I,9,0),\"\")","v":""},{"$f":"IFERROR(VLOOKUP(D290,Cadastros!A:J,10,0),\"\")","v":""},{"$f":"IF(COUNTIF(Tabela66[id],D290)=0,\"\",COUNTIF(Tabela66[id],D290))","v":""},null,"",null,null,{"$f":"IFERROR(VLOOKUP(O290,Cadastros!A:B,2),\"\")","v":""},{"$f":"IFERROR(VLOOKUP(O290,$Y$33:$Z$866,2,0),\"\")","v":""},{"$f":"IFERROR(VLOOKUP(O290,Cadastros!A:E,5,0),\"\")","v":""},{"$f":"IFERROR(VLOOKUP(O290,Cadastros!A:F,6,0),\"\")","v":""},{"$f":"IFERROR(VLOOKUP(O290,Cadastros!A:I,9,0),\"\")","v":""},{"$f":"IFERROR(VLOOKUP(O290,Y$33:AB$866,3,0),\"\")","v":""},{"$f":"IFERROR(VLOOKUP(O290,Y$33:AB$866,4,0),\"\")","v":""},{"$f":"IF(COUNTIF(Y$33:Y$866,O290)=0,\"\",COUNTIF(Y$33:Y$866,O290))","v":""},null,{"$f":"INDEX(Tabela.abordagens[],SMALL(IF(Tabela.abordagens[Mês]=$L$2,ROW(Tabela.abordagens[id])-2),ROW(A243)),1)","v":{"$error":"#NUM!"}},{"$f":"INDEX(Tabela.abordagens[],SMALL(IF(Tabela.abordagens[Mês]=$L$2,ROW(Tabela.abordagens[Idade])-2),ROW(A243)),6)","v":{"$error":"#NUM!"}},{"$f":"INDEX(Tabela.abordagens[],SMALL(IF(Tabela.abordagens[Mês]=$L$2,ROW(Tabela.abordagens[Idade])-2),ROW(A243)),4)","v":{"$error":"#NUM!"}},{"$f":"INDEX(Tabela.abordagens[],SMALL(IF(Tabela.abordagens[Mês]=$L$2,ROW(Tabela.abordagens[Idade])-2),ROW(A243)),5)","v":{"$error":"#NUM!"}}]
[null,{"$f":"INDEX(Tabela.frequencia[],SMALL(IF(Tabela.frequencia[Mês]=$L$2,ROW(Tabela.frequencia[id])-1),ROW(A244)),1)","v":{"$error":"#NUM!"}},{"$f":"INDEX(Tabela.frequencia[],SMALL(IF(Tabela.frequencia[Mês]=$L$2,ROW(Tabela.frequencia[id])-1),ROW(A244)),4)","v":{"$error":"#NUM!"}},null,{"$f":"IFERROR(VLOOKUP(D291,Tabela.cadastro[[ID]:[Nome]],2,0),\"\")","v":""},{"$f":"IFERROR(VLOOKUP(D291,Tabela66[#All],2,0),\"\")","v":""},{"$f":"IFERROR(VLOOKUP(D291,Tabela.cadastro[[ID]:[CP ou M]],5,0),\"\")","v":""},{"$f":"IFERROR(VLOOKUP(D291,Cadastros!A:F,6,0),\"\")","v":""},{"$f":"IFERROR(VLOOKUP(D291,Cadastros!A:I,9,0),\"\")","v":""},{"$f":"IFERROR(VLOOKUP(D291,Cadastros!A:J,10,0),\"\")","v":""},{"$f":"IF(COUNTIF(Tabela66[id],D291)=0,\"\",COUNTIF(Tabela66[id],D291))","v":""},null,"",null,null,{"$f":"IFERROR(VLOOKUP(O291,Cadastros!A:B,2),\"\")","v":""},"",{"$f":"IFERROR(VLOOKUP(O291,Cadastros!A:E,5,0),\"\")","v":""},{"$f":"IFERROR(VLOOKUP(O291,Cadastros!A:F,6,0),\"\")","v":""},{"$f":"IFERROR(VLOOKUP(O291,Cadastros!A:I,9,0),\"\")","v":""},"","","",null,{"$f":"INDEX(Tabela.abordagens[],SMALL(IF(Tabela.abordagens[Mês]=$L$2,ROW(Tabela.abordagens[id])-2),ROW(A244)),1)","v":{"$error":"#NUM!"}},{"$f":"INDEX(Tabela.abordagens[],SMALL(IF(Tabela.abordagens[Mês]=$L$2,ROW(Tabela.abordagens[Idade])-2),ROW(A244)),6)","v":{"$error":"#NUM!"}},{"$f":"INDEX(Tabela.abordagens[],SMALL(IF(Tabela.abordagens[Mês]=$L$2,ROW(Tabela.abordagens[Idade])-2),ROW(A244)),4)","v":{"$error":"#NUM!"}},{"$f":"INDEX(Tabela.abordagens[],SMALL(IF(Tabela.abordagens[Mês]=$L$2,ROW(Tabela.abordagens[Idade])-2),ROW(A244)),5)","v":{"$error":"#NUM!"}}]
[null,{"$f":"INDEX(Tabela.frequencia[],SMALL(IF(Tabela.frequencia[Mês]=$L$2,ROW(Tabela.frequencia[id])-1),ROW(A245)),1)","v":{"$error":"#NUM!"}},{"$f":"INDEX(Tabela.frequencia[],SMALL(IF(Tabela.frequencia[Mês]=$L$2,ROW(Tabela.frequencia[id])-1),ROW(A245)),4)","v":{"$error":"#NUM!"}},null,{"$f":"IFERROR(VLOOKUP(D292,Tabela.cadastro[[ID]:[Nome]],2,0),\"\")","v":""},{"$f":"IFERROR(VLOOKUP(D292,Tabela66[#All],2,0),\"\")","v":""},{"$f":"IFERROR(VLOOKUP(D292,Tabela.cadastro[[ID]:[CP ou M]],5,0),\"\")","v":""},{"$f":"IFERROR(VLOOKUP(D292,Cadastros!A:F,6,0),\"\")","v":""},{"$f":"IFERROR(VLOOKUP(D292,Cadastros!A:I,9,0),\"\")","v":""},{"$f":"IFERROR(VLOOKUP(D292,Cadastros!A:J,10,0),\"\")","v":""},{"$f":"IF(COUNTIF(Tabela66[id],D292)=0,\"\",COUNTIF(Tabela66[id],D292))","v":""},null,"",null,null,{"$f":"IFERROR(VLOOKUP(O292,Cadastros!A:B,2),\"\")","v":""},"",{"$f":"IFERROR(VLOOKUP(O292,Cadastros!A:E,5,0),\"\")","v":""},{"$f":"IFERROR(VLOOKUP(O292,Cadastros!A:F,6,0),\"\")","v":""},{"$f":"IFERROR(VLOOKUP(O292,Cadastros!A:I,9,0),\"\")","v":""},"","","",null,{"$f":"INDEX(Tabela.abordagens[],SMALL(IF(Tabela.abordagens[Mês]=$L$2,ROW(Tabela.abordagens[id])-2),ROW(A245)),1)","v":{"$error":"#NUM!"}},{"$f":"INDEX(Tabela.abordagens[],SMALL(IF(Tabela.abordagens[Mês]=$L$2,ROW(Tabela.abordagens[Idade])-2),ROW(A245)),6)","v":{"$error":"#NUM!"}},{"$f":"INDEX(Tabela.abordagens[],SMALL(IF(Tabela.abordagens[Mês]=$L$2,ROW(Tabela.abordagens[Idade])-2),ROW(A245)),4)","v":{"$error":"#NUM!"}},{"$f":"INDEX(Tabela.abordagens[],SMALL(IF(Tabela.abordagens[Mês]=$L$2,ROW(Tabela.abordagens[Idade])-2),ROW(A245)),5)","v":{"$error":"#NUM!"}}]
[null,{"$f":"INDEX(Tabela.frequencia[],SMALL(IF(Tabela.frequencia[Mês]=$L$2,ROW(Tabela.frequencia[id])-1),ROW(A246)),1)","v":{"$error":"#NUM!"}},{"$f":"INDEX(Tabela.frequencia[],SMALL(IF(Tabela.frequencia[Mês]=$L$2,ROW(Tabela.frequencia[id])-1),ROW(A246)),4)","v":{"$error":"#NUM!"}},null,{"$f":"IFERROR(VLOOKUP(D293,Tabela.cadastro[[ID]:[Nome]],2,0),\"\")","v":""},{"$f":"IFERROR(VLOOKUP(D293,Tabela66[#All],2,0),\"\")","v":""},{"$f":"IFERROR(VLOOKUP(D293,Tabela.cadastro[[ID]:[CP ou M]],5,0),\"\")","v":""},{"$f":"IFERROR(VLOOKUP(D293,Cadastros!A:F,6,0),\"\")","v":""},{"$f":"IFERROR(VLOOKUP(D293,Cadastros!A:I,9,0),\"\")","v":""},{"$f":"IFERROR(VLOOKUP(D293,Cadastros!A:J,10,0),\"\")","v":""},{"$f":"IF(COUNTIF(Tabela66[id],D293)=0,\"\",COUNTIF(Tabela66[id],D293))","v":""},null,"",null,null,{"$f":"IFERROR(VLOOKUP(O293,Cadastros!A:B,2),\"\")","v":""},"",{"$f":"IFERROR(VLOOKUP(O293,Cadastros!A:E,5,0),\"\")","v":""},{"$f":"IFERROR(VLOOKUP(O293,Cadastros!A:F,6,0),\"\")","v":""},{"$f":"IFERROR(VLOOKUP(O293,Cadastros!A:I,9,0),\"\")","v":""},"","","",null,{"$f":"INDEX(Tabela.abordagens[],SMALL(IF(Tabela.abordagens[Mês]=$L$2,ROW(Tabela.abordagens[id])-2),ROW(A246)),1)","v":{"$error":"#NUM!"}},{"$f":"INDEX(Tabela.abordagens[],SMALL(IF(Tabela.abordagens[Mês]=$L$2,ROW(Tabela.abordagens[Idade])-2),ROW(A246)),6)","v":{"$error":"#NUM!"}},{"$f":"INDEX(Tabela.abordagens[],SMALL(IF(Tabela.abordagens[Mês]=$L$2,ROW(Tabela.abordagens[Idade])-2),ROW(A246)),4)","v":{"$error":"#NUM!"}},{"$f":"INDEX(Tabela.abordagens[],SMALL(IF(Tabela.abordagens[Mês]=$L$2,ROW(Tabela.abordagens[Idade])-2),ROW(A246)),5)","v":{"$error":"#NUM!"}}]
[null,{"$f":"INDEX(Tabela.frequencia[],SMALL(IF(Tabela.frequencia[Mês]=$L$2,ROW(Tabela.frequencia[id])-1),ROW(A247)),1)","v":{"$error":"#NUM!"}},{"$f":"INDEX(Tabela.frequencia[],SMALL(IF(Tabela.frequencia[Mês]=$L$2,ROW(Tabela.frequencia[id])-1),ROW(A247)),4)","v":{"$error":"#NUM!"}},null,{"$f":"IFERROR(VLOOKUP(D294,Tabela.cadastro[[ID]:[Nome]],2,0),\"\")","v":""},{"$f":"IFERROR(VLOOKUP(D294,Tabela66[#All],2,0),\"\")","v":""},{"$f":"IFERROR(VLOOKUP(D294,Tabela.cadastro[[ID]:[CP ou M]],5,0),\"\")","v":""},{"$f":"IFERROR(VLOOKUP(D294,Cadastros!A:F,6,0),\"\")","v":""},{"$f":"IFERROR(VLOOKUP(D294,Cadastros!A:I,9,0),\"\")","v":""},{"$f":"IFERROR(VLOOKUP(D294,Cadastros!A:J,10,0),\"\")","v":""},{"$f":"IF(COUNTIF(Tabela66[id],D294)=0,\"\",COUNTIF(Tabela66[id],D294))","v":""},null,"",null,null,{"$f":"IFERROR(VLOOKUP(O294,Cadastros!A:B,2),\"\")","v":""},"",{"$f":"IFERROR(VLOOKUP(O294,Cadastros!A:E,5,0),\"\")","v":""},{"$f":"IFERROR(VLOOKUP(O294,Cadastros!A:F,6,0),\"\")","v":""},{"$f":"IFERROR(VLOOKUP(O294,Cadastros!A:I,9,0),\"\")","v":""},"","","",null,{"$f":"INDEX(Tabela.abordagens[],SMALL(IF(Tabela.abordagens[Mês]=$L$2,ROW(Tabela.abordagens[id])-2),ROW(A247)),1)","v":{"$error":"#NUM!"}},{"$f":"INDEX(Tabela.abordagens[],SMALL(IF(Tabela.abordagens[Mês]=$L$2,ROW(Tabela.abordagens[Idade])-2),ROW(A247)),6)","v":{"$error":"#NUM!"}},{"$f":"INDEX(Tabela.abordagens[],SMALL(IF(Tabela.abordagens[Mês]=$L$2,ROW(Tabela.abordagens[Idade])-2),ROW(A247)),4)","v":{"$error":"#NUM!"}},{"$f":"INDEX(Tabela.abordagens[],SMALL(IF(Tabela.abordagens[Mês]=$L$2,ROW(Tabela.abordagens[Idade])-2),ROW(A247)),5)","v":{"$error":"#NUM!"}}]
[null,{"$f":"INDEX(Tabela.frequencia[],SMALL(IF(Tabela.frequencia[Mês]=$L$2,ROW(Tabela.frequencia[id])-1),ROW(A248)),1)","v":{"$error":"#NUM!"}},{"$f":"INDEX(Tabela.frequencia[],SMALL(IF(Tabela.frequencia[Mês]=$L$2,ROW(Tabela.frequencia[id])-1),ROW(A248)),4)","v":{"$error":"#NUM!"}},null,{"$f":"IFERROR(VLOOKUP(D295,Tabela.cadastro[[ID]:[Nome]],2,0),\"\")","v":""},{"$f":"IFERROR(VLOOKUP(D295,Tabela66[#All],2,0),\"\")","v":""},{"$f":"IFERROR(VLOOKUP(D295,Tabela.cadastro[[ID]:[CP ou M]],5,0),\"\")","v":""},{"$f":"IFERROR(VLOOKUP(D295,Cadastros!A:F,6,0),\"\")","v":""},{"$f":"IFERROR(VLOOKUP(D295,Cadastros!A:I,9,0),\"\")","v":""},{"$f":"IFERROR(VLOOKUP(D295,Cadastros!A:J,10,0),\"\")","v":""},{"$f":"IF(COUNTIF(Tabela66[id],D295)=0,\"\",COUNTIF(Tabela66[id],D295))","v":""},null,"",null,null,{"$f":"IFERROR(VLOOKUP(O295,Cadastros!A:B,2),\"\")","v":""},"",{"$f":"IFERROR(VLOOKUP(O295,Cadastros!A:E,5,0),\"\")","v":""},{"$f":"IFERROR(VLOOKUP(O295,Cadastros!A:F,6,0),\"\")","v":""},{"$f":"IFERROR(VLOOKUP(O295,Cadastros!A:I,9,0),\"\")","v":""},"","","",null,{"$f":"INDEX(Tabela.abordagens[],SMALL(IF(Tabela.abordagens[Mês]=$L$2,ROW(Tabela.abordagens[id])-2),ROW(A248)),1)","v":{"$error":"#NUM!"}},{"$f":"INDEX(Tabela.abordagens[],SMALL(IF(Tabela.abordagens[Mês]=$L$2,ROW(Tabela.abordagens[Idade])-2),ROW(A248)),6)","v":{"$error":"#NUM!"}},{"$f":"INDEX(Tabela.abordagens[],SMALL(IF(Tabela.abordagens[Mês]=$L$2,ROW(Tabela.abordagens[Idade])-2),ROW(A248)),4)","v":{"$error":"#NUM!"}},{"$f":"INDEX(Tabela.abordagens[],SMALL(IF(Tabela.abordagens[Mês]=$L$2,ROW(Tabela.abordagens[Idade])-2),ROW(A248)),5)","v":{"$error":"#NUM!"}}]
[null,{"$f":"INDEX(Tabela.frequencia[],SMALL(IF(Tabela.frequencia[Mês]=$L$2,ROW(Tabela.frequencia[id])-1),ROW(A249)),1)","v":{"$error":"#NUM!"}},{"$f":"INDEX(Tabela.frequencia[],SMALL(IF(Tabela.frequencia[Mês]=$L$2,ROW(Tabela.frequencia[id])-1),ROW(A249)),4)","v":{"$error":"#NUM!"}},null,{"$f":"IFERROR(VLOOKUP(D296,Tabela.cadastro[[ID]:[Nome]],2,0),\"\")","v":""},{"$f":"IFERROR(VLOOKUP(D296,Tabela66[#All],2,0),\"\")","v":""},{"$f":"IFERROR(VLOOKUP(D296,Tabela.cadastro[[ID]:[CP ou M]],5,0),\"\")","v":""},{"$f":"IFERROR(VLOOKUP(D296,Cadastros!A:F,6,0),\"\")","v":""},{"$f":"IFERROR(VLOOKUP(D296,Cadastros!A:I,9,0),\"\")","v":""},{"$f":"IFERROR(VLOOKUP(D296,Cadastros!A:J,10,0),\"\")","v":""},{"$f":"IF(COUNTIF(Tabela66[id],D296)=0,\"\",COUNTIF(Tabela66[id],D296))","v":""},null,"",null,null,{"$f":"IFERROR(VLOOKUP(O296,Cadastros!A:B,2),\"\")","v":""},"",{"$f":"IFERROR(VLOOKUP(O296,Cadastros!A:E,5,0),\"\")","v":""},{"$f":"IFERROR(VLOOKUP(O296,Cadastros!A:F,6,0),\"\")","v":""},{"$f":"IFERROR(VLOOKUP(O296,Cadastros!A:I,9,0),\"\")","v":""},"","","",null,{"$f":"INDEX(Tabela.abordagens[],SMALL(IF(Tabela.abordagens[Mês]=$L$2,ROW(Tabela.abordagens[id])-2),ROW(A249)),1)","v":{"$error":"#NUM!"}},{"$f":"INDEX(Tabela.abordagens[],SMALL(IF(Tabela.abordagens[Mês]=$L$2,ROW(Tabela.abordagens[Idade])-2),ROW(A249)),6)","v":{"$error":"#NUM!"}},{"$f":"INDEX(Tabela.abordagens[],SMALL(IF(Tabela.abordagens[Mês]=$L$2,ROW(Tabela.abordagens[Idade])-2),ROW(A249)),4)","v":{"$error":"#NUM!"}},{"$f":"INDEX(Tabela.abordagens[],SMALL(IF(Tabela.abordagens[Mês]=$L$2,ROW(Tabela.abordagens[Idade])-2),ROW(A249)),5)","v":{"$error":"#NUM!"}}]
[null,{"$f":"INDEX(Tabela.frequencia[],SMALL(IF(Tabela.frequencia[Mês]=$L$2,ROW(Tabela.frequencia[id])-1),ROW(A250)),1)","v":{"$error":"#NUM!"}},{"$f":"INDEX(Tabela.frequencia[],SMALL(IF(Tabela.frequencia[Mês]=$L$2,ROW(Tabela.frequencia[id])-1),ROW(A250)),4)","v":{"$error":"#NUM!"}},null,{"$f":"IFERROR(VLOOKUP(D297,Tabela.cadastro[[ID]:[Nome]],2,0),\"\")","v":""},{"$f":"IFERROR(VLOOKUP(D297,Tabela66[#All],2,0),\"\")","v":""},{"$f":"IFERROR(VLOOKUP(D297,Tabela.cadastro[[ID]:[CP ou M]],5,0),\"\")","v":""},{"$f":"IFERROR(VLOOKUP(D297,Cadastros!A:F,6,0),\"\")","v":""},{"$f":"IFERROR(VLOOKUP(D297,Cadastros!A:I,9,0),\"\")","v":""},{"$f":"IFERROR(VLOOKUP(D297,Cadastros!A:J,10,0),\"\")","v":""},{"$f":"IF(COUNTIF(Tabela66[id],D297)=0,\"\",COUNTIF(Tabela66[id],D297))","v":""},null,"",null,null,{"$f":"IFERROR(VLOOKUP(O297,Cadastros!A:B,2),\"\")","v":""},"",{"$f":"IFERROR(VLOOKUP(O297,Cadastros!A:E,5,0),\"\")","v":""},{"$f":"IFERROR(VLOOKUP(O297,Cadastros!A:F,6,0),\"\")","v":""},{"$f":"IFERROR(VLOOKUP(O297,Cadastros!A:I,9,0),\"\")","v":""},"","","",null,{"$f":"INDEX(Tabela.abordagens[],SMALL(IF(Tabela.abordagens[Mês]=$L$2,ROW(Tabela.abordagens[id])-2),ROW(A250)),1)","v":{"$error":"#NUM!"}},{"$f":"INDEX(Tabela.abordagens[],SMALL(IF(Tabela.abordagens[Mês]=$L$2,ROW(Tabela.abordagens[Idade])-2),ROW(A250)),6)","v":{"$error":"#NUM!"}},{"$f":"INDEX(Tabela.abordagens[],SMALL(IF(Tabela.abordagens[Mês]=$L$2,ROW(Tabela.abordagens[Idade])-2),ROW(A250)),4)","v":{"$error":"#NUM!"}},{"$f":"INDEX(Tabela.abordagens[],SMALL(IF(Tabela.abordagens[Mês]=$L$2,ROW(Tabela.abordagens[Idade])-2),ROW(A250)),5)","v":{"$error":"#NUM!"}}]
[null,{"$f":"INDEX(Tabela.frequencia[],SMALL(IF(Tabela.frequencia[Mês]=$L$2,ROW(Tabela.frequencia[id])-1),ROW(A251)),1)","v":{"$error":"#NUM!"}},{"$f":"INDEX(Tabela.frequencia[],SMALL(IF(Tabela.frequencia[Mês]=$L$2,ROW(Tabela.frequencia[id])-1),ROW(A251)),4)","v":{"$error":"#NUM!"}},null,{"$f":"IFERROR(VLOOKUP(D298,Tabela.cadastro[[ID]:[Nome]],2,0),\"\")","v":""},{"$f":"IFERROR(VLOOKUP(D298,Tabela66[#All],2,0),\"\")","v":""},{"$f":"IFERROR(VLOOKUP(D298,Tabela.cadastro[[ID]:[CP ou M]],5,0),\"\")","v":""},{"$f":"IFERROR(VLOOKUP(D298,Cadastros!A:F,6,0),\"\")","v":""},{"$f":"IFERROR(VLOOKUP(D298,Cadastros!A:I,9,0),\"\")","v":""},{"$f":"IFERROR(VLOOKUP(D298,Cadastros!A:J,10,0),\"\")","v":""},{"$f":"IF(COUNTIF(Tabela66[id],D298)=0,\"\",COUNTIF(Tabela66[id],D298))","v":""},null,{"$f":"IF(AND(K298:K1129>=5,L298:L1129=\"Não\"),\"*\",\"\")","v":""},null,null,{"$f":"IFERROR(VLOOKUP(O298,Cadastros!A:B,2),\"\")","v":""},"",{"$f":"IFERROR(VLOOKUP(O298,Cadastros!A:E,5,0),\"\")","v":""},{"$f":"IFERROR(VLOOKUP(O298,Cadastros!A:F,6,0),\"\")","v":""},{"$f":"IFERROR(VLOOKUP(O298,Cadastros!A:I,9,0),\"\")","v":""},"","","",null,{"$f":"INDEX(Tabela.abordagens[],SMALL(IF(Tabela.abordagens[Mês]=$L$2,ROW(Tabela.abordagens[id])-2),ROW(A251)),1)","v":{"$error":"#NUM!"}},{"$f":"INDEX(Tabela.abordagens[],SMALL(IF(Tabela.abordagens[Mês]=$L$2,ROW(Tabela.abordagens[Idade])-2),ROW(A251)),6)","v":{"$error":"#NUM!"}},{"$f":"INDEX(Tabela.abordagens[],SMALL(IF(Tabela.abordagens[Mês]=$L$2,ROW(Tabela.abordagens[Idade])-2),ROW(A251)),4)","v":{"$error":"#NUM!"}},{"$f":"INDEX(Tabela.abordagens[],SMALL(IF(Tabela.abordagens[Mês]=$L$2,ROW(Tabela.abordagens[Idade])-2),ROW(A251)),5)","v":{"$error":"#NUM!"}}]
[null,{"$f":"INDEX(Tabela.frequencia[],SMALL(IF(Tabela.frequencia[Mês]=$L$2,ROW(Tabela.frequencia[id])-1),ROW(A252)),1)","v":{"$error":"#NUM!"}},{"$f":"INDEX(Tabela.frequencia[],SMALL(IF(Tabela.frequencia[Mês]=$L$2,ROW(Tabela.frequencia[id])-1),ROW(A252)),4)","v":{"$error":"#NUM!"}},null,{"$f":"IFERROR(VLOOKUP(D299,Tabela.cadastro[[ID]:[Nome]],2,0),\"\")","v":""},{"$f":"IFERROR(VLOOKUP(D299,Tabela66[#All],2,0),\"\")","v":""},{"$f":"IFERROR(VLOOKUP(D299,Tabela.cadastro[[ID]:[CP ou M]],5,0),\"\")","v":""},{"$f":"IFERROR(VLOOKUP(D299,Cadastros!A:F,6,0),\"\")","v":""},{"$f":"IFERROR(VLOOKUP(D299,Cadastros!A:I,9,0),\"\")","v":""},{"$f":"IFERROR(VLOOKUP(D299,Cadastros!A:J,10,0),\"\")","v":""},{"$f":"IF(COUNTIF(Tabela66[id],D299)=0,\"\",COUNTIF(Tabela66[id],D299))","v":""},null,"",null,null,{"$f":"IFERROR(VLOOKUP(O299,Cadastros!A:B,2),\"\")","v":""},"",{"$f":"IFERROR(VLOOKUP(O299,Cadastros!A:E,5,0),\"\")","v":""},{"$f":"IFERROR(VLOOKUP(O299,Cadastros!A:F,6,0),\"\")","v":""},{"$f":"IFERROR(VLOOKUP(O299,Cadastros!A:I,9,0),\"\")","v":""},"","","",null,{"$f":"INDEX(Tabela.abordagens[],SMALL(IF(Tabela.abordagens[Mês]=$L$2,ROW(Tabela.abordagens[id])-2),ROW(A252)),1)","v":{"$error":"#NUM!"}},{"$f":"INDEX(Tabela.abordagens[],SMALL(IF(Tabela.abordagens[Mês]=$L$2,ROW(Tabela.abordagens[Idade])-2),ROW(A252)),6)","v":{"$error":"#NUM!"}},{"$f":"INDEX(Tabela.abordagens[],SMALL(IF(Tabela.abordagens[Mês]=$L$2,ROW(Tabela.abordagens[Idade])-2),ROW(A252)),4)","v":{"$error":"#NUM!"}},{"$f":"INDEX(Tabela.abordagens[],SMALL(IF(Tabela.abordagens[Mês]=$L$2,ROW(Tabela.abordagens[Idade])-2),ROW(A252)),5)","v":{"$error":"#NUM!"}}]
[null,{"$f":"INDEX(Tabela.frequencia[],SMALL(IF(Tabela.frequencia[Mês]=$L$2,ROW(Tabela.frequencia[id])-1),ROW(A253)),1)","v":{"$error":"#NUM!"}},{"$f":"INDEX(Tabela.frequencia[],SMALL(IF(Tabela.frequencia[Mês]=$L$2,ROW(Tabela.frequencia[id])-1),ROW(A253)),4)","v":{"$error":"#NUM!"}},null,{"$f":"IFERROR(VLOOKUP(D300,Tabela.cadastro[[ID]:[Nome]],2,0),\"\")","v":""},{"$f":"IFERROR(VLOOKUP(D300,Tabela66[#All],2,0),\"\")","v":""},{"$f":"IFERROR(VLOOKUP(D300,Tabela.cadastro[[ID]:[CP ou M]],5,0),\"\")","v":""},{"$f":"IFERROR(VLOOKUP(D300,Cadastros!A:F,6,0),\"\")","v":""},{"$f":"IFERROR(VLOOKUP(D300,Cadastros!A:I,9,0),\"\")","v":""},{"$f":"IFERROR(VLOOKUP(D300,Cadastros!A:J,10,0),\"\")","v":""},{"$f":"IF(COUNTIF(Tabela66[id],D300)=0,\"\",COUNTIF(Tabela66[id],D300))","v":""},null,"",null,null,{"$f":"IFERROR(VLOOKUP(O300,Cadastros!A:B,2),\"\")","v":""},"",{"$f":"IFERROR(VLOOKUP(O300,Cadastros!A:E,5,0),\"\")","v":""},{"$f":"IFERROR(VLOOKUP(O300,Cadastros!A:F,6,0),\"\")","v":""},{"$f":"IFERROR(VLOOKUP(O300,Cadastros!A:I,9,0),\"\")","v":""},"","","",null,{"$f":"INDEX(Tabela.abordagens[],SMALL(IF(Tabela.abordagens[Mês]=$L$2,ROW(Tabela.abordagens[id])-2),ROW(A253)),1)","v":{"$error":"#NUM!"}},{"$f":"INDEX(Tabela.abordagens[],SMALL(IF(Tabela.abordagens[Mês]=$L$2,ROW(Tabela.abordagens[Idade])-2),ROW(A253)),6)","v":{"$error":"#NUM!"}},{"$f":"INDEX(Tabela.abordagens[],SMALL(IF(Tabela.abordagens[Mês]=$L$2,ROW(Tabela.abordagens[Idade])-2),ROW(A253)),4)","v":{"$error":"#NUM!"}},{"$f":"INDEX(Tabela.abordagens[],SMALL(IF(Tabela.abordagens[Mês]=$L$2,ROW(Tabela.abordagens[Idade])-2),ROW(A253)),5)","v":{"$error":"#NUM!"}}]
[null,{"$f":"INDEX(Tabela.frequencia[],SMALL(IF(Tabela.frequencia[Mês]=$L$2,ROW(Tabela.frequencia[id])-1),ROW(A254)),1)","v":{"$error":"#NUM!"}},{"$f":"INDEX(Tabela.frequencia[],SMALL(IF(Tabela.frequencia[Mês]=$L$2,ROW(Tabela.frequencia[id])-1),ROW(A254)),4)","v":{"$error":"#NUM!"}},null,{"$f":"IFERROR(VLOOKUP(D301,Tabela.cadastro[[ID]:[Nome]],2,0),\"\")","v":""},{"$f":"IFERROR(VLOOKUP(D301,Tabela66[#All],2,0),\"\")","v":""},{"$f":"IFERROR(VLOOKUP(D301,Tabela.cadastro[[ID]:[CP ou M]],5,0),\"\")","v":""},{"$f":"IFERROR(VLOOKUP(D301,Cadastros!A:F,6,0),\"\")","v":""},{"$f":"IFERROR(VLOOKUP(D301,Cadastros!A:I,9,0),\"\")","v":""},{"$f":"IFERROR(VLOOKUP(D301,Cadastros!A:J,10,0),\"\")","v":""},{"$f":"IF(COUNTIF(Tabela66[id],D301)=0,\"\",COUNTIF(Tabela66[id],D301))","v":""},null,"",null,null,{"$f":"IFERROR(VLOOKUP(O301,Cadastros!A:B,2),\"\")","v":""},"",{"$f":"IFERROR(VLOOKUP(O301,Cadastros!A:E,5,0),\"\")","v":""},{"$f":"IFERROR(VLOOKUP(O301,Cadastros!A:F,6,0),\"\")","v":""},{"$f":"IFERROR(VLOOKUP(O301,Cadastros!A:I,9,0),\"\")","v":""},"","","",null,{"$f":"INDEX(Tabela.abordagens[],SMALL(IF(Tabela.abordagens[Mês]=$L$2,ROW(Tabela.abordagens[id])-2),ROW(A254)),1)","v":{"$error":"#NUM!"}},{"$f":"INDEX(Tabela.abordagens[],SMALL(IF(Tabela.abordagens[Mês]=$L$2,ROW(Tabela.abordagens[Idade])-2),ROW(A254)),6)","v":{"$error":"#NUM!"}},{"$f":"INDEX(Tabela.abordagens[],SMALL(IF(Tabela.abordagens[Mês]=$L$2,ROW(Tabela.abordagens[Idade])-2),ROW(A254)),4)","v":{"$error":"#NUM!"}},{"$f":"INDEX(Tabela.abordagens[],SMALL(IF(Tabela.abordagens[Mês]=$L$2,ROW(Tabela.abordagens[Idade])-2),ROW(A254)),5)","v":{"$error":"#NUM!"}}]
[null,{"$f":"INDEX(Tabela.frequencia[],SMALL(IF(Tabela.frequencia[Mês]=$L$2,ROW(Tabela.frequencia[id])-1),ROW(A255)),1)","v":{"$error":"#NUM!"}},{"$f":"INDEX(Tabela.frequencia[],SMALL(IF(Tabela.frequencia[Mês]=$L$2,ROW(Tabela.frequencia[id])-1),ROW(A255)),4)","v":{"$error":"#NUM!"}},null,{"$f":"IFERROR(VLOOKUP(D302,Tabela.cadastro[[ID]:[Nome]],2,0),\"\")","v":""},{"$f":"IFERROR(VLOOKUP(D302,Tabela66[#All],2,0),\"\")","v":""},{"$f":"IFERROR(VLOOKUP(D302,Tabela.cadastro[[ID]:[CP ou M]],5,0),\"\")","v":""},{"$f":"IFERROR(VLOOKUP(D302,Cadastros!A:F,6,0),\"\")","v":""},{"$f":"IFERROR(VLOOKUP(D302,Cadastros!A:I,9,0),\"\")","v":""},{"$f":"IFERROR(VLOOKUP(D302,Cadastros!A:J,10,0),\"\")","v":""},{"$f":"IF(COUNTIF(Tabela66[id],D302)=0,\"\",COUNTIF(Tabela66[id],D302))","v":""},null,"",null,null,{"$f":"IFERROR(VLOOKUP(O302,Cadastros!A:B,2),\"\")","v":""},"",{"$f":"IFERROR(VLOOKUP(O302,Cadastros!A:E,5,0),\"\")","v":""},{"$f":"IFERROR(VLOOKUP(O302,Cadastros!A:F,6,0),\"\")","v":""},{"$f":"IFERROR(VLOOKUP(O302,Cadastros!A:I,9,0),\"\")","v":""},"","","",null,{"$f":"INDEX(Tabela.abordagens[],SMALL(IF(Tabela.abordagens[Mês]=$L$2,ROW(Tabela.abordagens[id])-2),ROW(A255)),1)","v":{"$error":"#NUM!"}},{"$f":"INDEX(Tabela.abordagens[],SMALL(IF(Tabela.abordagens[Mês]=$L$2,ROW(Tabela.abordagens[Idade])-2),ROW(A255)),6)","v":{"$error":"#NUM!"}},{"$f":"INDEX(Tabela.abordagens[],SMALL(IF(Tabela.abordagens[Mês]=$L$2,ROW(Tabela.abordagens[Idade])-2),ROW(A255)),4)","v":{"$error":"#NUM!"}},{"$f":"INDEX(Tabela.abordagens[],SMALL(IF(Tabela.abordagens[Mês]=$L$2,ROW(Tabela.abordagens[Idade])-2),ROW(A255)),5)","v":{"$error":"#NUM!"}}]
[null,{"$f":"INDEX(Tabela.frequencia[],SMALL(IF(Tabela.frequencia[Mês]=$L$2,ROW(Tabela.frequencia[id])-1),ROW(A256)),1)","v":{"$error":"#NUM!"}},{"$f":"INDEX(Tabela.frequencia[],SMALL(IF(Tabela.frequencia[Mês]=$L$2,ROW(Tabela.frequencia[id])-1),ROW(A256)),4)","v":{"$error":"#NUM!"}},null,{"$f":"IFERROR(VLOOKUP(D303,Tabela.cadastro[[ID]:[Nome]],2,0),\"\")","v":""},{"$f":"IFERROR(VLOOKUP(D303,Tabela66[#All],2,0),\"\")","v":""},{"$f":"IFERROR(VLOOKUP(D303,Tabela.cadastro[[ID]:[CP ou M]],5,0),\"\")","v":""},{"$f":"IFERROR(VLOOKUP(D303,Cadastros!A:F,6,0),\"\")","v":""},{"$f":"IFERROR(VLOOKUP(D303,Cadastros!A:I,9,0),\"\")","v":""},{"$f":"IFERROR(VLOOKUP(D303,Cadastros!A:J,10,0),\"\")","v":""},{"$f":"IF(COUNTIF(Tabela66[id],D303)=0,\"\",COUNTIF(Tabela66[id],D303))","v":""},null,"",null,null,{"$f":"IFERROR(VLOOKUP(O303,Cadastros!A:B,2),\"\")","v":""},"",{"$f":"IFERROR(VLOOKUP(O303,Cadastros!A:E,5,0),\"\")","v":""},{"$f":"IFERROR(VLOOKUP(O303,Cadastros!A:F,6,0),\"\")","v":""},{"$f":"IFERROR(VLOOKUP(O303,Cadastros!A:I,9,0),\"\")","v":""},"","","",null,{"$f":"INDEX(Tabela.abordagens[],SMALL(IF(Tabela.abordagens[Mês]=$L$2,ROW(Tabela.abordagens[id])-2),ROW(A256)),1)","v":{"$error":"#NUM!"}},{"$f":"INDEX(Tabela.abordagens[],SMALL(IF(Tabela.abordagens[Mês]=$L$2,ROW(Tabela.abordagens[Idade])-2),ROW(A256)),6)","v":{"$error":"#NUM!"}},{"$f":"INDEX(Tabela.abordagens[],SMALL(IF(Tabela.abordagens[Mês]=$L$2,ROW(Tabela.abordagens[Idade])-2),ROW(A256)),4)","v":{"$error":"#NUM!"}},{"$f":"INDEX(Tabela.abordagens[],SMALL(IF(Tabela.abordagens[Mês]=$L$2,ROW(Tabela.abordagens[Idade])-2),ROW(A256)),5)","v":{"$error":"#NUM!"}}]
[null,{"$f":"INDEX(Tabela.frequencia[],SMALL(IF(Tabela.frequencia[Mês]=$L$2,ROW(Tabela.frequencia[id])-1),ROW(A257)),1)","v":{"$error":"#NUM!"}},{"$f":"INDEX(Tabela.frequencia[],SMALL(IF(Tabela.frequencia[Mês]=$L$2,ROW(Tabela.frequencia[id])-1),ROW(A257)),4)","v":{"$error":"#NUM!"}},null,{"$f":"IFERROR(VLOOKUP(D304,Tabela.cadastro[[ID]:[Nome]],2,0),\"\")","v":""},{"$f":"IFERROR(VLOOKUP(D304,Tabela66[#All],2,0),\"\")","v":""},{"$f":"IFERROR(VLOOKUP(D304,Tabela.cadastro[[ID]:[CP ou M]],5,0),\"\")","v":""},{"$f":"IFERROR(VLOOKUP(D304,Cadastros!A:F,6,0),\"\")","v":""},{"$f":"IFERROR(VLOOKUP(D304,Cadastros!A:I,9,0),\"\")","v":""},{"$f":"IFERROR(VLOOKUP(D304,Cadastros!A:J,10,0),\"\")","v":""},{"$f":"IF(COUNTIF(Tabela66[id],D304)=0,\"\",COUNTIF(Tabela66[id],D304))","v":""},null,"",null,null,{"$f":"IFERROR(VLOOKUP(O304,Cadastros!A:B,2),\"\")","v":""},"",{"$f":"IFERROR(VLOOKUP(O304,Cadastros!A:E,5,0),\"\")","v":""},{"$f":"IFERROR(VLOOKUP(O304,Cadastros!A:F,6,0),\"\")","v":""},{"$f":"IFERROR(VLOOKUP(O304,Cadastros!A:I,9,0),\"\")","v":""},"","","",null,{"$f":"INDEX(Tabela.abordagens[],SMALL(IF(Tabela.abordagens[Mês]=$L$2,ROW(Tabela.abordagens[id])-2),ROW(A257)),1)","v":{"$error":"#NUM!"}},{"$f":"INDEX(Tabela.abordagens[],SMALL(IF(Tabela.abordagens[Mês]=$L$2,ROW(Tabela.abordagens[Idade])-2),ROW(A257)),6)","v":{"$error":"#NUM!"}},{"$f":"INDEX(Tabela.abordagens[],SMALL(IF(Tabela.abordagens[Mês]=$L$2,ROW(Tabela.abordagens[Idade])-2),ROW(A257)),4)","v":{"$error":"#NUM!"}},{"$f":"INDEX(Tabela.abordagens[],SMALL(IF(Tabela.abordagens[Mês]=$L$2,ROW(Tabela.abordagens[Idade])-2),ROW(A257)),5)","v":{"$error":"#NUM!"}}]
[null,{"$f":"INDEX(Tabela.frequencia[],SMALL(IF(Tabela.frequencia[Mês]=$L$2,ROW(Tabela.frequencia[id])-1),ROW(A258)),1)","v":{"$error":"#NUM!"}},{"$f":"INDEX(Tabela.frequencia[],SMALL(IF(Tabela.frequencia[Mês]=$L$2,ROW(Tabela.frequencia[id])-1),ROW(A258)),4)","v":{"$error":"#NUM!"}},null,{"$f":"IFERROR(VLOOKUP(D305,Tabela.cadastro[[ID]:[Nome]],2,0),\"\")","v":""},{"$f":"IFERROR(VLOOKUP(D305,Tabela66[#All],2,0),\"\")","v":""},{"$f":"IFERROR(VLOOKUP(D305,Tabela.cadastro[[ID]:[CP ou M]],5,0),\"\")","v":""},{"$f":"IFERROR(VLOOKUP(D305,Cadastros!A:F,6,0),\"\")","v":""},{"$f":"IFERROR(VLOOKUP(D305,Cadastros!A:I,9,0),\"\")","v":""},{"$f":"IFERROR(VLOOKUP(D305,Cadastros!A:J,10,0),\"\")","v":""},{"$f":"IF(COUNTIF(Tabela66[id],D305)=0,\"\",COUNTIF(Tabela66[id],D305))","v":""},null,"",null,null,{"$f":"IFERROR(VLOOKUP(O305,Cadastros!A:B,2),\"\")","v":""},"",{"$f":"IFERROR(VLOOKUP(O305,Cadastros!A:E,5,0),\"\")","v":""},{"$f":"IFERROR(VLOOKUP(O305,Cadastros!A:F,6,0),\"\")","v":""},{"$f":"IFERROR(VLOOKUP(O305,Cadastros!A:I,9,0),\"\")","v":""},"","","",null,{"$f":"INDEX(Tabela.abordagens[],SMALL(IF(Tabela.abordagens[Mês]=$L$2,ROW(Tabela.abordagens[id])-2),ROW(A258)),1)","v":{"$error":"#NUM!"}},{"$f":"INDEX(Tabela.abordagens[],SMALL(IF(Tabela.abordagens[Mês]=$L$2,ROW(Tabela.abordagens[Idade])-2),ROW(A258)),6)","v":{"$error":"#NUM!"}},{"$f":"INDEX(Tabela.abordagens[],SMALL(IF(Tabela.abordagens[Mês]=$L$2,ROW(Tabela.abordagens[Idade])-2),ROW(A258)),4)","v":{"$error":"#NUM!"}},{"$f":"INDEX(Tabela.abordagens[],SMALL(IF(Tabela.abordagens[Mês]=$L$2,ROW(Tabela.abordagens[Idade])-2),ROW(A258)),5)","v":{"$error":"#NUM!"}}]
[null,{"$f":"INDEX(Tabela.frequencia[],SMALL(IF(Tabela.frequencia[Mês]=$L$2,ROW(Tabela.frequencia[id])-1),ROW(A259)),1)","v":{"$error":"#NUM!"}},{"$f":"INDEX(Tabela.frequencia[],SMALL(IF(Tabela.frequencia[Mês]=$L$2,ROW(Tabela.frequencia[id])-1),ROW(A259)),4)","v":{"$error":"#NUM!"}},null,{"$f":"IFERROR(VLOOKUP(D306,Tabela.cadastro[[ID]:[Nome]],2,0),\"\")","v":""},{"$f":"IFERROR(VLOOKUP(D306,Tabela66[#All],2,0),\"\")","v":""},{"$f":"IFERROR(VLOOKUP(D306,Tabela.cadastro[[ID]:[CP ou M]],5,0),\"\")","v":""},{"$f":"IFERROR(VLOOKUP(D306,Cadastros!A:F,6,0),\"\")","v":""},{"$f":"IFERROR(VLOOKUP(D306,Cadastros!A:I,9,0),\"\")","v":""},{"$f":"IFERROR(VLOOKUP(D306,Cadastros!A:J,10,0),\"\")","v":""},{"$f":"IF(COUNTIF(Tabela66[id],D306)=0,\"\",COUNTIF(Tabela66[id],D306))","v":""},null,"",null,null,{"$f":"IFERROR(VLOOKUP(O306,Cadastros!A:B,2),\"\")","v":""},"",{"$f":"IFERROR(VLOOKUP(O306,Cadastros!A:E,5,0),\"\")","v":""},{"$f":"IFERROR(VLOOKUP(O306,Cadastros!A:F,6,0),\"\")","v":""},{"$f":"IFERROR(VLOOKUP(O306,Cadastros!A:I,9,0),\"\")","v":""},"","","",null,{"$f":"INDEX(Tabela.abordagens[],SMALL(IF(Tabela.abordagens[Mês]=$L$2,ROW(Tabela.abordagens[id])-2),ROW(A259)),1)","v":{"$error":"#NUM!"}},{"$f":"INDEX(Tabela.abordagens[],SMALL(IF(Tabela.abordagens[Mês]=$L$2,ROW(Tabela.abordagens[Idade])-2),ROW(A259)),6)","v":{"$error":"#NUM!"}},{"$f":"INDEX(Tabela.abordagens[],SMALL(IF(Tabela.abordagens[Mês]=$L$2,ROW(Tabela.abordagens[Idade])-2),ROW(A259)),4)","v":{"$error":"#NUM!"}},{"$f":"INDEX(Tabela.abordagens[],SMALL(IF(Tabela.abordagens[Mês]=$L$2,ROW(Tabela.abordagens[Idade])-2),ROW(A259)),5)","v":{"$error":"#NUM!"}}]
[null,{"$f":"INDEX(Tabela.frequencia[],SMALL(IF(Tabela.frequencia[Mês]=$L$2,ROW(Tabela.frequencia[id])-1),ROW(A260)),1)","v":{"$error":"#NUM!"}},{"$f":"INDEX(Tabela.frequencia[],SMALL(IF(Tabela.frequencia[Mês]=$L$2,ROW(Tabela.frequencia[id])-1),ROW(A260)),4)","v":{"$error":"#NUM!"}},null,{"$f":"IFERROR(VLOOKUP(D307,Tabela.cadastro[[ID]:[Nome]],2,0),\"\")","v":""},{"$f":"IFERROR(VLOOKUP(D307,Tabela66[#All],2,0),\"\")","v":""},{"$f":"IFERROR(VLOOKUP(D307,Tabela.cadastro[[ID]:[CP ou M]],5,0),\"\")","v":""},{"$f":"IFERROR(VLOOKUP(D307,Cadastros!A:F,6,0),\"\")","v":""},{"$f":"IFERROR(VLOOKUP(D307,Cadastros!A:I,9,0),\"\")","v":""},{"$f":"IFERROR(VLOOKUP(D307,Cadastros!A:J,10,0),\"\")","v":""},{"$f":"IF(COUNTIF(Tabela66[id],D307)=0,\"\",COUNTIF(Tabela66[id],D307))","v":""},null,"",null,null,{"$f":"IFERROR(VLOOKUP(O307,Cadastros!A:B,2),\"\")","v":""},"",{"$f":"IFERROR(VLOOKUP(O307,Cadastros!A:E,5,0),\"\")","v":""},{"$f":"IFERROR(VLOOKUP(O307,Cadastros!A:F,6,0),\"\")","v":""},{"$f":"IFERROR(VLOOKUP(O307,Cadastros!A:I,9,0),\"\")","v":""},"","","",null,{"$f":"INDEX(Tabela.abordagens[],SMALL(IF(Tabela.abordagens[Mês]=$L$2,ROW(Tabela.abordagens[id])-2),ROW(A260)),1)","v":{"$error":"#NUM!"}},{"$f":"INDEX(Tabela.abordagens[],SMALL(IF(Tabela.abordagens[Mês]=$L$2,ROW(Tabela.abordagens[Idade])-2),ROW(A260)),6)","v":{"$error":"#NUM!"}},{"$f":"INDEX(Tabela.abordagens[],SMALL(IF(Tabela.abordagens[Mês]=$L$2,ROW(Tabela.abordagens[Idade])-2),ROW(A260)),4)","v":{"$error":"#NUM!"}},{"$f":"INDEX(Tabela.abordagens[],SMALL(IF(Tabela.abordagens[Mês]=$L$2,ROW(Tabela.abordagens[Idade])-2),ROW(A260)),5)","v":{"$error":"#NUM!"}}]
[null,{"$f":"INDEX(Tabela.frequencia[],SMALL(IF(Tabela.frequencia[Mês]=$L$2,ROW(Tabela.frequencia[id])-1),ROW(A261)),1)","v":{"$error":"#NUM!"}},{"$f":"INDEX(Tabela.frequencia[],SMALL(IF(Tabela.frequencia[Mês]=$L$2,ROW(Tabela.frequencia[id])-1),ROW(A261)),4)","v":{"$error":"#NUM!"}},null,{"$f":"IFERROR(VLOOKUP(D308,Tabela.cadastro[[ID]:[Nome]],2,0),\"\")","v":""},{"$f":"IFERROR(VLOOKUP(D308,Tabela66[#All],2,0),\"\")","v":""},{"$f":"IFERROR(VLOOKUP(D308,Tabela.cadastro[[ID]:[CP ou M]],5,0),\"\")","v":""},{"$f":"IFERROR(VLOOKUP(D308,Cadastros!A:F,6,0),\"\")","v":""},{"$f":"IFERROR(VLOOKUP(D308,Cadastros!A:I,9,0),\"\")","v":""},{"$f":"IFERROR(VLOOKUP(D308,Cadastros!A:J,10,0),\"\")","v":""},{"$f":"IF(COUNTIF(Tabela66[id],D308)=0,\"\",COUNTIF(Tabela66[id],D308))","v":""},null,"",null,null,{"$f":"IFERROR(VLOOKUP(O308,Cadastros!A:B,2),\"\")","v":""},"",{"$f":"IFERROR(VLOOKUP(O308,Cadastros!A:E,5,0),\"\")","v":""},{"$f":"IFERROR(VLOOKUP(O308,Cadastros!A:F,6,0),\"\")","v":""},{"$f":"IFERROR(VLOOKUP(O308,Cadastros!A:I,9,0),\"\")","v":""},"","","",null,{"$f":"INDEX(Tabela.abordagens[],SMALL(IF(Tabela.abordagens[Mês]=$L$2,ROW(Tabela.abordagens[id])-2),ROW(A261)),1)","v":{"$error":"#NUM!"}},{"$f":"INDEX(Tabela.abordagens[],SMALL(IF(Tabela.abordagens[Mês]=$L$2,ROW(Tabela.abordagens[Idade])-2),ROW(A261)),6)","v":{"$error":"#NUM!"}},{"$f":"INDEX(Tabela.abordagens[],SMALL(IF(Tabela.abordagens[Mês]=$L$2,ROW(Tabela.abordagens[Idade])-2),ROW(A261)),4)","v":{"$error":"#NUM!"}},{"$f":"INDEX(Tabela.abordagens[],SMALL(IF(Tabela.abordagens[Mês]=$L$2,ROW(Tabela.abordagens[Idade])-2),ROW(A261)),5)","v":{"$error":"#NUM!"}}]
[null,{"$f":"INDEX(Tabela.frequencia[],SMALL(IF(Tabela.frequencia[Mês]=$L$2,ROW(Tabela.frequencia[id])-1),ROW(A262)),1)","v":{"$error":"#NUM!"}},{"$f":"INDEX(Tabela.frequencia[],SMALL(IF(Tabela.frequencia[Mês]=$L$2,ROW(Tabela.frequencia[id])-1),ROW(A262)),4)","v":{"$error":"#NUM!"}},null,{"$f":"IFERROR(VLOOKUP(D309,Tabela.cadastro[[ID]:[Nome]],2,0),\"\")","v":""},{"$f":"IFERROR(VLOOKUP(D309,Tabela66[#All],2,0),\"\")","v":""},{"$f":"IFERROR(VLOOKUP(D309,Tabela.cadastro[[ID]:[CP ou M]],5,0),\"\")","v":""},{"$f":"IFERROR(VLOOKUP(D309,Cadastros!A:F,6,0),\"\")","v":""},{"$f":"IFERROR(VLOOKUP(D309,Cadastros!A:I,9,0),\"\")","v":""},{"$f":"IFERROR(VLOOKUP(D309,Cadastros!A:J,10,0),\"\")","v":""},{"$f":"IF(COUNTIF(Tabela66[id],D309)=0,\"\",COUNTIF(Tabela66[id],D309))","v":""},null,"",null,null,{"$f":"IFERROR(VLOOKUP(O309,Cadastros!A:B,2),\"\")","v":""},"",{"$f":"IFERROR(VLOOKUP(O309,Cadastros!A:E,5,0),\"\")","v":""},{"$f":"IFERROR(VLOOKUP(O309,Cadastros!A:F,6,0),\"\")","v":""},{"$f":"IFERROR(VLOOKUP(O309,Cadastros!A:I,9,0),\"\")","v":""},"","","",null,{"$f":"INDEX(Tabela.abordagens[],SMALL(IF(Tabela.abordagens[Mês]=$L$2,ROW(Tabela.abordagens[id])-2),ROW(A262)),1)","v":{"$error":"#NUM!"}},{"$f":"INDEX(Tabela.abordagens[],SMALL(IF(Tabela.abordagens[Mês]=$L$2,ROW(Tabela.abordagens[Idade])-2),ROW(A262)),6)","v":{"$error":"#NUM!"}},{"$f":"INDEX(Tabela.abordagens[],SMALL(IF(Tabela.abordagens[Mês]=$L$2,ROW(Tabela.abordagens[Idade])-2),ROW(A262)),4)","v":{"$error":"#NUM!"}},{"$f":"INDEX(Tabela.abordagens[],SMALL(IF(Tabela.abordagens[Mês]=$L$2,ROW(Tabela.abordagens[Idade])-2),ROW(A262)),5)","v":{"$error":"#NUM!"}}]
[null,{"$f":"INDEX(Tabela.frequencia[],SMALL(IF(Tabela.frequencia[Mês]=$L$2,ROW(Tabela.frequencia[id])-1),ROW(A263)),1)","v":{"$error":"#NUM!"}},{"$f":"INDEX(Tabela.frequencia[],SMALL(IF(Tabela.frequencia[Mês]=$L$2,ROW(Tabela.frequencia[id])-1),ROW(A263)),4)","v":{"$error":"#NUM!"}},null,{"$f":"IFERROR(VLOOKUP(D310,Tabela.cadastro[[ID]:[Nome]],2,0),\"\")","v":""},{"$f":"IFERROR(VLOOKUP(D310,Tabela66[#All],2,0),\"\")","v":""},{"$f":"IFERROR(VLOOKUP(D310,Tabela.cadastro[[ID]:[CP ou M]],5,0),\"\")","v":""},{"$f":"IFERROR(VLOOKUP(D310,Cadastros!A:F,6,0),\"\")","v":""},{"$f":"IFERROR(VLOOKUP(D310,Cadastros!A:I,9,0),\"\")","v":""},{"$f":"IFERROR(VLOOKUP(D310,Cadastros!A:J,10,0),\"\")","v":""},{"$f":"IF(COUNTIF(Tabela66[id],D310)=0,\"\",COUNTIF(Tabela66[id],D310))","v":""},null,"",null,null,{"$f":"IFERROR(VLOOKUP(O310,Cadastros!A:B,2),\"\")","v":""},"",{"$f":"IFERROR(VLOOKUP(O310,Cadastros!A:E,5,0),\"\")","v":""},{"$f":"IFERROR(VLOOKUP(O310,Cadastros!A:F,6,0),\"\")","v":""},{"$f":"IFERROR(VLOOKUP(O310,Cadastros!A:I,9,0),\"\")","v":""},"","","",null,{"$f":"INDEX(Tabela.abordagens[],SMALL(IF(Tabela.abordagens[Mês]=$L$2,ROW(Tabela.abordagens[id])-2),ROW(A263)),1)","v":{"$error":"#NUM!"}},{"$f":"INDEX(Tabela.abordagens[],SMALL(IF(Tabela.abordagens[Mês]=$L$2,ROW(Tabela.abordagens[Idade])-2),ROW(A263)),6)","v":{"$error":"#NUM!"}},{"$f":"INDEX(Tabela.abordagens[],SMALL(IF(Tabela.abordagens[Mês]=$L$2,ROW(Tabela.abordagens[Idade])-2),ROW(A263)),4)","v":{"$error":"#NUM!"}},{"$f":"INDEX(Tabela.abordagens[],SMALL(IF(Tabela.abordagens[Mês]=$L$2,ROW(Tabela.abordagens[Idade])-2),ROW(A263)),5)","v":{"$error":"#NUM!"}}]
[null,{"$f":"INDEX(Tabela.frequencia[],SMALL(IF(Tabela.frequencia[Mês]=$L$2,ROW(Tabela.frequencia[id])-1),ROW(A264)),1)","v":{"$error":"#NUM!"}},{"$f":"INDEX(Tabela.frequencia[],SMALL(IF(Tabela.frequencia[Mês]=$L$2,ROW(Tabela.frequencia[id])-1),ROW(A264)),4)","v":{"$error":"#NUM!"}},null,{"$f":"IFERROR(VLOOKUP(D311,Tabela.cadastro[[ID]:[Nome]],2,0),\"\")","v":""},{"$f":"IFERROR(VLOOKUP(D311,Tabela66[#All],2,0),\"\")","v":""},{"$f":"IFERROR(VLOOKUP(D311,Tabela.cadastro[[ID]:[CP ou M]],5,0),\"\")","v":""},{"$f":"IFERROR(VLOOKUP(D311,Cadastros!A:F,6,0),\"\")","v":""},{"$f":"IFERROR(VLOOKUP(D311,Cadastros!A:I,9,0),\"\")","v":""},{"$f":"IFERROR(VLOOKUP(D311,Cadastros!A:J,10,0),\"\")","v":""},{"$f":"IF(COUNTIF(Tabela66[id],D311)=0,\"\",COUNTIF(Tabela66[id],D311))","v":""},null,"",null,null,{"$f":"IFERROR(VLOOKUP(O311,Cadastros!A:B,2),\"\")","v":""},"",{"$f":"IFERROR(VLOOKUP(O311,Cadastros!A:E,5,0),\"\")","v":""},{"$f":"IFERROR(VLOOKUP(O311,Cadastros!A:F,6,0),\"\")","v":""},{"$f":"IFERROR(VLOOKUP(O311,Cadastros!A:I,9,0),\"\")","v":""},"","","",null,{"$f":"INDEX(Tabela.abordagens[],SMALL(IF(Tabela.abordagens[Mês]=$L$2,ROW(Tabela.abordagens[id])-2),ROW(A264)),1)","v":{"$error":"#NUM!"}},{"$f":"INDEX(Tabela.abordagens[],SMALL(IF(Tabela.abordagens[Mês]=$L$2,ROW(Tabela.abordagens[Idade])-2),ROW(A264)),6)","v":{"$error":"#NUM!"}},{"$f":"INDEX(Tabela.abordagens[],SMALL(IF(Tabela.abordagens[Mês]=$L$2,ROW(Tabela.abordagens[Idade])-2),ROW(A264)),4)","v":{"$error":"#NUM!"}},{"$f":"INDEX(Tabela.abordagens[],SMALL(IF(Tabela.abordagens[Mês]=$L$2,ROW(Tabela.abordagens[Idade])-2),ROW(A264)),5)","v":{"$error":"#NUM!"}}]
[null,{"$f":"INDEX(Tabela.frequencia[],SMALL(IF(Tabela.frequencia[Mês]=$L$2,ROW(Tabela.frequencia[id])-1),ROW(A265)),1)","v":{"$error":"#NUM!"}},{"$f":"INDEX(Tabela.frequencia[],SMALL(IF(Tabela.frequencia[Mês]=$L$2,ROW(Tabela.frequencia[id])-1),ROW(A265)),4)","v":{"$error":"#NUM!"}},null,{"$f":"IFERROR(VLOOKUP(D312,Tabela.cadastro[[ID]:[Nome]],2,0),\"\")","v":""},{"$f":"IFERROR(VLOOKUP(D312,Tabela66[#All],2,0),\"\")","v":""},{"$f":"IFERROR(VLOOKUP(D312,Tabela.cadastro[[ID]:[CP ou M]],5,0),\"\")","v":""},{"$f":"IFERROR(VLOOKUP(D312,Cadastros!A:F,6,0),\"\")","v":""},{"$f":"IFERROR(VLOOKUP(D312,Cadastros!A:I,9,0),\"\")","v":""},{"$f":"IFERROR(VLOOKUP(D312,Cadastros!A:J,10,0),\"\")","v":""},{"$f":"IF(COUNTIF(Tabela66[id],D312)=0,\"\",COUNTIF(Tabela66[id],D312))","v":""},null,"",null,null,{"$f":"IFERROR(VLOOKUP(O312,Cadastros!A:B,2),\"\")","v":""},"",{"$f":"IFERROR(VLOOKUP(O312,Cadastros!A:E,5,0),\"\")","v":""},{"$f":"IFERROR(VLOOKUP(O312,Cadastros!A:F,6,0),\"\")","v":""},{"$f":"IFERROR(VLOOKUP(O312,Cadastros!A:I,9,0),\"\")","v":""},"","","",null,{"$f":"INDEX(Tabela.abordagens[],SMALL(IF(Tabela.abordagens[Mês]=$L$2,ROW(Tabela.abordagens[id])-2),ROW(A265)),1)","v":{"$error":"#NUM!"}},{"$f":"INDEX(Tabela.abordagens[],SMALL(IF(Tabela.abordagens[Mês]=$L$2,ROW(Tabela.abordagens[Idade])-2),ROW(A265)),6)","v":{"$error":"#NUM!"}},{"$f":"INDEX(Tabela.abordagens[],SMALL(IF(Tabela.abordagens[Mês]=$L$2,ROW(Tabela.abordagens[Idade])-2),ROW(A265)),4)","v":{"$error":"#NUM!"}},{"$f":"INDEX(Tabela.abordagens[],SMALL(IF(Tabela.abordagens[Mês]=$L$2,ROW(Tabela.abordagens[Idade])-2),ROW(A265)),5)","v":{"$error":"#NUM!"}}]
[null,{"$f":"INDEX(Tabela.frequencia[],SMALL(IF(Tabela.frequencia[Mês]=$L$2,ROW(Tabela.frequencia[id])-1),ROW(A266)),1)","v":{"$error":"#NUM!"}},{"$f":"INDEX(Tabela.frequencia[],SMALL(IF(Tabela.frequencia[Mês]=$L$2,ROW(Tabela.frequencia[id])-1),ROW(A266)),4)","v":{"$error":"#NUM!"}},null,{"$f":"IFERROR(VLOOKUP(D313,Tabela.cadastro[[ID]:[Nome]],2,0),\"\")","v":""},{"$f":"IFERROR(VLOOKUP(D313,Tabela66[#All],2,0),\"\")","v":""},{"$f":"IFERROR(VLOOKUP(D313,Tabela.cadastro[[ID]:[CP ou M]],5,0),\"\")","v":""},{"$f":"IFERROR(VLOOKUP(D313,Cadastros!A:F,6,0),\"\")","v":""},{"$f":"IFERROR(VLOOKUP(D313,Cadastros!A:I,9,0),\"\")","v":""},{"$f":"IFERROR(VLOOKUP(D313,Cadastros!A:J,10,0),\"\")","v":""},{"$f":"IF(COUNTIF(Tabela66[id],D313)=0,\"\",COUNTIF(Tabela66[id],D313))","v":""},null,"",null,null,{"$f":"IFERROR(VLOOKUP(O313,Cadastros!A:B,2),\"\")","v":""},"",{"$f":"IFERROR(VLOOKUP(O313,Cadastros!A:E,5,0),\"\")","v":""},{"$f":"IFERROR(VLOOKUP(O313,Cadastros!A:F,6,0),\"\")","v":""},{"$f":"IFERROR(VLOOKUP(O313,Cadastros!A:I,9,0),\"\")","v":""},"","","",null,{"$f":"INDEX(Tabela.abordagens[],SMALL(IF(Tabela.abordagens[Mês]=$L$2,ROW(Tabela.abordagens[id])-2),ROW(A266)),1)","v":{"$error":"#NUM!"}},{"$f":"INDEX(Tabela.abordagens[],SMALL(IF(Tabela.abordagens[Mês]=$L$2,ROW(Tabela.abordagens[Idade])-2),ROW(A266)),6)","v":{"$error":"#NUM!"}},{"$f":"INDEX(Tabela.abordagens[],SMALL(IF(Tabela.abordagens[Mês]=$L$2,ROW(Tabela.abordagens[Idade])-2),ROW(A266)),4)","v":{"$error":"#NUM!"}},{"$f":"INDEX(Tabela.abordagens[],SMALL(IF(Tabela.abordagens[Mês]=$L$2,ROW(Tabela.abordagens[Idade])-2),ROW(A266)),5)","v":{"$error":"#NUM!"}}]
[null,{"$f":"INDEX(Tabela.frequencia[],SMALL(IF(Tabela.frequencia[Mês]=$L$2,ROW(Tabela.frequencia[id])-1),ROW(A267)),1)","v":{"$error":"#NUM!"}},{"$f":"INDEX(Tabela.frequencia[],SMALL(IF(Tabela.frequencia[Mês]=$L$2,ROW(Tabela.frequencia[id])-1),ROW(A267)),4)","v":{"$error":"#NUM!"}},null,{"$f":"IFERROR(VLOOKUP(D314,Tabela.cadastro[[ID]:[Nome]],2,0),\"\")","v":""},{"$f":"IFERROR(VLOOKUP(D314,Tabela66[#All],2,0),\"\")","v":""},{"$f":"IFERROR(VLOOKUP(D314,Tabela.cadastro[[ID]:[CP ou M]],5,0),\"\")","v":""},{"$f":"IFERROR(VLOOKUP(D314,Cadastros!A:F,6,0),\"\")","v":""},{"$f":"IFERROR(VLOOKUP(D314,Cadastros!A:I,9,0),\"\")","v":""},{"$f":"IFERROR(VLOOKUP(D314,Cadastros!A:J,10,0),\"\")","v":""},{"$f":"IF(COUNTIF(Tabela66[id],D314)=0,\"\",COUNTIF(Tabela66[id],D314))","v":""},null,"",null,null,{"$f":"IFERROR(VLOOKUP(O314,Cadastros!A:B,2),\"\")","v":""},"",{"$f":"IFERROR(VLOOKUP(O314,Cadastros!A:E,5,0),\"\")","v":""},{"$f":"IFERROR(VLOOKUP(O314,Cadastros!A:F,6,0),\"\")","v":""},{"$f":"IFERROR(VLOOKUP(O314,Cadastros!A:I,9,0),\"\")","v":""},"","","",null,{"$f":"INDEX(Tabela.abordagens[],SMALL(IF(Tabela.abordagens[Mês]=$L$2,ROW(Tabela.abordagens[id])-2),ROW(A267)),1)","v":{"$error":"#NUM!"}},{"$f":"INDEX(Tabela.abordagens[],SMALL(IF(Tabela.abordagens[Mês]=$L$2,ROW(Tabela.abordagens[Idade])-2),ROW(A267)),6)","v":{"$error":"#NUM!"}},{"$f":"INDEX(Tabela.abordagens[],SMALL(IF(Tabela.abordagens[Mês]=$L$2,ROW(Tabela.abordagens[Idade])-2),ROW(A267)),4)","v":{"$error":"#NUM!"}},{"$f":"INDEX(Tabela.abordagens[],SMALL(IF(Tabela.abordagens[Mês]=$L$2,ROW(Tabela.abordagens[Idade])-2),ROW(A267)),5)","v":{"$error":"#NUM!"}}]
[null,{"$f":"INDEX(Tabela.frequencia[],SMALL(IF(Tabela.frequencia[Mês]=$L$2,ROW(Tabela.frequencia[id])-1),ROW(A268)),1)","v":{"$error":"#NUM!"}},{"$f":"INDEX(Tabela.frequencia[],SMALL(IF(Tabela.frequencia[Mês]=$L$2,ROW(Tabela.frequencia[id])-1),ROW(A268)),4)","v":{"$error":"#NUM!"}},null,{"$f":"IFERROR(VLOOKUP(D315,Tabela.cadastro[[ID]:[Nome]],2,0),\"\")","v":""},{"$f":"IFERROR(VLOOKUP(D315,Tabela66[#All],2,0),\"\")","v":""},{"$f":"IFERROR(VLOOKUP(D315,Tabela.cadastro[[ID]:[CP ou M]],5,0),\"\")","v":""},{"$f":"IFERROR(VLOOKUP(D315,Cadastros!A:F,6,0),\"\")","v":""},{"$f":"IFERROR(VLOOKUP(D315,Cadastros!A:I,9,0),\"\")","v":""},{"$f":"IFERROR(VLOOKUP(D315,Cadastros!A:J,10,0),\"\")","v":""},{"$f":"IF(COUNTIF(Tabela66[id],D315)=0,\"\",COUNTIF(Tabela66[id],D315))","v":""},null,"",null,null,{"$f":"IFERROR(VLOOKUP(O315,Cadastros!A:B,2),\"\")","v":""},"",{"$f":"IFERROR(VLOOKUP(O315,Cadastros!A:E,5,0),\"\")","v":""},{"$f":"IFERROR(VLOOKUP(O315,Cadastros!A:F,6,0),\"\")","v":""},{"$f":"IFERROR(VLOOKUP(O315,Cadastros!A:I,9,0),\"\")","v":""},"","","",null,{"$f":"INDEX(Tabela.abordagens[],SMALL(IF(Tabela.abordagens[Mês]=$L$2,ROW(Tabela.abordagens[id])-2),ROW(A268)),1)","v":{"$error":"#NUM!"}},{"$f":"INDEX(Tabela.abordagens[],SMALL(IF(Tabela.abordagens[Mês]=$L$2,ROW(Tabela.abordagens[Idade])-2),ROW(A268)),6)","v":{"$error":"#NUM!"}},{"$f":"INDEX(Tabela.abordagens[],SMALL(IF(Tabela.abordagens[Mês]=$L$2,ROW(Tabela.abordagens[Idade])-2),ROW(A268)),4)","v":{"$error":"#NUM!"}},{"$f":"INDEX(Tabela.abordagens[],SMALL(IF(Tabela.abordagens[Mês]=$L$2,ROW(Tabela.abordagens[Idade])-2),ROW(A268)),5)","v":{"$error":"#NUM!"}}]
[null,{"$f":"INDEX(Tabela.frequencia[],SMALL(IF(Tabela.frequencia[Mês]=$L$2,ROW(Tabela.frequencia[id])-1),ROW(A269)),1)","v":{"$error":"#NUM!"}},{"$f":"INDEX(Tabela.frequencia[],SMALL(IF(Tabela.frequencia[Mês]=$L$2,ROW(Tabela.frequencia[id])-1),ROW(A269)),4)","v":{"$error":"#NUM!"}},null,{"$f":"IFERROR(VLOOKUP(D316,Tabela.cadastro[[ID]:[Nome]],2,0),\"\")","v":""},{"$f":"IFERROR(VLOOKUP(D316,Tabela66[#All],2,0),\"\")","v":""},{"$f":"IFERROR(VLOOKUP(D316,Tabela.cadastro[[ID]:[CP ou M]],5,0),\"\")","v":""},{"$f":"IFERROR(VLOOKUP(D316,Cadastros!A:F,6,0),\"\")","v":""},{"$f":"IFERROR(VLOOKUP(D316,Cadastros!A:I,9,0),\"\")","v":""},{"$f":"IFERROR(VLOOKUP(D316,Cadastros!A:J,10,0),\"\")","v":""},{"$f":"IF(COUNTIF(Tabela66[id],D316)=0,\"\",COUNTIF(Tabela66[id],D316))","v":""},null,"",null,null,{"$f":"IFERROR(VLOOKUP(O316,Cadastros!A:B,2),\"\")","v":""},"",{"$f":"IFERROR(VLOOKUP(O316,Cadastros!A:E,5,0),\"\")","v":""},{"$f":"IFERROR(VLOOKUP(O316,Cadastros!A:F,6,0),\"\")","v":""},{"$f":"IFERROR(VLOOKUP(O316,Cadastros!A:I,9,0),\"\")","v":""},"","","",null,{"$f":"INDEX(Tabela.abordagens[],SMALL(IF(Tabela.abordagens[Mês]=$L$2,ROW(Tabela.abordagens[id])-2),ROW(A269)),1)","v":{"$error":"#NUM!"}},{"$f":"INDEX(Tabela.abordagens[],SMALL(IF(Tabela.abordagens[Mês]=$L$2,ROW(Tabela.abordagens[Idade])-2),ROW(A269)),6)","v":{"$error":"#NUM!"}},{"$f":"INDEX(Tabela.abordagens[],SMALL(IF(Tabela.abordagens[Mês]=$L$2,ROW(Tabela.abordagens[Idade])-2),ROW(A269)),4)","v":{"$error":"#NUM!"}},{"$f":"INDEX(Tabela.abordagens[],SMALL(IF(Tabela.abordagens[Mês]=$L$2,ROW(Tabela.abordagens[Idade])-2),ROW(A269)),5)","v":{"$error":"#NUM!"}}]
[null,{"$f":"INDEX(Tabela.frequencia[],SMALL(IF(Tabela.frequencia[Mês]=$L$2,ROW(Tabela.frequencia[id])-1),ROW(A270)),1)","v":{"$error":"#NUM!"}},{"$f":"INDEX(Tabela.frequencia[],SMALL(IF(Tabela.frequencia[Mês]=$L$2,ROW(Tabela.frequencia[id])-1),ROW(A270)),4)","v":{"$error":"#NUM!"}},null,{"$f":"IFERROR(VLOOKUP(D317,Tabela.cadastro[[ID]:[Nome]],2,0),\"\")","v":""},{"$f":"IFERROR(VLOOKUP(D317,Tabela66[#All],2,0),\"\")","v":""},{"$f":"IFERROR(VLOOKUP(D317,Tabela.cadastro[[ID]:[CP ou M]],5,0),\"\")","v":""},{"$f":"IFERROR(VLOOKUP(D317,Cadastros!A:F,6,0),\"\")","v":""},{"$f":"IFERROR(VLOOKUP(D317,Cadastros!A:I,9,0),\"\")","v":""},{"$f":"IFERROR(VLOOKUP(D317,Cadastros!A:J,10,0),\"\")","v":""},{"$f":"IF(COUNTIF(Tabela66[id],D317)=0,\"\",COUNTIF(Tabela66[id],D317))","v":""},null,"",null,null,{"$f":"IFERROR(VLOOKUP(O317,Cadastros!A:B,2),\"\")","v":""},"",{"$f":"IFERROR(VLOOKUP(O317,Cadastros!A:E,5,0),\"\")","v":""},{"$f":"IFERROR(VLOOKUP(O317,Cadastros!A:F,6,0),\"\")","v":""},{"$f":"IFERROR(VLOOKUP(O317,Cadastros!A:I,9,0),\"\")","v":""},"","","",null,{"$f":"INDEX(Tabela.abordagens[],SMALL(IF(Tabela.abordagens[Mês]=$L$2,ROW(Tabela.abordagens[id])-2),ROW(A270)),1)","v":{"$error":"#NUM!"}},{"$f":"INDEX(Tabela.abordagens[],SMALL(IF(Tabela.abordagens[Mês]=$L$2,ROW(Tabela.abordagens[Idade])-2),ROW(A270)),6)","v":{"$error":"#NUM!"}},{"$f":"INDEX(Tabela.abordagens[],SMALL(IF(Tabela.abordagens[Mês]=$L$2,ROW(Tabela.abordagens[Idade])-2),ROW(A270)),4)","v":{"$error":"#NUM!"}},{"$f":"INDEX(Tabela.abordagens[],SMALL(IF(Tabela.abordagens[Mês]=$L$2,ROW(Tabela.abordagens[Idade])-2),ROW(A270)),5)","v":{"$error":"#NUM!"}}]
[null,{"$f":"INDEX(Tabela.frequencia[],SMALL(IF(Tabela.frequencia[Mês]=$L$2,ROW(Tabela.frequencia[id])-1),ROW(A271)),1)","v":{"$error":"#NUM!"}},{"$f":"INDEX(Tabela.frequencia[],SMALL(IF(Tabela.frequencia[Mês]=$L$2,ROW(Tabela.frequencia[id])-1),ROW(A271)),4)","v":{"$error":"#NUM!"}},null,{"$f":"IFERROR(VLOOKUP(D318,Tabela.cadastro[[ID]:[Nome]],2,0),\"\")","v":""},{"$f":"IFERROR(VLOOKUP(D318,Tabela66[#All],2,0),\"\")","v":""},{"$f":"IFERROR(VLOOKUP(D318,Tabela.cadastro[[ID]:[CP ou M]],5,0),\"\")","v":""},{"$f":"IFERROR(VLOOKUP(D318,Cadastros!A:F,6,0),\"\")","v":""},{"$f":"IFERROR(VLOOKUP(D318,Cadastros!A:I,9,0),\"\")","v":""},{"$f":"IFERROR(VLOOKUP(D318,Cadastros!A:J,10,0),\"\")","v":""},{"$f":"IF(COUNTIF(Tabela66[id],D318)=0,\"\",COUNTIF(Tabela66[id],D318))","v":""},null,"",null,null,{"$f":"IFERROR(VLOOKUP(O318,Cadastros!A:B,2),\"\")","v":""},"",{"$f":"IFERROR(VLOOKUP(O318,Cadastros!A:E,5,0),\"\")","v":""},{"$f":"IFERROR(VLOOKUP(O318,Cadastros!A:F,6,0),\"\")","v":""},{"$f":"IFERROR(VLOOKUP(O318,Cadastros!A:I,9,0),\"\")","v":""},"","","",null,{"$f":"INDEX(Tabela.abordagens[],SMALL(IF(Tabela.abordagens[Mês]=$L$2,ROW(Tabela.abordagens[id])-2),ROW(A271)),1)","v":{"$error":"#NUM!"}},{"$f":"INDEX(Tabela.abordagens[],SMALL(IF(Tabela.abordagens[Mês]=$L$2,ROW(Tabela.abordagens[Idade])-2),ROW(A271)),6)","v":{"$error":"#NUM!"}},{"$f":"INDEX(Tabela.abordagens[],SMALL(IF(Tabela.abordagens[Mês]=$L$2,ROW(Tabela.abordagens[Idade])-2),ROW(A271)),4)","v":{"$error":"#NUM!"}},{"$f":"INDEX(Tabela.abordagens[],SMALL(IF(Tabela.abordagens[Mês]=$L$2,ROW(Tabela.abordagens[Idade])-2),ROW(A271)),5)","v":{"$error":"#NUM!"}}]
[null,{"$f":"INDEX(Tabela.frequencia[],SMALL(IF(Tabela.frequencia[Mês]=$L$2,ROW(Tabela.frequencia[id])-1),ROW(A272)),1)","v":{"$error":"#NUM!"}},{"$f":"INDEX(Tabela.frequencia[],SMALL(IF(Tabela.frequencia[Mês]=$L$2,ROW(Tabela.frequencia[id])-1),ROW(A272)),4)","v":{"$error":"#NUM!"}},null,{"$f":"IFERROR(VLOOKUP(D319,Tabela.cadastro[[ID]:[Nome]],2,0),\"\")","v":""},{"$f":"IFERROR(VLOOKUP(D319,Tabela66[#All],2,0),\"\")","v":""},{"$f":"IFERROR(VLOOKUP(D319,Tabela.cadastro[[ID]:[CP ou M]],5,0),\"\")","v":""},{"$f":"IFERROR(VLOOKUP(D319,Cadastros!A:F,6,0),\"\")","v":""},{"$f":"IFERROR(VLOOKUP(D319,Cadastros!A:I,9,0),\"\")","v":""},{"$f":"IFERROR(VLOOKUP(D319,Cadastros!A:J,10,0),\"\")","v":""},{"$f":"IF(COUNTIF(Tabela66[id],D319)=0,\"\",COUNTIF(Tabela66[id],D319))","v":""},null,"",null,null,{"$f":"IFERROR(VLOOKUP(O319,Cadastros!A:B,2),\"\")","v":""},"",{"$f":"IFERROR(VLOOKUP(O319,Cadastros!A:E,5,0),\"\")","v":""},{"$f":"IFERROR(VLOOKUP(O319,Cadastros!A:F,6,0),\"\")","v":""},{"$f":"IFERROR(VLOOKUP(O319,Cadastros!A:I,9,0),\"\")","v":""},"","","",null,{"$f":"INDEX(Tabela.abordagens[],SMALL(IF(Tabela.abordagens[Mês]=$L$2,ROW(Tabela.abordagens[id])-2),ROW(A272)),1)","v":{"$error":"#NUM!"}},{"$f":"INDEX(Tabela.abordagens[],SMALL(IF(Tabela.abordagens[Mês]=$L$2,ROW(Tabela.abordagens[Idade])-2),ROW(A272)),6)","v":{"$error":"#NUM!"}},{"$f":"INDEX(Tabela.abordagens[],SMALL(IF(Tabela.abordagens[Mês]=$L$2,ROW(Tabela.abordagens[Idade])-2),ROW(A272)),4)","v":{"$error":"#NUM!"}},{"$f":"INDEX(Tabela.abordagens[],SMALL(IF(Tabela.abordagens[Mês]=$L$2,ROW(Tabela.abordagens[Idade])-2),ROW(A272)),5)","v":{"$error":"#NUM!"}}]
[null,{"$f":"INDEX(Tabela.frequencia[],SMALL(IF(Tabela.frequencia[Mês]=$L$2,ROW(Tabela.frequencia[id])-1),ROW(A273)),1)","v":{"$error":"#NUM!"}},{"$f":"INDEX(Tabela.frequencia[],SMALL(IF(Tabela.frequencia[Mês]=$L$2,ROW(Tabela.frequencia[id])-1),ROW(A273)),4)","v":{"$error":"#NUM!"}},null,{"$f":"IFERROR(VLOOKUP(D320,Tabela.cadastro[[ID]:[Nome]],2,0),\"\")","v":""},{"$f":"IFERROR(VLOOKUP(D320,Tabela66[#All],2,0),\"\")","v":""},{"$f":"IFERROR(VLOOKUP(D320,Tabela.cadastro[[ID]:[CP ou M]],5,0),\"\")","v":""},{"$f":"IFERROR(VLOOKUP(D320,Cadastros!A:F,6,0),\"\")","v":""},{"$f":"IFERROR(VLOOKUP(D320,Cadastros!A:I,9,0),\"\")","v":""},{"$f":"IFERROR(VLOOKUP(D320,Cadastros!A:J,10,0),\"\")","v":""},{"$f":"IF(COUNTIF(Tabela66[id],D320)=0,\"\",COUNTIF(Tabela66[id],D320))","v":""},null,"",null,null,{"$f":"IFERROR(VLOOKUP(O320,Cadastros!A:B,2),\"\")","v":""},"",{"$f":"IFERROR(VLOOKUP(O320,Cadastros!A:E,5,0),\"\")","v":""},{"$f":"IFERROR(VLOOKUP(O320,Cadastros!A:F,6,0),\"\")","v":""},{"$f":"IFERROR(VLOOKUP(O320,Cadastros!A:I,9,0),\"\")","v":""},"","","",null,{"$f":"INDEX(Tabela.abordagens[],SMALL(IF(Tabela.abordagens[Mês]=$L$2,ROW(Tabela.abordagens[id])-2),ROW(A273)),1)","v":{"$error":"#NUM!"}},{"$f":"INDEX(Tabela.abordagens[],SMALL(IF(Tabela.abordagens[Mês]=$L$2,ROW(Tabela.abordagens[Idade])-2),ROW(A273)),6)","v":{"$error":"#NUM!"}},{"$f":"INDEX(Tabela.abordagens[],SMALL(IF(Tabela.abordagens[Mês]=$L$2,ROW(Tabela.abordagens[Idade])-2),ROW(A273)),4)","v":{"$error":"#NUM!"}},{"$f":"INDEX(Tabela.abordagens[],SMALL(IF(Tabela.abordagens[Mês]=$L$2,ROW(Tabela.abordagens[Idade])-2),ROW(A273)),5)","v":{"$error":"#NUM!"}}]
[null,{"$f":"INDEX(Tabela.frequencia[],SMALL(IF(Tabela.frequencia[Mês]=$L$2,ROW(Tabela.frequencia[id])-1),ROW(A274)),1)","v":{"$error":"#NUM!"}},{"$f":"INDEX(Tabela.frequencia[],SMALL(IF(Tabela.frequencia[Mês]=$L$2,ROW(Tabela.frequencia[id])-1),ROW(A274)),4)","v":{"$error":"#NUM!"}},null,{"$f":"IFERROR(VLOOKUP(D321,Tabela.cadastro[[ID]:[Nome]],2,0),\"\")","v":""},{"$f":"IFERROR(VLOOKUP(D321,Tabela66[#All],2,0),\"\")","v":""},{"$f":"IFERROR(VLOOKUP(D321,Tabela.cadastro[[ID]:[CP ou M]],5,0),\"\")","v":""},{"$f":"IFERROR(VLOOKUP(D321,Cadastros!A:F,6,0),\"\")","v":""},{"$f":"IFERROR(VLOOKUP(D321,Cadastros!A:I,9,0),\"\")","v":""},{"$f":"IFERROR(VLOOKUP(D321,Cadastros!A:J,10,0),\"\")","v":""},{"$f":"IF(COUNTIF(Tabela66[id],D321)=0,\"\",COUNTIF(Tabela66[id],D321))","v":""},null,"",null,null,{"$f":"IFERROR(VLOOKUP(O321,Cadastros!A:B,2),\"\")","v":""},"",{"$f":"IFERROR(VLOOKUP(O321,Cadastros!A:E,5,0),\"\")","v":""},{"$f":"IFERROR(VLOOKUP(O321,Cadastros!A:F,6,0),\"\")","v":""},{"$f":"IFERROR(VLOOKUP(O321,Cadastros!A:I,9,0),\"\")","v":""},"","","",null,{"$f":"INDEX(Tabela.abordagens[],SMALL(IF(Tabela.abordagens[Mês]=$L$2,ROW(Tabela.abordagens[id])-2),ROW(A274)),1)","v":{"$error":"#NUM!"}},{"$f":"INDEX(Tabela.abordagens[],SMALL(IF(Tabela.abordagens[Mês]=$L$2,ROW(Tabela.abordagens[Idade])-2),ROW(A274)),6)","v":{"$error":"#NUM!"}},{"$f":"INDEX(Tabela.abordagens[],SMALL(IF(Tabela.abordagens[Mês]=$L$2,ROW(Tabela.abordagens[Idade])-2),ROW(A274)),4)","v":{"$error":"#NUM!"}},{"$f":"INDEX(Tabela.abordagens[],SMALL(IF(Tabela.abordagens[Mês]=$L$2,ROW(Tabela.abordagens[Idade])-2),ROW(A274)),5)","v":{"$error":"#NUM!"}}]
[null,{"$f":"INDEX(Tabela.frequencia[],SMALL(IF(Tabela.frequencia[Mês]=$L$2,ROW(Tabela.frequencia[id])-1),ROW(A275)),1)","v":{"$error":"#NUM!"}},{"$f":"INDEX(Tabela.frequencia[],SMALL(IF(Tabela.frequencia[Mês]=$L$2,ROW(Tabela.frequencia[id])-1),ROW(A275)),4)","v":{"$error":"#NUM!"}},null,{"$f":"IFERROR(VLOOKUP(D322,Tabela.cadastro[[ID]:[Nome]],2,0),\"\")","v":""},{"$f":"IFERROR(VLOOKUP(D322,Tabela66[#All],2,0),\"\")","v":""},{"$f":"IFERROR(VLOOKUP(D322,Tabela.cadastro[[ID]:[CP ou M]],5,0),\"\")","v":""},{"$f":"IFERROR(VLOOKUP(D322,Cadastros!A:F,6,0),\"\")","v":""},{"$f":"IFERROR(VLOOKUP(D322,Cadastros!A:I,9,0),\"\")","v":""},{"$f":"IFERROR(VLOOKUP(D322,Cadastros!A:J,10,0),\"\")","v":""},{"$f":"IF(COUNTIF(Tabela66[id],D322)=0,\"\",COUNTIF(Tabela66[id],D322))","v":""},null,"",null,null,{"$f":"IFERROR(VLOOKUP(O322,Cadastros!A:B,2),\"\")","v":""},"",{"$f":"IFERROR(VLOOKUP(O322,Cadastros!A:E,5,0),\"\")","v":""},{"$f":"IFERROR(VLOOKUP(O322,Cadastros!A:F,6,0),\"\")","v":""},{"$f":"IFERROR(VLOOKUP(O322,Cadastros!A:I,9,0),\"\")","v":""},"","","",null,{"$f":"INDEX(Tabela.abordagens[],SMALL(IF(Tabela.abordagens[Mês]=$L$2,ROW(Tabela.abordagens[id])-2),ROW(A275)),1)","v":{"$error":"#NUM!"}},{"$f":"INDEX(Tabela.abordagens[],SMALL(IF(Tabela.abordagens[Mês]=$L$2,ROW(Tabela.abordagens[Idade])-2),ROW(A275)),6)","v":{"$error":"#NUM!"}},{"$f":"INDEX(Tabela.abordagens[],SMALL(IF(Tabela.abordagens[Mês]=$L$2,ROW(Tabela.abordagens[Idade])-2),ROW(A275)),4)","v":{"$error":"#NUM!"}},{"$f":"INDEX(Tabela.abordagens[],SMALL(IF(Tabela.abordagens[Mês]=$L$2,ROW(Tabela.abordagens[Idade])-2),ROW(A275)),5)","v":{"$error":"#NUM!"}}]
[null,{"$f":"INDEX(Tabela.frequencia[],SMALL(IF(Tabela.frequencia[Mês]=$L$2,ROW(Tabela.frequencia[id])-1),ROW(A276)),1)","v":{"$error":"#NUM!"}},{"$f":"INDEX(Tabela.frequencia[],SMALL(IF(Tabela.frequencia[Mês]=$L$2,ROW(Tabela.frequencia[id])-1),ROW(A276)),4)","v":{"$error":"#NUM!"}},null,{"$f":"IFERROR(VLOOKUP(D323,Tabela.cadastro[[ID]:[Nome]],2,0),\"\")","v":""},{"$f":"IFERROR(VLOOKUP(D323,Tabela66[#All],2,0),\"\")","v":""},{"$f":"IFERROR(VLOOKUP(D323,Tabela.cadastro[[ID]:[CP ou M]],5,0),\"\")","v":""},{"$f":"IFERROR(VLOOKUP(D323,Cadastros!A:F,6,0),\"\")","v":""},{"$f":"IFERROR(VLOOKUP(D323,Cadastros!A:I,9,0),\"\")","v":""},{"$f":"IFERROR(VLOOKUP(D323,Cadastros!A:J,10,0),\"\")","v":""},{"$f":"IF(COUNTIF(Tabela66[id],D323)=0,\"\",COUNTIF(Tabela66[id],D323))","v":""},null,"",null,null,{"$f":"IFERROR(VLOOKUP(O323,Cadastros!A:B,2),\"\")","v":""},"",{"$f":"IFERROR(VLOOKUP(O323,Cadastros!A:E,5,0),\"\")","v":""},{"$f":"IFERROR(VLOOKUP(O323,Cadastros!A:F,6,0),\"\")","v":""},{"$f":"IFERROR(VLOOKUP(O323,Cadastros!A:I,9,0),\"\")","v":""},"","","",null,{"$f":"INDEX(Tabela.abordagens[],SMALL(IF(Tabela.abordagens[Mês]=$L$2,ROW(Tabela.abordagens[id])-2),ROW(A276)),1)","v":{"$error":"#NUM!"}},{"$f":"INDEX(Tabela.abordagens[],SMALL(IF(Tabela.abordagens[Mês]=$L$2,ROW(Tabela.abordagens[Idade])-2),ROW(A276)),6)","v":{"$error":"#NUM!"}},{"$f":"INDEX(Tabela.abordagens[],SMALL(IF(Tabela.abordagens[Mês]=$L$2,ROW(Tabela.abordagens[Idade])-2),ROW(A276)),4)","v":{"$error":"#NUM!"}},{"$f":"INDEX(Tabela.abordagens[],SMALL(IF(Tabela.abordagens[Mês]=$L$2,ROW(Tabela.abordagens[Idade])-2),ROW(A276)),5)","v":{"$error":"#NUM!"}}]
[null,{"$f":"INDEX(Tabela.frequencia[],SMALL(IF(Tabela.frequencia[Mês]=$L$2,ROW(Tabela.frequencia[id])-1),ROW(A277)),1)","v":{"$error":"#NUM!"}},{"$f":"INDEX(Tabela.frequencia[],SMALL(IF(Tabela.frequencia[Mês]=$L$2,ROW(Tabela.frequencia[id])-1),ROW(A277)),4)","v":{"$error":"#NUM!"}},null,{"$f":"IFERROR(VLOOKUP(D324,Tabela.cadastro[[ID]:[Nome]],2,0),\"\")","v":""},{"$f":"IFERROR(VLOOKUP(D324,Tabela66[#All],2,0),\"\")","v":""},{"$f":"IFERROR(VLOOKUP(D324,Tabela.cadastro[[ID]:[CP ou M]],5,0),\"\")","v":""},{"$f":"IFERROR(VLOOKUP(D324,Cadastros!A:F,6,0),\"\")","v":""},{"$f":"IFERROR(VLOOKUP(D324,Cadastros!A:I,9,0),\"\")","v":""},{"$f":"IFERROR(VLOOKUP(D324,Cadastros!A:J,10,0),\"\")","v":""},{"$f":"IF(COUNTIF(Tabela66[id],D324)=0,\"\",COUNTIF(Tabela66[id],D324))","v":""},null,"",null,null,{"$f":"IFERROR(VLOOKUP(O324,Cadastros!A:B,2),\"\")","v":""},"",{"$f":"IFERROR(VLOOKUP(O324,Cadastros!A:E,5,0),\"\")","v":""},{"$f":"IFERROR(VLOOKUP(O324,Cadastros!A:F,6,0),\"\")","v":""},{"$f":"IFERROR(VLOOKUP(O324,Cadastros!A:I,9,0),\"\")","v":""},"","","",null,{"$f":"INDEX(Tabela.abordagens[],SMALL(IF(Tabela.abordagens[Mês]=$L$2,ROW(Tabela.abordagens[id])-2),ROW(A277)),1)","v":{"$error":"#NUM!"}},{"$f":"INDEX(Tabela.abordagens[],SMALL(IF(Tabela.abordagens[Mês]=$L$2,ROW(Tabela.abordagens[Idade])-2),ROW(A277)),6)","v":{"$error":"#NUM!"}},{"$f":"INDEX(Tabela.abordagens[],SMALL(IF(Tabela.abordagens[Mês]=$L$2,ROW(Tabela.abordagens[Idade])-2),ROW(A277)),4)","v":{"$error":"#NUM!"}},{"$f":"INDEX(Tabela.abordagens[],SMALL(IF(Tabela.abordagens[Mês]=$L$2,ROW(Tabela.abordagens[Idade])-2),ROW(A277)),5)","v":{"$error":"#NUM!"}}]
[null,{"$f":"INDEX(Tabela.frequencia[],SMALL(IF(Tabela.frequencia[Mês]=$L$2,ROW(Tabela.frequencia[id])-1),ROW(A278)),1)","v":{"$error":"#NUM!"}},{"$f":"INDEX(Tabela.frequencia[],SMALL(IF(Tabela.frequencia[Mês]=$L$2,ROW(Tabela.frequencia[id])-1),ROW(A278)),4)","v":{"$error":"#NUM!"}},null,{"$f":"IFERROR(VLOOKUP(D325,Tabela.cadastro[[ID]:[Nome]],2,0),\"\")","v":""},{"$f":"IFERROR(VLOOKUP(D325,Tabela66[#All],2,0),\"\")","v":""},{"$f":"IFERROR(VLOOKUP(D325,Tabela.cadastro[[ID]:[CP ou M]],5,0),\"\")","v":""},{"$f":"IFERROR(VLOOKUP(D325,Cadastros!A:F,6,0),\"\")","v":""},{"$f":"IFERROR(VLOOKUP(D325,Cadastros!A:I,9,0),\"\")","v":""},{"$f":"IFERROR(VLOOKUP(D325,Cadastros!A:J,10,0),\"\")","v":""},{"$f":"IF(COUNTIF(Tabela66[id],D325)=0,\"\",COUNTIF(Tabela66[id],D325))","v":""},null,"",null,null,{"$f":"IFERROR(VLOOKUP(O325,Cadastros!A:B,2),\"\")","v":""},"",{"$f":"IFERROR(VLOOKUP(O325,Cadastros!A:E,5,0),\"\")","v":""},{"$f":"IFERROR(VLOOKUP(O325,Cadastros!A:F,6,0),\"\")","v":""},{"$f":"IFERROR(VLOOKUP(O325,Cadastros!A:I,9,0),\"\")","v":""},"","","",null,{"$f":"INDEX(Tabela.abordagens[],SMALL(IF(Tabela.abordagens[Mês]=$L$2,ROW(Tabela.abordagens[id])-2),ROW(A278)),1)","v":{"$error":"#NUM!"}},{"$f":"INDEX(Tabela.abordagens[],SMALL(IF(Tabela.abordagens[Mês]=$L$2,ROW(Tabela.abordagens[Idade])-2),ROW(A278)),6)","v":{"$error":"#NUM!"}},{"$f":"INDEX(Tabela.abordagens[],SMALL(IF(Tabela.abordagens[Mês]=$L$2,ROW(Tabela.abordagens[Idade])-2),ROW(A278)),4)","v":{"$error":"#NUM!"}},{"$f":"INDEX(Tabela.abordagens[],SMALL(IF(Tabela.abordagens[Mês]=$L$2,ROW(Tabela.abordagens[Idade])-2),ROW(A278)),5)","v":{"$error":"#NUM!"}}]
[null,{"$f":"INDEX(Tabela.frequencia[],SMALL(IF(Tabela.frequencia[Mês]=$L$2,ROW(Tabela.frequencia[id])-1),ROW(A279)),1)","v":{"$error":"#NUM!"}},{"$f":"INDEX(Tabela.frequencia[],SMALL(IF(Tabela.frequencia[Mês]=$L$2,ROW(Tabela.frequencia[id])-1),ROW(A279)),4)","v":{"$error":"#NUM!"}},null,{"$f":"IFERROR(VLOOKUP(D326,Tabela.cadastro[[ID]:[Nome]],2,0),\"\")","v":""},{"$f":"IFERROR(VLOOKUP(D326,Tabela66[#All],2,0),\"\")","v":""},{"$f":"IFERROR(VLOOKUP(D326,Tabela.cadastro[[ID]:[CP ou M]],5,0),\"\")","v":""},{"$f":"IFERROR(VLOOKUP(D326,Cadastros!A:F,6,0),\"\")","v":""},{"$f":"IFERROR(VLOOKUP(D326,Cadastros!A:I,9,0),\"\")","v":""},{"$f":"IFERROR(VLOOKUP(D326,Cadastros!A:J,10,0),\"\")","v":""},{"$f":"IF(COUNTIF(Tabela66[id],D326)=0,\"\",COUNTIF(Tabela66[id],D326))","v":""},null,"",null,null,{"$f":"IFERROR(VLOOKUP(O326,Cadastros!A:B,2),\"\")","v":""},"",{"$f":"IFERROR(VLOOKUP(O326,Cadastros!A:E,5,0),\"\")","v":""},{"$f":"IFERROR(VLOOKUP(O326,Cadastros!A:F,6,0),\"\")","v":""},{"$f":"IFERROR(VLOOKUP(O326,Cadastros!A:I,9,0),\"\")","v":""},"","","",null,{"$f":"INDEX(Tabela.abordagens[],SMALL(IF(Tabela.abordagens[Mês]=$L$2,ROW(Tabela.abordagens[id])-2),ROW(A279)),1)","v":{"$error":"#NUM!"}},{"$f":"INDEX(Tabela.abordagens[],SMALL(IF(Tabela.abordagens[Mês]=$L$2,ROW(Tabela.abordagens[Idade])-2),ROW(A279)),6)","v":{"$error":"#NUM!"}},{"$f":"INDEX(Tabela.abordagens[],SMALL(IF(Tabela.abordagens[Mês]=$L$2,ROW(Tabela.abordagens[Idade])-2),ROW(A279)),4)","v":{"$error":"#NUM!"}},{"$f":"INDEX(Tabela.abordagens[],SMALL(IF(Tabela.abordagens[Mês]=$L$2,ROW(Tabela.abordagens[Idade])-2),ROW(A279)),5)","v":{"$error":"#NUM!"}}]
[null,{"$f":"INDEX(Tabela.frequencia[],SMALL(IF(Tabela.frequencia[Mês]=$L$2,ROW(Tabela.frequencia[id])-1),ROW(A280)),1)","v":{"$error":"#NUM!"}},{"$f":"INDEX(Tabela.frequencia[],SMALL(IF(Tabela.frequencia[Mês]=$L$2,ROW(Tabela.frequencia[id])-1),ROW(A280)),4)","v":{"$error":"#NUM!"}},null,{"$f":"IFERROR(VLOOKUP(D327,Tabela.cadastro[[ID]:[Nome]],2,0),\"\")","v":""},{"$f":"IFERROR(VLOOKUP(D327,Tabela66[#All],2,0),\"\")","v":""},{"$f":"IFERROR(VLOOKUP(D327,Tabela.cadastro[[ID]:[CP ou M]],5,0),\"\")","v":""},{"$f":"IFERROR(VLOOKUP(D327,Cadastros!A:F,6,0),\"\")","v":""},{"$f":"IFERROR(VLOOKUP(D327,Cadastros!A:I,9,0),\"\")","v":""},{"$f":"IFERROR(VLOOKUP(D327,Cadastros!A:J,10,0),\"\")","v":""},{"$f":"IF(COUNTIF(Tabela66[id],D327)=0,\"\",COUNTIF(Tabela66[id],D327))","v":""},null,"",null,null,{"$f":"IFERROR(VLOOKUP(O327,Cadastros!A:B,2),\"\")","v":""},"",{"$f":"IFERROR(VLOOKUP(O327,Cadastros!A:E,5,0),\"\")","v":""},{"$f":"IFERROR(VLOOKUP(O327,Cadastros!A:F,6,0),\"\")","v":""},{"$f":"IFERROR(VLOOKUP(O327,Cadastros!A:I,9,0),\"\")","v":""},"","","",null,{"$f":"INDEX(Tabela.abordagens[],SMALL(IF(Tabela.abordagens[Mês]=$L$2,ROW(Tabela.abordagens[id])-2),ROW(A280)),1)","v":{"$error":"#NUM!"}},{"$f":"INDEX(Tabela.abordagens[],SMALL(IF(Tabela.abordagens[Mês]=$L$2,ROW(Tabela.abordagens[Idade])-2),ROW(A280)),6)","v":{"$error":"#NUM!"}},{"$f":"INDEX(Tabela.abordagens[],SMALL(IF(Tabela.abordagens[Mês]=$L$2,ROW(Tabela.abordagens[Idade])-2),ROW(A280)),4)","v":{"$error":"#NUM!"}},{"$f":"INDEX(Tabela.abordagens[],SMALL(IF(Tabela.abordagens[Mês]=$L$2,ROW(Tabela.abordagens[Idade])-2),ROW(A280)),5)","v":{"$error":"#NUM!"}}]
[null,{"$f":"INDEX(Tabela.frequencia[],SMALL(IF(Tabela.frequencia[Mês]=$L$2,ROW(Tabela.frequencia[id])-1),ROW(A281)),1)","v":{"$error":"#NUM!"}},{"$f":"INDEX(Tabela.frequencia[],SMALL(IF(Tabela.frequencia[Mês]=$L$2,ROW(Tabela.frequencia[id])-1),ROW(A281)),4)","v":{"$error":"#NUM!"}},null,{"$f":"IFERROR(VLOOKUP(D328,Tabela.cadastro[[ID]:[Nome]],2,0),\"\")","v":""},{"$f":"IFERROR(VLOOKUP(D328,Tabela66[#All],2,0),\"\")","v":""},{"$f":"IFERROR(VLOOKUP(D328,Tabela.cadastro[[ID]:[CP ou M]],5,0),\"\")","v":""},{"$f":"IFERROR(VLOOKUP(D328,Cadastros!A:F,6,0),\"\")","v":""},{"$f":"IFERROR(VLOOKUP(D328,Cadastros!A:I,9,0),\"\")","v":""},{"$f":"IFERROR(VLOOKUP(D328,Cadastros!A:J,10,0),\"\")","v":""},{"$f":"IF(COUNTIF(Tabela66[id],D328)=0,\"\",COUNTIF(Tabela66[id],D328))","v":""},null,"",null,null,{"$f":"IFERROR(VLOOKUP(O328,Cadastros!A:B,2),\"\")","v":""},"",{"$f":"IFERROR(VLOOKUP(O328,Cadastros!A:E,5,0),\"\")","v":""},{"$f":"IFERROR(VLOOKUP(O328,Cadastros!A:F,6,0),\"\")","v":""},{"$f":"IFERROR(VLOOKUP(O328,Cadastros!A:I,9,0),\"\")","v":""},"","","",null,{"$f":"INDEX(Tabela.abordagens[],SMALL(IF(Tabela.abordagens[Mês]=$L$2,ROW(Tabela.abordagens[id])-2),ROW(A281)),1)","v":{"$error":"#NUM!"}},{"$f":"INDEX(Tabela.abordagens[],SMALL(IF(Tabela.abordagens[Mês]=$L$2,ROW(Tabela.abordagens[Idade])-2),ROW(A281)),6)","v":{"$error":"#NUM!"}},{"$f":"INDEX(Tabela.abordagens[],SMALL(IF(Tabela.abordagens[Mês]=$L$2,ROW(Tabela.abordagens[Idade])-2),ROW(A281)),4)","v":{"$error":"#NUM!"}},{"$f":"INDEX(Tabela.abordagens[],SMALL(IF(Tabela.abordagens[Mês]=$L$2,ROW(Tabela.abordagens[Idade])-2),ROW(A281)),5)","v":{"$error":"#NUM!"}}]
[null,{"$f":"INDEX(Tabela.frequencia[],SMALL(IF(Tabela.frequencia[Mês]=$L$2,ROW(Tabela.frequencia[id])-1),ROW(A282)),1)","v":{"$error":"#NUM!"}},{"$f":"INDEX(Tabela.frequencia[],SMALL(IF(Tabela.frequencia[Mês]=$L$2,ROW(Tabela.frequencia[id])-1),ROW(A282)),4)","v":{"$error":"#NUM!"}},null,{"$f":"IFERROR(VLOOKUP(D329,Tabela.cadastro[[ID]:[Nome]],2,0),\"\")","v":""},{"$f":"IFERROR(VLOOKUP(D329,Tabela66[#All],2,0),\"\")","v":""},{"$f":"IFERROR(VLOOKUP(D329,Tabela.cadastro[[ID]:[CP ou M]],5,0),\"\")","v":""},{"$f":"IFERROR(VLOOKUP(D329,Cadastros!A:F,6,0),\"\")","v":""},{"$f":"IFERROR(VLOOKUP(D329,Cadastros!A:I,9,0),\"\")","v":""},{"$f":"IFERROR(VLOOKUP(D329,Cadastros!A:J,10,0),\"\")","v":""},{"$f":"IF(COUNTIF(Tabela66[id],D329)=0,\"\",COUNTIF(Tabela66[id],D329))","v":""},null,"",null,null,{"$f":"IFERROR(VLOOKUP(O329,Cadastros!A:B,2),\"\")","v":""},"",{"$f":"IFERROR(VLOOKUP(O329,Cadastros!A:E,5,0),\"\")","v":""},{"$f":"IFERROR(VLOOKUP(O329,Cadastros!A:F,6,0),\"\")","v":""},{"$f":"IFERROR(VLOOKUP(O329,Cadastros!A:I,9,0),\"\")","v":""},"","","",null,{"$f":"INDEX(Tabela.abordagens[],SMALL(IF(Tabela.abordagens[Mês]=$L$2,ROW(Tabela.abordagens[id])-2),ROW(A282)),1)","v":{"$error":"#NUM!"}},{"$f":"INDEX(Tabela.abordagens[],SMALL(IF(Tabela.abordagens[Mês]=$L$2,ROW(Tabela.abordagens[Idade])-2),ROW(A282)),6)","v":{"$error":"#NUM!"}},{"$f":"INDEX(Tabela.abordagens[],SMALL(IF(Tabela.abordagens[Mês]=$L$2,ROW(Tabela.abordagens[Idade])-2),ROW(A282)),4)","v":{"$error":"#NUM!"}},{"$f":"INDEX(Tabela.abordagens[],SMALL(IF(Tabela.abordagens[Mês]=$L$2,ROW(Tabela.abordagens[Idade])-2),ROW(A282)),5)","v":{"$error":"#NUM!"}}]
[null,{"$f":"INDEX(Tabela.frequencia[],SMALL(IF(Tabela.frequencia[Mês]=$L$2,ROW(Tabela.frequencia[id])-1),ROW(A283)),1)","v":{"$error":"#NUM!"}},{"$f":"INDEX(Tabela.frequencia[],SMALL(IF(Tabela.frequencia[Mês]=$L$2,ROW(Tabela.frequencia[id])-1),ROW(A283)),4)","v":{"$error":"#NUM!"}},null,{"$f":"IFERROR(VLOOKUP(D330,Tabela.cadastro[[ID]:[Nome]],2,0),\"\")","v":""},{"$f":"IFERROR(VLOOKUP(D330,Tabela66[#All],2,0),\"\")","v":""},{"$f":"IFERROR(VLOOKUP(D330,Tabela.cadastro[[ID]:[CP ou M]],5,0),\"\")","v":""},{"$f":"IFERROR(VLOOKUP(D330,Cadastros!A:F,6,0),\"\")","v":""},{"$f":"IFERROR(VLOOKUP(D330,Cadastros!A:I,9,0),\"\")","v":""},{"$f":"IFERROR(VLOOKUP(D330,Cadastros!A:J,10,0),\"\")","v":""},{"$f":"IF(COUNTIF(Tabela66[id],D330)=0,\"\",COUNTIF(Tabela66[id],D330))","v":""},null,"",null,null,{"$f":"IFERROR(VLOOKUP(O330,Cadastros!A:B,2),\"\")","v":""},"",{"$f":"IFERROR(VLOOKUP(O330,Cadastros!A:E,5,0),\"\")","v":""},{"$f":"IFERROR(VLOOKUP(O330,Cadastros!A:F,6,0),\"\")","v":""},{"$f":"IFERROR(VLOOKUP(O330,Cadastros!A:I,9,0),\"\")","v":""},"","","",null,{"$f":"INDEX(Tabela.abordagens[],SMALL(IF(Tabela.abordagens[Mês]=$L$2,ROW(Tabela.abordagens[id])-2),ROW(A283)),1)","v":{"$error":"#NUM!"}},{"$f":"INDEX(Tabela.abordagens[],SMALL(IF(Tabela.abordagens[Mês]=$L$2,ROW(Tabela.abordagens[Idade])-2),ROW(A283)),6)","v":{"$error":"#NUM!"}},{"$f":"INDEX(Tabela.abordagens[],SMALL(IF(Tabela.abordagens[Mês]=$L$2,ROW(Tabela.abordagens[Idade])-2),ROW(A283)),4)","v":{"$error":"#NUM!"}},{"$f":"INDEX(Tabela.abordagens[],SMALL(IF(Tabela.abordagens[Mês]=$L$2,ROW(Tabela.abordagens[Idade])-2),ROW(A283)),5)","v":{"$error":"#NUM!"}}]
[null,{"$f":"INDEX(Tabela.frequencia[],SMALL(IF(Tabela.frequencia[Mês]=$L$2,ROW(Tabela.frequencia[id])-1),ROW(A284)),1)","v":{"$error":"#NUM!"}},{"$f":"INDEX(Tabela.frequencia[],SMALL(IF(Tabela.frequencia[Mês]=$L$2,ROW(Tabela.frequencia[id])-1),ROW(A284)),4)","v":{"$error":"#NUM!"}},null,{"$f":"IFERROR(VLOOKUP(D331,Tabela.cadastro[[ID]:[Nome]],2,0),\"\")","v":""},{"$f":"IFERROR(VLOOKUP(D331,Tabela66[#All],2,0),\"\")","v":""},{"$f":"IFERROR(VLOOKUP(D331,Tabela.cadastro[[ID]:[CP ou M]],5,0),\"\")","v":""},{"$f":"IFERROR(VLOOKUP(D331,Cadastros!A:F,6,0),\"\")","v":""},{"$f":"IFERROR(VLOOKUP(D331,Cadastros!A:I,9,0),\"\")","v":""},{"$f":"IFERROR(VLOOKUP(D331,Cadastros!A:J,10,0),\"\")","v":""},{"$f":"IF(COUNTIF(Tabela66[id],D331)=0,\"\",COUNTIF(Tabela66[id],D331))","v":""},null,"",null,null,{"$f":"IFERROR(VLOOKUP(O331,Cadastros!A:B,2),\"\")","v":""},"",{"$f":"IFERROR(VLOOKUP(O331,Cadastros!A:E,5,0),\"\")","v":""},{"$f":"IFERROR(VLOOKUP(O331,Cadastros!A:F,6,0),\"\")","v":""},{"$f":"IFERROR(VLOOKUP(O331,Cadastros!A:I,9,0),\"\")","v":""},"","","",null,{"$f":"INDEX(Tabela.abordagens[],SMALL(IF(Tabela.abordagens[Mês]=$L$2,ROW(Tabela.abordagens[id])-2),ROW(A284)),1)","v":{"$error":"#NUM!"}},{"$f":"INDEX(Tabela.abordagens[],SMALL(IF(Tabela.abordagens[Mês]=$L$2,ROW(Tabela.abordagens[Idade])-2),ROW(A284)),6)","v":{"$error":"#NUM!"}},{"$f":"INDEX(Tabela.abordagens[],SMALL(IF(Tabela.abordagens[Mês]=$L$2,ROW(Tabela.abordagens[Idade])-2),ROW(A284)),4)","v":{"$error":"#NUM!"}},{"$f":"INDEX(Tabela.abordagens[],SMALL(IF(Tabela.abordagens[Mês]=$L$2,ROW(Tabela.abordagens[Idade])-2),ROW(A284)),5)","v":{"$error":"#NUM!"}}]
[null,{"$f":"INDEX(Tabela.frequencia[],SMALL(IF(Tabela.frequencia[Mês]=$L$2,ROW(Tabela.frequencia[id])-1),ROW(A285)),1)","v":{"$error":"#NUM!"}},{"$f":"INDEX(Tabela.frequencia[],SMALL(IF(Tabela.frequencia[Mês]=$L$2,ROW(Tabela.frequencia[id])-1),ROW(A285)),4)","v":{"$error":"#NUM!"}},null,{"$f":"IFERROR(VLOOKUP(D332,Tabela.cadastro[[ID]:[Nome]],2,0),\"\")","v":""},{"$f":"IFERROR(VLOOKUP(D332,Tabela66[#All],2,0),\"\")","v":""},{"$f":"IFERROR(VLOOKUP(D332,Tabela.cadastro[[ID]:[CP ou M]],5,0),\"\")","v":""},{"$f":"IFERROR(VLOOKUP(D332,Cadastros!A:F,6,0),\"\")","v":""},{"$f":"IFERROR(VLOOKUP(D332,Cadastros!A:I,9,0),\"\")","v":""},{"$f":"IFERROR(VLOOKUP(D332,Cadastros!A:J,10,0),\"\")","v":""},{"$f":"IF(COUNTIF(Tabela66[id],D332)=0,\"\",COUNTIF(Tabela66[id],D332))","v":""},null,"",null,null,{"$f":"IFERROR(VLOOKUP(O332,Cadastros!A:B,2),\"\")","v":""},"",{"$f":"IFERROR(VLOOKUP(O332,Cadastros!A:E,5,0),\"\")","v":""},{"$f":"IFERROR(VLOOKUP(O332,Cadastros!A:F,6,0),\"\")","v":""},{"$f":"IFERROR(VLOOKUP(O332,Cadastros!A:I,9,0),\"\")","v":""},"","","",null,{"$f":"INDEX(Tabela.abordagens[],SMALL(IF(Tabela.abordagens[Mês]=$L$2,ROW(Tabela.abordagens[id])-2),ROW(A285)),1)","v":{"$error":"#NUM!"}},{"$f":"INDEX(Tabela.abordagens[],SMALL(IF(Tabela.abordagens[Mês]=$L$2,ROW(Tabela.abordagens[Idade])-2),ROW(A285)),6)","v":{"$error":"#NUM!"}},{"$f":"INDEX(Tabela.abordagens[],SMALL(IF(Tabela.abordagens[Mês]=$L$2,ROW(Tabela.abordagens[Idade])-2),ROW(A285)),4)","v":{"$error":"#NUM!"}},{"$f":"INDEX(Tabela.abordagens[],SMALL(IF(Tabela.abordagens[Mês]=$L$2,ROW(Tabela.abordagens[Idade])-2),ROW(A285)),5)","v":{"$error":"#NUM!"}}]
[null,{"$f":"INDEX(Tabela.frequencia[],SMALL(IF(Tabela.frequencia[Mês]=$L$2,ROW(Tabela.frequencia[id])-1),ROW(A286)),1)","v":{"$error":"#NUM!"}},{"$f":"INDEX(Tabela.frequencia[],SMALL(IF(Tabela.frequencia[Mês]=$L$2,ROW(Tabela.frequencia[id])-1),ROW(A286)),4)","v":{"$error":"#NUM!"}},null,{"$f":"IFERROR(VLOOKUP(D333,Tabela.cadastro[[ID]:[Nome]],2,0),\"\")","v":""},{"$f":"IFERROR(VLOOKUP(D333,Tabela66[#All],2,0),\"\")","v":""},{"$f":"IFERROR(VLOOKUP(D333,Tabela.cadastro[[ID]:[CP ou M]],5,0),\"\")","v":""},{"$f":"IFERROR(VLOOKUP(D333,Cadastros!A:F,6,0),\"\")","v":""},{"$f":"IFERROR(VLOOKUP(D333,Cadastros!A:I,9,0),\"\")","v":""},{"$f":"IFERROR(VLOOKUP(D333,Cadastros!A:J,10,0),\"\")","v":""},{"$f":"IF(COUNTIF(Tabela66[id],D333)=0,\"\",COUNTIF(Tabela66[id],D333))","v":""},null,"",null,null,{"$f":"IFERROR(VLOOKUP(O333,Cadastros!A:B,2),\"\")","v":""},"",{"$f":"IFERROR(VLOOKUP(O333,Cadastros!A:E,5,0),\"\")","v":""},{"$f":"IFERROR(VLOOKUP(O333,Cadastros!A:F,6,0),\"\")","v":""},{"$f":"IFERROR(VLOOKUP(O333,Cadastros!A:I,9,0),\"\")","v":""},"","","",null,{"$f":"INDEX(Tabela.abordagens[],SMALL(IF(Tabela.abordagens[Mês]=$L$2,ROW(Tabela.abordagens[id])-2),ROW(A286)),1)","v":{"$error":"#NUM!"}},{"$f":"INDEX(Tabela.abordagens[],SMALL(IF(Tabela.abordagens[Mês]=$L$2,ROW(Tabela.abordagens[Idade])-2),ROW(A286)),6)","v":{"$error":"#NUM!"}},{"$f":"INDEX(Tabela.abordagens[],SMALL(IF(Tabela.abordagens[Mês]=$L$2,ROW(Tabela.abordagens[Idade])-2),ROW(A286)),4)","v":{"$error":"#NUM!"}},{"$f":"INDEX(Tabela.abordagens[],SMALL(IF(Tabela.abordagens[Mês]=$L$2,ROW(Tabela.abordagens[Idade])-2),ROW(A286)),5)","v":{"$error":"#NUM!"}}]
[null,{"$f":"INDEX(Tabela.frequencia[],SMALL(IF(Tabela.frequencia[Mês]=$L$2,ROW(Tabela.frequencia[id])-1),ROW(A287)),1)","v":{"$error":"#NUM!"}},{"$f":"INDEX(Tabela.frequencia[],SMALL(IF(Tabela.frequencia[Mês]=$L$2,ROW(Tabela.frequencia[id])-1),ROW(A287)),4)","v":{"$error":"#NUM!"}},null,{"$f":"IFERROR(VLOOKUP(D334,Tabela.cadastro[[ID]:[Nome]],2,0),\"\")","v":""},{"$f":"IFERROR(VLOOKUP(D334,Tabela66[#All],2,0),\"\")","v":""},{"$f":"IFERROR(VLOOKUP(D334,Tabela.cadastro[[ID]:[CP ou M]],5,0),\"\")","v":""},{"$f":"IFERROR(VLOOKUP(D334,Cadastros!A:F,6,0),\"\")","v":""},{"$f":"IFERROR(VLOOKUP(D334,Cadastros!A:I,9,0),\"\")","v":""},{"$f":"IFERROR(VLOOKUP(D334,Cadastros!A:J,10,0),\"\")","v":""},{"$f":"IF(COUNTIF(Tabela66[id],D334)=0,\"\",COUNTIF(Tabela66[id],D334))","v":""},null,"",null,null,{"$f":"IFERROR(VLOOKUP(O334,Cadastros!A:B,2),\"\")","v":""},"",{"$f":"IFERROR(VLOOKUP(O334,Cadastros!A:E,5,0),\"\")","v":""},{"$f":"IFERROR(VLOOKUP(O334,Cadastros!A:F,6,0),\"\")","v":""},{"$f":"IFERROR(VLOOKUP(O334,Cadastros!A:I,9,0),\"\")","v":""},"","","",null,{"$f":"INDEX(Tabela.abordagens[],SMALL(IF(Tabela.abordagens[Mês]=$L$2,ROW(Tabela.abordagens[id])-2),ROW(A287)),1)","v":{"$error":"#NUM!"}},{"$f":"INDEX(Tabela.abordagens[],SMALL(IF(Tabela.abordagens[Mês]=$L$2,ROW(Tabela.abordagens[Idade])-2),ROW(A287)),6)","v":{"$error":"#NUM!"}},{"$f":"INDEX(Tabela.abordagens[],SMALL(IF(Tabela.abordagens[Mês]=$L$2,ROW(Tabela.abordagens[Idade])-2),ROW(A287)),4)","v":{"$error":"#NUM!"}},{"$f":"INDEX(Tabela.abordagens[],SMALL(IF(Tabela.abordagens[Mês]=$L$2,ROW(Tabela.abordagens[Idade])-2),ROW(A287)),5)","v":{"$error":"#NUM!"}}]
[null,{"$f":"INDEX(Tabela.frequencia[],SMALL(IF(Tabela.frequencia[Mês]=$L$2,ROW(Tabela.frequencia[id])-1),ROW(A288)),1)","v":{"$error":"#NUM!"}},{"$f":"INDEX(Tabela.frequencia[],SMALL(IF(Tabela.frequencia[Mês]=$L$2,ROW(Tabela.frequencia[id])-1),ROW(A288)),4)","v":{"$error":"#NUM!"}},null,{"$f":"IFERROR(VLOOKUP(D335,Tabela.cadastro[[ID]:[Nome]],2,0),\"\")","v":""},{"$f":"IFERROR(VLOOKUP(D335,Tabela66[#All],2,0),\"\")","v":""},{"$f":"IFERROR(VLOOKUP(D335,Tabela.cadastro[[ID]:[CP ou M]],5,0),\"\")","v":""},{"$f":"IFERROR(VLOOKUP(D335,Cadastros!A:F,6,0),\"\")","v":""},{"$f":"IFERROR(VLOOKUP(D335,Cadastros!A:I,9,0),\"\")","v":""},{"$f":"IFERROR(VLOOKUP(D335,Cadastros!A:J,10,0),\"\")","v":""},{"$f":"IF(COUNTIF(Tabela66[id],D335)=0,\"\",COUNTIF(Tabela66[id],D335))","v":""},null,"",null,null,{"$f":"IFERROR(VLOOKUP(O335,Cadastros!A:B,2),\"\")","v":""},"",{"$f":"IFERROR(VLOOKUP(O335,Cadastros!A:E,5,0),\"\")","v":""},{"$f":"IFERROR(VLOOKUP(O335,Cadastros!A:F,6,0),\"\")","v":""},{"$f":"IFERROR(VLOOKUP(O335,Cadastros!A:I,9,0),\"\")","v":""},"","","",null,{"$f":"INDEX(Tabela.abordagens[],SMALL(IF(Tabela.abordagens[Mês]=$L$2,ROW(Tabela.abordagens[id])-2),ROW(A288)),1)","v":{"$error":"#NUM!"}},{"$f":"INDEX(Tabela.abordagens[],SMALL(IF(Tabela.abordagens[Mês]=$L$2,ROW(Tabela.abordagens[Idade])-2),ROW(A288)),6)","v":{"$error":"#NUM!"}},{"$f":"INDEX(Tabela.abordagens[],SMALL(IF(Tabela.abordagens[Mês]=$L$2,ROW(Tabela.abordagens[Idade])-2),ROW(A288)),4)","v":{"$error":"#NUM!"}},{"$f":"INDEX(Tabela.abordagens[],SMALL(IF(Tabela.abordagens[Mês]=$L$2,ROW(Tabela.abordagens[Idade])-2),ROW(A288)),5)","v":{"$error":"#NUM!"}}]
[null,{"$f":"INDEX(Tabela.frequencia[],SMALL(IF(Tabela.frequencia[Mês]=$L$2,ROW(Tabela.frequencia[id])-1),ROW(A289)),1)","v":{"$error":"#NUM!"}},{"$f":"INDEX(Tabela.frequencia[],SMALL(IF(Tabela.frequencia[Mês]=$L$2,ROW(Tabela.frequencia[id])-1),ROW(A289)),4)","v":{"$error":"#NUM!"}},null,{"$f":"IFERROR(VLOOKUP(D336,Tabela.cadastro[[ID]:[Nome]],2,0),\"\")","v":""},{"$f":"IFERROR(VLOOKUP(D336,Tabela66[#All],2,0),\"\")","v":""},{"$f":"IFERROR(VLOOKUP(D336,Tabela.cadastro[[ID]:[CP ou M]],5,0),\"\")","v":""},{"$f":"IFERROR(VLOOKUP(D336,Cadastros!A:F,6,0),\"\")","v":""},{"$f":"IFERROR(VLOOKUP(D336,Cadastros!A:I,9,0),\"\")","v":""},{"$f":"IFERROR(VLOOKUP(D336,Cadastros!A:J,10,0),\"\")","v":""},{"$f":"IF(COUNTIF(Tabela66[id],D336)=0,\"\",COUNTIF(Tabela66[id],D336))","v":""},null,"",null,null,{"$f":"IFERROR(VLOOKUP(O336,Cadastros!A:B,2),\"\")","v":""},"",{"$f":"IFERROR(VLOOKUP(O336,Cadastros!A:E,5,0),\"\")","v":""},{"$f":"IFERROR(VLOOKUP(O336,Cadastros!A:F,6,0),\"\")","v":""},{"$f":"IFERROR(VLOOKUP(O336,Cadastros!A:I,9,0),\"\")","v":""},"","","",null,{"$f":"INDEX(Tabela.abordagens[],SMALL(IF(Tabela.abordagens[Mês]=$L$2,ROW(Tabela.abordagens[id])-2),ROW(A289)),1)","v":{"$error":"#NUM!"}},{"$f":"INDEX(Tabela.abordagens[],SMALL(IF(Tabela.abordagens[Mês]=$L$2,ROW(Tabela.abordagens[Idade])-2),ROW(A289)),6)","v":{"$error":"#NUM!"}},{"$f":"INDEX(Tabela.abordagens[],SMALL(IF(Tabela.abordagens[Mês]=$L$2,ROW(Tabela.abordagens[Idade])-2),ROW(A289)),4)","v":{"$error":"#NUM!"}},{"$f":"INDEX(Tabela.abordagens[],SMALL(IF(Tabela.abordagens[Mês]=$L$2,ROW(Tabela.abordagens[Idade])-2),ROW(A289)),5)","v":{"$error":"#NUM!"}}]
[null,{"$f":"INDEX(Tabela.frequencia[],SMALL(IF(Tabela.frequencia[Mês]=$L$2,ROW(Tabela.frequencia[id])-1),ROW(A290)),1)","v":{"$error":"#NUM!"}},{"$f":"INDEX(Tabela.frequencia[],SMALL(IF(Tabela.frequencia[Mês]=$L$2,ROW(Tabela.frequencia[id])-1),ROW(A290)),4)","v":{"$error":"#NUM!"}},null,{"$f":"IFERROR(VLOOKUP(D337,Tabela.cadastro[[ID]:[Nome]],2,0),\"\")","v":""},{"$f":"IFERROR(VLOOKUP(D337,Tabela66[#All],2,0),\"\")","v":""},{"$f":"IFERROR(VLOOKUP(D337,Tabela.cadastro[[ID]:[CP ou M]],5,0),\"\")","v":""},{"$f":"IFERROR(VLOOKUP(D337,Cadastros!A:F,6,0),\"\")","v":""},{"$f":"IFERROR(VLOOKUP(D337,Cadastros!A:I,9,0),\"\")","v":""},{"$f":"IFERROR(VLOOKUP(D337,Cadastros!A:J,10,0),\"\")","v":""},{"$f":"IF(COUNTIF(Tabela66[id],D337)=0,\"\",COUNTIF(Tabela66[id],D337))","v":""},null,"",null,null,{"$f":"IFERROR(VLOOKUP(O337,Cadastros!A:B,2),\"\")","v":""},"",{"$f":"IFERROR(VLOOKUP(O337,Cadastros!A:E,5,0),\"\")","v":""},{"$f":"IFERROR(VLOOKUP(O337,Cadastros!A:F,6,0),\"\")","v":""},{"$f":"IFERROR(VLOOKUP(O337,Cadastros!A:I,9,0),\"\")","v":""},"","","",null,{"$f":"INDEX(Tabela.abordagens[],SMALL(IF(Tabela.abordagens[Mês]=$L$2,ROW(Tabela.abordagens[id])-2),ROW(A290)),1)","v":{"$error":"#NUM!"}},{"$f":"INDEX(Tabela.abordagens[],SMALL(IF(Tabela.abordagens[Mês]=$L$2,ROW(Tabela.abordagens[Idade])-2),ROW(A290)),6)","v":{"$error":"#NUM!"}},{"$f":"INDEX(Tabela.abordagens[],SMALL(IF(Tabela.abordagens[Mês]=$L$2,ROW(Tabela.abordagens[Idade])-2),ROW(A290)),4)","v":{"$error":"#NUM!"}},{"$f":"INDEX(Tabela.abordagens[],SMALL(IF(Tabela.abordagens[Mês]=$L$2,ROW(Tabela.abordagens[Idade])-2),ROW(A290)),5)","v":{"$error":"#NUM!"}}]
[null,{"$f":"INDEX(Tabela.frequencia[],SMALL(IF(Tabela.frequencia[Mês]=$L$2,ROW(Tabela.frequencia[id])-1),ROW(A291)),1)","v":{"$error":"#NUM!"}},{"$f":"INDEX(Tabela.frequencia[],SMALL(IF(Tabela.frequencia[Mês]=$L$2,ROW(Tabela.frequencia[id])-1),ROW(A291)),4)","v":{"$error":"#NUM!"}},null,{"$f":"IFERROR(VLOOKUP(D338,Tabela.cadastro[[ID]:[Nome]],2,0),\"\")","v":""},{"$f":"IFERROR(VLOOKUP(D338,Tabela66[#All],2,0),\"\")","v":""},{"$f":"IFERROR(VLOOKUP(D338,Tabela.cadastro[[ID]:[CP ou M]],5,0),\"\")","v":""},{"$f":"IFERROR(VLOOKUP(D338,Cadastros!A:F,6,0),\"\")","v":""},{"$f":"IFERROR(VLOOKUP(D338,Cadastros!A:I,9,0),\"\")","v":""},{"$f":"IFERROR(VLOOKUP(D338,Cadastros!A:J,10,0),\"\")","v":""},{"$f":"IF(COUNTIF(Tabela66[id],D338)=0,\"\",COUNTIF(Tabela66[id],D338))","v":""},null,"",null,null,{"$f":"IFERROR(VLOOKUP(O338,Cadastros!A:B,2),\"\")","v":""},"",{"$f":"IFERROR(VLOOKUP(O338,Cadastros!A:E,5,0),\"\")","v":""},{"$f":"IFERROR(VLOOKUP(O338,Cadastros!A:F,6,0),\"\")","v":""},{"$f":"IFERROR(VLOOKUP(O338,Cadastros!A:I,9,0),\"\")","v":""},"","","",null,{"$f":"INDEX(Tabela.abordagens[],SMALL(IF(Tabela.abordagens[Mês]=$L$2,ROW(Tabela.abordagens[id])-2),ROW(A291)),1)","v":{"$error":"#NUM!"}},{"$f":"INDEX(Tabela.abordagens[],SMALL(IF(Tabela.abordagens[Mês]=$L$2,ROW(Tabela.abordagens[Idade])-2),ROW(A291)),6)","v":{"$error":"#NUM!"}},{"$f":"INDEX(Tabela.abordagens[],SMALL(IF(Tabela.abordagens[Mês]=$L$2,ROW(Tabela.abordagens[Idade])-2),ROW(A291)),4)","v":{"$error":"#NUM!"}},{"$f":"INDEX(Tabela.abordagens[],SMALL(IF(Tabela.abordagens[Mês]=$L$2,ROW(Tabela.abordagens[Idade])-2),ROW(A291)),5)","v":{"$error":"#NUM!"}}]
[null,{"$f":"INDEX(Tabela.frequencia[],SMALL(IF(Tabela.frequencia[Mês]=$L$2,ROW(Tabela.frequencia[id])-1),ROW(A292)),1)","v":{"$error":"#NUM!"}},{"$f":"INDEX(Tabela.frequencia[],SMALL(IF(Tabela.frequencia[Mês]=$L$2,ROW(Tabela.frequencia[id])-1),ROW(A292)),4)","v":{"$error":"#NUM!"}},null,{"$f":"IFERROR(VLOOKUP(D339,Tabela.cadastro[[ID]:[Nome]],2,0),\"\")","v":""},{"$f":"IFERROR(VLOOKUP(D339,Tabela66[#All],2,0),\"\")","v":""},{"$f":"IFERROR(VLOOKUP(D339,Tabela.cadastro[[ID]:[CP ou M]],5,0),\"\")","v":""},{"$f":"IFERROR(VLOOKUP(D339,Cadastros!A:F,6,0),\"\")","v":""},{"$f":"IFERROR(VLOOKUP(D339,Cadastros!A:I,9,0),\"\")","v":""},{"$f":"IFERROR(VLOOKUP(D339,Cadastros!A:J,10,0),\"\")","v":""},{"$f":"IF(COUNTIF(Tabela66[id],D339)=0,\"\",COUNTIF(Tabela66[id],D339))","v":""},null,"",null,null,{"$f":"IFERROR(VLOOKUP(O339,Cadastros!A:B,2),\"\")","v":""},"",{"$f":"IFERROR(VLOOKUP(O339,Cadastros!A:E,5,0),\"\")","v":""},{"$f":"IFERROR(VLOOKUP(O339,Cadastros!A:F,6,0),\"\")","v":""},{"$f":"IFERROR(VLOOKUP(O339,Cadastros!A:I,9,0),\"\")","v":""},"","","",null,{"$f":"INDEX(Tabela.abordagens[],SMALL(IF(Tabela.abordagens[Mês]=$L$2,ROW(Tabela.abordagens[id])-2),ROW(A292)),1)","v":{"$error":"#NUM!"}},{"$f":"INDEX(Tabela.abordagens[],SMALL(IF(Tabela.abordagens[Mês]=$L$2,ROW(Tabela.abordagens[Idade])-2),ROW(A292)),6)","v":{"$error":"#NUM!"}},{"$f":"INDEX(Tabela.abordagens[],SMALL(IF(Tabela.abordagens[Mês]=$L$2,ROW(Tabela.abordagens[Idade])-2),ROW(A292)),4)","v":{"$error":"#NUM!"}},{"$f":"INDEX(Tabela.abordagens[],SMALL(IF(Tabela.abordagens[Mês]=$L$2,ROW(Tabela.abordagens[Idade])-2),ROW(A292)),5)","v":{"$error":"#NUM!"}}]
[null,{"$f":"INDEX(Tabela.frequencia[],SMALL(IF(Tabela.frequencia[Mês]=$L$2,ROW(Tabela.frequencia[id])-1),ROW(A293)),1)","v":{"$error":"#NUM!"}},{"$f":"INDEX(Tabela.frequencia[],SMALL(IF(Tabela.frequencia[Mês]=$L$2,ROW(Tabela.frequencia[id])-1),ROW(A293)),4)","v":{"$error":"#NUM!"}},null,{"$f":"IFERROR(VLOOKUP(D340,Tabela.cadastro[[ID]:[Nome]],2,0),\"\")","v":""},{"$f":"IFERROR(VLOOKUP(D340,Tabela66[#All],2,0),\"\")","v":""},{"$f":"IFERROR(VLOOKUP(D340,Tabela.cadastro[[ID]:[CP ou M]],5,0),\"\")","v":""},{"$f":"IFERROR(VLOOKUP(D340,Cadastros!A:F,6,0),\"\")","v":""},{"$f":"IFERROR(VLOOKUP(D340,Cadastros!A:I,9,0),\"\")","v":""},{"$f":"IFERROR(VLOOKUP(D340,Cadastros!A:J,10,0),\"\")","v":""},{"$f":"IF(COUNTIF(Tabela66[id],D340)=0,\"\",COUNTIF(Tabela66[id],D340))","v":""},null,"",null,null,{"$f":"IFERROR(VLOOKUP(O340,Cadastros!A:B,2),\"\")","v":""},"",{"$f":"IFERROR(VLOOKUP(O340,Cadastros!A:E,5,0),\"\")","v":""},{"$f":"IFERROR(VLOOKUP(O340,Cadastros!A:F,6,0),\"\")","v":""},{"$f":"IFERROR(VLOOKUP(O340,Cadastros!A:I,9,0),\"\")","v":""},"","","",null,{"$f":"INDEX(Tabela.abordagens[],SMALL(IF(Tabela.abordagens[Mês]=$L$2,ROW(Tabela.abordagens[id])-2),ROW(A293)),1)","v":{"$error":"#NUM!"}},{"$f":"INDEX(Tabela.abordagens[],SMALL(IF(Tabela.abordagens[Mês]=$L$2,ROW(Tabela.abordagens[Idade])-2),ROW(A293)),6)","v":{"$error":"#NUM!"}},{"$f":"INDEX(Tabela.abordagens[],SMALL(IF(Tabela.abordagens[Mês]=$L$2,ROW(Tabela.abordagens[Idade])-2),ROW(A293)),4)","v":{"$error":"#NUM!"}},{"$f":"INDEX(Tabela.abordagens[],SMALL(IF(Tabela.abordagens[Mês]=$L$2,ROW(Tabela.abordagens[Idade])-2),ROW(A293)),5)","v":{"$error":"#NUM!"}}]
[null,{"$f":"INDEX(Tabela.frequencia[],SMALL(IF(Tabela.frequencia[Mês]=$L$2,ROW(Tabela.frequencia[id])-1),ROW(A294)),1)","v":{"$error":"#NUM!"}},{"$f":"INDEX(Tabela.frequencia[],SMALL(IF(Tabela.frequencia[Mês]=$L$2,ROW(Tabela.frequencia[id])-1),ROW(A294)),4)","v":{"$error":"#NUM!"}},null,{"$f":"IFERROR(VLOOKUP(D341,Tabela.cadastro[[ID]:[Nome]],2,0),\"\")","v":""},{"$f":"IFERROR(VLOOKUP(D341,Tabela66[#All],2,0),\"\")","v":""},{"$f":"IFERROR(VLOOKUP(D341,Tabela.cadastro[[ID]:[CP ou M]],5,0),\"\")","v":""},{"$f":"IFERROR(VLOOKUP(D341,Cadastros!A:F,6,0),\"\")","v":""},{"$f":"IFERROR(VLOOKUP(D341,Cadastros!A:I,9,0),\"\")","v":""},{"$f":"IFERROR(VLOOKUP(D341,Cadastros!A:J,10,0),\"\")","v":""},{"$f":"IF(COUNTIF(Tabela66[id],D341)=0,\"\",COUNTIF(Tabela66[id],D341))","v":""},null,"",null,null,{"$f":"IFERROR(VLOOKUP(O341,Cadastros!A:B,2),\"\")","v":""},"",{"$f":"IFERROR(VLOOKUP(O341,Cadastros!A:E,5,0),\"\")","v":""},{"$f":"IFERROR(VLOOKUP(O341,Cadastros!A:F,6,0),\"\")","v":""},{"$f":"IFERROR(VLOOKUP(O341,Cadastros!A:I,9,0),\"\")","v":""},"","","",null,{"$f":"INDEX(Tabela.abordagens[],SMALL(IF(Tabela.abordagens[Mês]=$L$2,ROW(Tabela.abordagens[id])-2),ROW(A294)),1)","v":{"$error":"#NUM!"}},{"$f":"INDEX(Tabela.abordagens[],SMALL(IF(Tabela.abordagens[Mês]=$L$2,ROW(Tabela.abordagens[Idade])-2),ROW(A294)),6)","v":{"$error":"#NUM!"}},{"$f":"INDEX(Tabela.abordagens[],SMALL(IF(Tabela.abordagens[Mês]=$L$2,ROW(Tabela.abordagens[Idade])-2),ROW(A294)),4)","v":{"$error":"#NUM!"}},{"$f":"INDEX(Tabela.abordagens[],SMALL(IF(Tabela.abordagens[Mês]=$L$2,ROW(Tabela.abordagens[Idade])-2),ROW(A294)),5)","v":{"$error":"#NUM!"}}]
[null,{"$f":"INDEX(Tabela.frequencia[],SMALL(IF(Tabela.frequencia[Mês]=$L$2,ROW(Tabela.frequencia[id])-1),ROW(A295)),1)","v":{"$error":"#NUM!"}},{"$f":"INDEX(Tabela.frequencia[],SMALL(IF(Tabela.frequencia[Mês]=$L$2,ROW(Tabela.frequencia[id])-1),ROW(A295)),4)","v":{"$error":"#NUM!"}},null,{"$f":"IFERROR(VLOOKUP(D342,Tabela.cadastro[[ID]:[Nome]],2,0),\"\")","v":""},{"$f":"IFERROR(VLOOKUP(D342,Tabela66[#All],2,0),\"\")","v":""},{"$f":"IFERROR(VLOOKUP(D342,Tabela.cadastro[[ID]:[CP ou M]],5,0),\"\")","v":""},{"$f":"IFERROR(VLOOKUP(D342,Cadastros!A:F,6,0),\"\")","v":""},{"$f":"IFERROR(VLOOKUP(D342,Cadastros!A:I,9,0),\"\")","v":""},{"$f":"IFERROR(VLOOKUP(D342,Cadastros!A:J,10,0),\"\")","v":""},{"$f":"IF(COUNTIF(Tabela66[id],D342)=0,\"\",COUNTIF(Tabela66[id],D342))","v":""},null,"",null,null,{"$f":"IFERROR(VLOOKUP(O342,Cadastros!A:B,2),\"\")","v":""},"",{"$f":"IFERROR(VLOOKUP(O342,Cadastros!A:E,5,0),\"\")","v":""},{"$f":"IFERROR(VLOOKUP(O342,Cadastros!A:F,6,0),\"\")","v":""},{"$f":"IFERROR(VLOOKUP(O342,Cadastros!A:I,9,0),\"\")","v":""},"","","",null,{"$f":"INDEX(Tabela.abordagens[],SMALL(IF(Tabela.abordagens[Mês]=$L$2,ROW(Tabela.abordagens[id])-2),ROW(A295)),1)","v":{"$error":"#NUM!"}},{"$f":"INDEX(Tabela.abordagens[],SMALL(IF(Tabela.abordagens[Mês]=$L$2,ROW(Tabela.abordagens[Idade])-2),ROW(A295)),6)","v":{"$error":"#NUM!"}},{"$f":"INDEX(Tabela.abordagens[],SMALL(IF(Tabela.abordagens[Mês]=$L$2,ROW(Tabela.abordagens[Idade])-2),ROW(A295)),4)","v":{"$error":"#NUM!"}},{"$f":"INDEX(Tabela.abordagens[],SMALL(IF(Tabela.abordagens[Mês]=$L$2,ROW(Tabela.abordagens[Idade])-2),ROW(A295)),5)","v":{"$error":"#NUM!"}}]
[null,{"$f":"INDEX(Tabela.frequencia[],SMALL(IF(Tabela.frequencia[Mês]=$L$2,ROW(Tabela.frequencia[id])-1),ROW(A296)),1)","v":{"$error":"#NUM!"}},{"$f":"INDEX(Tabela.frequencia[],SMALL(IF(Tabela.frequencia[Mês]=$L$2,ROW(Tabela.frequencia[id])-1),ROW(A296)),4)","v":{"$error":"#NUM!"}},null,{"$f":"IFERROR(VLOOKUP(D343,Tabela.cadastro[[ID]:[Nome]],2,0),\"\")","v":""},{"$f":"IFERROR(VLOOKUP(D343,Tabela66[#All],2,0),\"\")","v":""},{"$f":"IFERROR(VLOOKUP(D343,Tabela.cadastro[[ID]:[CP ou M]],5,0),\"\")","v":""},{"$f":"IFERROR(VLOOKUP(D343,Cadastros!A:F,6,0),\"\")","v":""},{"$f":"IFERROR(VLOOKUP(D343,Cadastros!A:I,9,0),\"\")","v":""},{"$f":"IFERROR(VLOOKUP(D343,Cadastros!A:J,10,0),\"\")","v":""},{"$f":"IF(COUNTIF(Tabela66[id],D343)=0,\"\",COUNTIF(Tabela66[id],D343))","v":""},null,"",null,null,{"$f":"IFERROR(VLOOKUP(O343,Cadastros!A:B,2),\"\")","v":""},"",{"$f":"IFERROR(VLOOKUP(O343,Cadastros!A:E,5,0),\"\")","v":""},{"$f":"IFERROR(VLOOKUP(O343,Cadastros!A:F,6,0),\"\")","v":""},{"$f":"IFERROR(VLOOKUP(O343,Cadastros!A:I,9,0),\"\")","v":""},"","","",null,{"$f":"INDEX(Tabela.abordagens[],SMALL(IF(Tabela.abordagens[Mês]=$L$2,ROW(Tabela.abordagens[id])-2),ROW(A296)),1)","v":{"$error":"#NUM!"}},{"$f":"INDEX(Tabela.abordagens[],SMALL(IF(Tabela.abordagens[Mês]=$L$2,ROW(Tabela.abordagens[Idade])-2),ROW(A296)),6)","v":{"$error":"#NUM!"}},{"$f":"INDEX(Tabela.abordagens[],SMALL(IF(Tabela.abordagens[Mês]=$L$2,ROW(Tabela.abordagens[Idade])-2),ROW(A296)),4)","v":{"$error":"#NUM!"}},{"$f":"INDEX(Tabela.abordagens[],SMALL(IF(Tabela.abordagens[Mês]=$L$2,ROW(Tabela.abordagens[Idade])-2),ROW(A296)),5)","v":{"$error":"#NUM!"}}]
[null,{"$f":"INDEX(Tabela.frequencia[],SMALL(IF(Tabela.frequencia[Mês]=$L$2,ROW(Tabela.frequencia[id])-1),ROW(A297)),1)","v":{"$error":"#NUM!"}},{"$f":"INDEX(Tabela.frequencia[],SMALL(IF(Tabela.frequencia[Mês]=$L$2,ROW(Tabela.frequencia[id])-1),ROW(A297)),4)","v":{"$error":"#NUM!"}},null,{"$f":"IFERROR(VLOOKUP(D344,Tabela.cadastro[[ID]:[Nome]],2,0),\"\")","v":""},{"$f":"IFERROR(VLOOKUP(D344,Tabela66[#All],2,0),\"\")","v":""},{"$f":"IFERROR(VLOOKUP(D344,Tabela.cadastro[[ID]:[CP ou M]],5,0),\"\")","v":""},{"$f":"IFERROR(VLOOKUP(D344,Cadastros!A:F,6,0),\"\")","v":""},{"$f":"IFERROR(VLOOKUP(D344,Cadastros!A:I,9,0),\"\")","v":""},{"$f":"IFERROR(VLOOKUP(D344,Cadastros!A:J,10,0),\"\")","v":""},{"$f":"IF(COUNTIF(Tabela66[id],D344)=0,\"\",COUNTIF(Tabela66[id],D344))","v":""},null,"",null,null,{"$f":"IFERROR(VLOOKUP(O344,Cadastros!A:B,2),\"\")","v":""},"",{"$f":"IFERROR(VLOOKUP(O344,Cadastros!A:E,5,0),\"\")","v":""},{"$f":"IFERROR(VLOOKUP(O344,Cadastros!A:F,6,0),\"\")","v":""},{"$f":"IFERROR(VLOOKUP(O344,Cadastros!A:I,9,0),\"\")","v":""},"","","",null,{"$f":"INDEX(Tabela.abordagens[],SMALL(IF(Tabela.abordagens[Mês]=$L$2,ROW(Tabela.abordagens[id])-2),ROW(A297)),1)","v":{"$error":"#NUM!"}},{"$f":"INDEX(Tabela.abordagens[],SMALL(IF(Tabela.abordagens[Mês]=$L$2,ROW(Tabela.abordagens[Idade])-2),ROW(A297)),6)","v":{"$error":"#NUM!"}},{"$f":"INDEX(Tabela.abordagens[],SMALL(IF(Tabela.abordagens[Mês]=$L$2,ROW(Tabela.abordagens[Idade])-2),ROW(A297)),4)","v":{"$error":"#NUM!"}},{"$f":"INDEX(Tabela.abordagens[],SMALL(IF(Tabela.abordagens[Mês]=$L$2,ROW(Tabela.abordagens[Idade])-2),ROW(A297)),5)","v":{"$error":"#NUM!"}}]
[null,{"$f":"INDEX(Tabela.frequencia[],SMALL(IF(Tabela.frequencia[Mês]=$L$2,ROW(Tabela.frequencia[id])-1),ROW(A298)),1)","v":{"$error":"#NUM!"}},{"$f":"INDEX(Tabela.frequencia[],SMALL(IF(Tabela.frequencia[Mês]=$L$2,ROW(Tabela.frequencia[id])-1),ROW(A298)),4)","v":{"$error":"#NUM!"}},null,{"$f":"IFERROR(VLOOKUP(D345,Tabela.cadastro[[ID]:[Nome]],2,0),\"\")","v":""},{"$f":"IFERROR(VLOOKUP(D345,Tabela66[#All],2,0),\"\")","v":""},{"$f":"IFERROR(VLOOKUP(D345,Tabela.cadastro[[ID]:[CP ou M]],5,0),\"\")","v":""},{"$f":"IFERROR(VLOOKUP(D345,Cadastros!A:F,6,0),\"\")","v":""},{"$f":"IFERROR(VLOOKUP(D345,Cadastros!A:I,9,0),\"\")","v":""},{"$f":"IFERROR(VLOOKUP(D345,Cadastros!A:J,10,0),\"\")","v":""},{"$f":"IF(COUNTIF(Tabela66[id],D345)=0,\"\",COUNTIF(Tabela66[id],D345))","v":""},null,"",null,null,{"$f":"IFERROR(VLOOKUP(O345,Cadastros!A:B,2),\"\")","v":""},"",{"$f":"IFERROR(VLOOKUP(O345,Cadastros!A:E,5,0),\"\")","v":""},{"$f":"IFERROR(VLOOKUP(O345,Cadastros!A:F,6,0),\"\")","v":""},{"$f":"IFERROR(VLOOKUP(O345,Cadastros!A:I,9,0),\"\")","v":""},"","","",null,{"$f":"INDEX(Tabela.abordagens[],SMALL(IF(Tabela.abordagens[Mês]=$L$2,ROW(Tabela.abordagens[id])-2),ROW(A298)),1)","v":{"$error":"#NUM!"}},{"$f":"INDEX(Tabela.abordagens[],SMALL(IF(Tabela.abordagens[Mês]=$L$2,ROW(Tabela.abordagens[Idade])-2),ROW(A298)),6)","v":{"$error":"#NUM!"}},{"$f":"INDEX(Tabela.abordagens[],SMALL(IF(Tabela.abordagens[Mês]=$L$2,ROW(Tabela.abordagens[Idade])-2),ROW(A298)),4)","v":{"$error":"#NUM!"}},{"$f":"INDEX(Tabela.abordagens[],SMALL(IF(Tabela.abordagens[Mês]=$L$2,ROW(Tabela.abordagens[Idade])-2),ROW(A298)),5)","v":{"$error":"#NUM!"}}]
[null,{"$f":"INDEX(Tabela.frequencia[],SMALL(IF(Tabela.frequencia[Mês]=$L$2,ROW(Tabela.frequencia[id])-1),ROW(A299)),1)","v":{"$error":"#NUM!"}},{"$f":"INDEX(Tabela.frequencia[],SMALL(IF(Tabela.frequencia[Mês]=$L$2,ROW(Tabela.frequencia[id])-1),ROW(A299)),4)","v":{"$error":"#NUM!"}},null,{"$f":"IFERROR(VLOOKUP(D346,Tabela.cadastro[[ID]:[Nome]],2,0),\"\")","v":""},{"$f":"IFERROR(VLOOKUP(D346,Tabela66[#All],2,0),\"\")","v":""},{"$f":"IFERROR(VLOOKUP(D346,Tabela.cadastro[[ID]:[CP ou M]],5,0),\"\")","v":""},{"$f":"IFERROR(VLOOKUP(D346,Cadastros!A:F,6,0),\"\")","v":""},{"$f":"IFERROR(VLOOKUP(D346,Cadastros!A:I,9,0),\"\")","v":""},{"$f":"IFERROR(VLOOKUP(D346,Cadastros!A:J,10,0),\"\")","v":""},{"$f":"IF(COUNTIF(Tabela66[id],D346)=0,\"\",COUNTIF(Tabela66[id],D346))","v":""},null,"",null,null,{"$f":"IFERROR(VLOOKUP(O346,Cadastros!A:B,2),\"\")","v":""},"",{"$f":"IFERROR(VLOOKUP(O346,Cadastros!A:E,5,0),\"\")","v":""},{"$f":"IFERROR(VLOOKUP(O346,Cadastros!A:F,6,0),\"\")","v":""},{"$f":"IFERROR(VLOOKUP(O346,Cadastros!A:I,9,0),\"\")","v":""},"","","",null,{"$f":"INDEX(Tabela.abordagens[],SMALL(IF(Tabela.abordagens[Mês]=$L$2,ROW(Tabela.abordagens[id])-2),ROW(A299)),1)","v":{"$error":"#NUM!"}},{"$f":"INDEX(Tabela.abordagens[],SMALL(IF(Tabela.abordagens[Mês]=$L$2,ROW(Tabela.abordagens[Idade])-2),ROW(A299)),6)","v":{"$error":"#NUM!"}},{"$f":"INDEX(Tabela.abordagens[],SMALL(IF(Tabela.abordagens[Mês]=$L$2,ROW(Tabela.abordagens[Idade])-2),ROW(A299)),4)","v":{"$error":"#NUM!"}},{"$f":"INDEX(Tabela.abordagens[],SMALL(IF(Tabela.abordagens[Mês]=$L$2,ROW(Tabela.abordagens[Idade])-2),ROW(A299)),5)","v":{"$error":"#NUM!"}}]
[null,{"$f":"INDEX(Tabela.frequencia[],SMALL(IF(Tabela.frequencia[Mês]=$L$2,ROW(Tabela.frequencia[id])-1),ROW(A300)),1)","v":{"$error":"#NUM!"}},{"$f":"INDEX(Tabela.frequencia[],SMALL(IF(Tabela.frequencia[Mês]=$L$2,ROW(Tabela.frequencia[id])-1),ROW(A300)),4)","v":{"$error":"#NUM!"}},null,{"$f":"IFERROR(VLOOKUP(D347,Tabela.cadastro[[ID]:[Nome]],2,0),\"\")","v":""},{"$f":"IFERROR(VLOOKUP(D347,Tabela66[#All],2,0),\"\")","v":""},{"$f":"IFERROR(VLOOKUP(D347,Tabela.cadastro[[ID]:[CP ou M]],5,0),\"\")","v":""},{"$f":"IFERROR(VLOOKUP(D347,Cadastros!A:F,6,0),\"\")","v":""},{"$f":"IFERROR(VLOOKUP(D347,Cadastros!A:I,9,0),\"\")","v":""},{"$f":"IFERROR(VLOOKUP(D347,Cadastros!A:J,10,0),\"\")","v":""},{"$f":"IF(COUNTIF(Tabela66[id],D347)=0,\"\",COUNTIF(Tabela66[id],D347))","v":""},null,"",null,null,{"$f":"IFERROR(VLOOKUP(O347,Cadastros!A:B,2),\"\")","v":""},"",{"$f":"IFERROR(VLOOKUP(O347,Cadastros!A:E,5,0),\"\")","v":""},{"$f":"IFERROR(VLOOKUP(O347,Cadastros!A:F,6,0),\"\")","v":""},{"$f":"IFERROR(VLOOKUP(O347,Cadastros!A:I,9,0),\"\")","v":""},"","","",null,{"$f":"INDEX(Tabela.abordagens[],SMALL(IF(Tabela.abordagens[Mês]=$L$2,ROW(Tabela.abordagens[id])-2),ROW(A300)),1)","v":{"$error":"#NUM!"}},{"$f":"INDEX(Tabela.abordagens[],SMALL(IF(Tabela.abordagens[Mês]=$L$2,ROW(Tabela.abordagens[Idade])-2),ROW(A300)),6)","v":{"$error":"#NUM!"}},{"$f":"INDEX(Tabela.abordagens[],SMALL(IF(Tabela.abordagens[Mês]=$L$2,ROW(Tabela.abordagens[Idade])-2),ROW(A300)),4)","v":{"$error":"#NUM!"}},{"$f":"INDEX(Tabela.abordagens[],SMALL(IF(Tabela.abordagens[Mês]=$L$2,ROW(Tabela.abordagens[Idade])-2),ROW(A300)),5)","v":{"$error":"#NUM!"}}]
[null,{"$f":"INDEX(Tabela.frequencia[],SMALL(IF(Tabela.frequencia[Mês]=$L$2,ROW(Tabela.frequencia[id])-1),ROW(A301)),1)","v":{"$error":"#NUM!"}},{"$f":"INDEX(Tabela.frequencia[],SMALL(IF(Tabela.frequencia[Mês]=$L$2,ROW(Tabela.frequencia[id])-1),ROW(A301)),4)","v":{"$error":"#NUM!"}},null,{"$f":"IFERROR(VLOOKUP(D348,Tabela.cadastro[[ID]:[Nome]],2,0),\"\")","v":""},{"$f":"IFERROR(VLOOKUP(D348,Tabela66[#All],2,0),\"\")","v":""},{"$f":"IFERROR(VLOOKUP(D348,Tabela.cadastro[[ID]:[CP ou M]],5,0),\"\")","v":""},{"$f":"IFERROR(VLOOKUP(D348,Cadastros!A:F,6,0),\"\")","v":""},{"$f":"IFERROR(VLOOKUP(D348,Cadastros!A:I,9,0),\"\")","v":""},{"$f":"IFERROR(VLOOKUP(D348,Cadastros!A:J,10,0),\"\")","v":""},{"$f":"IF(COUNTIF(Tabela66[id],D348)=0,\"\",COUNTIF(Tabela66[id],D348))","v":""},null,"",null,null,{"$f":"IFERROR(VLOOKUP(O348,Cadastros!A:B,2),\"\")","v":""},"",{"$f":"IFERROR(VLOOKUP(O348,Cadastros!A:E,5,0),\"\")","v":""},{"$f":"IFERROR(VLOOKUP(O348,Cadastros!A:F,6,0),\"\")","v":""},{"$f":"IFERROR(VLOOKUP(O348,Cadastros!A:I,9,0),\"\")","v":""},"","","",null,{"$f":"INDEX(Tabela.abordagens[],SMALL(IF(Tabela.abordagens[Mês]=$L$2,ROW(Tabela.abordagens[id])-2),ROW(A301)),1)","v":{"$error":"#NUM!"}},{"$f":"INDEX(Tabela.abordagens[],SMALL(IF(Tabela.abordagens[Mês]=$L$2,ROW(Tabela.abordagens[Idade])-2),ROW(A301)),6)","v":{"$error":"#NUM!"}},{"$f":"INDEX(Tabela.abordagens[],SMALL(IF(Tabela.abordagens[Mês]=$L$2,ROW(Tabela.abordagens[Idade])-2),ROW(A301)),4)","v":{"$error":"#NUM!"}},{"$f":"INDEX(Tabela.abordagens[],SMALL(IF(Tabela.abordagens[Mês]=$L$2,ROW(Tabela.abordagens[Idade])-2),ROW(A301)),5)","v":{"$error":"#NUM!"}}]
[null,{"$f":"INDEX(Tabela.frequencia[],SMALL(IF(Tabela.frequencia[Mês]=$L$2,ROW(Tabela.frequencia[id])-1),ROW(A302)),1)","v":{"$error":"#NUM!"}},{"$f":"INDEX(Tabela.frequencia[],SMALL(IF(Tabela.frequencia[Mês]=$L$2,ROW(Tabela.frequencia[id])-1),ROW(A302)),4)","v":{"$error":"#NUM!"}},null,{"$f":"IFERROR(VLOOKUP(D349,Tabela.cadastro[[ID]:[Nome]],2,0),\"\")","v":""},{"$f":"IFERROR(VLOOKUP(D349,Tabela66[#All],2,0),\"\")","v":""},{"$f":"IFERROR(VLOOKUP(D349,Tabela.cadastro[[ID]:[CP ou M]],5,0),\"\")","v":""},{"$f":"IFERROR(VLOOKUP(D349,Cadastros!A:F,6,0),\"\")","v":""},{"$f":"IFERROR(VLOOKUP(D349,Cadastros!A:I,9,0),\"\")","v":""},{"$f":"IFERROR(VLOOKUP(D349,Cadastros!A:J,10,0),\"\")","v":""},{"$f":"IF(COUNTIF(Tabela66[id],D349)=0,\"\",COUNTIF(Tabela66[id],D349))","v":""},null,"",null,null,{"$f":"IFERROR(VLOOKUP(O349,Cadastros!A:B,2),\"\")","v":""},"",{"$f":"IFERROR(VLOOKUP(O349,Cadastros!A:E,5,0),\"\")","v":""},{"$f":"IFERROR(VLOOKUP(O349,Cadastros!A:F,6,0),\"\")","v":""},{"$f":"IFERROR(VLOOKUP(O349,Cadastros!A:I,9,0),\"\")","v":""},"","","",null,{"$f":"INDEX(Tabela.abordagens[],SMALL(IF(Tabela.abordagens[Mês]=$L$2,ROW(Tabela.abordagens[id])-2),ROW(A302)),1)","v":{"$error":"#NUM!"}},{"$f":"INDEX(Tabela.abordagens[],SMALL(IF(Tabela.abordagens[Mês]=$L$2,ROW(Tabela.abordagens[Idade])-2),ROW(A302)),6)","v":{"$error":"#NUM!"}},{"$f":"INDEX(Tabela.abordagens[],SMALL(IF(Tabela.abordagens[Mês]=$L$2,ROW(Tabela.abordagens[Idade])-2),ROW(A302)),4)","v":{"$error":"#NUM!"}},{"$f":"INDEX(Tabela.abordagens[],SMALL(IF(Tabela.abordagens[Mês]=$L$2,ROW(Tabela.abordagens[Idade])-2),ROW(A302)),5)","v":{"$error":"#NUM!"}}]
[null,{"$f":"INDEX(Tabela.frequencia[],SMALL(IF(Tabela.frequencia[Mês]=$L$2,ROW(Tabela.frequencia[id])-1),ROW(A303)),1)","v":{"$error":"#NUM!"}},{"$f":"INDEX(Tabela.frequencia[],SMALL(IF(Tabela.frequencia[Mês]=$L$2,ROW(Tabela.frequencia[id])-1),ROW(A303)),4)","v":{"$error":"#NUM!"}},null,{"$f":"IFERROR(VLOOKUP(D350,Tabela.cadastro[[ID]:[Nome]],2,0),\"\")","v":""},{"$f":"IFERROR(VLOOKUP(D350,Tabela66[#All],2,0),\"\")","v":""},{"$f":"IFERROR(VLOOKUP(D350,Tabela.cadastro[[ID]:[CP ou M]],5,0),\"\")","v":""},{"$f":"IFERROR(VLOOKUP(D350,Cadastros!A:F,6,0),\"\")","v":""},{"$f":"IFERROR(VLOOKUP(D350,Cadastros!A:I,9,0),\"\")","v":""},{"$f":"IFERROR(VLOOKUP(D350,Cadastros!A:J,10,0),\"\")","v":""},{"$f":"IF(COUNTIF(Tabela66[id],D350)=0,\"\",COUNTIF(Tabela66[id],D350))","v":""},null,"",null,null,{"$f":"IFERROR(VLOOKUP(O350,Cadastros!A:B,2),\"\")","v":""},"",{"$f":"IFERROR(VLOOKUP(O350,Cadastros!A:E,5,0),\"\")","v":""},{"$f":"IFERROR(VLOOKUP(O350,Cadastros!A:F,6,0),\"\")","v":""},{"$f":"IFERROR(VLOOKUP(O350,Cadastros!A:I,9,0),\"\")","v":""},"","","",null,{"$f":"INDEX(Tabela.abordagens[],SMALL(IF(Tabela.abordagens[Mês]=$L$2,ROW(Tabela.abordagens[id])-2),ROW(A303)),1)","v":{"$error":"#NUM!"}},{"$f":"INDEX(Tabela.abordagens[],SMALL(IF(Tabela.abordagens[Mês]=$L$2,ROW(Tabela.abordagens[Idade])-2),ROW(A303)),6)","v":{"$error":"#NUM!"}},{"$f":"INDEX(Tabela.abordagens[],SMALL(IF(Tabela.abordagens[Mês]=$L$2,ROW(Tabela.abordagens[Idade])-2),ROW(A303)),4)","v":{"$error":"#NUM!"}},{"$f":"INDEX(Tabela.abordagens[],SMALL(IF(Tabela.abordagens[Mês]=$L$2,ROW(Tabela.abordagens[Idade])-2),ROW(A303)),5)","v":{"$error":"#NUM!"}}]
[null,{"$f":"INDEX(Tabela.frequencia[],SMALL(IF(Tabela.frequencia[Mês]=$L$2,ROW(Tabela.frequencia[id])-1),ROW(A304)),1)","v":{"$error":"#NUM!"}},{"$f":"INDEX(Tabela.frequencia[],SMALL(IF(Tabela.frequencia[Mês]=$L$2,ROW(Tabela.frequencia[id])-1),ROW(A304)),4)","v":{"$error":"#NUM!"}},null,{"$f":"IFERROR(VLOOKUP(D351,Tabela.cadastro[[ID]:[Nome]],2,0),\"\")","v":""},{"$f":"IFERROR(VLOOKUP(D351,Tabela66[#All],2,0),\"\")","v":""},{"$f":"IFERROR(VLOOKUP(D351,Tabela.cadastro[[ID]:[CP ou M]],5,0),\"\")","v":""},{"$f":"IFERROR(VLOOKUP(D351,Cadastros!A:F,6,0),\"\")","v":""},{"$f":"IFERROR(VLOOKUP(D351,Cadastros!A:I,9,0),\"\")","v":""},{"$f":"IFERROR(VLOOKUP(D351,Cadastros!A:J,10,0),\"\")","v":""},{"$f":"IF(COUNTIF(Tabela66[id],D351)=0,\"\",COUNTIF(Tabela66[id],D351))","v":""},null,"",null,null,{"$f":"IFERROR(VLOOKUP(O351,Cadastros!A:B,2),\"\")","v":""},"",{"$f":"IFERROR(VLOOKUP(O351,Cadastros!A:E,5,0),\"\")","v":""},{"$f":"IFERROR(VLOOKUP(O351,Cadastros!A:F,6,0),\"\")","v":""},{"$f":"IFERROR(VLOOKUP(O351,Cadastros!A:I,9,0),\"\")","v":""},"","","",null,{"$f":"INDEX(Tabela.abordagens[],SMALL(IF(Tabela.abordagens[Mês]=$L$2,ROW(Tabela.abordagens[id])-2),ROW(A304)),1)","v":{"$error":"#NUM!"}},{"$f":"INDEX(Tabela.abordagens[],SMALL(IF(Tabela.abordagens[Mês]=$L$2,ROW(Tabela.abordagens[Idade])-2),ROW(A304)),6)","v":{"$error":"#NUM!"}},{"$f":"INDEX(Tabela.abordagens[],SMALL(IF(Tabela.abordagens[Mês]=$L$2,ROW(Tabela.abordagens[Idade])-2),ROW(A304)),4)","v":{"$error":"#NUM!"}},{"$f":"INDEX(Tabela.abordagens[],SMALL(IF(Tabela.abordagens[Mês]=$L$2,ROW(Tabela.abordagens[Idade])-2),ROW(A304)),5)","v":{"$error":"#NUM!"}}]
[null,{"$f":"INDEX(Tabela.frequencia[],SMALL(IF(Tabela.frequencia[Mês]=$L$2,ROW(Tabela.frequencia[id])-1),ROW(A305)),1)","v":{"$error":"#NUM!"}},{"$f":"INDEX(Tabela.frequencia[],SMALL(IF(Tabela.frequencia[Mês]=$L$2,ROW(Tabela.frequencia[id])-1),ROW(A305)),4)","v":{"$error":"#NUM!"}},null,{"$f":"IFERROR(VLOOKUP(D352,Tabela.cadastro[[ID]:[Nome]],2,0),\"\")","v":""},{"$f":"IFERROR(VLOOKUP(D352,Tabela66[#All],2,0),\"\")","v":""},{"$f":"IFERROR(VLOOKUP(D352,Tabela.cadastro[[ID]:[CP ou M]],5,0),\"\")","v":""},{"$f":"IFERROR(VLOOKUP(D352,Cadastros!A:F,6,0),\"\")","v":""},{"$f":"IFERROR(VLOOKUP(D352,Cadastros!A:I,9,0),\"\")","v":""},{"$f":"IFERROR(VLOOKUP(D352,Cadastros!A:J,10,0),\"\")","v":""},{"$f":"IF(COUNTIF(Tabela66[id],D352)=0,\"\",COUNTIF(Tabela66[id],D352))","v":""},null,"",null,null,{"$f":"IFERROR(VLOOKUP(O352,Cadastros!A:B,2),\"\")","v":""},"",{"$f":"IFERROR(VLOOKUP(O352,Cadastros!A:E,5,0),\"\")","v":""},{"$f":"IFERROR(VLOOKUP(O352,Cadastros!A:F,6,0),\"\")","v":""},{"$f":"IFERROR(VLOOKUP(O352,Cadastros!A:I,9,0),\"\")","v":""},"","","",null,{"$f":"INDEX(Tabela.abordagens[],SMALL(IF(Tabela.abordagens[Mês]=$L$2,ROW(Tabela.abordagens[id])-2),ROW(A305)),1)","v":{"$error":"#NUM!"}},{"$f":"INDEX(Tabela.abordagens[],SMALL(IF(Tabela.abordagens[Mês]=$L$2,ROW(Tabela.abordagens[Idade])-2),ROW(A305)),6)","v":{"$error":"#NUM!"}},{"$f":"INDEX(Tabela.abordagens[],SMALL(IF(Tabela.abordagens[Mês]=$L$2,ROW(Tabela.abordagens[Idade])-2),ROW(A305)),4)","v":{"$error":"#NUM!"}},{"$f":"INDEX(Tabela.abordagens[],SMALL(IF(Tabela.abordagens[Mês]=$L$2,ROW(Tabela.abordagens[Idade])-2),ROW(A305)),5)","v":{"$error":"#NUM!"}}]
[null,{"$f":"INDEX(Tabela.frequencia[],SMALL(IF(Tabela.frequencia[Mês]=$L$2,ROW(Tabela.frequencia[id])-1),ROW(A306)),1)","v":{"$error":"#NUM!"}},{"$f":"INDEX(Tabela.frequencia[],SMALL(IF(Tabela.frequencia[Mês]=$L$2,ROW(Tabela.frequencia[id])-1),ROW(A306)),4)","v":{"$error":"#NUM!"}},null,{"$f":"IFERROR(VLOOKUP(D353,Tabela.cadastro[[ID]:[Nome]],2,0),\"\")","v":""},{"$f":"IFERROR(VLOOKUP(D353,Tabela66[#All],2,0),\"\")","v":""},{"$f":"IFERROR(VLOOKUP(D353,Tabela.cadastro[[ID]:[CP ou M]],5,0),\"\")","v":""},{"$f":"IFERROR(VLOOKUP(D353,Cadastros!A:F,6,0),\"\")","v":""},{"$f":"IFERROR(VLOOKUP(D353,Cadastros!A:I,9,0),\"\")","v":""},{"$f":"IFERROR(VLOOKUP(D353,Cadastros!A:J,10,0),\"\")","v":""},{"$f":"IF(COUNTIF(Tabela66[id],D353)=0,\"\",COUNTIF(Tabela66[id],D353))","v":""},null,"",null,null,{"$f":"IFERROR(VLOOKUP(O353,Cadastros!A:B,2),\"\")","v":""},"",{"$f":"IFERROR(VLOOKUP(O353,Cadastros!A:E,5,0),\"\")","v":""},{"$f":"IFERROR(VLOOKUP(O353,Cadastros!A:F,6,0),\"\")","v":""},{"$f":"IFERROR(VLOOKUP(O353,Cadastros!A:I,9,0),\"\")","v":""},"","","",null,{"$f":"INDEX(Tabela.abordagens[],SMALL(IF(Tabela.abordagens[Mês]=$L$2,ROW(Tabela.abordagens[id])-2),ROW(A306)),1)","v":{"$error":"#NUM!"}},{"$f":"INDEX(Tabela.abordagens[],SMALL(IF(Tabela.abordagens[Mês]=$L$2,ROW(Tabela.abordagens[Idade])-2),ROW(A306)),6)","v":{"$error":"#NUM!"}},{"$f":"INDEX(Tabela.abordagens[],SMALL(IF(Tabela.abordagens[Mês]=$L$2,ROW(Tabela.abordagens[Idade])-2),ROW(A306)),4)","v":{"$error":"#NUM!"}},{"$f":"INDEX(Tabela.abordagens[],SMALL(IF(Tabela.abordagens[Mês]=$L$2,ROW(Tabela.abordagens[Idade])-2),ROW(A306)),5)","v":{"$error":"#NUM!"}}]
[null,{"$f":"INDEX(Tabela.frequencia[],SMALL(IF(Tabela.frequencia[Mês]=$L$2,ROW(Tabela.frequencia[id])-1),ROW(A307)),1)","v":{"$error":"#NUM!"}},{"$f":"INDEX(Tabela.frequencia[],SMALL(IF(Tabela.frequencia[Mês]=$L$2,ROW(Tabela.frequencia[id])-1),ROW(A307)),4)","v":{"$error":"#NUM!"}},null,{"$f":"IFERROR(VLOOKUP(D354,Tabela.cadastro[[ID]:[Nome]],2,0),\"\")","v":""},{"$f":"IFERROR(VLOOKUP(D354,Tabela66[#All],2,0),\"\")","v":""},{"$f":"IFERROR(VLOOKUP(D354,Tabela.cadastro[[ID]:[CP ou M]],5,0),\"\")","v":""},{"$f":"IFERROR(VLOOKUP(D354,Cadastros!A:F,6,0),\"\")","v":""},{"$f":"IFERROR(VLOOKUP(D354,Cadastros!A:I,9,0),\"\")","v":""},{"$f":"IFERROR(VLOOKUP(D354,Cadastros!A:J,10,0),\"\")","v":""},{"$f":"IF(COUNTIF(Tabela66[id],D354)=0,\"\",COUNTIF(Tabela66[id],D354))","v":""},null,"",null,null,{"$f":"IFERROR(VLOOKUP(O354,Cadastros!A:B,2),\"\")","v":""},{"$f":"IFERROR(VLOOKUP(O354,$Y$33:$Z$866,2,0),\"\")","v":""},{"$f":"IFERROR(VLOOKUP(O354,Cadastros!A:E,5,0),\"\")","v":""},{"$f":"IFERROR(VLOOKUP(O354,Cadastros!A:F,6,0),\"\")","v":""},{"$f":"IFERROR(VLOOKUP(O354,Cadastros!A:I,9,0),\"\")","v":""},{"$f":"IFERROR(VLOOKUP(O354,Y$33:AB$866,3,0),\"\")","v":""},{"$f":"IFERROR(VLOOKUP(O354,Y$33:AB$866,4,0),\"\")","v":""},{"$f":"IF(COUNTIF(Y$33:Y$866,O354)=0,\"\",COUNTIF(Y$33:Y$866,O354))","v":""},null,{"$f":"INDEX(Tabela.abordagens[],SMALL(IF(Tabela.abordagens[Mês]=$L$2,ROW(Tabela.abordagens[id])-2),ROW(A307)),1)","v":{"$error":"#NUM!"}},{"$f":"INDEX(Tabela.abordagens[],SMALL(IF(Tabela.abordagens[Mês]=$L$2,ROW(Tabela.abordagens[Idade])-2),ROW(A307)),6)","v":{"$error":"#NUM!"}},{"$f":"INDEX(Tabela.abordagens[],SMALL(IF(Tabela.abordagens[Mês]=$L$2,ROW(Tabela.abordagens[Idade])-2),ROW(A307)),4)","v":{"$error":"#NUM!"}},{"$f":"INDEX(Tabela.abordagens[],SMALL(IF(Tabela.abordagens[Mês]=$L$2,ROW(Tabela.abordagens[Idade])-2),ROW(A307)),5)","v":{"$error":"#NUM!"}}]
[null,{"$f":"INDEX(Tabela.frequencia[],SMALL(IF(Tabela.frequencia[Mês]=$L$2,ROW(Tabela.frequencia[id])-1),ROW(A308)),1)","v":{"$error":"#NUM!"}},{"$f":"INDEX(Tabela.frequencia[],SMALL(IF(Tabela.frequencia[Mês]=$L$2,ROW(Tabela.frequencia[id])-1),ROW(A308)),4)","v":{"$error":"#NUM!"}},null,{"$f":"IFERROR(VLOOKUP(D355,Tabela.cadastro[[ID]:[Nome]],2,0),\"\")","v":""},{"$f":"IFERROR(VLOOKUP(D355,Tabela66[#All],2,0),\"\")","v":""},{"$f":"IFERROR(VLOOKUP(D355,Tabela.cadastro[[ID]:[CP ou M]],5,0),\"\")","v":""},{"$f":"IFERROR(VLOOKUP(D355,Cadastros!A:F,6,0),\"\")","v":""},{"$f":"IFERROR(VLOOKUP(D355,Cadastros!A:I,9,0),\"\")","v":""},{"$f":"IFERROR(VLOOKUP(D355,Cadastros!A:J,10,0),\"\")","v":""},{"$f":"IF(COUNTIF(Tabela66[id],D355)=0,\"\",COUNTIF(Tabela66[id],D355))","v":""},null,"",null,null,{"$f":"IFERROR(VLOOKUP(O355,Cadastros!A:B,2),\"\")","v":""},"",{"$f":"IFERROR(VLOOKUP(O355,Cadastros!A:E,5,0),\"\")","v":""},{"$f":"IFERROR(VLOOKUP(O355,Cadastros!A:F,6,0),\"\")","v":""},{"$f":"IFERROR(VLOOKUP(O355,Cadastros!A:I,9,0),\"\")","v":""},"","","",null,{"$f":"INDEX(Tabela.abordagens[],SMALL(IF(Tabela.abordagens[Mês]=$L$2,ROW(Tabela.abordagens[id])-2),ROW(A308)),1)","v":{"$error":"#NUM!"}},{"$f":"INDEX(Tabela.abordagens[],SMALL(IF(Tabela.abordagens[Mês]=$L$2,ROW(Tabela.abordagens[Idade])-2),ROW(A308)),6)","v":{"$error":"#NUM!"}},{"$f":"INDEX(Tabela.abordagens[],SMALL(IF(Tabela.abordagens[Mês]=$L$2,ROW(Tabela.abordagens[Idade])-2),ROW(A308)),4)","v":{"$error":"#NUM!"}},{"$f":"INDEX(Tabela.abordagens[],SMALL(IF(Tabela.abordagens[Mês]=$L$2,ROW(Tabela.abordagens[Idade])-2),ROW(A308)),5)","v":{"$error":"#NUM!"}}]
[null,{"$f":"INDEX(Tabela.frequencia[],SMALL(IF(Tabela.frequencia[Mês]=$L$2,ROW(Tabela.frequencia[id])-1),ROW(A309)),1)","v":{"$error":"#NUM!"}},{"$f":"INDEX(Tabela.frequencia[],SMALL(IF(Tabela.frequencia[Mês]=$L$2,ROW(Tabela.frequencia[id])-1),ROW(A309)),4)","v":{"$error":"#NUM!"}},null,{"$f":"IFERROR(VLOOKUP(D356,Tabela.cadastro[[ID]:[Nome]],2,0),\"\")","v":""},{"$f":"IFERROR(VLOOKUP(D356,Tabela66[#All],2,0),\"\")","v":""},{"$f":"IFERROR(VLOOKUP(D356,Tabela.cadastro[[ID]:[CP ou M]],5,0),\"\")","v":""},{"$f":"IFERROR(VLOOKUP(D356,Cadastros!A:F,6,0),\"\")","v":""},{"$f":"IFERROR(VLOOKUP(D356,Cadastros!A:I,9,0),\"\")","v":""},{"$f":"IFERROR(VLOOKUP(D356,Cadastros!A:J,10,0),\"\")","v":""},{"$f":"IF(COUNTIF(Tabela66[id],D356)=0,\"\",COUNTIF(Tabela66[id],D356))","v":""},null,"",null,null,{"$f":"IFERROR(VLOOKUP(O356,Cadastros!A:B,2),\"\")","v":""},"",{"$f":"IFERROR(VLOOKUP(O356,Cadastros!A:E,5,0),\"\")","v":""},{"$f":"IFERROR(VLOOKUP(O356,Cadastros!A:F,6,0),\"\")","v":""},{"$f":"IFERROR(VLOOKUP(O356,Cadastros!A:I,9,0),\"\")","v":""},"","","",null,{"$f":"INDEX(Tabela.abordagens[],SMALL(IF(Tabela.abordagens[Mês]=$L$2,ROW(Tabela.abordagens[id])-2),ROW(A309)),1)","v":{"$error":"#NUM!"}},{"$f":"INDEX(Tabela.abordagens[],SMALL(IF(Tabela.abordagens[Mês]=$L$2,ROW(Tabela.abordagens[Idade])-2),ROW(A309)),6)","v":{"$error":"#NUM!"}},{"$f":"INDEX(Tabela.abordagens[],SMALL(IF(Tabela.abordagens[Mês]=$L$2,ROW(Tabela.abordagens[Idade])-2),ROW(A309)),4)","v":{"$error":"#NUM!"}},{"$f":"INDEX(Tabela.abordagens[],SMALL(IF(Tabela.abordagens[Mês]=$L$2,ROW(Tabela.abordagens[Idade])-2),ROW(A309)),5)","v":{"$error":"#NUM!"}}]
[null,{"$f":"INDEX(Tabela.frequencia[],SMALL(IF(Tabela.frequencia[Mês]=$L$2,ROW(Tabela.frequencia[id])-1),ROW(A310)),1)","v":{"$error":"#NUM!"}},{"$f":"INDEX(Tabela.frequencia[],SMALL(IF(Tabela.frequencia[Mês]=$L$2,ROW(Tabela.frequencia[id])-1),ROW(A310)),4)","v":{"$error":"#NUM!"}},null,{"$f":"IFERROR(VLOOKUP(D357,Tabela.cadastro[[ID]:[Nome]],2,0),\"\")","v":""},{"$f":"IFERROR(VLOOKUP(D357,Tabela66[#All],2,0),\"\")","v":""},{"$f":"IFERROR(VLOOKUP(D357,Tabela.cadastro[[ID]:[CP ou M]],5,0),\"\")","v":""},{"$f":"IFERROR(VLOOKUP(D357,Cadastros!A:F,6,0),\"\")","v":""},{"$f":"IFERROR(VLOOKUP(D357,Cadastros!A:I,9,0),\"\")","v":""},{"$f":"IFERROR(VLOOKUP(D357,Cadastros!A:J,10,0),\"\")","v":""},{"$f":"IF(COUNTIF(Tabela66[id],D357)=0,\"\",COUNTIF(Tabela66[id],D357))","v":""},null,"",null,null,{"$f":"IFERROR(VLOOKUP(O357,Cadastros!A:B,2),\"\")","v":""},"",{"$f":"IFERROR(VLOOKUP(O357,Cadastros!A:E,5,0),\"\")","v":""},{"$f":"IFERROR(VLOOKUP(O357,Cadastros!A:F,6,0),\"\")","v":""},{"$f":"IFERROR(VLOOKUP(O357,Cadastros!A:I,9,0),\"\")","v":""},"","","",null,{"$f":"INDEX(Tabela.abordagens[],SMALL(IF(Tabela.abordagens[Mês]=$L$2,ROW(Tabela.abordagens[id])-2),ROW(A310)),1)","v":{"$error":"#NUM!"}},{"$f":"INDEX(Tabela.abordagens[],SMALL(IF(Tabela.abordagens[Mês]=$L$2,ROW(Tabela.abordagens[Idade])-2),ROW(A310)),6)","v":{"$error":"#NUM!"}},{"$f":"INDEX(Tabela.abordagens[],SMALL(IF(Tabela.abordagens[Mês]=$L$2,ROW(Tabela.abordagens[Idade])-2),ROW(A310)),4)","v":{"$error":"#NUM!"}},{"$f":"INDEX(Tabela.abordagens[],SMALL(IF(Tabela.abordagens[Mês]=$L$2,ROW(Tabela.abordagens[Idade])-2),ROW(A310)),5)","v":{"$error":"#NUM!"}}]
[null,{"$f":"INDEX(Tabela.frequencia[],SMALL(IF(Tabela.frequencia[Mês]=$L$2,ROW(Tabela.frequencia[id])-1),ROW(A311)),1)","v":{"$error":"#NUM!"}},{"$f":"INDEX(Tabela.frequencia[],SMALL(IF(Tabela.frequencia[Mês]=$L$2,ROW(Tabela.frequencia[id])-1),ROW(A311)),4)","v":{"$error":"#NUM!"}},null,{"$f":"IFERROR(VLOOKUP(D358,Tabela.cadastro[[ID]:[Nome]],2,0),\"\")","v":""},{"$f":"IFERROR(VLOOKUP(D358,Tabela66[#All],2,0),\"\")","v":""},{"$f":"IFERROR(VLOOKUP(D358,Tabela.cadastro[[ID]:[CP ou M]],5,0),\"\")","v":""},{"$f":"IFERROR(VLOOKUP(D358,Cadastros!A:F,6,0),\"\")","v":""},{"$f":"IFERROR(VLOOKUP(D358,Cadastros!A:I,9,0),\"\")","v":""},{"$f":"IFERROR(VLOOKUP(D358,Cadastros!A:J,10,0),\"\")","v":""},{"$f":"IF(COUNTIF(Tabela66[id],D358)=0,\"\",COUNTIF(Tabela66[id],D358))","v":""},null,"",null,null,{"$f":"IFERROR(VLOOKUP(O358,Cadastros!A:B,2),\"\")","v":""},"",{"$f":"IFERROR(VLOOKUP(O358,Cadastros!A:E,5,0),\"\")","v":""},{"$f":"IFERROR(VLOOKUP(O358,Cadastros!A:F,6,0),\"\")","v":""},{"$f":"IFERROR(VLOOKUP(O358,Cadastros!A:I,9,0),\"\")","v":""},"","","",null,{"$f":"INDEX(Tabela.abordagens[],SMALL(IF(Tabela.abordagens[Mês]=$L$2,ROW(Tabela.abordagens[id])-2),ROW(A311)),1)","v":{"$error":"#NUM!"}},{"$f":"INDEX(Tabela.abordagens[],SMALL(IF(Tabela.abordagens[Mês]=$L$2,ROW(Tabela.abordagens[Idade])-2),ROW(A311)),6)","v":{"$error":"#NUM!"}},{"$f":"INDEX(Tabela.abordagens[],SMALL(IF(Tabela.abordagens[Mês]=$L$2,ROW(Tabela.abordagens[Idade])-2),ROW(A311)),4)","v":{"$error":"#NUM!"}},{"$f":"INDEX(Tabela.abordagens[],SMALL(IF(Tabela.abordagens[Mês]=$L$2,ROW(Tabela.abordagens[Idade])-2),ROW(A311)),5)","v":{"$error":"#NUM!"}}]
[null,{"$f":"INDEX(Tabela.frequencia[],SMALL(IF(Tabela.frequencia[Mês]=$L$2,ROW(Tabela.frequencia[id])-1),ROW(A312)),1)","v":{"$error":"#NUM!"}},{"$f":"INDEX(Tabela.frequencia[],SMALL(IF(Tabela.frequencia[Mês]=$L$2,ROW(Tabela.frequencia[id])-1),ROW(A312)),4)","v":{"$error":"#NUM!"}},null,{"$f":"IFERROR(VLOOKUP(D359,Tabela.cadastro[[ID]:[Nome]],2,0),\"\")","v":""},{"$f":"IFERROR(VLOOKUP(D359,Tabela66[#All],2,0),\"\")","v":""},{"$f":"IFERROR(VLOOKUP(D359,Tabela.cadastro[[ID]:[CP ou M]],5,0),\"\")","v":""},{"$f":"IFERROR(VLOOKUP(D359,Cadastros!A:F,6,0),\"\")","v":""},{"$f":"IFERROR(VLOOKUP(D359,Cadastros!A:I,9,0),\"\")","v":""},{"$f":"IFERROR(VLOOKUP(D359,Cadastros!A:J,10,0),\"\")","v":""},{"$f":"IF(COUNTIF(Tabela66[id],D359)=0,\"\",COUNTIF(Tabela66[id],D359))","v":""},null,"",null,null,{"$f":"IFERROR(VLOOKUP(O359,Cadastros!A:B,2),\"\")","v":""},"",{"$f":"IFERROR(VLOOKUP(O359,Cadastros!A:E,5,0),\"\")","v":""},{"$f":"IFERROR(VLOOKUP(O359,Cadastros!A:F,6,0),\"\")","v":""},{"$f":"IFERROR(VLOOKUP(O359,Cadastros!A:I,9,0),\"\")","v":""},"","","",null,{"$f":"INDEX(Tabela.abordagens[],SMALL(IF(Tabela.abordagens[Mês]=$L$2,ROW(Tabela.abordagens[id])-2),ROW(A312)),1)","v":{"$error":"#NUM!"}},{"$f":"INDEX(Tabela.abordagens[],SMALL(IF(Tabela.abordagens[Mês]=$L$2,ROW(Tabela.abordagens[Idade])-2),ROW(A312)),6)","v":{"$error":"#NUM!"}},{"$f":"INDEX(Tabela.abordagens[],SMALL(IF(Tabela.abordagens[Mês]=$L$2,ROW(Tabela.abordagens[Idade])-2),ROW(A312)),4)","v":{"$error":"#NUM!"}},{"$f":"INDEX(Tabela.abordagens[],SMALL(IF(Tabela.abordagens[Mês]=$L$2,ROW(Tabela.abordagens[Idade])-2),ROW(A312)),5)","v":{"$error":"#NUM!"}}]
[null,{"$f":"INDEX(Tabela.frequencia[],SMALL(IF(Tabela.frequencia[Mês]=$L$2,ROW(Tabela.frequencia[id])-1),ROW(A313)),1)","v":{"$error":"#NUM!"}},{"$f":"INDEX(Tabela.frequencia[],SMALL(IF(Tabela.frequencia[Mês]=$L$2,ROW(Tabela.frequencia[id])-1),ROW(A313)),4)","v":{"$error":"#NUM!"}},null,{"$f":"IFERROR(VLOOKUP(D360,Tabela.cadastro[[ID]:[Nome]],2,0),\"\")","v":""},{"$f":"IFERROR(VLOOKUP(D360,Tabela66[#All],2,0),\"\")","v":""},{"$f":"IFERROR(VLOOKUP(D360,Tabela.cadastro[[ID]:[CP ou M]],5,0),\"\")","v":""},{"$f":"IFERROR(VLOOKUP(D360,Cadastros!A:F,6,0),\"\")","v":""},{"$f":"IFERROR(VLOOKUP(D360,Cadastros!A:I,9,0),\"\")","v":""},{"$f":"IFERROR(VLOOKUP(D360,Cadastros!A:J,10,0),\"\")","v":""},{"$f":"IF(COUNTIF(Tabela66[id],D360)=0,\"\",COUNTIF(Tabela66[id],D360))","v":""},null,"",null,null,{"$f":"IFERROR(VLOOKUP(O360,Cadastros!A:B,2),\"\")","v":""},"",{"$f":"IFERROR(VLOOKUP(O360,Cadastros!A:E,5,0),\"\")","v":""},{"$f":"IFERROR(VLOOKUP(O360,Cadastros!A:F,6,0),\"\")","v":""},{"$f":"IFERROR(VLOOKUP(O360,Cadastros!A:I,9,0),\"\")","v":""},"","","",null,{"$f":"INDEX(Tabela.abordagens[],SMALL(IF(Tabela.abordagens[Mês]=$L$2,ROW(Tabela.abordagens[id])-2),ROW(A313)),1)","v":{"$error":"#NUM!"}},{"$f":"INDEX(Tabela.abordagens[],SMALL(IF(Tabela.abordagens[Mês]=$L$2,ROW(Tabela.abordagens[Idade])-2),ROW(A313)),6)","v":{"$error":"#NUM!"}},{"$f":"INDEX(Tabela.abordagens[],SMALL(IF(Tabela.abordagens[Mês]=$L$2,ROW(Tabela.abordagens[Idade])-2),ROW(A313)),4)","v":{"$error":"#NUM!"}},{"$f":"INDEX(Tabela.abordagens[],SMALL(IF(Tabela.abordagens[Mês]=$L$2,ROW(Tabela.abordagens[Idade])-2),ROW(A313)),5)","v":{"$error":"#NUM!"}}]
[null,{"$f":"INDEX(Tabela.frequencia[],SMALL(IF(Tabela.frequencia[Mês]=$L$2,ROW(Tabela.frequencia[id])-1),ROW(A314)),1)","v":{"$error":"#NUM!"}},{"$f":"INDEX(Tabela.frequencia[],SMALL(IF(Tabela.frequencia[Mês]=$L$2,ROW(Tabela.frequencia[id])-1),ROW(A314)),4)","v":{"$error":"#NUM!"}},null,{"$f":"IFERROR(VLOOKUP(D361,Tabela.cadastro[[ID]:[Nome]],2,0),\"\")","v":""},{"$f":"IFERROR(VLOOKUP(D361,Tabela66[#All],2,0),\"\")","v":""},{"$f":"IFERROR(VLOOKUP(D361,Tabela.cadastro[[ID]:[CP ou M]],5,0),\"\")","v":""},{"$f":"IFERROR(VLOOKUP(D361,Cadastros!A:F,6,0),\"\")","v":""},{"$f":"IFERROR(VLOOKUP(D361,Cadastros!A:I,9,0),\"\")","v":""},{"$f":"IFERROR(VLOOKUP(D361,Cadastros!A:J,10,0),\"\")","v":""},{"$f":"IF(COUNTIF(Tabela66[id],D361)=0,\"\",COUNTIF(Tabela66[id],D361))","v":""},null,"",null,null,{"$f":"IFERROR(VLOOKUP(O361,Cadastros!A:B,2),\"\")","v":""},"",{"$f":"IFERROR(VLOOKUP(O361,Cadastros!A:E,5,0),\"\")","v":""},{"$f":"IFERROR(VLOOKUP(O361,Cadastros!A:F,6,0),\"\")","v":""},{"$f":"IFERROR(VLOOKUP(O361,Cadastros!A:I,9,0),\"\")","v":""},"","","",null,{"$f":"INDEX(Tabela.abordagens[],SMALL(IF(Tabela.abordagens[Mês]=$L$2,ROW(Tabela.abordagens[id])-2),ROW(A314)),1)","v":{"$error":"#NUM!"}},{"$f":"INDEX(Tabela.abordagens[],SMALL(IF(Tabela.abordagens[Mês]=$L$2,ROW(Tabela.abordagens[Idade])-2),ROW(A314)),6)","v":{"$error":"#NUM!"}},{"$f":"INDEX(Tabela.abordagens[],SMALL(IF(Tabela.abordagens[Mês]=$L$2,ROW(Tabela.abordagens[Idade])-2),ROW(A314)),4)","v":{"$error":"#NUM!"}},{"$f":"INDEX(Tabela.abordagens[],SMALL(IF(Tabela.abordagens[Mês]=$L$2,ROW(Tabela.abordagens[Idade])-2),ROW(A314)),5)","v":{"$error":"#NUM!"}}]
[null,{"$f":"INDEX(Tabela.frequencia[],SMALL(IF(Tabela.frequencia[Mês]=$L$2,ROW(Tabela.frequencia[id])-1),ROW(A315)),1)","v":{"$error":"#NUM!"}},{"$f":"INDEX(Tabela.frequencia[],SMALL(IF(Tabela.frequencia[Mês]=$L$2,ROW(Tabela.frequencia[id])-1),ROW(A315)),4)","v":{"$error":"#NUM!"}},null,{"$f":"IFERROR(VLOOKUP(D362,Tabela.cadastro[[ID]:[Nome]],2,0),\"\")","v":""},{"$f":"IFERROR(VLOOKUP(D362,Tabela66[#All],2,0),\"\")","v":""},{"$f":"IFERROR(VLOOKUP(D362,Tabela.cadastro[[ID]:[CP ou M]],5,0),\"\")","v":""},{"$f":"IFERROR(VLOOKUP(D362,Cadastros!A:F,6,0),\"\")","v":""},{"$f":"IFERROR(VLOOKUP(D362,Cadastros!A:I,9,0),\"\")","v":""},{"$f":"IFERROR(VLOOKUP(D362,Cadastros!A:J,10,0),\"\")","v":""},{"$f":"IF(COUNTIF(Tabela66[id],D362)=0,\"\",COUNTIF(Tabela66[id],D362))","v":""},null,{"$f":"IF(AND(K362:K1193>=5,L362:L1193=\"Não\"),\"*\",\"\")","v":""},null,null,{"$f":"IFERROR(VLOOKUP(O362,Cadastros!A:B,2),\"\")","v":""},"",{"$f":"IFERROR(VLOOKUP(O362,Cadastros!A:E,5,0),\"\")","v":""},{"$f":"IFERROR(VLOOKUP(O362,Cadastros!A:F,6,0),\"\")","v":""},{"$f":"IFERROR(VLOOKUP(O362,Cadastros!A:I,9,0),\"\")","v":""},"","","",null,{"$f":"INDEX(Tabela.abordagens[],SMALL(IF(Tabela.abordagens[Mês]=$L$2,ROW(Tabela.abordagens[id])-2),ROW(A315)),1)","v":{"$error":"#NUM!"}},{"$f":"INDEX(Tabela.abordagens[],SMALL(IF(Tabela.abordagens[Mês]=$L$2,ROW(Tabela.abordagens[Idade])-2),ROW(A315)),6)","v":{"$error":"#NUM!"}},{"$f":"INDEX(Tabela.abordagens[],SMALL(IF(Tabela.abordagens[Mês]=$L$2,ROW(Tabela.abordagens[Idade])-2),ROW(A315)),4)","v":{"$error":"#NUM!"}},{"$f":"INDEX(Tabela.abordagens[],SMALL(IF(Tabela.abordagens[Mês]=$L$2,ROW(Tabela.abordagens[Idade])-2),ROW(A315)),5)","v":{"$error":"#NUM!"}}]
[null,{"$f":"INDEX(Tabela.frequencia[],SMALL(IF(Tabela.frequencia[Mês]=$L$2,ROW(Tabela.frequencia[id])-1),ROW(A316)),1)","v":{"$error":"#NUM!"}},{"$f":"INDEX(Tabela.frequencia[],SMALL(IF(Tabela.frequencia[Mês]=$L$2,ROW(Tabela.frequencia[id])-1),ROW(A316)),4)","v":{"$error":"#NUM!"}},null,{"$f":"IFERROR(VLOOKUP(D363,Tabela.cadastro[[ID]:[Nome]],2,0),\"\")","v":""},{"$f":"IFERROR(VLOOKUP(D363,Tabela66[#All],2,0),\"\")","v":""},{"$f":"IFERROR(VLOOKUP(D363,Tabela.cadastro[[ID]:[CP ou M]],5,0),\"\")","v":""},{"$f":"IFERROR(VLOOKUP(D363,Cadastros!A:F,6,0),\"\")","v":""},{"$f":"IFERROR(VLOOKUP(D363,Cadastros!A:I,9,0),\"\")","v":""},{"$f":"IFERROR(VLOOKUP(D363,Cadastros!A:J,10,0),\"\")","v":""},{"$f":"IF(COUNTIF(Tabela66[id],D363)=0,\"\",COUNTIF(Tabela66[id],D363))","v":""},null,"",null,null,{"$f":"IFERROR(VLOOKUP(O363,Cadastros!A:B,2),\"\")","v":""},"",{"$f":"IFERROR(VLOOKUP(O363,Cadastros!A:E,5,0),\"\")","v":""},{"$f":"IFERROR(VLOOKUP(O363,Cadastros!A:F,6,0),\"\")","v":""},{"$f":"IFERROR(VLOOKUP(O363,Cadastros!A:I,9,0),\"\")","v":""},"","","",null,{"$f":"INDEX(Tabela.abordagens[],SMALL(IF(Tabela.abordagens[Mês]=$L$2,ROW(Tabela.abordagens[id])-2),ROW(A316)),1)","v":{"$error":"#NUM!"}},{"$f":"INDEX(Tabela.abordagens[],SMALL(IF(Tabela.abordagens[Mês]=$L$2,ROW(Tabela.abordagens[Idade])-2),ROW(A316)),6)","v":{"$error":"#NUM!"}},{"$f":"INDEX(Tabela.abordagens[],SMALL(IF(Tabela.abordagens[Mês]=$L$2,ROW(Tabela.abordagens[Idade])-2),ROW(A316)),4)","v":{"$error":"#NUM!"}},{"$f":"INDEX(Tabela.abordagens[],SMALL(IF(Tabela.abordagens[Mês]=$L$2,ROW(Tabela.abordagens[Idade])-2),ROW(A316)),5)","v":{"$error":"#NUM!"}}]
[null,{"$f":"INDEX(Tabela.frequencia[],SMALL(IF(Tabela.frequencia[Mês]=$L$2,ROW(Tabela.frequencia[id])-1),ROW(A317)),1)","v":{"$error":"#NUM!"}},{"$f":"INDEX(Tabela.frequencia[],SMALL(IF(Tabela.frequencia[Mês]=$L$2,ROW(Tabela.frequencia[id])-1),ROW(A317)),4)","v":{"$error":"#NUM!"}},null,{"$f":"IFERROR(VLOOKUP(D364,Tabela.cadastro[[ID]:[Nome]],2,0),\"\")","v":""},{"$f":"IFERROR(VLOOKUP(D364,Tabela66[#All],2,0),\"\")","v":""},{"$f":"IFERROR(VLOOKUP(D364,Tabela.cadastro[[ID]:[CP ou M]],5,0),\"\")","v":""},{"$f":"IFERROR(VLOOKUP(D364,Cadastros!A:F,6,0),\"\")","v":""},{"$f":"IFERROR(VLOOKUP(D364,Cadastros!A:I,9,0),\"\")","v":""},{"$f":"IFERROR(VLOOKUP(D364,Cadastros!A:J,10,0),\"\")","v":""},{"$f":"IF(COUNTIF(Tabela66[id],D364)=0,\"\",COUNTIF(Tabela66[id],D364))","v":""},null,"",null,null,{"$f":"IFERROR(VLOOKUP(O364,Cadastros!A:B,2),\"\")","v":""},"",{"$f":"IFERROR(VLOOKUP(O364,Cadastros!A:E,5,0),\"\")","v":""},{"$f":"IFERROR(VLOOKUP(O364,Cadastros!A:F,6,0),\"\")","v":""},{"$f":"IFERROR(VLOOKUP(O364,Cadastros!A:I,9,0),\"\")","v":""},"","","",null,{"$f":"INDEX(Tabela.abordagens[],SMALL(IF(Tabela.abordagens[Mês]=$L$2,ROW(Tabela.abordagens[id])-2),ROW(A317)),1)","v":{"$error":"#NUM!"}},{"$f":"INDEX(Tabela.abordagens[],SMALL(IF(Tabela.abordagens[Mês]=$L$2,ROW(Tabela.abordagens[Idade])-2),ROW(A317)),6)","v":{"$error":"#NUM!"}},{"$f":"INDEX(Tabela.abordagens[],SMALL(IF(Tabela.abordagens[Mês]=$L$2,ROW(Tabela.abordagens[Idade])-2),ROW(A317)),4)","v":{"$error":"#NUM!"}},{"$f":"INDEX(Tabela.abordagens[],SMALL(IF(Tabela.abordagens[Mês]=$L$2,ROW(Tabela.abordagens[Idade])-2),ROW(A317)),5)","v":{"$error":"#NUM!"}}]
[null,{"$f":"INDEX(Tabela.frequencia[],SMALL(IF(Tabela.frequencia[Mês]=$L$2,ROW(Tabela.frequencia[id])-1),ROW(A318)),1)","v":{"$error":"#NUM!"}},{"$f":"INDEX(Tabela.frequencia[],SMALL(IF(Tabela.frequencia[Mês]=$L$2,ROW(Tabela.frequencia[id])-1),ROW(A318)),4)","v":{"$error":"#NUM!"}},null,{"$f":"IFERROR(VLOOKUP(D365,Tabela.cadastro[[ID]:[Nome]],2,0),\"\")","v":""},{"$f":"IFERROR(VLOOKUP(D365,Tabela66[#All],2,0),\"\")","v":""},{"$f":"IFERROR(VLOOKUP(D365,Tabela.cadastro[[ID]:[CP ou M]],5,0),\"\")","v":""},{"$f":"IFERROR(VLOOKUP(D365,Cadastros!A:F,6,0),\"\")","v":""},{"$f":"IFERROR(VLOOKUP(D365,Cadastros!A:I,9,0),\"\")","v":""},{"$f":"IFERROR(VLOOKUP(D365,Cadastros!A:J,10,0),\"\")","v":""},{"$f":"IF(COUNTIF(Tabela66[id],D365)=0,\"\",COUNTIF(Tabela66[id],D365))","v":""},null,"",null,null,{"$f":"IFERROR(VLOOKUP(O365,Cadastros!A:B,2),\"\")","v":""},"",{"$f":"IFERROR(VLOOKUP(O365,Cadastros!A:E,5,0),\"\")","v":""},{"$f":"IFERROR(VLOOKUP(O365,Cadastros!A:F,6,0),\"\")","v":""},{"$f":"IFERROR(VLOOKUP(O365,Cadastros!A:I,9,0),\"\")","v":""},"","","",null,{"$f":"INDEX(Tabela.abordagens[],SMALL(IF(Tabela.abordagens[Mês]=$L$2,ROW(Tabela.abordagens[id])-2),ROW(A318)),1)","v":{"$error":"#NUM!"}},{"$f":"INDEX(Tabela.abordagens[],SMALL(IF(Tabela.abordagens[Mês]=$L$2,ROW(Tabela.abordagens[Idade])-2),ROW(A318)),6)","v":{"$error":"#NUM!"}},{"$f":"INDEX(Tabela.abordagens[],SMALL(IF(Tabela.abordagens[Mês]=$L$2,ROW(Tabela.abordagens[Idade])-2),ROW(A318)),4)","v":{"$error":"#NUM!"}},{"$f":"INDEX(Tabela.abordagens[],SMALL(IF(Tabela.abordagens[Mês]=$L$2,ROW(Tabela.abordagens[Idade])-2),ROW(A318)),5)","v":{"$error":"#NUM!"}}]
[null,{"$f":"INDEX(Tabela.frequencia[],SMALL(IF(Tabela.frequencia[Mês]=$L$2,ROW(Tabela.frequencia[id])-1),ROW(A319)),1)","v":{"$error":"#NUM!"}},{"$f":"INDEX(Tabela.frequencia[],SMALL(IF(Tabela.frequencia[Mês]=$L$2,ROW(Tabela.frequencia[id])-1),ROW(A319)),4)","v":{"$error":"#NUM!"}},null,{"$f":"IFERROR(VLOOKUP(D366,Tabela.cadastro[[ID]:[Nome]],2,0),\"\")","v":""},{"$f":"IFERROR(VLOOKUP(D366,Tabela66[#All],2,0),\"\")","v":""},{"$f":"IFERROR(VLOOKUP(D366,Tabela.cadastro[[ID]:[CP ou M]],5,0),\"\")","v":""},{"$f":"IFERROR(VLOOKUP(D366,Cadastros!A:F,6,0),\"\")","v":""},{"$f":"IFERROR(VLOOKUP(D366,Cadastros!A:I,9,0),\"\")","v":""},{"$f":"IFERROR(VLOOKUP(D366,Cadastros!A:J,10,0),\"\")","v":""},{"$f":"IF(COUNTIF(Tabela66[id],D366)=0,\"\",COUNTIF(Tabela66[id],D366))","v":""},null,"",null,null,{"$f":"IFERROR(VLOOKUP(O366,Cadastros!A:B,2),\"\")","v":""},"",{"$f":"IFERROR(VLOOKUP(O366,Cadastros!A:E,5,0),\"\")","v":""},{"$f":"IFERROR(VLOOKUP(O366,Cadastros!A:F,6,0),\"\")","v":""},{"$f":"IFERROR(VLOOKUP(O366,Cadastros!A:I,9,0),\"\")","v":""},"","","",null,{"$f":"INDEX(Tabela.abordagens[],SMALL(IF(Tabela.abordagens[Mês]=$L$2,ROW(Tabela.abordagens[id])-2),ROW(A319)),1)","v":{"$error":"#NUM!"}},{"$f":"INDEX(Tabela.abordagens[],SMALL(IF(Tabela.abordagens[Mês]=$L$2,ROW(Tabela.abordagens[Idade])-2),ROW(A319)),6)","v":{"$error":"#NUM!"}},{"$f":"INDEX(Tabela.abordagens[],SMALL(IF(Tabela.abordagens[Mês]=$L$2,ROW(Tabela.abordagens[Idade])-2),ROW(A319)),4)","v":{"$error":"#NUM!"}},{"$f":"INDEX(Tabela.abordagens[],SMALL(IF(Tabela.abordagens[Mês]=$L$2,ROW(Tabela.abordagens[Idade])-2),ROW(A319)),5)","v":{"$error":"#NUM!"}}]
[null,{"$f":"INDEX(Tabela.frequencia[],SMALL(IF(Tabela.frequencia[Mês]=$L$2,ROW(Tabela.frequencia[id])-1),ROW(A320)),1)","v":{"$error":"#NUM!"}},{"$f":"INDEX(Tabela.frequencia[],SMALL(IF(Tabela.frequencia[Mês]=$L$2,ROW(Tabela.frequencia[id])-1),ROW(A320)),4)","v":{"$error":"#NUM!"}},null,{"$f":"IFERROR(VLOOKUP(D367,Tabela.cadastro[[ID]:[Nome]],2,0),\"\")","v":""},{"$f":"IFERROR(VLOOKUP(D367,Tabela66[#All],2,0),\"\")","v":""},{"$f":"IFERROR(VLOOKUP(D367,Tabela.cadastro[[ID]:[CP ou M]],5,0),\"\")","v":""},{"$f":"IFERROR(VLOOKUP(D367,Cadastros!A:F,6,0),\"\")","v":""},{"$f":"IFERROR(VLOOKUP(D367,Cadastros!A:I,9,0),\"\")","v":""},{"$f":"IFERROR(VLOOKUP(D367,Cadastros!A:J,10,0),\"\")","v":""},{"$f":"IF(COUNTIF(Tabela66[id],D367)=0,\"\",COUNTIF(Tabela66[id],D367))","v":""},null,"",null,null,{"$f":"IFERROR(VLOOKUP(O367,Cadastros!A:B,2),\"\")","v":""},"",{"$f":"IFERROR(VLOOKUP(O367,Cadastros!A:E,5,0),\"\")","v":""},{"$f":"IFERROR(VLOOKUP(O367,Cadastros!A:F,6,0),\"\")","v":""},{"$f":"IFERROR(VLOOKUP(O367,Cadastros!A:I,9,0),\"\")","v":""},"","","",null,{"$f":"INDEX(Tabela.abordagens[],SMALL(IF(Tabela.abordagens[Mês]=$L$2,ROW(Tabela.abordagens[id])-2),ROW(A320)),1)","v":{"$error":"#NUM!"}},{"$f":"INDEX(Tabela.abordagens[],SMALL(IF(Tabela.abordagens[Mês]=$L$2,ROW(Tabela.abordagens[Idade])-2),ROW(A320)),6)","v":{"$error":"#NUM!"}},{"$f":"INDEX(Tabela.abordagens[],SMALL(IF(Tabela.abordagens[Mês]=$L$2,ROW(Tabela.abordagens[Idade])-2),ROW(A320)),4)","v":{"$error":"#NUM!"}},{"$f":"INDEX(Tabela.abordagens[],SMALL(IF(Tabela.abordagens[Mês]=$L$2,ROW(Tabela.abordagens[Idade])-2),ROW(A320)),5)","v":{"$error":"#NUM!"}}]
[null,{"$f":"INDEX(Tabela.frequencia[],SMALL(IF(Tabela.frequencia[Mês]=$L$2,ROW(Tabela.frequencia[id])-1),ROW(A321)),1)","v":{"$error":"#NUM!"}},{"$f":"INDEX(Tabela.frequencia[],SMALL(IF(Tabela.frequencia[Mês]=$L$2,ROW(Tabela.frequencia[id])-1),ROW(A321)),4)","v":{"$error":"#NUM!"}},null,{"$f":"IFERROR(VLOOKUP(D368,Tabela.cadastro[[ID]:[Nome]],2,0),\"\")","v":""},{"$f":"IFERROR(VLOOKUP(D368,Tabela66[#All],2,0),\"\")","v":""},{"$f":"IFERROR(VLOOKUP(D368,Tabela.cadastro[[ID]:[CP ou M]],5,0),\"\")","v":""},{"$f":"IFERROR(VLOOKUP(D368,Cadastros!A:F,6,0),\"\")","v":""},{"$f":"IFERROR(VLOOKUP(D368,Cadastros!A:I,9,0),\"\")","v":""},{"$f":"IFERROR(VLOOKUP(D368,Cadastros!A:J,10,0),\"\")","v":""},{"$f":"IF(COUNTIF(Tabela66[id],D368)=0,\"\",COUNTIF(Tabela66[id],D368))","v":""},null,"",null,null,{"$f":"IFERROR(VLOOKUP(O368,Cadastros!A:B,2),\"\")","v":""},"",{"$f":"IFERROR(VLOOKUP(O368,Cadastros!A:E,5,0),\"\")","v":""},{"$f":"IFERROR(VLOOKUP(O368,Cadastros!A:F,6,0),\"\")","v":""},{"$f":"IFERROR(VLOOKUP(O368,Cadastros!A:I,9,0),\"\")","v":""},"","","",null,{"$f":"INDEX(Tabela.abordagens[],SMALL(IF(Tabela.abordagens[Mês]=$L$2,ROW(Tabela.abordagens[id])-2),ROW(A321)),1)","v":{"$error":"#NUM!"}},{"$f":"INDEX(Tabela.abordagens[],SMALL(IF(Tabela.abordagens[Mês]=$L$2,ROW(Tabela.abordagens[Idade])-2),ROW(A321)),6)","v":{"$error":"#NUM!"}},{"$f":"INDEX(Tabela.abordagens[],SMALL(IF(Tabela.abordagens[Mês]=$L$2,ROW(Tabela.abordagens[Idade])-2),ROW(A321)),4)","v":{"$error":"#NUM!"}},{"$f":"INDEX(Tabela.abordagens[],SMALL(IF(Tabela.abordagens[Mês]=$L$2,ROW(Tabela.abordagens[Idade])-2),ROW(A321)),5)","v":{"$error":"#NUM!"}}]
[null,{"$f":"INDEX(Tabela.frequencia[],SMALL(IF(Tabela.frequencia[Mês]=$L$2,ROW(Tabela.frequencia[id])-1),ROW(A322)),1)","v":{"$error":"#NUM!"}},{"$f":"INDEX(Tabela.frequencia[],SMALL(IF(Tabela.frequencia[Mês]=$L$2,ROW(Tabela.frequencia[id])-1),ROW(A322)),4)","v":{"$error":"#NUM!"}},null,{"$f":"IFERROR(VLOOKUP(D369,Tabela.cadastro[[ID]:[Nome]],2,0),\"\")","v":""},{"$f":"IFERROR(VLOOKUP(D369,Tabela66[#All],2,0),\"\")","v":""},{"$f":"IFERROR(VLOOKUP(D369,Tabela.cadastro[[ID]:[CP ou M]],5,0),\"\")","v":""},{"$f":"IFERROR(VLOOKUP(D369,Cadastros!A:F,6,0),\"\")","v":""},{"$f":"IFERROR(VLOOKUP(D369,Cadastros!A:I,9,0),\"\")","v":""},{"$f":"IFERROR(VLOOKUP(D369,Cadastros!A:J,10,0),\"\")","v":""},{"$f":"IF(COUNTIF(Tabela66[id],D369)=0,\"\",COUNTIF(Tabela66[id],D369))","v":""},null,"",null,null,{"$f":"IFERROR(VLOOKUP(O369,Cadastros!A:B,2),\"\")","v":""},"",{"$f":"IFERROR(VLOOKUP(O369,Cadastros!A:E,5,0),\"\")","v":""},{"$f":"IFERROR(VLOOKUP(O369,Cadastros!A:F,6,0),\"\")","v":""},{"$f":"IFERROR(VLOOKUP(O369,Cadastros!A:I,9,0),\"\")","v":""},"","","",null,{"$f":"INDEX(Tabela.abordagens[],SMALL(IF(Tabela.abordagens[Mês]=$L$2,ROW(Tabela.abordagens[id])-2),ROW(A322)),1)","v":{"$error":"#NUM!"}},{"$f":"INDEX(Tabela.abordagens[],SMALL(IF(Tabela.abordagens[Mês]=$L$2,ROW(Tabela.abordagens[Idade])-2),ROW(A322)),6)","v":{"$error":"#NUM!"}},{"$f":"INDEX(Tabela.abordagens[],SMALL(IF(Tabela.abordagens[Mês]=$L$2,ROW(Tabela.abordagens[Idade])-2),ROW(A322)),4)","v":{"$error":"#NUM!"}},{"$f":"INDEX(Tabela.abordagens[],SMALL(IF(Tabela.abordagens[Mês]=$L$2,ROW(Tabela.abordagens[Idade])-2),ROW(A322)),5)","v":{"$error":"#NUM!"}}]
[null,{"$f":"INDEX(Tabela.frequencia[],SMALL(IF(Tabela.frequencia[Mês]=$L$2,ROW(Tabela.frequencia[id])-1),ROW(A323)),1)","v":{"$error":"#NUM!"}},{"$f":"INDEX(Tabela.frequencia[],SMALL(IF(Tabela.frequencia[Mês]=$L$2,ROW(Tabela.frequencia[id])-1),ROW(A323)),4)","v":{"$error":"#NUM!"}},null,{"$f":"IFERROR(VLOOKUP(D370,Tabela.cadastro[[ID]:[Nome]],2,0),\"\")","v":""},{"$f":"IFERROR(VLOOKUP(D370,Tabela66[#All],2,0),\"\")","v":""},{"$f":"IFERROR(VLOOKUP(D370,Tabela.cadastro[[ID]:[CP ou M]],5,0),\"\")","v":""},{"$f":"IFERROR(VLOOKUP(D370,Cadastros!A:F,6,0),\"\")","v":""},{"$f":"IFERROR(VLOOKUP(D370,Cadastros!A:I,9,0),\"\")","v":""},{"$f":"IFERROR(VLOOKUP(D370,Cadastros!A:J,10,0),\"\")","v":""},{"$f":"IF(COUNTIF(Tabela66[id],D370)=0,\"\",COUNTIF(Tabela66[id],D370))","v":""},null,"",null,null,{"$f":"IFERROR(VLOOKUP(O370,Cadastros!A:B,2),\"\")","v":""},"",{"$f":"IFERROR(VLOOKUP(O370,Cadastros!A:E,5,0),\"\")","v":""},{"$f":"IFERROR(VLOOKUP(O370,Cadastros!A:F,6,0),\"\")","v":""},{"$f":"IFERROR(VLOOKUP(O370,Cadastros!A:I,9,0),\"\")","v":""},"","","",null,{"$f":"INDEX(Tabela.abordagens[],SMALL(IF(Tabela.abordagens[Mês]=$L$2,ROW(Tabela.abordagens[id])-2),ROW(A323)),1)","v":{"$error":"#NUM!"}},{"$f":"INDEX(Tabela.abordagens[],SMALL(IF(Tabela.abordagens[Mês]=$L$2,ROW(Tabela.abordagens[Idade])-2),ROW(A323)),6)","v":{"$error":"#NUM!"}},{"$f":"INDEX(Tabela.abordagens[],SMALL(IF(Tabela.abordagens[Mês]=$L$2,ROW(Tabela.abordagens[Idade])-2),ROW(A323)),4)","v":{"$error":"#NUM!"}},{"$f":"INDEX(Tabela.abordagens[],SMALL(IF(Tabela.abordagens[Mês]=$L$2,ROW(Tabela.abordagens[Idade])-2),ROW(A323)),5)","v":{"$error":"#NUM!"}}]
[null,{"$f":"INDEX(Tabela.frequencia[],SMALL(IF(Tabela.frequencia[Mês]=$L$2,ROW(Tabela.frequencia[id])-1),ROW(A324)),1)","v":{"$error":"#NUM!"}},{"$f":"INDEX(Tabela.frequencia[],SMALL(IF(Tabela.frequencia[Mês]=$L$2,ROW(Tabela.frequencia[id])-1),ROW(A324)),4)","v":{"$error":"#NUM!"}},null,{"$f":"IFERROR(VLOOKUP(D371,Tabela.cadastro[[ID]:[Nome]],2,0),\"\")","v":""},{"$f":"IFERROR(VLOOKUP(D371,Tabela66[#All],2,0),\"\")","v":""},{"$f":"IFERROR(VLOOKUP(D371,Tabela.cadastro[[ID]:[CP ou M]],5,0),\"\")","v":""},{"$f":"IFERROR(VLOOKUP(D371,Cadastros!A:F,6,0),\"\")","v":""},{"$f":"IFERROR(VLOOKUP(D371,Cadastros!A:I,9,0),\"\")","v":""},{"$f":"IFERROR(VLOOKUP(D371,Cadastros!A:J,10,0),\"\")","v":""},{"$f":"IF(COUNTIF(Tabela66[id],D371)=0,\"\",COUNTIF(Tabela66[id],D371))","v":""},null,"",null,null,{"$f":"IFERROR(VLOOKUP(O371,Cadastros!A:B,2),\"\")","v":""},"",{"$f":"IFERROR(VLOOKUP(O371,Cadastros!A:E,5,0),\"\")","v":""},{"$f":"IFERROR(VLOOKUP(O371,Cadastros!A:F,6,0),\"\")","v":""},{"$f":"IFERROR(VLOOKUP(O371,Cadastros!A:I,9,0),\"\")","v":""},"","","",null,{"$f":"INDEX(Tabela.abordagens[],SMALL(IF(Tabela.abordagens[Mês]=$L$2,ROW(Tabela.abordagens[id])-2),ROW(A324)),1)","v":{"$error":"#NUM!"}},{"$f":"INDEX(Tabela.abordagens[],SMALL(IF(Tabela.abordagens[Mês]=$L$2,ROW(Tabela.abordagens[Idade])-2),ROW(A324)),6)","v":{"$error":"#NUM!"}},{"$f":"INDEX(Tabela.abordagens[],SMALL(IF(Tabela.abordagens[Mês]=$L$2,ROW(Tabela.abordagens[Idade])-2),ROW(A324)),4)","v":{"$error":"#NUM!"}},{"$f":"INDEX(Tabela.abordagens[],SMALL(IF(Tabela.abordagens[Mês]=$L$2,ROW(Tabela.abordagens[Idade])-2),ROW(A324)),5)","v":{"$error":"#NUM!"}}]
[null,{"$f":"INDEX(Tabela.frequencia[],SMALL(IF(Tabela.frequencia[Mês]=$L$2,ROW(Tabela.frequencia[id])-1),ROW(A325)),1)","v":{"$error":"#NUM!"}},{"$f":"INDEX(Tabela.frequencia[],SMALL(IF(Tabela.frequencia[Mês]=$L$2,ROW(Tabela.frequencia[id])-1),ROW(A325)),4)","v":{"$error":"#NUM!"}},null,{"$f":"IFERROR(VLOOKUP(D372,Tabela.cadastro[[ID]:[Nome]],2,0),\"\")","v":""},{"$f":"IFERROR(VLOOKUP(D372,Tabela66[#All],2,0),\"\")","v":""},{"$f":"IFERROR(VLOOKUP(D372,Tabela.cadastro[[ID]:[CP ou M]],5,0),\"\")","v":""},{"$f":"IFERROR(VLOOKUP(D372,Cadastros!A:F,6,0),\"\")","v":""},{"$f":"IFERROR(VLOOKUP(D372,Cadastros!A:I,9,0),\"\")","v":""},{"$f":"IFERROR(VLOOKUP(D372,Cadastros!A:J,10,0),\"\")","v":""},{"$f":"IF(COUNTIF(Tabela66[id],D372)=0,\"\",COUNTIF(Tabela66[id],D372))","v":""},null,"",null,null,{"$f":"IFERROR(VLOOKUP(O372,Cadastros!A:B,2),\"\")","v":""},"",{"$f":"IFERROR(VLOOKUP(O372,Cadastros!A:E,5,0),\"\")","v":""},{"$f":"IFERROR(VLOOKUP(O372,Cadastros!A:F,6,0),\"\")","v":""},{"$f":"IFERROR(VLOOKUP(O372,Cadastros!A:I,9,0),\"\")","v":""},"","","",null,{"$f":"INDEX(Tabela.abordagens[],SMALL(IF(Tabela.abordagens[Mês]=$L$2,ROW(Tabela.abordagens[id])-2),ROW(A325)),1)","v":{"$error":"#NUM!"}},{"$f":"INDEX(Tabela.abordagens[],SMALL(IF(Tabela.abordagens[Mês]=$L$2,ROW(Tabela.abordagens[Idade])-2),ROW(A325)),6)","v":{"$error":"#NUM!"}},{"$f":"INDEX(Tabela.abordagens[],SMALL(IF(Tabela.abordagens[Mês]=$L$2,ROW(Tabela.abordagens[Idade])-2),ROW(A325)),4)","v":{"$error":"#NUM!"}},{"$f":"INDEX(Tabela.abordagens[],SMALL(IF(Tabela.abordagens[Mês]=$L$2,ROW(Tabela.abordagens[Idade])-2),ROW(A325)),5)","v":{"$error":"#NUM!"}}]
[null,{"$f":"INDEX(Tabela.frequencia[],SMALL(IF(Tabela.frequencia[Mês]=$L$2,ROW(Tabela.frequencia[id])-1),ROW(A326)),1)","v":{"$error":"#NUM!"}},{"$f":"INDEX(Tabela.frequencia[],SMALL(IF(Tabela.frequencia[Mês]=$L$2,ROW(Tabela.frequencia[id])-1),ROW(A326)),4)","v":{"$error":"#NUM!"}},null,{"$f":"IFERROR(VLOOKUP(D373,Tabela.cadastro[[ID]:[Nome]],2,0),\"\")","v":""},{"$f":"IFERROR(VLOOKUP(D373,Tabela66[#All],2,0),\"\")","v":""},{"$f":"IFERROR(VLOOKUP(D373,Tabela.cadastro[[ID]:[CP ou M]],5,0),\"\")","v":""},{"$f":"IFERROR(VLOOKUP(D373,Cadastros!A:F,6,0),\"\")","v":""},{"$f":"IFERROR(VLOOKUP(D373,Cadastros!A:I,9,0),\"\")","v":""},{"$f":"IFERROR(VLOOKUP(D373,Cadastros!A:J,10,0),\"\")","v":""},{"$f":"IF(COUNTIF(Tabela66[id],D373)=0,\"\",COUNTIF(Tabela66[id],D373))","v":""},null,"",null,null,{"$f":"IFERROR(VLOOKUP(O373,Cadastros!A:B,2),\"\")","v":""},"",{"$f":"IFERROR(VLOOKUP(O373,Cadastros!A:E,5,0),\"\")","v":""},{"$f":"IFERROR(VLOOKUP(O373,Cadastros!A:F,6,0),\"\")","v":""},{"$f":"IFERROR(VLOOKUP(O373,Cadastros!A:I,9,0),\"\")","v":""},"","","",null,{"$f":"INDEX(Tabela.abordagens[],SMALL(IF(Tabela.abordagens[Mês]=$L$2,ROW(Tabela.abordagens[id])-2),ROW(A326)),1)","v":{"$error":"#NUM!"}},{"$f":"INDEX(Tabela.abordagens[],SMALL(IF(Tabela.abordagens[Mês]=$L$2,ROW(Tabela.abordagens[Idade])-2),ROW(A326)),6)","v":{"$error":"#NUM!"}},{"$f":"INDEX(Tabela.abordagens[],SMALL(IF(Tabela.abordagens[Mês]=$L$2,ROW(Tabela.abordagens[Idade])-2),ROW(A326)),4)","v":{"$error":"#NUM!"}},{"$f":"INDEX(Tabela.abordagens[],SMALL(IF(Tabela.abordagens[Mês]=$L$2,ROW(Tabela.abordagens[Idade])-2),ROW(A326)),5)","v":{"$error":"#NUM!"}}]
[null,{"$f":"INDEX(Tabela.frequencia[],SMALL(IF(Tabela.frequencia[Mês]=$L$2,ROW(Tabela.frequencia[id])-1),ROW(A327)),1)","v":{"$error":"#NUM!"}},{"$f":"INDEX(Tabela.frequencia[],SMALL(IF(Tabela.frequencia[Mês]=$L$2,ROW(Tabela.frequencia[id])-1),ROW(A327)),4)","v":{"$error":"#NUM!"}},null,{"$f":"IFERROR(VLOOKUP(D374,Tabela.cadastro[[ID]:[Nome]],2,0),\"\")","v":""},{"$f":"IFERROR(VLOOKUP(D374,Tabela66[#All],2,0),\"\")","v":""},{"$f":"IFERROR(VLOOKUP(D374,Tabela.cadastro[[ID]:[CP ou M]],5,0),\"\")","v":""},{"$f":"IFERROR(VLOOKUP(D374,Cadastros!A:F,6,0),\"\")","v":""},{"$f":"IFERROR(VLOOKUP(D374,Cadastros!A:I,9,0),\"\")","v":""},{"$f":"IFERROR(VLOOKUP(D374,Cadastros!A:J,10,0),\"\")","v":""},{"$f":"IF(COUNTIF(Tabela66[id],D374)=0,\"\",COUNTIF(Tabela66[id],D374))","v":""},null,"",null,null,{"$f":"IFERROR(VLOOKUP(O374,Cadastros!A:B,2),\"\")","v":""},"",{"$f":"IFERROR(VLOOKUP(O374,Cadastros!A:E,5,0),\"\")","v":""},{"$f":"IFERROR(VLOOKUP(O374,Cadastros!A:F,6,0),\"\")","v":""},{"$f":"IFERROR(VLOOKUP(O374,Cadastros!A:I,9,0),\"\")","v":""},"","","",null,{"$f":"INDEX(Tabela.abordagens[],SMALL(IF(Tabela.abordagens[Mês]=$L$2,ROW(Tabela.abordagens[id])-2),ROW(A327)),1)","v":{"$error":"#NUM!"}},{"$f":"INDEX(Tabela.abordagens[],SMALL(IF(Tabela.abordagens[Mês]=$L$2,ROW(Tabela.abordagens[Idade])-2),ROW(A327)),6)","v":{"$error":"#NUM!"}},{"$f":"INDEX(Tabela.abordagens[],SMALL(IF(Tabela.abordagens[Mês]=$L$2,ROW(Tabela.abordagens[Idade])-2),ROW(A327)),4)","v":{"$error":"#NUM!"}},{"$f":"INDEX(Tabela.abordagens[],SMALL(IF(Tabela.abordagens[Mês]=$L$2,ROW(Tabela.abordagens[Idade])-2),ROW(A327)),5)","v":{"$error":"#NUM!"}}]
[null,{"$f":"INDEX(Tabela.frequencia[],SMALL(IF(Tabela.frequencia[Mês]=$L$2,ROW(Tabela.frequencia[id])-1),ROW(A328)),1)","v":{"$error":"#NUM!"}},{"$f":"INDEX(Tabela.frequencia[],SMALL(IF(Tabela.frequencia[Mês]=$L$2,ROW(Tabela.frequencia[id])-1),ROW(A328)),4)","v":{"$error":"#NUM!"}},null,{"$f":"IFERROR(VLOOKUP(D375,Tabela.cadastro[[ID]:[Nome]],2,0),\"\")","v":""},{"$f":"IFERROR(VLOOKUP(D375,Tabela66[#All],2,0),\"\")","v":""},{"$f":"IFERROR(VLOOKUP(D375,Tabela.cadastro[[ID]:[CP ou M]],5,0),\"\")","v":""},{"$f":"IFERROR(VLOOKUP(D375,Cadastros!A:F,6,0),\"\")","v":""},{"$f":"IFERROR(VLOOKUP(D375,Cadastros!A:I,9,0),\"\")","v":""},{"$f":"IFERROR(VLOOKUP(D375,Cadastros!A:J,10,0),\"\")","v":""},{"$f":"IF(COUNTIF(Tabela66[id],D375)=0,\"\",COUNTIF(Tabela66[id],D375))","v":""},null,"",null,null,{"$f":"IFERROR(VLOOKUP(O375,Cadastros!A:B,2),\"\")","v":""},"",{"$f":"IFERROR(VLOOKUP(O375,Cadastros!A:E,5,0),\"\")","v":""},{"$f":"IFERROR(VLOOKUP(O375,Cadastros!A:F,6,0),\"\")","v":""},{"$f":"IFERROR(VLOOKUP(O375,Cadastros!A:I,9,0),\"\")","v":""},"","","",null,{"$f":"INDEX(Tabela.abordagens[],SMALL(IF(Tabela.abordagens[Mês]=$L$2,ROW(Tabela.abordagens[id])-2),ROW(A328)),1)","v":{"$error":"#NUM!"}},{"$f":"INDEX(Tabela.abordagens[],SMALL(IF(Tabela.abordagens[Mês]=$L$2,ROW(Tabela.abordagens[Idade])-2),ROW(A328)),6)","v":{"$error":"#NUM!"}},{"$f":"INDEX(Tabela.abordagens[],SMALL(IF(Tabela.abordagens[Mês]=$L$2,ROW(Tabela.abordagens[Idade])-2),ROW(A328)),4)","v":{"$error":"#NUM!"}},{"$f":"INDEX(Tabela.abordagens[],SMALL(IF(Tabela.abordagens[Mês]=$L$2,ROW(Tabela.abordagens[Idade])-2),ROW(A328)),5)","v":{"$error":"#NUM!"}}]
[null,{"$f":"INDEX(Tabela.frequencia[],SMALL(IF(Tabela.frequencia[Mês]=$L$2,ROW(Tabela.frequencia[id])-1),ROW(A329)),1)","v":{"$error":"#NUM!"}},{"$f":"INDEX(Tabela.frequencia[],SMALL(IF(Tabela.frequencia[Mês]=$L$2,ROW(Tabela.frequencia[id])-1),ROW(A329)),4)","v":{"$error":"#NUM!"}},null,{"$f":"IFERROR(VLOOKUP(D376,Tabela.cadastro[[ID]:[Nome]],2,0),\"\")","v":""},{"$f":"IFERROR(VLOOKUP(D376,Tabela66[#All],2,0),\"\")","v":""},{"$f":"IFERROR(VLOOKUP(D376,Tabela.cadastro[[ID]:[CP ou M]],5,0),\"\")","v":""},{"$f":"IFERROR(VLOOKUP(D376,Cadastros!A:F,6,0),\"\")","v":""},{"$f":"IFERROR(VLOOKUP(D376,Cadastros!A:I,9,0),\"\")","v":""},{"$f":"IFERROR(VLOOKUP(D376,Cadastros!A:J,10,0),\"\")","v":""},{"$f":"IF(COUNTIF(Tabela66[id],D376)=0,\"\",COUNTIF(Tabela66[id],D376))","v":""},null,"",null,null,{"$f":"IFERROR(VLOOKUP(O376,Cadastros!A:B,2),\"\")","v":""},"",{"$f":"IFERROR(VLOOKUP(O376,Cadastros!A:E,5,0),\"\")","v":""},{"$f":"IFERROR(VLOOKUP(O376,Cadastros!A:F,6,0),\"\")","v":""},{"$f":"IFERROR(VLOOKUP(O376,Cadastros!A:I,9,0),\"\")","v":""},"","","",null,{"$f":"INDEX(Tabela.abordagens[],SMALL(IF(Tabela.abordagens[Mês]=$L$2,ROW(Tabela.abordagens[id])-2),ROW(A329)),1)","v":{"$error":"#NUM!"}},{"$f":"INDEX(Tabela.abordagens[],SMALL(IF(Tabela.abordagens[Mês]=$L$2,ROW(Tabela.abordagens[Idade])-2),ROW(A329)),6)","v":{"$error":"#NUM!"}},{"$f":"INDEX(Tabela.abordagens[],SMALL(IF(Tabela.abordagens[Mês]=$L$2,ROW(Tabela.abordagens[Idade])-2),ROW(A329)),4)","v":{"$error":"#NUM!"}},{"$f":"INDEX(Tabela.abordagens[],SMALL(IF(Tabela.abordagens[Mês]=$L$2,ROW(Tabela.abordagens[Idade])-2),ROW(A329)),5)","v":{"$error":"#NUM!"}}]
[null,{"$f":"INDEX(Tabela.frequencia[],SMALL(IF(Tabela.frequencia[Mês]=$L$2,ROW(Tabela.frequencia[id])-1),ROW(A330)),1)","v":{"$error":"#NUM!"}},{"$f":"INDEX(Tabela.frequencia[],SMALL(IF(Tabela.frequencia[Mês]=$L$2,ROW(Tabela.frequencia[id])-1),ROW(A330)),4)","v":{"$error":"#NUM!"}},null,{"$f":"IFERROR(VLOOKUP(D377,Tabela.cadastro[[ID]:[Nome]],2,0),\"\")","v":""},{"$f":"IFERROR(VLOOKUP(D377,Tabela66[#All],2,0),\"\")","v":""},{"$f":"IFERROR(VLOOKUP(D377,Tabela.cadastro[[ID]:[CP ou M]],5,0),\"\")","v":""},{"$f":"IFERROR(VLOOKUP(D377,Cadastros!A:F,6,0),\"\")","v":""},{"$f":"IFERROR(VLOOKUP(D377,Cadastros!A:I,9,0),\"\")","v":""},{"$f":"IFERROR(VLOOKUP(D377,Cadastros!A:J,10,0),\"\")","v":""},{"$f":"IF(COUNTIF(Tabela66[id],D377)=0,\"\",COUNTIF(Tabela66[id],D377))","v":""},null,"",null,null,{"$f":"IFERROR(VLOOKUP(O377,Cadastros!A:B,2),\"\")","v":""},"",{"$f":"IFERROR(VLOOKUP(O377,Cadastros!A:E,5,0),\"\")","v":""},{"$f":"IFERROR(VLOOKUP(O377,Cadastros!A:F,6,0),\"\")","v":""},{"$f":"IFERROR(VLOOKUP(O377,Cadastros!A:I,9,0),\"\")","v":""},"","","",null,{"$f":"INDEX(Tabela.abordagens[],SMALL(IF(Tabela.abordagens[Mês]=$L$2,ROW(Tabela.abordagens[id])-2),ROW(A330)),1)","v":{"$error":"#NUM!"}},{"$f":"INDEX(Tabela.abordagens[],SMALL(IF(Tabela.abordagens[Mês]=$L$2,ROW(Tabela.abordagens[Idade])-2),ROW(A330)),6)","v":{"$error":"#NUM!"}},{"$f":"INDEX(Tabela.abordagens[],SMALL(IF(Tabela.abordagens[Mês]=$L$2,ROW(Tabela.abordagens[Idade])-2),ROW(A330)),4)","v":{"$error":"#NUM!"}},{"$f":"INDEX(Tabela.abordagens[],SMALL(IF(Tabela.abordagens[Mês]=$L$2,ROW(Tabela.abordagens[Idade])-2),ROW(A330)),5)","v":{"$error":"#NUM!"}}]
[null,{"$f":"INDEX(Tabela.frequencia[],SMALL(IF(Tabela.frequencia[Mês]=$L$2,ROW(Tabela.frequencia[id])-1),ROW(A331)),1)","v":{"$error":"#NUM!"}},{"$f":"INDEX(Tabela.frequencia[],SMALL(IF(Tabela.frequencia[Mês]=$L$2,ROW(Tabela.frequencia[id])-1),ROW(A331)),4)","v":{"$error":"#NUM!"}},null,{"$f":"IFERROR(VLOOKUP(D378,Tabela.cadastro[[ID]:[Nome]],2,0),\"\")","v":""},{"$f":"IFERROR(VLOOKUP(D378,Tabela66[#All],2,0),\"\")","v":""},{"$f":"IFERROR(VLOOKUP(D378,Tabela.cadastro[[ID]:[CP ou M]],5,0),\"\")","v":""},{"$f":"IFERROR(VLOOKUP(D378,Cadastros!A:F,6,0),\"\")","v":""},{"$f":"IFERROR(VLOOKUP(D378,Cadastros!A:I,9,0),\"\")","v":""},{"$f":"IFERROR(VLOOKUP(D378,Cadastros!A:J,10,0),\"\")","v":""},{"$f":"IF(COUNTIF(Tabela66[id],D378)=0,\"\",COUNTIF(Tabela66[id],D378))","v":""},null,"",null,null,{"$f":"IFERROR(VLOOKUP(O378,Cadastros!A:B,2),\"\")","v":""},"",{"$f":"IFERROR(VLOOKUP(O378,Cadastros!A:E,5,0),\"\")","v":""},{"$f":"IFERROR(VLOOKUP(O378,Cadastros!A:F,6,0),\"\")","v":""},{"$f":"IFERROR(VLOOKUP(O378,Cadastros!A:I,9,0),\"\")","v":""},"","","",null,{"$f":"INDEX(Tabela.abordagens[],SMALL(IF(Tabela.abordagens[Mês]=$L$2,ROW(Tabela.abordagens[id])-2),ROW(A331)),1)","v":{"$error":"#NUM!"}},{"$f":"INDEX(Tabela.abordagens[],SMALL(IF(Tabela.abordagens[Mês]=$L$2,ROW(Tabela.abordagens[Idade])-2),ROW(A331)),6)","v":{"$error":"#NUM!"}},{"$f":"INDEX(Tabela.abordagens[],SMALL(IF(Tabela.abordagens[Mês]=$L$2,ROW(Tabela.abordagens[Idade])-2),ROW(A331)),4)","v":{"$error":"#NUM!"}},{"$f":"INDEX(Tabela.abordagens[],SMALL(IF(Tabela.abordagens[Mês]=$L$2,ROW(Tabela.abordagens[Idade])-2),ROW(A331)),5)","v":{"$error":"#NUM!"}}]
[null,{"$f":"INDEX(Tabela.frequencia[],SMALL(IF(Tabela.frequencia[Mês]=$L$2,ROW(Tabela.frequencia[id])-1),ROW(A332)),1)","v":{"$error":"#NUM!"}},{"$f":"INDEX(Tabela.frequencia[],SMALL(IF(Tabela.frequencia[Mês]=$L$2,ROW(Tabela.frequencia[id])-1),ROW(A332)),4)","v":{"$error":"#NUM!"}},null,{"$f":"IFERROR(VLOOKUP(D379,Tabela.cadastro[[ID]:[Nome]],2,0),\"\")","v":""},{"$f":"IFERROR(VLOOKUP(D379,Tabela66[#All],2,0),\"\")","v":""},{"$f":"IFERROR(VLOOKUP(D379,Tabela.cadastro[[ID]:[CP ou M]],5,0),\"\")","v":""},{"$f":"IFERROR(VLOOKUP(D379,Cadastros!A:F,6,0),\"\")","v":""},{"$f":"IFERROR(VLOOKUP(D379,Cadastros!A:I,9,0),\"\")","v":""},{"$f":"IFERROR(VLOOKUP(D379,Cadastros!A:J,10,0),\"\")","v":""},{"$f":"IF(COUNTIF(Tabela66[id],D379)=0,\"\",COUNTIF(Tabela66[id],D379))","v":""},null,"",null,null,{"$f":"IFERROR(VLOOKUP(O379,Cadastros!A:B,2),\"\")","v":""},"",{"$f":"IFERROR(VLOOKUP(O379,Cadastros!A:E,5,0),\"\")","v":""},{"$f":"IFERROR(VLOOKUP(O379,Cadastros!A:F,6,0),\"\")","v":""},{"$f":"IFERROR(VLOOKUP(O379,Cadastros!A:I,9,0),\"\")","v":""},"","","",null,{"$f":"INDEX(Tabela.abordagens[],SMALL(IF(Tabela.abordagens[Mês]=$L$2,ROW(Tabela.abordagens[id])-2),ROW(A332)),1)","v":{"$error":"#NUM!"}},{"$f":"INDEX(Tabela.abordagens[],SMALL(IF(Tabela.abordagens[Mês]=$L$2,ROW(Tabela.abordagens[Idade])-2),ROW(A332)),6)","v":{"$error":"#NUM!"}},{"$f":"INDEX(Tabela.abordagens[],SMALL(IF(Tabela.abordagens[Mês]=$L$2,ROW(Tabela.abordagens[Idade])-2),ROW(A332)),4)","v":{"$error":"#NUM!"}},{"$f":"INDEX(Tabela.abordagens[],SMALL(IF(Tabela.abordagens[Mês]=$L$2,ROW(Tabela.abordagens[Idade])-2),ROW(A332)),5)","v":{"$error":"#NUM!"}}]
[null,{"$f":"INDEX(Tabela.frequencia[],SMALL(IF(Tabela.frequencia[Mês]=$L$2,ROW(Tabela.frequencia[id])-1),ROW(A333)),1)","v":{"$error":"#NUM!"}},{"$f":"INDEX(Tabela.frequencia[],SMALL(IF(Tabela.frequencia[Mês]=$L$2,ROW(Tabela.frequencia[id])-1),ROW(A333)),4)","v":{"$error":"#NUM!"}},null,{"$f":"IFERROR(VLOOKUP(D380,Tabela.cadastro[[ID]:[Nome]],2,0),\"\")","v":""},{"$f":"IFERROR(VLOOKUP(D380,Tabela66[#All],2,0),\"\")","v":""},{"$f":"IFERROR(VLOOKUP(D380,Tabela.cadastro[[ID]:[CP ou M]],5,0),\"\")","v":""},{"$f":"IFERROR(VLOOKUP(D380,Cadastros!A:F,6,0),\"\")","v":""},{"$f":"IFERROR(VLOOKUP(D380,Cadastros!A:I,9,0),\"\")","v":""},{"$f":"IFERROR(VLOOKUP(D380,Cadastros!A:J,10,0),\"\")","v":""},{"$f":"IF(COUNTIF(Tabela66[id],D380)=0,\"\",COUNTIF(Tabela66[id],D380))","v":""},null,"",null,null,{"$f":"IFERROR(VLOOKUP(O380,Cadastros!A:B,2),\"\")","v":""},"",{"$f":"IFERROR(VLOOKUP(O380,Cadastros!A:E,5,0),\"\")","v":""},{"$f":"IFERROR(VLOOKUP(O380,Cadastros!A:F,6,0),\"\")","v":""},{"$f":"IFERROR(VLOOKUP(O380,Cadastros!A:I,9,0),\"\")","v":""},"","","",null,{"$f":"INDEX(Tabela.abordagens[],SMALL(IF(Tabela.abordagens[Mês]=$L$2,ROW(Tabela.abordagens[id])-2),ROW(A333)),1)","v":{"$error":"#NUM!"}},{"$f":"INDEX(Tabela.abordagens[],SMALL(IF(Tabela.abordagens[Mês]=$L$2,ROW(Tabela.abordagens[Idade])-2),ROW(A333)),6)","v":{"$error":"#NUM!"}},{"$f":"INDEX(Tabela.abordagens[],SMALL(IF(Tabela.abordagens[Mês]=$L$2,ROW(Tabela.abordagens[Idade])-2),ROW(A333)),4)","v":{"$error":"#NUM!"}},{"$f":"INDEX(Tabela.abordagens[],SMALL(IF(Tabela.abordagens[Mês]=$L$2,ROW(Tabela.abordagens[Idade])-2),ROW(A333)),5)","v":{"$error":"#NUM!"}}]
[null,{"$f":"INDEX(Tabela.frequencia[],SMALL(IF(Tabela.frequencia[Mês]=$L$2,ROW(Tabela.frequencia[id])-1),ROW(A334)),1)","v":{"$error":"#NUM!"}},{"$f":"INDEX(Tabela.frequencia[],SMALL(IF(Tabela.frequencia[Mês]=$L$2,ROW(Tabela.frequencia[id])-1),ROW(A334)),4)","v":{"$error":"#NUM!"}},null,{"$f":"IFERROR(VLOOKUP(D381,Tabela.cadastro[[ID]:[Nome]],2,0),\"\")","v":""},{"$f":"IFERROR(VLOOKUP(D381,Tabela66[#All],2,0),\"\")","v":""},{"$f":"IFERROR(VLOOKUP(D381,Tabela.cadastro[[ID]:[CP ou M]],5,0),\"\")","v":""},{"$f":"IFERROR(VLOOKUP(D381,Cadastros!A:F,6,0),\"\")","v":""},{"$f":"IFERROR(VLOOKUP(D381,Cadastros!A:I,9,0),\"\")","v":""},{"$f":"IFERROR(VLOOKUP(D381,Cadastros!A:J,10,0),\"\")","v":""},{"$f":"IF(COUNTIF(Tabela66[id],D381)=0,\"\",COUNTIF(Tabela66[id],D381))","v":""},null,"",null,null,{"$f":"IFERROR(VLOOKUP(O381,Cadastros!A:B,2),\"\")","v":""},"",{"$f":"IFERROR(VLOOKUP(O381,Cadastros!A:E,5,0),\"\")","v":""},{"$f":"IFERROR(VLOOKUP(O381,Cadastros!A:F,6,0),\"\")","v":""},{"$f":"IFERROR(VLOOKUP(O381,Cadastros!A:I,9,0),\"\")","v":""},"","","",null,{"$f":"INDEX(Tabela.abordagens[],SMALL(IF(Tabela.abordagens[Mês]=$L$2,ROW(Tabela.abordagens[id])-2),ROW(A334)),1)","v":{"$error":"#NUM!"}},{"$f":"INDEX(Tabela.abordagens[],SMALL(IF(Tabela.abordagens[Mês]=$L$2,ROW(Tabela.abordagens[Idade])-2),ROW(A334)),6)","v":{"$error":"#NUM!"}},{"$f":"INDEX(Tabela.abordagens[],SMALL(IF(Tabela.abordagens[Mês]=$L$2,ROW(Tabela.abordagens[Idade])-2),ROW(A334)),4)","v":{"$error":"#NUM!"}},{"$f":"INDEX(Tabela.abordagens[],SMALL(IF(Tabela.abordagens[Mês]=$L$2,ROW(Tabela.abordagens[Idade])-2),ROW(A334)),5)","v":{"$error":"#NUM!"}}]
[null,{"$f":"INDEX(Tabela.frequencia[],SMALL(IF(Tabela.frequencia[Mês]=$L$2,ROW(Tabela.frequencia[id])-1),ROW(A335)),1)","v":{"$error":"#NUM!"}},{"$f":"INDEX(Tabela.frequencia[],SMALL(IF(Tabela.frequencia[Mês]=$L$2,ROW(Tabela.frequencia[id])-1),ROW(A335)),4)","v":{"$error":"#NUM!"}},null,{"$f":"IFERROR(VLOOKUP(D382,Tabela.cadastro[[ID]:[Nome]],2,0),\"\")","v":""},{"$f":"IFERROR(VLOOKUP(D382,Tabela66[#All],2,0),\"\")","v":""},{"$f":"IFERROR(VLOOKUP(D382,Tabela.cadastro[[ID]:[CP ou M]],5,0),\"\")","v":""},{"$f":"IFERROR(VLOOKUP(D382,Cadastros!A:F,6,0),\"\")","v":""},{"$f":"IFERROR(VLOOKUP(D382,Cadastros!A:I,9,0),\"\")","v":""},{"$f":"IFERROR(VLOOKUP(D382,Cadastros!A:J,10,0),\"\")","v":""},{"$f":"IF(COUNTIF(Tabela66[id],D382)=0,\"\",COUNTIF(Tabela66[id],D382))","v":""},null,"",null,null,{"$f":"IFERROR(VLOOKUP(O382,Cadastros!A:B,2),\"\")","v":""},"",{"$f":"IFERROR(VLOOKUP(O382,Cadastros!A:E,5,0),\"\")","v":""},{"$f":"IFERROR(VLOOKUP(O382,Cadastros!A:F,6,0),\"\")","v":""},{"$f":"IFERROR(VLOOKUP(O382,Cadastros!A:I,9,0),\"\")","v":""},"","","",null,{"$f":"INDEX(Tabela.abordagens[],SMALL(IF(Tabela.abordagens[Mês]=$L$2,ROW(Tabela.abordagens[id])-2),ROW(A335)),1)","v":{"$error":"#NUM!"}},{"$f":"INDEX(Tabela.abordagens[],SMALL(IF(Tabela.abordagens[Mês]=$L$2,ROW(Tabela.abordagens[Idade])-2),ROW(A335)),6)","v":{"$error":"#NUM!"}},{"$f":"INDEX(Tabela.abordagens[],SMALL(IF(Tabela.abordagens[Mês]=$L$2,ROW(Tabela.abordagens[Idade])-2),ROW(A335)),4)","v":{"$error":"#NUM!"}},{"$f":"INDEX(Tabela.abordagens[],SMALL(IF(Tabela.abordagens[Mês]=$L$2,ROW(Tabela.abordagens[Idade])-2),ROW(A335)),5)","v":{"$error":"#NUM!"}}]
[null,{"$f":"INDEX(Tabela.frequencia[],SMALL(IF(Tabela.frequencia[Mês]=$L$2,ROW(Tabela.frequencia[id])-1),ROW(A336)),1)","v":{"$error":"#NUM!"}},{"$f":"INDEX(Tabela.frequencia[],SMALL(IF(Tabela.frequencia[Mês]=$L$2,ROW(Tabela.frequencia[id])-1),ROW(A336)),4)","v":{"$error":"#NUM!"}},null,{"$f":"IFERROR(VLOOKUP(D383,Tabela.cadastro[[ID]:[Nome]],2,0),\"\")","v":""},{"$f":"IFERROR(VLOOKUP(D383,Tabela66[#All],2,0),\"\")","v":""},{"$f":"IFERROR(VLOOKUP(D383,Tabela.cadastro[[ID]:[CP ou M]],5,0),\"\")","v":""},{"$f":"IFERROR(VLOOKUP(D383,Cadastros!A:F,6,0),\"\")","v":""},{"$f":"IFERROR(VLOOKUP(D383,Cadastros!A:I,9,0),\"\")","v":""},{"$f":"IFERROR(VLOOKUP(D383,Cadastros!A:J,10,0),\"\")","v":""},{"$f":"IF(COUNTIF(Tabela66[id],D383)=0,\"\",COUNTIF(Tabela66[id],D383))","v":""},null,"",null,null,{"$f":"IFERROR(VLOOKUP(O383,Cadastros!A:B,2),\"\")","v":""},"",{"$f":"IFERROR(VLOOKUP(O383,Cadastros!A:E,5,0),\"\")","v":""},{"$f":"IFERROR(VLOOKUP(O383,Cadastros!A:F,6,0),\"\")","v":""},{"$f":"IFERROR(VLOOKUP(O383,Cadastros!A:I,9,0),\"\")","v":""},"","","",null,{"$f":"INDEX(Tabela.abordagens[],SMALL(IF(Tabela.abordagens[Mês]=$L$2,ROW(Tabela.abordagens[id])-2),ROW(A336)),1)","v":{"$error":"#NUM!"}},{"$f":"INDEX(Tabela.abordagens[],SMALL(IF(Tabela.abordagens[Mês]=$L$2,ROW(Tabela.abordagens[Idade])-2),ROW(A336)),6)","v":{"$error":"#NUM!"}},{"$f":"INDEX(Tabela.abordagens[],SMALL(IF(Tabela.abordagens[Mês]=$L$2,ROW(Tabela.abordagens[Idade])-2),ROW(A336)),4)","v":{"$error":"#NUM!"}},{"$f":"INDEX(Tabela.abordagens[],SMALL(IF(Tabela.abordagens[Mês]=$L$2,ROW(Tabela.abordagens[Idade])-2),ROW(A336)),5)","v":{"$error":"#NUM!"}}]
[null,{"$f":"INDEX(Tabela.frequencia[],SMALL(IF(Tabela.frequencia[Mês]=$L$2,ROW(Tabela.frequencia[id])-1),ROW(A337)),1)","v":{"$error":"#NUM!"}},{"$f":"INDEX(Tabela.frequencia[],SMALL(IF(Tabela.frequencia[Mês]=$L$2,ROW(Tabela.frequencia[id])-1),ROW(A337)),4)","v":{"$error":"#NUM!"}},null,{"$f":"IFERROR(VLOOKUP(D384,Tabela.cadastro[[ID]:[Nome]],2,0),\"\")","v":""},{"$f":"IFERROR(VLOOKUP(D384,Tabela66[#All],2,0),\"\")","v":""},{"$f":"IFERROR(VLOOKUP(D384,Tabela.cadastro[[ID]:[CP ou M]],5,0),\"\")","v":""},{"$f":"IFERROR(VLOOKUP(D384,Cadastros!A:F,6,0),\"\")","v":""},{"$f":"IFERROR(VLOOKUP(D384,Cadastros!A:I,9,0),\"\")","v":""},{"$f":"IFERROR(VLOOKUP(D384,Cadastros!A:J,10,0),\"\")","v":""},{"$f":"IF(COUNTIF(Tabela66[id],D384)=0,\"\",COUNTIF(Tabela66[id],D384))","v":""},null,"",null,null,{"$f":"IFERROR(VLOOKUP(O384,Cadastros!A:B,2),\"\")","v":""},"",{"$f":"IFERROR(VLOOKUP(O384,Cadastros!A:E,5,0),\"\")","v":""},{"$f":"IFERROR(VLOOKUP(O384,Cadastros!A:F,6,0),\"\")","v":""},{"$f":"IFERROR(VLOOKUP(O384,Cadastros!A:I,9,0),\"\")","v":""},"","","",null,{"$f":"INDEX(Tabela.abordagens[],SMALL(IF(Tabela.abordagens[Mês]=$L$2,ROW(Tabela.abordagens[id])-2),ROW(A337)),1)","v":{"$error":"#NUM!"}},{"$f":"INDEX(Tabela.abordagens[],SMALL(IF(Tabela.abordagens[Mês]=$L$2,ROW(Tabela.abordagens[Idade])-2),ROW(A337)),6)","v":{"$error":"#NUM!"}},{"$f":"INDEX(Tabela.abordagens[],SMALL(IF(Tabela.abordagens[Mês]=$L$2,ROW(Tabela.abordagens[Idade])-2),ROW(A337)),4)","v":{"$error":"#NUM!"}},{"$f":"INDEX(Tabela.abordagens[],SMALL(IF(Tabela.abordagens[Mês]=$L$2,ROW(Tabela.abordagens[Idade])-2),ROW(A337)),5)","v":{"$error":"#NUM!"}}]
[null,{"$f":"INDEX(Tabela.frequencia[],SMALL(IF(Tabela.frequencia[Mês]=$L$2,ROW(Tabela.frequencia[id])-1),ROW(A338)),1)","v":{"$error":"#NUM!"}},{"$f":"INDEX(Tabela.frequencia[],SMALL(IF(Tabela.frequencia[Mês]=$L$2,ROW(Tabela.frequencia[id])-1),ROW(A338)),4)","v":{"$error":"#NUM!"}},null,{"$f":"IFERROR(VLOOKUP(D385,Tabela.cadastro[[ID]:[Nome]],2,0),\"\")","v":""},{"$f":"IFERROR(VLOOKUP(D385,Tabela66[#All],2,0),\"\")","v":""},{"$f":"IFERROR(VLOOKUP(D385,Tabela.cadastro[[ID]:[CP ou M]],5,0),\"\")","v":""},{"$f":"IFERROR(VLOOKUP(D385,Cadastros!A:F,6,0),\"\")","v":""},{"$f":"IFERROR(VLOOKUP(D385,Cadastros!A:I,9,0),\"\")","v":""},{"$f":"IFERROR(VLOOKUP(D385,Cadastros!A:J,10,0),\"\")","v":""},{"$f":"IF(COUNTIF(Tabela66[id],D385)=0,\"\",COUNTIF(Tabela66[id],D385))","v":""},null,"",null,null,{"$f":"IFERROR(VLOOKUP(O385,Cadastros!A:B,2),\"\")","v":""},"",{"$f":"IFERROR(VLOOKUP(O385,Cadastros!A:E,5,0),\"\")","v":""},{"$f":"IFERROR(VLOOKUP(O385,Cadastros!A:F,6,0),\"\")","v":""},{"$f":"IFERROR(VLOOKUP(O385,Cadastros!A:I,9,0),\"\")","v":""},"","","",null,{"$f":"INDEX(Tabela.abordagens[],SMALL(IF(Tabela.abordagens[Mês]=$L$2,ROW(Tabela.abordagens[id])-2),ROW(A338)),1)","v":{"$error":"#NUM!"}},{"$f":"INDEX(Tabela.abordagens[],SMALL(IF(Tabela.abordagens[Mês]=$L$2,ROW(Tabela.abordagens[Idade])-2),ROW(A338)),6)","v":{"$error":"#NUM!"}},{"$f":"INDEX(Tabela.abordagens[],SMALL(IF(Tabela.abordagens[Mês]=$L$2,ROW(Tabela.abordagens[Idade])-2),ROW(A338)),4)","v":{"$error":"#NUM!"}},{"$f":"INDEX(Tabela.abordagens[],SMALL(IF(Tabela.abordagens[Mês]=$L$2,ROW(Tabela.abordagens[Idade])-2),ROW(A338)),5)","v":{"$error":"#NUM!"}}]
[null,{"$f":"INDEX(Tabela.frequencia[],SMALL(IF(Tabela.frequencia[Mês]=$L$2,ROW(Tabela.frequencia[id])-1),ROW(A339)),1)","v":{"$error":"#NUM!"}},{"$f":"INDEX(Tabela.frequencia[],SMALL(IF(Tabela.frequencia[Mês]=$L$2,ROW(Tabela.frequencia[id])-1),ROW(A339)),4)","v":{"$error":"#NUM!"}},null,{"$f":"IFERROR(VLOOKUP(D386,Tabela.cadastro[[ID]:[Nome]],2,0),\"\")","v":""},{"$f":"IFERROR(VLOOKUP(D386,Tabela66[#All],2,0),\"\")","v":""},{"$f":"IFERROR(VLOOKUP(D386,Tabela.cadastro[[ID]:[CP ou M]],5,0),\"\")","v":""},{"$f":"IFERROR(VLOOKUP(D386,Cadastros!A:F,6,0),\"\")","v":""},{"$f":"IFERROR(VLOOKUP(D386,Cadastros!A:I,9,0),\"\")","v":""},{"$f":"IFERROR(VLOOKUP(D386,Cadastros!A:J,10,0),\"\")","v":""},{"$f":"IF(COUNTIF(Tabela66[id],D386)=0,\"\",COUNTIF(Tabela66[id],D386))","v":""},null,"",null,null,{"$f":"IFERROR(VLOOKUP(O386,Cadastros!A:B,2),\"\")","v":""},"",{"$f":"IFERROR(VLOOKUP(O386,Cadastros!A:E,5,0),\"\")","v":""},{"$f":"IFERROR(VLOOKUP(O386,Cadastros!A:F,6,0),\"\")","v":""},{"$f":"IFERROR(VLOOKUP(O386,Cadastros!A:I,9,0),\"\")","v":""},"","","",null,{"$f":"INDEX(Tabela.abordagens[],SMALL(IF(Tabela.abordagens[Mês]=$L$2,ROW(Tabela.abordagens[id])-2),ROW(A339)),1)","v":{"$error":"#NUM!"}},{"$f":"INDEX(Tabela.abordagens[],SMALL(IF(Tabela.abordagens[Mês]=$L$2,ROW(Tabela.abordagens[Idade])-2),ROW(A339)),6)","v":{"$error":"#NUM!"}},{"$f":"INDEX(Tabela.abordagens[],SMALL(IF(Tabela.abordagens[Mês]=$L$2,ROW(Tabela.abordagens[Idade])-2),ROW(A339)),4)","v":{"$error":"#NUM!"}},{"$f":"INDEX(Tabela.abordagens[],SMALL(IF(Tabela.abordagens[Mês]=$L$2,ROW(Tabela.abordagens[Idade])-2),ROW(A339)),5)","v":{"$error":"#NUM!"}}]
[null,{"$f":"INDEX(Tabela.frequencia[],SMALL(IF(Tabela.frequencia[Mês]=$L$2,ROW(Tabela.frequencia[id])-1),ROW(A340)),1)","v":{"$error":"#NUM!"}},{"$f":"INDEX(Tabela.frequencia[],SMALL(IF(Tabela.frequencia[Mês]=$L$2,ROW(Tabela.frequencia[id])-1),ROW(A340)),4)","v":{"$error":"#NUM!"}},null,{"$f":"IFERROR(VLOOKUP(D387,Tabela.cadastro[[ID]:[Nome]],2,0),\"\")","v":""},{"$f":"IFERROR(VLOOKUP(D387,Tabela66[#All],2,0),\"\")","v":""},{"$f":"IFERROR(VLOOKUP(D387,Tabela.cadastro[[ID]:[CP ou M]],5,0),\"\")","v":""},{"$f":"IFERROR(VLOOKUP(D387,Cadastros!A:F,6,0),\"\")","v":""},{"$f":"IFERROR(VLOOKUP(D387,Cadastros!A:I,9,0),\"\")","v":""},{"$f":"IFERROR(VLOOKUP(D387,Cadastros!A:J,10,0),\"\")","v":""},{"$f":"IF(COUNTIF(Tabela66[id],D387)=0,\"\",COUNTIF(Tabela66[id],D387))","v":""},null,"",null,null,{"$f":"IFERROR(VLOOKUP(O387,Cadastros!A:B,2),\"\")","v":""},"",{"$f":"IFERROR(VLOOKUP(O387,Cadastros!A:E,5,0),\"\")","v":""},{"$f":"IFERROR(VLOOKUP(O387,Cadastros!A:F,6,0),\"\")","v":""},{"$f":"IFERROR(VLOOKUP(O387,Cadastros!A:I,9,0),\"\")","v":""},"","","",null,{"$f":"INDEX(Tabela.abordagens[],SMALL(IF(Tabela.abordagens[Mês]=$L$2,ROW(Tabela.abordagens[id])-2),ROW(A340)),1)","v":{"$error":"#NUM!"}},{"$f":"INDEX(Tabela.abordagens[],SMALL(IF(Tabela.abordagens[Mês]=$L$2,ROW(Tabela.abordagens[Idade])-2),ROW(A340)),6)","v":{"$error":"#NUM!"}},{"$f":"INDEX(Tabela.abordagens[],SMALL(IF(Tabela.abordagens[Mês]=$L$2,ROW(Tabela.abordagens[Idade])-2),ROW(A340)),4)","v":{"$error":"#NUM!"}},{"$f":"INDEX(Tabela.abordagens[],SMALL(IF(Tabela.abordagens[Mês]=$L$2,ROW(Tabela.abordagens[Idade])-2),ROW(A340)),5)","v":{"$error":"#NUM!"}}]
[null,{"$f":"INDEX(Tabela.frequencia[],SMALL(IF(Tabela.frequencia[Mês]=$L$2,ROW(Tabela.frequencia[id])-1),ROW(A341)),1)","v":{"$error":"#NUM!"}},{"$f":"INDEX(Tabela.frequencia[],SMALL(IF(Tabela.frequencia[Mês]=$L$2,ROW(Tabela.frequencia[id])-1),ROW(A341)),4)","v":{"$error":"#NUM!"}},null,{"$f":"IFERROR(VLOOKUP(D388,Tabela.cadastro[[ID]:[Nome]],2,0),\"\")","v":""},{"$f":"IFERROR(VLOOKUP(D388,Tabela66[#All],2,0),\"\")","v":""},{"$f":"IFERROR(VLOOKUP(D388,Tabela.cadastro[[ID]:[CP ou M]],5,0),\"\")","v":""},{"$f":"IFERROR(VLOOKUP(D388,Cadastros!A:F,6,0),\"\")","v":""},{"$f":"IFERROR(VLOOKUP(D388,Cadastros!A:I,9,0),\"\")","v":""},{"$f":"IFERROR(VLOOKUP(D388,Cadastros!A:J,10,0),\"\")","v":""},{"$f":"IF(COUNTIF(Tabela66[id],D388)=0,\"\",COUNTIF(Tabela66[id],D388))","v":""},null,"",null,null,{"$f":"IFERROR(VLOOKUP(O388,Cadastros!A:B,2),\"\")","v":""},"",{"$f":"IFERROR(VLOOKUP(O388,Cadastros!A:E,5,0),\"\")","v":""},{"$f":"IFERROR(VLOOKUP(O388,Cadastros!A:F,6,0),\"\")","v":""},{"$f":"IFERROR(VLOOKUP(O388,Cadastros!A:I,9,0),\"\")","v":""},"","","",null,{"$f":"INDEX(Tabela.abordagens[],SMALL(IF(Tabela.abordagens[Mês]=$L$2,ROW(Tabela.abordagens[id])-2),ROW(A341)),1)","v":{"$error":"#NUM!"}},{"$f":"INDEX(Tabela.abordagens[],SMALL(IF(Tabela.abordagens[Mês]=$L$2,ROW(Tabela.abordagens[Idade])-2),ROW(A341)),6)","v":{"$error":"#NUM!"}},{"$f":"INDEX(Tabela.abordagens[],SMALL(IF(Tabela.abordagens[Mês]=$L$2,ROW(Tabela.abordagens[Idade])-2),ROW(A341)),4)","v":{"$error":"#NUM!"}},{"$f":"INDEX(Tabela.abordagens[],SMALL(IF(Tabela.abordagens[Mês]=$L$2,ROW(Tabela.abordagens[Idade])-2),ROW(A341)),5)","v":{"$error":"#NUM!"}}]
[null,{"$f":"INDEX(Tabela.frequencia[],SMALL(IF(Tabela.frequencia[Mês]=$L$2,ROW(Tabela.frequencia[id])-1),ROW(A342)),1)","v":{"$error":"#NUM!"}},{"$f":"INDEX(Tabela.frequencia[],SMALL(IF(Tabela.frequencia[Mês]=$L$2,ROW(Tabela.frequencia[id])-1),ROW(A342)),4)","v":{"$error":"#NUM!"}},null,{"$f":"IFERROR(VLOOKUP(D389,Tabela.cadastro[[ID]:[Nome]],2,0),\"\")","v":""},{"$f":"IFERROR(VLOOKUP(D389,Tabela66[#All],2,0),\"\")","v":""},{"$f":"IFERROR(VLOOKUP(D389,Tabela.cadastro[[ID]:[CP ou M]],5,0),\"\")","v":""},{"$f":"IFERROR(VLOOKUP(D389,Cadastros!A:F,6,0),\"\")","v":""},{"$f":"IFERROR(VLOOKUP(D389,Cadastros!A:I,9,0),\"\")","v":""},{"$f":"IFERROR(VLOOKUP(D389,Cadastros!A:J,10,0),\"\")","v":""},{"$f":"IF(COUNTIF(Tabela66[id],D389)=0,\"\",COUNTIF(Tabela66[id],D389))","v":""},null,"",null,null,{"$f":"IFERROR(VLOOKUP(O389,Cadastros!A:B,2),\"\")","v":""},"",{"$f":"IFERROR(VLOOKUP(O389,Cadastros!A:E,5,0),\"\")","v":""},{"$f":"IFERROR(VLOOKUP(O389,Cadastros!A:F,6,0),\"\")","v":""},{"$f":"IFERROR(VLOOKUP(O389,Cadastros!A:I,9,0),\"\")","v":""},"","","",null,{"$f":"INDEX(Tabela.abordagens[],SMALL(IF(Tabela.abordagens[Mês]=$L$2,ROW(Tabela.abordagens[id])-2),ROW(A342)),1)","v":{"$error":"#NUM!"}},{"$f":"INDEX(Tabela.abordagens[],SMALL(IF(Tabela.abordagens[Mês]=$L$2,ROW(Tabela.abordagens[Idade])-2),ROW(A342)),6)","v":{"$error":"#NUM!"}},{"$f":"INDEX(Tabela.abordagens[],SMALL(IF(Tabela.abordagens[Mês]=$L$2,ROW(Tabela.abordagens[Idade])-2),ROW(A342)),4)","v":{"$error":"#NUM!"}},{"$f":"INDEX(Tabela.abordagens[],SMALL(IF(Tabela.abordagens[Mês]=$L$2,ROW(Tabela.abordagens[Idade])-2),ROW(A342)),5)","v":{"$error":"#NUM!"}}]
[null,{"$f":"INDEX(Tabela.frequencia[],SMALL(IF(Tabela.frequencia[Mês]=$L$2,ROW(Tabela.frequencia[id])-1),ROW(A343)),1)","v":{"$error":"#NUM!"}},{"$f":"INDEX(Tabela.frequencia[],SMALL(IF(Tabela.frequencia[Mês]=$L$2,ROW(Tabela.frequencia[id])-1),ROW(A343)),4)","v":{"$error":"#NUM!"}},null,{"$f":"IFERROR(VLOOKUP(D390,Tabela.cadastro[[ID]:[Nome]],2,0),\"\")","v":""},{"$f":"IFERROR(VLOOKUP(D390,Tabela66[#All],2,0),\"\")","v":""},{"$f":"IFERROR(VLOOKUP(D390,Tabela.cadastro[[ID]:[CP ou M]],5,0),\"\")","v":""},{"$f":"IFERROR(VLOOKUP(D390,Cadastros!A:F,6,0),\"\")","v":""},{"$f":"IFERROR(VLOOKUP(D390,Cadastros!A:I,9,0),\"\")","v":""},{"$f":"IFERROR(VLOOKUP(D390,Cadastros!A:J,10,0),\"\")","v":""},{"$f":"IF(COUNTIF(Tabela66[id],D390)=0,\"\",COUNTIF(Tabela66[id],D390))","v":""},null,"",null,null,{"$f":"IFERROR(VLOOKUP(O390,Cadastros!A:B,2),\"\")","v":""},"",{"$f":"IFERROR(VLOOKUP(O390,Cadastros!A:E,5,0),\"\")","v":""},{"$f":"IFERROR(VLOOKUP(O390,Cadastros!A:F,6,0),\"\")","v":""},{"$f":"IFERROR(VLOOKUP(O390,Cadastros!A:I,9,0),\"\")","v":""},"","","",null,{"$f":"INDEX(Tabela.abordagens[],SMALL(IF(Tabela.abordagens[Mês]=$L$2,ROW(Tabela.abordagens[id])-2),ROW(A343)),1)","v":{"$error":"#NUM!"}},{"$f":"INDEX(Tabela.abordagens[],SMALL(IF(Tabela.abordagens[Mês]=$L$2,ROW(Tabela.abordagens[Idade])-2),ROW(A343)),6)","v":{"$error":"#NUM!"}},{"$f":"INDEX(Tabela.abordagens[],SMALL(IF(Tabela.abordagens[Mês]=$L$2,ROW(Tabela.abordagens[Idade])-2),ROW(A343)),4)","v":{"$error":"#NUM!"}},{"$f":"INDEX(Tabela.abordagens[],SMALL(IF(Tabela.abordagens[Mês]=$L$2,ROW(Tabela.abordagens[Idade])-2),ROW(A343)),5)","v":{"$error":"#NUM!"}}]
[null,{"$f":"INDEX(Tabela.frequencia[],SMALL(IF(Tabela.frequencia[Mês]=$L$2,ROW(Tabela.frequencia[id])-1),ROW(A344)),1)","v":{"$error":"#NUM!"}},{"$f":"INDEX(Tabela.frequencia[],SMALL(IF(Tabela.frequencia[Mês]=$L$2,ROW(Tabela.frequencia[id])-1),ROW(A344)),4)","v":{"$error":"#NUM!"}},null,{"$f":"IFERROR(VLOOKUP(D391,Tabela.cadastro[[ID]:[Nome]],2,0),\"\")","v":""},{"$f":"IFERROR(VLOOKUP(D391,Tabela66[#All],2,0),\"\")","v":""},{"$f":"IFERROR(VLOOKUP(D391,Tabela.cadastro[[ID]:[CP ou M]],5,0),\"\")","v":""},{"$f":"IFERROR(VLOOKUP(D391,Cadastros!A:F,6,0),\"\")","v":""},{"$f":"IFERROR(VLOOKUP(D391,Cadastros!A:I,9,0),\"\")","v":""},{"$f":"IFERROR(VLOOKUP(D391,Cadastros!A:J,10,0),\"\")","v":""},{"$f":"IF(COUNTIF(Tabela66[id],D391)=0,\"\",COUNTIF(Tabela66[id],D391))","v":""},null,"",null,null,{"$f":"IFERROR(VLOOKUP(O391,Cadastros!A:B,2),\"\")","v":""},"",{"$f":"IFERROR(VLOOKUP(O391,Cadastros!A:E,5,0),\"\")","v":""},{"$f":"IFERROR(VLOOKUP(O391,Cadastros!A:F,6,0),\"\")","v":""},{"$f":"IFERROR(VLOOKUP(O391,Cadastros!A:I,9,0),\"\")","v":""},"","","",null,{"$f":"INDEX(Tabela.abordagens[],SMALL(IF(Tabela.abordagens[Mês]=$L$2,ROW(Tabela.abordagens[id])-2),ROW(A344)),1)","v":{"$error":"#NUM!"}},{"$f":"INDEX(Tabela.abordagens[],SMALL(IF(Tabela.abordagens[Mês]=$L$2,ROW(Tabela.abordagens[Idade])-2),ROW(A344)),6)","v":{"$error":"#NUM!"}},{"$f":"INDEX(Tabela.abordagens[],SMALL(IF(Tabela.abordagens[Mês]=$L$2,ROW(Tabela.abordagens[Idade])-2),ROW(A344)),4)","v":{"$error":"#NUM!"}},{"$f":"INDEX(Tabela.abordagens[],SMALL(IF(Tabela.abordagens[Mês]=$L$2,ROW(Tabela.abordagens[Idade])-2),ROW(A344)),5)","v":{"$error":"#NUM!"}}]
[null,{"$f":"INDEX(Tabela.frequencia[],SMALL(IF(Tabela.frequencia[Mês]=$L$2,ROW(Tabela.frequencia[id])-1),ROW(A345)),1)","v":{"$error":"#NUM!"}},{"$f":"INDEX(Tabela.frequencia[],SMALL(IF(Tabela.frequencia[Mês]=$L$2,ROW(Tabela.frequencia[id])-1),ROW(A345)),4)","v":{"$error":"#NUM!"}},null,{"$f":"IFERROR(VLOOKUP(D392,Tabela.cadastro[[ID]:[Nome]],2,0),\"\")","v":""},{"$f":"IFERROR(VLOOKUP(D392,Tabela66[#All],2,0),\"\")","v":""},{"$f":"IFERROR(VLOOKUP(D392,Tabela.cadastro[[ID]:[CP ou M]],5,0),\"\")","v":""},{"$f":"IFERROR(VLOOKUP(D392,Cadastros!A:F,6,0),\"\")","v":""},{"$f":"IFERROR(VLOOKUP(D392,Cadastros!A:I,9,0),\"\")","v":""},{"$f":"IFERROR(VLOOKUP(D392,Cadastros!A:J,10,0),\"\")","v":""},{"$f":"IF(COUNTIF(Tabela66[id],D392)=0,\"\",COUNTIF(Tabela66[id],D392))","v":""},null,"",null,null,{"$f":"IFERROR(VLOOKUP(O392,Cadastros!A:B,2),\"\")","v":""},"",{"$f":"IFERROR(VLOOKUP(O392,Cadastros!A:E,5,0),\"\")","v":""},{"$f":"IFERROR(VLOOKUP(O392,Cadastros!A:F,6,0),\"\")","v":""},{"$f":"IFERROR(VLOOKUP(O392,Cadastros!A:I,9,0),\"\")","v":""},"","","",null,{"$f":"INDEX(Tabela.abordagens[],SMALL(IF(Tabela.abordagens[Mês]=$L$2,ROW(Tabela.abordagens[id])-2),ROW(A345)),1)","v":{"$error":"#NUM!"}},{"$f":"INDEX(Tabela.abordagens[],SMALL(IF(Tabela.abordagens[Mês]=$L$2,ROW(Tabela.abordagens[Idade])-2),ROW(A345)),6)","v":{"$error":"#NUM!"}},{"$f":"INDEX(Tabela.abordagens[],SMALL(IF(Tabela.abordagens[Mês]=$L$2,ROW(Tabela.abordagens[Idade])-2),ROW(A345)),4)","v":{"$error":"#NUM!"}},{"$f":"INDEX(Tabela.abordagens[],SMALL(IF(Tabela.abordagens[Mês]=$L$2,ROW(Tabela.abordagens[Idade])-2),ROW(A345)),5)","v":{"$error":"#NUM!"}}]
[null,{"$f":"INDEX(Tabela.frequencia[],SMALL(IF(Tabela.frequencia[Mês]=$L$2,ROW(Tabela.frequencia[id])-1),ROW(A346)),1)","v":{"$error":"#NUM!"}},{"$f":"INDEX(Tabela.frequencia[],SMALL(IF(Tabela.frequencia[Mês]=$L$2,ROW(Tabela.frequencia[id])-1),ROW(A346)),4)","v":{"$error":"#NUM!"}},null,{"$f":"IFERROR(VLOOKUP(D393,Tabela.cadastro[[ID]:[Nome]],2,0),\"\")","v":""},{"$f":"IFERROR(VLOOKUP(D393,Tabela66[#All],2,0),\"\")","v":""},{"$f":"IFERROR(VLOOKUP(D393,Tabela.cadastro[[ID]:[CP ou M]],5,0),\"\")","v":""},{"$f":"IFERROR(VLOOKUP(D393,Cadastros!A:F,6,0),\"\")","v":""},{"$f":"IFERROR(VLOOKUP(D393,Cadastros!A:I,9,0),\"\")","v":""},{"$f":"IFERROR(VLOOKUP(D393,Cadastros!A:J,10,0),\"\")","v":""},{"$f":"IF(COUNTIF(Tabela66[id],D393)=0,\"\",COUNTIF(Tabela66[id],D393))","v":""},null,"",null,null,{"$f":"IFERROR(VLOOKUP(O393,Cadastros!A:B,2),\"\")","v":""},"",{"$f":"IFERROR(VLOOKUP(O393,Cadastros!A:E,5,0),\"\")","v":""},{"$f":"IFERROR(VLOOKUP(O393,Cadastros!A:F,6,0),\"\")","v":""},{"$f":"IFERROR(VLOOKUP(O393,Cadastros!A:I,9,0),\"\")","v":""},"","","",null,{"$f":"INDEX(Tabela.abordagens[],SMALL(IF(Tabela.abordagens[Mês]=$L$2,ROW(Tabela.abordagens[id])-2),ROW(A346)),1)","v":{"$error":"#NUM!"}},{"$f":"INDEX(Tabela.abordagens[],SMALL(IF(Tabela.abordagens[Mês]=$L$2,ROW(Tabela.abordagens[Idade])-2),ROW(A346)),6)","v":{"$error":"#NUM!"}},{"$f":"INDEX(Tabela.abordagens[],SMALL(IF(Tabela.abordagens[Mês]=$L$2,ROW(Tabela.abordagens[Idade])-2),ROW(A346)),4)","v":{"$error":"#NUM!"}},{"$f":"INDEX(Tabela.abordagens[],SMALL(IF(Tabela.abordagens[Mês]=$L$2,ROW(Tabela.abordagens[Idade])-2),ROW(A346)),5)","v":{"$error":"#NUM!"}}]
[null,{"$f":"INDEX(Tabela.frequencia[],SMALL(IF(Tabela.frequencia[Mês]=$L$2,ROW(Tabela.frequencia[id])-1),ROW(A347)),1)","v":{"$error":"#NUM!"}},{"$f":"INDEX(Tabela.frequencia[],SMALL(IF(Tabela.frequencia[Mês]=$L$2,ROW(Tabela.frequencia[id])-1),ROW(A347)),4)","v":{"$error":"#NUM!"}},null,{"$f":"IFERROR(VLOOKUP(D394,Tabela.cadastro[[ID]:[Nome]],2,0),\"\")","v":""},{"$f":"IFERROR(VLOOKUP(D394,Tabela66[#All],2,0),\"\")","v":""},{"$f":"IFERROR(VLOOKUP(D394,Tabela.cadastro[[ID]:[CP ou M]],5,0),\"\")","v":""},{"$f":"IFERROR(VLOOKUP(D394,Cadastros!A:F,6,0),\"\")","v":""},{"$f":"IFERROR(VLOOKUP(D394,Cadastros!A:I,9,0),\"\")","v":""},{"$f":"IFERROR(VLOOKUP(D394,Cadastros!A:J,10,0),\"\")","v":""},{"$f":"IF(COUNTIF(Tabela66[id],D394)=0,\"\",COUNTIF(Tabela66[id],D394))","v":""},null,"",null,null,{"$f":"IFERROR(VLOOKUP(O394,Cadastros!A:B,2),\"\")","v":""},"",{"$f":"IFERROR(VLOOKUP(O394,Cadastros!A:E,5,0),\"\")","v":""},{"$f":"IFERROR(VLOOKUP(O394,Cadastros!A:F,6,0),\"\")","v":""},{"$f":"IFERROR(VLOOKUP(O394,Cadastros!A:I,9,0),\"\")","v":""},"","","",null,{"$f":"INDEX(Tabela.abordagens[],SMALL(IF(Tabela.abordagens[Mês]=$L$2,ROW(Tabela.abordagens[id])-2),ROW(A347)),1)","v":{"$error":"#NUM!"}},{"$f":"INDEX(Tabela.abordagens[],SMALL(IF(Tabela.abordagens[Mês]=$L$2,ROW(Tabela.abordagens[Idade])-2),ROW(A347)),6)","v":{"$error":"#NUM!"}},{"$f":"INDEX(Tabela.abordagens[],SMALL(IF(Tabela.abordagens[Mês]=$L$2,ROW(Tabela.abordagens[Idade])-2),ROW(A347)),4)","v":{"$error":"#NUM!"}},{"$f":"INDEX(Tabela.abordagens[],SMALL(IF(Tabela.abordagens[Mês]=$L$2,ROW(Tabela.abordagens[Idade])-2),ROW(A347)),5)","v":{"$error":"#NUM!"}}]
[null,{"$f":"INDEX(Tabela.frequencia[],SMALL(IF(Tabela.frequencia[Mês]=$L$2,ROW(Tabela.frequencia[id])-1),ROW(A348)),1)","v":{"$error":"#NUM!"}},{"$f":"INDEX(Tabela.frequencia[],SMALL(IF(Tabela.frequencia[Mês]=$L$2,ROW(Tabela.frequencia[id])-1),ROW(A348)),4)","v":{"$error":"#NUM!"}},null,{"$f":"IFERROR(VLOOKUP(D395,Tabela.cadastro[[ID]:[Nome]],2,0),\"\")","v":""},{"$f":"IFERROR(VLOOKUP(D395,Tabela66[#All],2,0),\"\")","v":""},{"$f":"IFERROR(VLOOKUP(D395,Tabela.cadastro[[ID]:[CP ou M]],5,0),\"\")","v":""},{"$f":"IFERROR(VLOOKUP(D395,Cadastros!A:F,6,0),\"\")","v":""},{"$f":"IFERROR(VLOOKUP(D395,Cadastros!A:I,9,0),\"\")","v":""},{"$f":"IFERROR(VLOOKUP(D395,Cadastros!A:J,10,0),\"\")","v":""},{"$f":"IF(COUNTIF(Tabela66[id],D395)=0,\"\",COUNTIF(Tabela66[id],D395))","v":""},null,"",null,null,{"$f":"IFERROR(VLOOKUP(O395,Cadastros!A:B,2),\"\")","v":""},"",{"$f":"IFERROR(VLOOKUP(O395,Cadastros!A:E,5,0),\"\")","v":""},{"$f":"IFERROR(VLOOKUP(O395,Cadastros!A:F,6,0),\"\")","v":""},{"$f":"IFERROR(VLOOKUP(O395,Cadastros!A:I,9,0),\"\")","v":""},"","","",null,{"$f":"INDEX(Tabela.abordagens[],SMALL(IF(Tabela.abordagens[Mês]=$L$2,ROW(Tabela.abordagens[id])-2),ROW(A348)),1)","v":{"$error":"#NUM!"}},{"$f":"INDEX(Tabela.abordagens[],SMALL(IF(Tabela.abordagens[Mês]=$L$2,ROW(Tabela.abordagens[Idade])-2),ROW(A348)),6)","v":{"$error":"#NUM!"}},{"$f":"INDEX(Tabela.abordagens[],SMALL(IF(Tabela.abordagens[Mês]=$L$2,ROW(Tabela.abordagens[Idade])-2),ROW(A348)),4)","v":{"$error":"#NUM!"}},{"$f":"INDEX(Tabela.abordagens[],SMALL(IF(Tabela.abordagens[Mês]=$L$2,ROW(Tabela.abordagens[Idade])-2),ROW(A348)),5)","v":{"$error":"#NUM!"}}]
[null,{"$f":"INDEX(Tabela.frequencia[],SMALL(IF(Tabela.frequencia[Mês]=$L$2,ROW(Tabela.frequencia[id])-1),ROW(A349)),1)","v":{"$error":"#NUM!"}},{"$f":"INDEX(Tabela.frequencia[],SMALL(IF(Tabela.frequencia[Mês]=$L$2,ROW(Tabela.frequencia[id])-1),ROW(A349)),4)","v":{"$error":"#NUM!"}},null,{"$f":"IFERROR(VLOOKUP(D396,Tabela.cadastro[[ID]:[Nome]],2,0),\"\")","v":""},{"$f":"IFERROR(VLOOKUP(D396,Tabela66[#All],2,0),\"\")","v":""},{"$f":"IFERROR(VLOOKUP(D396,Tabela.cadastro[[ID]:[CP ou M]],5,0),\"\")","v":""},{"$f":"IFERROR(VLOOKUP(D396,Cadastros!A:F,6,0),\"\")","v":""},{"$f":"IFERROR(VLOOKUP(D396,Cadastros!A:I,9,0),\"\")","v":""},{"$f":"IFERROR(VLOOKUP(D396,Cadastros!A:J,10,0),\"\")","v":""},{"$f":"IF(COUNTIF(Tabela66[id],D396)=0,\"\",COUNTIF(Tabela66[id],D396))","v":""},null,"",null,null,{"$f":"IFERROR(VLOOKUP(O396,Cadastros!A:B,2),\"\")","v":""},"",{"$f":"IFERROR(VLOOKUP(O396,Cadastros!A:E,5,0),\"\")","v":""},{"$f":"IFERROR(VLOOKUP(O396,Cadastros!A:F,6,0),\"\")","v":""},{"$f":"IFERROR(VLOOKUP(O396,Cadastros!A:I,9,0),\"\")","v":""},"","","",null,{"$f":"INDEX(Tabela.abordagens[],SMALL(IF(Tabela.abordagens[Mês]=$L$2,ROW(Tabela.abordagens[id])-2),ROW(A349)),1)","v":{"$error":"#NUM!"}},{"$f":"INDEX(Tabela.abordagens[],SMALL(IF(Tabela.abordagens[Mês]=$L$2,ROW(Tabela.abordagens[Idade])-2),ROW(A349)),6)","v":{"$error":"#NUM!"}},{"$f":"INDEX(Tabela.abordagens[],SMALL(IF(Tabela.abordagens[Mês]=$L$2,ROW(Tabela.abordagens[Idade])-2),ROW(A349)),4)","v":{"$error":"#NUM!"}},{"$f":"INDEX(Tabela.abordagens[],SMALL(IF(Tabela.abordagens[Mês]=$L$2,ROW(Tabela.abordagens[Idade])-2),ROW(A349)),5)","v":{"$error":"#NUM!"}}]
[null,{"$f":"INDEX(Tabela.frequencia[],SMALL(IF(Tabela.frequencia[Mês]=$L$2,ROW(Tabela.frequencia[id])-1),ROW(A350)),1)","v":{"$error":"#NUM!"}},{"$f":"INDEX(Tabela.frequencia[],SMALL(IF(Tabela.frequencia[Mês]=$L$2,ROW(Tabela.frequencia[id])-1),ROW(A350)),4)","v":{"$error":"#NUM!"}},null,{"$f":"IFERROR(VLOOKUP(D397,Tabela.cadastro[[ID]:[Nome]],2,0),\"\")","v":""},{"$f":"IFERROR(VLOOKUP(D397,Tabela66[#All],2,0),\"\")","v":""},{"$f":"IFERROR(VLOOKUP(D397,Tabela.cadastro[[ID]:[CP ou M]],5,0),\"\")","v":""},{"$f":"IFERROR(VLOOKUP(D397,Cadastros!A:F,6,0),\"\")","v":""},{"$f":"IFERROR(VLOOKUP(D397,Cadastros!A:I,9,0),\"\")","v":""},{"$f":"IFERROR(VLOOKUP(D397,Cadastros!A:J,10,0),\"\")","v":""},{"$f":"IF(COUNTIF(Tabela66[id],D397)=0,\"\",COUNTIF(Tabela66[id],D397))","v":""},null,"",null,null,{"$f":"IFERROR(VLOOKUP(O397,Cadastros!A:B,2),\"\")","v":""},"",{"$f":"IFERROR(VLOOKUP(O397,Cadastros!A:E,5,0),\"\")","v":""},{"$f":"IFERROR(VLOOKUP(O397,Cadastros!A:F,6,0),\"\")","v":""},{"$f":"IFERROR(VLOOKUP(O397,Cadastros!A:I,9,0),\"\")","v":""},"","","",null,{"$f":"INDEX(Tabela.abordagens[],SMALL(IF(Tabela.abordagens[Mês]=$L$2,ROW(Tabela.abordagens[id])-2),ROW(A350)),1)","v":{"$error":"#NUM!"}},{"$f":"INDEX(Tabela.abordagens[],SMALL(IF(Tabela.abordagens[Mês]=$L$2,ROW(Tabela.abordagens[Idade])-2),ROW(A350)),6)","v":{"$error":"#NUM!"}},{"$f":"INDEX(Tabela.abordagens[],SMALL(IF(Tabela.abordagens[Mês]=$L$2,ROW(Tabela.abordagens[Idade])-2),ROW(A350)),4)","v":{"$error":"#NUM!"}},{"$f":"INDEX(Tabela.abordagens[],SMALL(IF(Tabela.abordagens[Mês]=$L$2,ROW(Tabela.abordagens[Idade])-2),ROW(A350)),5)","v":{"$error":"#NUM!"}}]
[null,{"$f":"INDEX(Tabela.frequencia[],SMALL(IF(Tabela.frequencia[Mês]=$L$2,ROW(Tabela.frequencia[id])-1),ROW(A351)),1)","v":{"$error":"#NUM!"}},{"$f":"INDEX(Tabela.frequencia[],SMALL(IF(Tabela.frequencia[Mês]=$L$2,ROW(Tabela.frequencia[id])-1),ROW(A351)),4)","v":{"$error":"#NUM!"}},null,{"$f":"IFERROR(VLOOKUP(D398,Tabela.cadastro[[ID]:[Nome]],2,0),\"\")","v":""},{"$f":"IFERROR(VLOOKUP(D398,Tabela66[#All],2,0),\"\")","v":""},{"$f":"IFERROR(VLOOKUP(D398,Tabela.cadastro[[ID]:[CP ou M]],5,0),\"\")","v":""},{"$f":"IFERROR(VLOOKUP(D398,Cadastros!A:F,6,0),\"\")","v":""},{"$f":"IFERROR(VLOOKUP(D398,Cadastros!A:I,9,0),\"\")","v":""},{"$f":"IFERROR(VLOOKUP(D398,Cadastros!A:J,10,0),\"\")","v":""},{"$f":"IF(COUNTIF(Tabela66[id],D398)=0,\"\",COUNTIF(Tabela66[id],D398))","v":""},null,"",null,null,{"$f":"IFERROR(VLOOKUP(O398,Cadastros!A:B,2),\"\")","v":""},"",{"$f":"IFERROR(VLOOKUP(O398,Cadastros!A:E,5,0),\"\")","v":""},{"$f":"IFERROR(VLOOKUP(O398,Cadastros!A:F,6,0),\"\")","v":""},{"$f":"IFERROR(VLOOKUP(O398,Cadastros!A:I,9,0),\"\")","v":""},"","","",null,{"$f":"INDEX(Tabela.abordagens[],SMALL(IF(Tabela.abordagens[Mês]=$L$2,ROW(Tabela.abordagens[id])-2),ROW(A351)),1)","v":{"$error":"#NUM!"}},{"$f":"INDEX(Tabela.abordagens[],SMALL(IF(Tabela.abordagens[Mês]=$L$2,ROW(Tabela.abordagens[Idade])-2),ROW(A351)),6)","v":{"$error":"#NUM!"}},{"$f":"INDEX(Tabela.abordagens[],SMALL(IF(Tabela.abordagens[Mês]=$L$2,ROW(Tabela.abordagens[Idade])-2),ROW(A351)),4)","v":{"$error":"#NUM!"}},{"$f":"INDEX(Tabela.abordagens[],SMALL(IF(Tabela.abordagens[Mês]=$L$2,ROW(Tabela.abordagens[Idade])-2),ROW(A351)),5)","v":{"$error":"#NUM!"}}]
[null,{"$f":"INDEX(Tabela.frequencia[],SMALL(IF(Tabela.frequencia[Mês]=$L$2,ROW(Tabela.frequencia[id])-1),ROW(A352)),1)","v":{"$error":"#NUM!"}},{"$f":"INDEX(Tabela.frequencia[],SMALL(IF(Tabela.frequencia[Mês]=$L$2,ROW(Tabela.frequencia[id])-1),ROW(A352)),4)","v":{"$error":"#NUM!"}},null,{"$f":"IFERROR(VLOOKUP(D399,Tabela.cadastro[[ID]:[Nome]],2,0),\"\")","v":""},{"$f":"IFERROR(VLOOKUP(D399,Tabela66[#All],2,0),\"\")","v":""},{"$f":"IFERROR(VLOOKUP(D399,Tabela.cadastro[[ID]:[CP ou M]],5,0),\"\")","v":""},{"$f":"IFERROR(VLOOKUP(D399,Cadastros!A:F,6,0),\"\")","v":""},{"$f":"IFERROR(VLOOKUP(D399,Cadastros!A:I,9,0),\"\")","v":""},{"$f":"IFERROR(VLOOKUP(D399,Cadastros!A:J,10,0),\"\")","v":""},{"$f":"IF(COUNTIF(Tabela66[id],D399)=0,\"\",COUNTIF(Tabela66[id],D399))","v":""},null,"",null,null,{"$f":"IFERROR(VLOOKUP(O399,Cadastros!A:B,2),\"\")","v":""},"",{"$f":"IFERROR(VLOOKUP(O399,Cadastros!A:E,5,0),\"\")","v":""},{"$f":"IFERROR(VLOOKUP(O399,Cadastros!A:F,6,0),\"\")","v":""},{"$f":"IFERROR(VLOOKUP(O399,Cadastros!A:I,9,0),\"\")","v":""},"","","",null,{"$f":"INDEX(Tabela.abordagens[],SMALL(IF(Tabela.abordagens[Mês]=$L$2,ROW(Tabela.abordagens[id])-2),ROW(A352)),1)","v":{"$error":"#NUM!"}},{"$f":"INDEX(Tabela.abordagens[],SMALL(IF(Tabela.abordagens[Mês]=$L$2,ROW(Tabela.abordagens[Idade])-2),ROW(A352)),6)","v":{"$error":"#NUM!"}},{"$f":"INDEX(Tabela.abordagens[],SMALL(IF(Tabela.abordagens[Mês]=$L$2,ROW(Tabela.abordagens[Idade])-2),ROW(A352)),4)","v":{"$error":"#NUM!"}},{"$f":"INDEX(Tabela.abordagens[],SMALL(IF(Tabela.abordagens[Mês]=$L$2,ROW(Tabela.abordagens[Idade])-2),ROW(A352)),5)","v":{"$error":"#NUM!"}}]
[null,{"$f":"INDEX(Tabela.frequencia[],SMALL(IF(Tabela.frequencia[Mês]=$L$2,ROW(Tabela.frequencia[id])-1),ROW(A353)),1)","v":{"$error":"#NUM!"}},{"$f":"INDEX(Tabela.frequencia[],SMALL(IF(Tabela.frequencia[Mês]=$L$2,ROW(Tabela.frequencia[id])-1),ROW(A353)),4)","v":{"$error":"#NUM!"}},null,{"$f":"IFERROR(VLOOKUP(D400,Tabela.cadastro[[ID]:[Nome]],2,0),\"\")","v":""},{"$f":"IFERROR(VLOOKUP(D400,Tabela66[#All],2,0),\"\")","v":""},{"$f":"IFERROR(VLOOKUP(D400,Tabela.cadastro[[ID]:[CP ou M]],5,0),\"\")","v":""},{"$f":"IFERROR(VLOOKUP(D400,Cadastros!A:F,6,0),\"\")","v":""},{"$f":"IFERROR(VLOOKUP(D400,Cadastros!A:I,9,0),\"\")","v":""},{"$f":"IFERROR(VLOOKUP(D400,Cadastros!A:J,10,0),\"\")","v":""},{"$f":"IF(COUNTIF(Tabela66[id],D400)=0,\"\",COUNTIF(Tabela66[id],D400))","v":""},null,"",null,null,{"$f":"IFERROR(VLOOKUP(O400,Cadastros!A:B,2),\"\")","v":""},"",{"$f":"IFERROR(VLOOKUP(O400,Cadastros!A:E,5,0),\"\")","v":""},{"$f":"IFERROR(VLOOKUP(O400,Cadastros!A:F,6,0),\"\")","v":""},{"$f":"IFERROR(VLOOKUP(O400,Cadastros!A:I,9,0),\"\")","v":""},"","","",null,{"$f":"INDEX(Tabela.abordagens[],SMALL(IF(Tabela.abordagens[Mês]=$L$2,ROW(Tabela.abordagens[id])-2),ROW(A353)),1)","v":{"$error":"#NUM!"}},{"$f":"INDEX(Tabela.abordagens[],SMALL(IF(Tabela.abordagens[Mês]=$L$2,ROW(Tabela.abordagens[Idade])-2),ROW(A353)),6)","v":{"$error":"#NUM!"}},{"$f":"INDEX(Tabela.abordagens[],SMALL(IF(Tabela.abordagens[Mês]=$L$2,ROW(Tabela.abordagens[Idade])-2),ROW(A353)),4)","v":{"$error":"#NUM!"}},{"$f":"INDEX(Tabela.abordagens[],SMALL(IF(Tabela.abordagens[Mês]=$L$2,ROW(Tabela.abordagens[Idade])-2),ROW(A353)),5)","v":{"$error":"#NUM!"}}]
[null,{"$f":"INDEX(Tabela.frequencia[],SMALL(IF(Tabela.frequencia[Mês]=$L$2,ROW(Tabela.frequencia[id])-1),ROW(A354)),1)","v":{"$error":"#NUM!"}},{"$f":"INDEX(Tabela.frequencia[],SMALL(IF(Tabela.frequencia[Mês]=$L$2,ROW(Tabela.frequencia[id])-1),ROW(A354)),4)","v":{"$error":"#NUM!"}},null,{"$f":"IFERROR(VLOOKUP(D401,Tabela.cadastro[[ID]:[Nome]],2,0),\"\")","v":""},{"$f":"IFERROR(VLOOKUP(D401,Tabela66[#All],2,0),\"\")","v":""},{"$f":"IFERROR(VLOOKUP(D401,Tabela.cadastro[[ID]:[CP ou M]],5,0),\"\")","v":""},{"$f":"IFERROR(VLOOKUP(D401,Cadastros!A:F,6,0),\"\")","v":""},{"$f":"IFERROR(VLOOKUP(D401,Cadastros!A:I,9,0),\"\")","v":""},{"$f":"IFERROR(VLOOKUP(D401,Cadastros!A:J,10,0),\"\")","v":""},{"$f":"IF(COUNTIF(Tabela66[id],D401)=0,\"\",COUNTIF(Tabela66[id],D401))","v":""},null,"",null,null,{"$f":"IFERROR(VLOOKUP(O401,Cadastros!A:B,2),\"\")","v":""},"",{"$f":"IFERROR(VLOOKUP(O401,Cadastros!A:E,5,0),\"\")","v":""},{"$f":"IFERROR(VLOOKUP(O401,Cadastros!A:F,6,0),\"\")","v":""},{"$f":"IFERROR(VLOOKUP(O401,Cadastros!A:I,9,0),\"\")","v":""},"","","",null,{"$f":"INDEX(Tabela.abordagens[],SMALL(IF(Tabela.abordagens[Mês]=$L$2,ROW(Tabela.abordagens[id])-2),ROW(A354)),1)","v":{"$error":"#NUM!"}},{"$f":"INDEX(Tabela.abordagens[],SMALL(IF(Tabela.abordagens[Mês]=$L$2,ROW(Tabela.abordagens[Idade])-2),ROW(A354)),6)","v":{"$error":"#NUM!"}},{"$f":"INDEX(Tabela.abordagens[],SMALL(IF(Tabela.abordagens[Mês]=$L$2,ROW(Tabela.abordagens[Idade])-2),ROW(A354)),4)","v":{"$error":"#NUM!"}},{"$f":"INDEX(Tabela.abordagens[],SMALL(IF(Tabela.abordagens[Mês]=$L$2,ROW(Tabela.abordagens[Idade])-2),ROW(A354)),5)","v":{"$error":"#NUM!"}}]
[null,{"$f":"INDEX(Tabela.frequencia[],SMALL(IF(Tabela.frequencia[Mês]=$L$2,ROW(Tabela.frequencia[id])-1),ROW(A355)),1)","v":{"$error":"#NUM!"}},{"$f":"INDEX(Tabela.frequencia[],SMALL(IF(Tabela.frequencia[Mês]=$L$2,ROW(Tabela.frequencia[id])-1),ROW(A355)),4)","v":{"$error":"#NUM!"}},null,{"$f":"IFERROR(VLOOKUP(D402,Tabela.cadastro[[ID]:[Nome]],2,0),\"\")","v":""},{"$f":"IFERROR(VLOOKUP(D402,Tabela66[#All],2,0),\"\")","v":""},{"$f":"IFERROR(VLOOKUP(D402,Tabela.cadastro[[ID]:[CP ou M]],5,0),\"\")","v":""},{"$f":"IFERROR(VLOOKUP(D402,Cadastros!A:F,6,0),\"\")","v":""},{"$f":"IFERROR(VLOOKUP(D402,Cadastros!A:I,9,0),\"\")","v":""},{"$f":"IFERROR(VLOOKUP(D402,Cadastros!A:J,10,0),\"\")","v":""},{"$f":"IF(COUNTIF(Tabela66[id],D402)=0,\"\",COUNTIF(Tabela66[id],D402))","v":""},null,"",null,null,{"$f":"IFERROR(VLOOKUP(O402,Cadastros!A:B,2),\"\")","v":""},"",{"$f":"IFERROR(VLOOKUP(O402,Cadastros!A:E,5,0),\"\")","v":""},{"$f":"IFERROR(VLOOKUP(O402,Cadastros!A:F,6,0),\"\")","v":""},{"$f":"IFERROR(VLOOKUP(O402,Cadastros!A:I,9,0),\"\")","v":""},"","","",null,{"$f":"INDEX(Tabela.abordagens[],SMALL(IF(Tabela.abordagens[Mês]=$L$2,ROW(Tabela.abordagens[id])-2),ROW(A355)),1)","v":{"$error":"#NUM!"}},{"$f":"INDEX(Tabela.abordagens[],SMALL(IF(Tabela.abordagens[Mês]=$L$2,ROW(Tabela.abordagens[Idade])-2),ROW(A355)),6)","v":{"$error":"#NUM!"}},{"$f":"INDEX(Tabela.abordagens[],SMALL(IF(Tabela.abordagens[Mês]=$L$2,ROW(Tabela.abordagens[Idade])-2),ROW(A355)),4)","v":{"$error":"#NUM!"}},{"$f":"INDEX(Tabela.abordagens[],SMALL(IF(Tabela.abordagens[Mês]=$L$2,ROW(Tabela.abordagens[Idade])-2),ROW(A355)),5)","v":{"$error":"#NUM!"}}]
[null,{"$f":"INDEX(Tabela.frequencia[],SMALL(IF(Tabela.frequencia[Mês]=$L$2,ROW(Tabela.frequencia[id])-1),ROW(A356)),1)","v":{"$error":"#NUM!"}},{"$f":"INDEX(Tabela.frequencia[],SMALL(IF(Tabela.frequencia[Mês]=$L$2,ROW(Tabela.frequencia[id])-1),ROW(A356)),4)","v":{"$error":"#NUM!"}},null,{"$f":"IFERROR(VLOOKUP(D403,Tabela.cadastro[[ID]:[Nome]],2,0),\"\")","v":""},{"$f":"IFERROR(VLOOKUP(D403,Tabela66[#All],2,0),\"\")","v":""},{"$f":"IFERROR(VLOOKUP(D403,Tabela.cadastro[[ID]:[CP ou M]],5,0),\"\")","v":""},{"$f":"IFERROR(VLOOKUP(D403,Cadastros!A:F,6,0),\"\")","v":""},{"$f":"IFERROR(VLOOKUP(D403,Cadastros!A:I,9,0),\"\")","v":""},{"$f":"IFERROR(VLOOKUP(D403,Cadastros!A:J,10,0),\"\")","v":""},{"$f":"IF(COUNTIF(Tabela66[id],D403)=0,\"\",COUNTIF(Tabela66[id],D403))","v":""},null,"",null,null,{"$f":"IFERROR(VLOOKUP(O403,Cadastros!A:B,2),\"\")","v":""},"",{"$f":"IFERROR(VLOOKUP(O403,Cadastros!A:E,5,0),\"\")","v":""},{"$f":"IFERROR(VLOOKUP(O403,Cadastros!A:F,6,0),\"\")","v":""},{"$f":"IFERROR(VLOOKUP(O403,Cadastros!A:I,9,0),\"\")","v":""},"","","",null,{"$f":"INDEX(Tabela.abordagens[],SMALL(IF(Tabela.abordagens[Mês]=$L$2,ROW(Tabela.abordagens[id])-2),ROW(A356)),1)","v":{"$error":"#NUM!"}},{"$f":"INDEX(Tabela.abordagens[],SMALL(IF(Tabela.abordagens[Mês]=$L$2,ROW(Tabela.abordagens[Idade])-2),ROW(A356)),6)","v":{"$error":"#NUM!"}},{"$f":"INDEX(Tabela.abordagens[],SMALL(IF(Tabela.abordagens[Mês]=$L$2,ROW(Tabela.abordagens[Idade])-2),ROW(A356)),4)","v":{"$error":"#NUM!"}},{"$f":"INDEX(Tabela.abordagens[],SMALL(IF(Tabela.abordagens[Mês]=$L$2,ROW(Tabela.abordagens[Idade])-2),ROW(A356)),5)","v":{"$error":"#NUM!"}}]
[null,{"$f":"INDEX(Tabela.frequencia[],SMALL(IF(Tabela.frequencia[Mês]=$L$2,ROW(Tabela.frequencia[id])-1),ROW(A357)),1)","v":{"$error":"#NUM!"}},{"$f":"INDEX(Tabela.frequencia[],SMALL(IF(Tabela.frequencia[Mês]=$L$2,ROW(Tabela.frequencia[id])-1),ROW(A357)),4)","v":{"$error":"#NUM!"}},null,{"$f":"IFERROR(VLOOKUP(D404,Tabela.cadastro[[ID]:[Nome]],2,0),\"\")","v":""},{"$f":"IFERROR(VLOOKUP(D404,Tabela66[#All],2,0),\"\")","v":""},{"$f":"IFERROR(VLOOKUP(D404,Tabela.cadastro[[ID]:[CP ou M]],5,0),\"\")","v":""},{"$f":"IFERROR(VLOOKUP(D404,Cadastros!A:F,6,0),\"\")","v":""},{"$f":"IFERROR(VLOOKUP(D404,Cadastros!A:I,9,0),\"\")","v":""},{"$f":"IFERROR(VLOOKUP(D404,Cadastros!A:J,10,0),\"\")","v":""},{"$f":"IF(COUNTIF(Tabela66[id],D404)=0,\"\",COUNTIF(Tabela66[id],D404))","v":""},null,"",null,null,{"$f":"IFERROR(VLOOKUP(O404,Cadastros!A:B,2),\"\")","v":""},"",{"$f":"IFERROR(VLOOKUP(O404,Cadastros!A:E,5,0),\"\")","v":""},{"$f":"IFERROR(VLOOKUP(O404,Cadastros!A:F,6,0),\"\")","v":""},{"$f":"IFERROR(VLOOKUP(O404,Cadastros!A:I,9,0),\"\")","v":""},"","","",null,{"$f":"INDEX(Tabela.abordagens[],SMALL(IF(Tabela.abordagens[Mês]=$L$2,ROW(Tabela.abordagens[id])-2),ROW(A357)),1)","v":{"$error":"#NUM!"}},{"$f":"INDEX(Tabela.abordagens[],SMALL(IF(Tabela.abordagens[Mês]=$L$2,ROW(Tabela.abordagens[Idade])-2),ROW(A357)),6)","v":{"$error":"#NUM!"}},{"$f":"INDEX(Tabela.abordagens[],SMALL(IF(Tabela.abordagens[Mês]=$L$2,ROW(Tabela.abordagens[Idade])-2),ROW(A357)),4)","v":{"$error":"#NUM!"}},{"$f":"INDEX(Tabela.abordagens[],SMALL(IF(Tabela.abordagens[Mês]=$L$2,ROW(Tabela.abordagens[Idade])-2),ROW(A357)),5)","v":{"$error":"#NUM!"}}]
[null,{"$f":"INDEX(Tabela.frequencia[],SMALL(IF(Tabela.frequencia[Mês]=$L$2,ROW(Tabela.frequencia[id])-1),ROW(A358)),1)","v":{"$error":"#NUM!"}},{"$f":"INDEX(Tabela.frequencia[],SMALL(IF(Tabela.frequencia[Mês]=$L$2,ROW(Tabela.frequencia[id])-1),ROW(A358)),4)","v":{"$error":"#NUM!"}},null,{"$f":"IFERROR(VLOOKUP(D405,Tabela.cadastro[[ID]:[Nome]],2,0),\"\")","v":""},{"$f":"IFERROR(VLOOKUP(D405,Tabela66[#All],2,0),\"\")","v":""},{"$f":"IFERROR(VLOOKUP(D405,Tabela.cadastro[[ID]:[CP ou M]],5,0),\"\")","v":""},{"$f":"IFERROR(VLOOKUP(D405,Cadastros!A:F,6,0),\"\")","v":""},{"$f":"IFERROR(VLOOKUP(D405,Cadastros!A:I,9,0),\"\")","v":""},{"$f":"IFERROR(VLOOKUP(D405,Cadastros!A:J,10,0),\"\")","v":""},{"$f":"IF(COUNTIF(Tabela66[id],D405)=0,\"\",COUNTIF(Tabela66[id],D405))","v":""},null,"",null,null,{"$f":"IFERROR(VLOOKUP(O405,Cadastros!A:B,2),\"\")","v":""},"",{"$f":"IFERROR(VLOOKUP(O405,Cadastros!A:E,5,0),\"\")","v":""},{"$f":"IFERROR(VLOOKUP(O405,Cadastros!A:F,6,0),\"\")","v":""},{"$f":"IFERROR(VLOOKUP(O405,Cadastros!A:I,9,0),\"\")","v":""},"","","",null,{"$f":"INDEX(Tabela.abordagens[],SMALL(IF(Tabela.abordagens[Mês]=$L$2,ROW(Tabela.abordagens[id])-2),ROW(A358)),1)","v":{"$error":"#NUM!"}},{"$f":"INDEX(Tabela.abordagens[],SMALL(IF(Tabela.abordagens[Mês]=$L$2,ROW(Tabela.abordagens[Idade])-2),ROW(A358)),6)","v":{"$error":"#NUM!"}},{"$f":"INDEX(Tabela.abordagens[],SMALL(IF(Tabela.abordagens[Mês]=$L$2,ROW(Tabela.abordagens[Idade])-2),ROW(A358)),4)","v":{"$error":"#NUM!"}},{"$f":"INDEX(Tabela.abordagens[],SMALL(IF(Tabela.abordagens[Mês]=$L$2,ROW(Tabela.abordagens[Idade])-2),ROW(A358)),5)","v":{"$error":"#NUM!"}}]
[null,{"$f":"INDEX(Tabela.frequencia[],SMALL(IF(Tabela.frequencia[Mês]=$L$2,ROW(Tabela.frequencia[id])-1),ROW(A359)),1)","v":{"$error":"#NUM!"}},{"$f":"INDEX(Tabela.frequencia[],SMALL(IF(Tabela.frequencia[Mês]=$L$2,ROW(Tabela.frequencia[id])-1),ROW(A359)),4)","v":{"$error":"#NUM!"}},null,{"$f":"IFERROR(VLOOKUP(D406,Tabela.cadastro[[ID]:[Nome]],2,0),\"\")","v":""},{"$f":"IFERROR(VLOOKUP(D406,Tabela66[#All],2,0),\"\")","v":""},{"$f":"IFERROR(VLOOKUP(D406,Tabela.cadastro[[ID]:[CP ou M]],5,0),\"\")","v":""},{"$f":"IFERROR(VLOOKUP(D406,Cadastros!A:F,6,0),\"\")","v":""},{"$f":"IFERROR(VLOOKUP(D406,Cadastros!A:I,9,0),\"\")","v":""},{"$f":"IFERROR(VLOOKUP(D406,Cadastros!A:J,10,0),\"\")","v":""},{"$f":"IF(COUNTIF(Tabela66[id],D406)=0,\"\",COUNTIF(Tabela66[id],D406))","v":""},null,"",null,null,{"$f":"IFERROR(VLOOKUP(O406,Cadastros!A:B,2),\"\")","v":""},"",{"$f":"IFERROR(VLOOKUP(O406,Cadastros!A:E,5,0),\"\")","v":""},{"$f":"IFERROR(VLOOKUP(O406,Cadastros!A:F,6,0),\"\")","v":""},{"$f":"IFERROR(VLOOKUP(O406,Cadastros!A:I,9,0),\"\")","v":""},"","","",null,{"$f":"INDEX(Tabela.abordagens[],SMALL(IF(Tabela.abordagens[Mês]=$L$2,ROW(Tabela.abordagens[id])-2),ROW(A359)),1)","v":{"$error":"#NUM!"}},{"$f":"INDEX(Tabela.abordagens[],SMALL(IF(Tabela.abordagens[Mês]=$L$2,ROW(Tabela.abordagens[Idade])-2),ROW(A359)),6)","v":{"$error":"#NUM!"}},{"$f":"INDEX(Tabela.abordagens[],SMALL(IF(Tabela.abordagens[Mês]=$L$2,ROW(Tabela.abordagens[Idade])-2),ROW(A359)),4)","v":{"$error":"#NUM!"}},{"$f":"INDEX(Tabela.abordagens[],SMALL(IF(Tabela.abordagens[Mês]=$L$2,ROW(Tabela.abordagens[Idade])-2),ROW(A359)),5)","v":{"$error":"#NUM!"}}]
[null,{"$f":"INDEX(Tabela.frequencia[],SMALL(IF(Tabela.frequencia[Mês]=$L$2,ROW(Tabela.frequencia[id])-1),ROW(A360)),1)","v":{"$error":"#NUM!"}},{"$f":"INDEX(Tabela.frequencia[],SMALL(IF(Tabela.frequencia[Mês]=$L$2,ROW(Tabela.frequencia[id])-1),ROW(A360)),4)","v":{"$error":"#NUM!"}},null,{"$f":"IFERROR(VLOOKUP(D407,Tabela.cadastro[[ID]:[Nome]],2,0),\"\")","v":""},{"$f":"IFERROR(VLOOKUP(D407,Tabela66[#All],2,0),\"\")","v":""},{"$f":"IFERROR(VLOOKUP(D407,Tabela.cadastro[[ID]:[CP ou M]],5,0),\"\")","v":""},{"$f":"IFERROR(VLOOKUP(D407,Cadastros!A:F,6,0),\"\")","v":""},{"$f":"IFERROR(VLOOKUP(D407,Cadastros!A:I,9,0),\"\")","v":""},{"$f":"IFERROR(VLOOKUP(D407,Cadastros!A:J,10,0),\"\")","v":""},{"$f":"IF(COUNTIF(Tabela66[id],D407)=0,\"\",COUNTIF(Tabela66[id],D407))","v":""},null,"",null,null,{"$f":"IFERROR(VLOOKUP(O407,Cadastros!A:B,2),\"\")","v":""},"",{"$f":"IFERROR(VLOOKUP(O407,Cadastros!A:E,5,0),\"\")","v":""},{"$f":"IFERROR(VLOOKUP(O407,Cadastros!A:F,6,0),\"\")","v":""},{"$f":"IFERROR(VLOOKUP(O407,Cadastros!A:I,9,0),\"\")","v":""},"","","",null,{"$f":"INDEX(Tabela.abordagens[],SMALL(IF(Tabela.abordagens[Mês]=$L$2,ROW(Tabela.abordagens[id])-2),ROW(A360)),1)","v":{"$error":"#NUM!"}},{"$f":"INDEX(Tabela.abordagens[],SMALL(IF(Tabela.abordagens[Mês]=$L$2,ROW(Tabela.abordagens[Idade])-2),ROW(A360)),6)","v":{"$error":"#NUM!"}},{"$f":"INDEX(Tabela.abordagens[],SMALL(IF(Tabela.abordagens[Mês]=$L$2,ROW(Tabela.abordagens[Idade])-2),ROW(A360)),4)","v":{"$error":"#NUM!"}},{"$f":"INDEX(Tabela.abordagens[],SMALL(IF(Tabela.abordagens[Mês]=$L$2,ROW(Tabela.abordagens[Idade])-2),ROW(A360)),5)","v":{"$error":"#NUM!"}}]
[null,{"$f":"INDEX(Tabela.frequencia[],SMALL(IF(Tabela.frequencia[Mês]=$L$2,ROW(Tabela.frequencia[id])-1),ROW(A361)),1)","v":{"$error":"#NUM!"}},{"$f":"INDEX(Tabela.frequencia[],SMALL(IF(Tabela.frequencia[Mês]=$L$2,ROW(Tabela.frequencia[id])-1),ROW(A361)),4)","v":{"$error":"#NUM!"}},null,{"$f":"IFERROR(VLOOKUP(D408,Tabela.cadastro[[ID]:[Nome]],2,0),\"\")","v":""},{"$f":"IFERROR(VLOOKUP(D408,Tabela66[#All],2,0),\"\")","v":""},{"$f":"IFERROR(VLOOKUP(D408,Tabela.cadastro[[ID]:[CP ou M]],5,0),\"\")","v":""},{"$f":"IFERROR(VLOOKUP(D408,Cadastros!A:F,6,0),\"\")","v":""},{"$f":"IFERROR(VLOOKUP(D408,Cadastros!A:I,9,0),\"\")","v":""},{"$f":"IFERROR(VLOOKUP(D408,Cadastros!A:J,10,0),\"\")","v":""},{"$f":"IF(COUNTIF(Tabela66[id],D408)=0,\"\",COUNTIF(Tabela66[id],D408))","v":""},null,"",null,null,{"$f":"IFERROR(VLOOKUP(O408,Cadastros!A:B,2),\"\")","v":""},"",{"$f":"IFERROR(VLOOKUP(O408,Cadastros!A:E,5,0),\"\")","v":""},{"$f":"IFERROR(VLOOKUP(O408,Cadastros!A:F,6,0),\"\")","v":""},{"$f":"IFERROR(VLOOKUP(O408,Cadastros!A:I,9,0),\"\")","v":""},"","","",null,{"$f":"INDEX(Tabela.abordagens[],SMALL(IF(Tabela.abordagens[Mês]=$L$2,ROW(Tabela.abordagens[id])-2),ROW(A361)),1)","v":{"$error":"#NUM!"}},{"$f":"INDEX(Tabela.abordagens[],SMALL(IF(Tabela.abordagens[Mês]=$L$2,ROW(Tabela.abordagens[Idade])-2),ROW(A361)),6)","v":{"$error":"#NUM!"}},{"$f":"INDEX(Tabela.abordagens[],SMALL(IF(Tabela.abordagens[Mês]=$L$2,ROW(Tabela.abordagens[Idade])-2),ROW(A361)),4)","v":{"$error":"#NUM!"}},{"$f":"INDEX(Tabela.abordagens[],SMALL(IF(Tabela.abordagens[Mês]=$L$2,ROW(Tabela.abordagens[Idade])-2),ROW(A361)),5)","v":{"$error":"#NUM!"}}]
[null,{"$f":"INDEX(Tabela.frequencia[],SMALL(IF(Tabela.frequencia[Mês]=$L$2,ROW(Tabela.frequencia[id])-1),ROW(A362)),1)","v":{"$error":"#NUM!"}},{"$f":"INDEX(Tabela.frequencia[],SMALL(IF(Tabela.frequencia[Mês]=$L$2,ROW(Tabela.frequencia[id])-1),ROW(A362)),4)","v":{"$error":"#NUM!"}},null,{"$f":"IFERROR(VLOOKUP(D409,Tabela.cadastro[[ID]:[Nome]],2,0),\"\")","v":""},{"$f":"IFERROR(VLOOKUP(D409,Tabela66[#All],2,0),\"\")","v":""},{"$f":"IFERROR(VLOOKUP(D409,Tabela.cadastro[[ID]:[CP ou M]],5,0),\"\")","v":""},{"$f":"IFERROR(VLOOKUP(D409,Cadastros!A:F,6,0),\"\")","v":""},{"$f":"IFERROR(VLOOKUP(D409,Cadastros!A:I,9,0),\"\")","v":""},{"$f":"IFERROR(VLOOKUP(D409,Cadastros!A:J,10,0),\"\")","v":""},{"$f":"IF(COUNTIF(Tabela66[id],D409)=0,\"\",COUNTIF(Tabela66[id],D409))","v":""},null,"",null,null,{"$f":"IFERROR(VLOOKUP(O409,Cadastros!A:B,2),\"\")","v":""},"",{"$f":"IFERROR(VLOOKUP(O409,Cadastros!A:E,5,0),\"\")","v":""},{"$f":"IFERROR(VLOOKUP(O409,Cadastros!A:F,6,0),\"\")","v":""},{"$f":"IFERROR(VLOOKUP(O409,Cadastros!A:I,9,0),\"\")","v":""},"","","",null,{"$f":"INDEX(Tabela.abordagens[],SMALL(IF(Tabela.abordagens[Mês]=$L$2,ROW(Tabela.abordagens[id])-2),ROW(A362)),1)","v":{"$error":"#NUM!"}},{"$f":"INDEX(Tabela.abordagens[],SMALL(IF(Tabela.abordagens[Mês]=$L$2,ROW(Tabela.abordagens[Idade])-2),ROW(A362)),6)","v":{"$error":"#NUM!"}},{"$f":"INDEX(Tabela.abordagens[],SMALL(IF(Tabela.abordagens[Mês]=$L$2,ROW(Tabela.abordagens[Idade])-2),ROW(A362)),4)","v":{"$error":"#NUM!"}},{"$f":"INDEX(Tabela.abordagens[],SMALL(IF(Tabela.abordagens[Mês]=$L$2,ROW(Tabela.abordagens[Idade])-2),ROW(A362)),5)","v":{"$error":"#NUM!"}}]
[null,{"$f":"INDEX(Tabela.frequencia[],SMALL(IF(Tabela.frequencia[Mês]=$L$2,ROW(Tabela.frequencia[id])-1),ROW(A363)),1)","v":{"$error":"#NUM!"}},{"$f":"INDEX(Tabela.frequencia[],SMALL(IF(Tabela.frequencia[Mês]=$L$2,ROW(Tabela.frequencia[id])-1),ROW(A363)),4)","v":{"$error":"#NUM!"}},null,{"$f":"IFERROR(VLOOKUP(D410,Tabela.cadastro[[ID]:[Nome]],2,0),\"\")","v":""},{"$f":"IFERROR(VLOOKUP(D410,Tabela66[#All],2,0),\"\")","v":""},{"$f":"IFERROR(VLOOKUP(D410,Tabela.cadastro[[ID]:[CP ou M]],5,0),\"\")","v":""},{"$f":"IFERROR(VLOOKUP(D410,Cadastros!A:F,6,0),\"\")","v":""},{"$f":"IFERROR(VLOOKUP(D410,Cadastros!A:I,9,0),\"\")","v":""},{"$f":"IFERROR(VLOOKUP(D410,Cadastros!A:J,10,0),\"\")","v":""},{"$f":"IF(COUNTIF(Tabela66[id],D410)=0,\"\",COUNTIF(Tabela66[id],D410))","v":""},null,"",null,null,{"$f":"IFERROR(VLOOKUP(O410,Cadastros!A:B,2),\"\")","v":""},"",{"$f":"IFERROR(VLOOKUP(O410,Cadastros!A:E,5,0),\"\")","v":""},{"$f":"IFERROR(VLOOKUP(O410,Cadastros!A:F,6,0),\"\")","v":""},{"$f":"IFERROR(VLOOKUP(O410,Cadastros!A:I,9,0),\"\")","v":""},"","","",null,{"$f":"INDEX(Tabela.abordagens[],SMALL(IF(Tabela.abordagens[Mês]=$L$2,ROW(Tabela.abordagens[id])-2),ROW(A363)),1)","v":{"$error":"#NUM!"}},{"$f":"INDEX(Tabela.abordagens[],SMALL(IF(Tabela.abordagens[Mês]=$L$2,ROW(Tabela.abordagens[Idade])-2),ROW(A363)),6)","v":{"$error":"#NUM!"}},{"$f":"INDEX(Tabela.abordagens[],SMALL(IF(Tabela.abordagens[Mês]=$L$2,ROW(Tabela.abordagens[Idade])-2),ROW(A363)),4)","v":{"$error":"#NUM!"}},{"$f":"INDEX(Tabela.abordagens[],SMALL(IF(Tabela.abordagens[Mês]=$L$2,ROW(Tabela.abordagens[Idade])-2),ROW(A363)),5)","v":{"$error":"#NUM!"}}]
[null,{"$f":"INDEX(Tabela.frequencia[],SMALL(IF(Tabela.frequencia[Mês]=$L$2,ROW(Tabela.frequencia[id])-1),ROW(A364)),1)","v":{"$error":"#NUM!"}},{"$f":"INDEX(Tabela.frequencia[],SMALL(IF(Tabela.frequencia[Mês]=$L$2,ROW(Tabela.frequencia[id])-1),ROW(A364)),4)","v":{"$error":"#NUM!"}},null,{"$f":"IFERROR(VLOOKUP(D411,Tabela.cadastro[[ID]:[Nome]],2,0),\"\")","v":""},{"$f":"IFERROR(VLOOKUP(D411,Tabela66[#All],2,0),\"\")","v":""},{"$f":"IFERROR(VLOOKUP(D411,Tabela.cadastro[[ID]:[CP ou M]],5,0),\"\")","v":""},{"$f":"IFERROR(VLOOKUP(D411,Cadastros!A:F,6,0),\"\")","v":""},{"$f":"IFERROR(VLOOKUP(D411,Cadastros!A:I,9,0),\"\")","v":""},{"$f":"IFERROR(VLOOKUP(D411,Cadastros!A:J,10,0),\"\")","v":""},{"$f":"IF(COUNTIF(Tabela66[id],D411)=0,\"\",COUNTIF(Tabela66[id],D411))","v":""},null,"",null,null,{"$f":"IFERROR(VLOOKUP(O411,Cadastros!A:B,2),\"\")","v":""},"",{"$f":"IFERROR(VLOOKUP(O411,Cadastros!A:E,5,0),\"\")","v":""},{"$f":"IFERROR(VLOOKUP(O411,Cadastros!A:F,6,0),\"\")","v":""},{"$f":"IFERROR(VLOOKUP(O411,Cadastros!A:I,9,0),\"\")","v":""},"","","",null,{"$f":"INDEX(Tabela.abordagens[],SMALL(IF(Tabela.abordagens[Mês]=$L$2,ROW(Tabela.abordagens[id])-2),ROW(A364)),1)","v":{"$error":"#NUM!"}},{"$f":"INDEX(Tabela.abordagens[],SMALL(IF(Tabela.abordagens[Mês]=$L$2,ROW(Tabela.abordagens[Idade])-2),ROW(A364)),6)","v":{"$error":"#NUM!"}},{"$f":"INDEX(Tabela.abordagens[],SMALL(IF(Tabela.abordagens[Mês]=$L$2,ROW(Tabela.abordagens[Idade])-2),ROW(A364)),4)","v":{"$error":"#NUM!"}},{"$f":"INDEX(Tabela.abordagens[],SMALL(IF(Tabela.abordagens[Mês]=$L$2,ROW(Tabela.abordagens[Idade])-2),ROW(A364)),5)","v":{"$error":"#NUM!"}}]
[null,{"$f":"INDEX(Tabela.frequencia[],SMALL(IF(Tabela.frequencia[Mês]=$L$2,ROW(Tabela.frequencia[id])-1),ROW(A365)),1)","v":{"$error":"#NUM!"}},{"$f":"INDEX(Tabela.frequencia[],SMALL(IF(Tabela.frequencia[Mês]=$L$2,ROW(Tabela.frequencia[id])-1),ROW(A365)),4)","v":{"$error":"#NUM!"}},null,{"$f":"IFERROR(VLOOKUP(D412,Tabela.cadastro[[ID]:[Nome]],2,0),\"\")","v":""},{"$f":"IFERROR(VLOOKUP(D412,Tabela66[#All],2,0),\"\")","v":""},{"$f":"IFERROR(VLOOKUP(D412,Tabela.cadastro[[ID]:[CP ou M]],5,0),\"\")","v":""},{"$f":"IFERROR(VLOOKUP(D412,Cadastros!A:F,6,0),\"\")","v":""},{"$f":"IFERROR(VLOOKUP(D412,Cadastros!A:I,9,0),\"\")","v":""},{"$f":"IFERROR(VLOOKUP(D412,Cadastros!A:J,10,0),\"\")","v":""},{"$f":"IF(COUNTIF(Tabela66[id],D412)=0,\"\",COUNTIF(Tabela66[id],D412))","v":""},null,"",null,null,{"$f":"IFERROR(VLOOKUP(O412,Cadastros!A:B,2),\"\")","v":""},"",{"$f":"IFERROR(VLOOKUP(O412,Cadastros!A:E,5,0),\"\")","v":""},{"$f":"IFERROR(VLOOKUP(O412,Cadastros!A:F,6,0),\"\")","v":""},{"$f":"IFERROR(VLOOKUP(O412,Cadastros!A:I,9,0),\"\")","v":""},"","","",null,{"$f":"INDEX(Tabela.abordagens[],SMALL(IF(Tabela.abordagens[Mês]=$L$2,ROW(Tabela.abordagens[id])-2),ROW(A365)),1)","v":{"$error":"#NUM!"}},{"$f":"INDEX(Tabela.abordagens[],SMALL(IF(Tabela.abordagens[Mês]=$L$2,ROW(Tabela.abordagens[Idade])-2),ROW(A365)),6)","v":{"$error":"#NUM!"}},{"$f":"INDEX(Tabela.abordagens[],SMALL(IF(Tabela.abordagens[Mês]=$L$2,ROW(Tabela.abordagens[Idade])-2),ROW(A365)),4)","v":{"$error":"#NUM!"}},{"$f":"INDEX(Tabela.abordagens[],SMALL(IF(Tabela.abordagens[Mês]=$L$2,ROW(Tabela.abordagens[Idade])-2),ROW(A365)),5)","v":{"$error":"#NUM!"}}]
[null,{"$f":"INDEX(Tabela.frequencia[],SMALL(IF(Tabela.frequencia[Mês]=$L$2,ROW(Tabela.frequencia[id])-1),ROW(A366)),1)","v":{"$error":"#NUM!"}},{"$f":"INDEX(Tabela.frequencia[],SMALL(IF(Tabela.frequencia[Mês]=$L$2,ROW(Tabela.frequencia[id])-1),ROW(A366)),4)","v":{"$error":"#NUM!"}},null,{"$f":"IFERROR(VLOOKUP(D413,Tabela.cadastro[[ID]:[Nome]],2,0),\"\")","v":""},{"$f":"IFERROR(VLOOKUP(D413,Tabela66[#All],2,0),\"\")","v":""},{"$f":"IFERROR(VLOOKUP(D413,Tabela.cadastro[[ID]:[CP ou M]],5,0),\"\")","v":""},{"$f":"IFERROR(VLOOKUP(D413,Cadastros!A:F,6,0),\"\")","v":""},{"$f":"IFERROR(VLOOKUP(D413,Cadastros!A:I,9,0),\"\")","v":""},{"$f":"IFERROR(VLOOKUP(D413,Cadastros!A:J,10,0),\"\")","v":""},{"$f":"IF(COUNTIF(Tabela66[id],D413)=0,\"\",COUNTIF(Tabela66[id],D413))","v":""},null,"",null,null,{"$f":"IFERROR(VLOOKUP(O413,Cadastros!A:B,2),\"\")","v":""},"",{"$f":"IFERROR(VLOOKUP(O413,Cadastros!A:E,5,0),\"\")","v":""},{"$f":"IFERROR(VLOOKUP(O413,Cadastros!A:F,6,0),\"\")","v":""},{"$f":"IFERROR(VLOOKUP(O413,Cadastros!A:I,9,0),\"\")","v":""},"","","",null,{"$f":"INDEX(Tabela.abordagens[],SMALL(IF(Tabela.abordagens[Mês]=$L$2,ROW(Tabela.abordagens[id])-2),ROW(A366)),1)","v":{"$error":"#NUM!"}},{"$f":"INDEX(Tabela.abordagens[],SMALL(IF(Tabela.abordagens[Mês]=$L$2,ROW(Tabela.abordagens[Idade])-2),ROW(A366)),6)","v":{"$error":"#NUM!"}},{"$f":"INDEX(Tabela.abordagens[],SMALL(IF(Tabela.abordagens[Mês]=$L$2,ROW(Tabela.abordagens[Idade])-2),ROW(A366)),4)","v":{"$error":"#NUM!"}},{"$f":"INDEX(Tabela.abordagens[],SMALL(IF(Tabela.abordagens[Mês]=$L$2,ROW(Tabela.abordagens[Idade])-2),ROW(A366)),5)","v":{"$error":"#NUM!"}}]
[null,{"$f":"INDEX(Tabela.frequencia[],SMALL(IF(Tabela.frequencia[Mês]=$L$2,ROW(Tabela.frequencia[id])-1),ROW(A367)),1)","v":{"$error":"#NUM!"}},{"$f":"INDEX(Tabela.frequencia[],SMALL(IF(Tabela.frequencia[Mês]=$L$2,ROW(Tabela.frequencia[id])-1),ROW(A367)),4)","v":{"$error":"#NUM!"}},null,{"$f":"IFERROR(VLOOKUP(D414,Tabela.cadastro[[ID]:[Nome]],2,0),\"\")","v":""},{"$f":"IFERROR(VLOOKUP(D414,Tabela66[#All],2,0),\"\")","v":""},{"$f":"IFERROR(VLOOKUP(D414,Tabela.cadastro[[ID]:[CP ou M]],5,0),\"\")","v":""},{"$f":"IFERROR(VLOOKUP(D414,Cadastros!A:F,6,0),\"\")","v":""},{"$f":"IFERROR(VLOOKUP(D414,Cadastros!A:I,9,0),\"\")","v":""},{"$f":"IFERROR(VLOOKUP(D414,Cadastros!A:J,10,0),\"\")","v":""},{"$f":"IF(COUNTIF(Tabela66[id],D414)=0,\"\",COUNTIF(Tabela66[id],D414))","v":""},null,"",null,null,{"$f":"IFERROR(VLOOKUP(O414,Cadastros!A:B,2),\"\")","v":""},"",{"$f":"IFERROR(VLOOKUP(O414,Cadastros!A:E,5,0),\"\")","v":""},{"$f":"IFERROR(VLOOKUP(O414,Cadastros!A:F,6,0),\"\")","v":""},{"$f":"IFERROR(VLOOKUP(O414,Cadastros!A:I,9,0),\"\")","v":""},"","","",null,{"$f":"INDEX(Tabela.abordagens[],SMALL(IF(Tabela.abordagens[Mês]=$L$2,ROW(Tabela.abordagens[id])-2),ROW(A367)),1)","v":{"$error":"#NUM!"}},{"$f":"INDEX(Tabela.abordagens[],SMALL(IF(Tabela.abordagens[Mês]=$L$2,ROW(Tabela.abordagens[Idade])-2),ROW(A367)),6)","v":{"$error":"#NUM!"}},{"$f":"INDEX(Tabela.abordagens[],SMALL(IF(Tabela.abordagens[Mês]=$L$2,ROW(Tabela.abordagens[Idade])-2),ROW(A367)),4)","v":{"$error":"#NUM!"}},{"$f":"INDEX(Tabela.abordagens[],SMALL(IF(Tabela.abordagens[Mês]=$L$2,ROW(Tabela.abordagens[Idade])-2),ROW(A367)),5)","v":{"$error":"#NUM!"}}]
[null,{"$f":"INDEX(Tabela.frequencia[],SMALL(IF(Tabela.frequencia[Mês]=$L$2,ROW(Tabela.frequencia[id])-1),ROW(A368)),1)","v":{"$error":"#NUM!"}},{"$f":"INDEX(Tabela.frequencia[],SMALL(IF(Tabela.frequencia[Mês]=$L$2,ROW(Tabela.frequencia[id])-1),ROW(A368)),4)","v":{"$error":"#NUM!"}},null,{"$f":"IFERROR(VLOOKUP(D415,Tabela.cadastro[[ID]:[Nome]],2,0),\"\")","v":""},{"$f":"IFERROR(VLOOKUP(D415,Tabela66[#All],2,0),\"\")","v":""},{"$f":"IFERROR(VLOOKUP(D415,Tabela.cadastro[[ID]:[CP ou M]],5,0),\"\")","v":""},{"$f":"IFERROR(VLOOKUP(D415,Cadastros!A:F,6,0),\"\")","v":""},{"$f":"IFERROR(VLOOKUP(D415,Cadastros!A:I,9,0),\"\")","v":""},{"$f":"IFERROR(VLOOKUP(D415,Cadastros!A:J,10,0),\"\")","v":""},{"$f":"IF(COUNTIF(Tabela66[id],D415)=0,\"\",COUNTIF(Tabela66[id],D415))","v":""},null,"",null,null,{"$f":"IFERROR(VLOOKUP(O415,Cadastros!A:B,2),\"\")","v":""},"",{"$f":"IFERROR(VLOOKUP(O415,Cadastros!A:E,5,0),\"\")","v":""},{"$f":"IFERROR(VLOOKUP(O415,Cadastros!A:F,6,0),\"\")","v":""},{"$f":"IFERROR(VLOOKUP(O415,Cadastros!A:I,9,0),\"\")","v":""},"","","",null,{"$f":"INDEX(Tabela.abordagens[],SMALL(IF(Tabela.abordagens[Mês]=$L$2,ROW(Tabela.abordagens[id])-2),ROW(A368)),1)","v":{"$error":"#NUM!"}},{"$f":"INDEX(Tabela.abordagens[],SMALL(IF(Tabela.abordagens[Mês]=$L$2,ROW(Tabela.abordagens[Idade])-2),ROW(A368)),6)","v":{"$error":"#NUM!"}},{"$f":"INDEX(Tabela.abordagens[],SMALL(IF(Tabela.abordagens[Mês]=$L$2,ROW(Tabela.abordagens[Idade])-2),ROW(A368)),4)","v":{"$error":"#NUM!"}},{"$f":"INDEX(Tabela.abordagens[],SMALL(IF(Tabela.abordagens[Mês]=$L$2,ROW(Tabela.abordagens[Idade])-2),ROW(A368)),5)","v":{"$error":"#NUM!"}}]
[null,{"$f":"INDEX(Tabela.frequencia[],SMALL(IF(Tabela.frequencia[Mês]=$L$2,ROW(Tabela.frequencia[id])-1),ROW(A369)),1)","v":{"$error":"#NUM!"}},{"$f":"INDEX(Tabela.frequencia[],SMALL(IF(Tabela.frequencia[Mês]=$L$2,ROW(Tabela.frequencia[id])-1),ROW(A369)),4)","v":{"$error":"#NUM!"}},null,{"$f":"IFERROR(VLOOKUP(D416,Tabela.cadastro[[ID]:[Nome]],2,0),\"\")","v":""},{"$f":"IFERROR(VLOOKUP(D416,Tabela66[#All],2,0),\"\")","v":""},{"$f":"IFERROR(VLOOKUP(D416,Tabela.cadastro[[ID]:[CP ou M]],5,0),\"\")","v":""},{"$f":"IFERROR(VLOOKUP(D416,Cadastros!A:F,6,0),\"\")","v":""},{"$f":"IFERROR(VLOOKUP(D416,Cadastros!A:I,9,0),\"\")","v":""},{"$f":"IFERROR(VLOOKUP(D416,Cadastros!A:J,10,0),\"\")","v":""},{"$f":"IF(COUNTIF(Tabela66[id],D416)=0,\"\",COUNTIF(Tabela66[id],D416))","v":""},null,"",null,null,{"$f":"IFERROR(VLOOKUP(O416,Cadastros!A:B,2),\"\")","v":""},"",{"$f":"IFERROR(VLOOKUP(O416,Cadastros!A:E,5,0),\"\")","v":""},{"$f":"IFERROR(VLOOKUP(O416,Cadastros!A:F,6,0),\"\")","v":""},{"$f":"IFERROR(VLOOKUP(O416,Cadastros!A:I,9,0),\"\")","v":""},"","","",null,{"$f":"INDEX(Tabela.abordagens[],SMALL(IF(Tabela.abordagens[Mês]=$L$2,ROW(Tabela.abordagens[id])-2),ROW(A369)),1)","v":{"$error":"#NUM!"}},{"$f":"INDEX(Tabela.abordagens[],SMALL(IF(Tabela.abordagens[Mês]=$L$2,ROW(Tabela.abordagens[Idade])-2),ROW(A369)),6)","v":{"$error":"#NUM!"}},{"$f":"INDEX(Tabela.abordagens[],SMALL(IF(Tabela.abordagens[Mês]=$L$2,ROW(Tabela.abordagens[Idade])-2),ROW(A369)),4)","v":{"$error":"#NUM!"}},{"$f":"INDEX(Tabela.abordagens[],SMALL(IF(Tabela.abordagens[Mês]=$L$2,ROW(Tabela.abordagens[Idade])-2),ROW(A369)),5)","v":{"$error":"#NUM!"}}]
[null,{"$f":"INDEX(Tabela.frequencia[],SMALL(IF(Tabela.frequencia[Mês]=$L$2,ROW(Tabela.frequencia[id])-1),ROW(A370)),1)","v":{"$error":"#NUM!"}},{"$f":"INDEX(Tabela.frequencia[],SMALL(IF(Tabela.frequencia[Mês]=$L$2,ROW(Tabela.frequencia[id])-1),ROW(A370)),4)","v":{"$error":"#NUM!"}},null,{"$f":"IFERROR(VLOOKUP(D417,Tabela.cadastro[[ID]:[Nome]],2,0),\"\")","v":""},{"$f":"IFERROR(VLOOKUP(D417,Tabela66[#All],2,0),\"\")","v":""},{"$f":"IFERROR(VLOOKUP(D417,Tabela.cadastro[[ID]:[CP ou M]],5,0),\"\")","v":""},{"$f":"IFERROR(VLOOKUP(D417,Cadastros!A:F,6,0),\"\")","v":""},{"$f":"IFERROR(VLOOKUP(D417,Cadastros!A:I,9,0),\"\")","v":""},{"$f":"IFERROR(VLOOKUP(D417,Cadastros!A:J,10,0),\"\")","v":""},{"$f":"IF(COUNTIF(Tabela66[id],D417)=0,\"\",COUNTIF(Tabela66[id],D417))","v":""},null,"",null,null,{"$f":"IFERROR(VLOOKUP(O417,Cadastros!A:B,2),\"\")","v":""},"",{"$f":"IFERROR(VLOOKUP(O417,Cadastros!A:E,5,0),\"\")","v":""},{"$f":"IFERROR(VLOOKUP(O417,Cadastros!A:F,6,0),\"\")","v":""},{"$f":"IFERROR(VLOOKUP(O417,Cadastros!A:I,9,0),\"\")","v":""},"","","",null,{"$f":"INDEX(Tabela.abordagens[],SMALL(IF(Tabela.abordagens[Mês]=$L$2,ROW(Tabela.abordagens[id])-2),ROW(A370)),1)","v":{"$error":"#NUM!"}},{"$f":"INDEX(Tabela.abordagens[],SMALL(IF(Tabela.abordagens[Mês]=$L$2,ROW(Tabela.abordagens[Idade])-2),ROW(A370)),6)","v":{"$error":"#NUM!"}},{"$f":"INDEX(Tabela.abordagens[],SMALL(IF(Tabela.abordagens[Mês]=$L$2,ROW(Tabela.abordagens[Idade])-2),ROW(A370)),4)","v":{"$error":"#NUM!"}},{"$f":"INDEX(Tabela.abordagens[],SMALL(IF(Tabela.abordagens[Mês]=$L$2,ROW(Tabela.abordagens[Idade])-2),ROW(A370)),5)","v":{"$error":"#NUM!"}}]
[null,{"$f":"INDEX(Tabela.frequencia[],SMALL(IF(Tabela.frequencia[Mês]=$L$2,ROW(Tabela.frequencia[id])-1),ROW(A371)),1)","v":{"$error":"#NUM!"}},{"$f":"INDEX(Tabela.frequencia[],SMALL(IF(Tabela.frequencia[Mês]=$L$2,ROW(Tabela.frequencia[id])-1),ROW(A371)),4)","v":{"$error":"#NUM!"}},null,{"$f":"IFERROR(VLOOKUP(D418,Tabela.cadastro[[ID]:[Nome]],2,0),\"\")","v":""},{"$f":"IFERROR(VLOOKUP(D418,Tabela66[#All],2,0),\"\")","v":""},{"$f":"IFERROR(VLOOKUP(D418,Tabela.cadastro[[ID]:[CP ou M]],5,0),\"\")","v":""},{"$f":"IFERROR(VLOOKUP(D418,Cadastros!A:F,6,0),\"\")","v":""},{"$f":"IFERROR(VLOOKUP(D418,Cadastros!A:I,9,0),\"\")","v":""},{"$f":"IFERROR(VLOOKUP(D418,Cadastros!A:J,10,0),\"\")","v":""},{"$f":"IF(COUNTIF(Tabela66[id],D418)=0,\"\",COUNTIF(Tabela66[id],D418))","v":""},null,"",null,null,{"$f":"IFERROR(VLOOKUP(O418,Cadastros!A:B,2),\"\")","v":""},{"$f":"IFERROR(VLOOKUP(O418,$Y$33:$Z$866,2,0),\"\")","v":""},{"$f":"IFERROR(VLOOKUP(O418,Cadastros!A:E,5,0),\"\")","v":""},{"$f":"IFERROR(VLOOKUP(O418,Cadastros!A:F,6,0),\"\")","v":""},{"$f":"IFERROR(VLOOKUP(O418,Cadastros!A:I,9,0),\"\")","v":""},{"$f":"IFERROR(VLOOKUP(O418,Y$33:AB$866,3,0),\"\")","v":""},{"$f":"IFERROR(VLOOKUP(O418,Y$33:AB$866,4,0),\"\")","v":""},{"$f":"IF(COUNTIF(Y$33:Y$866,O418)=0,\"\",COUNTIF(Y$33:Y$866,O418))","v":""},null,{"$f":"INDEX(Tabela.abordagens[],SMALL(IF(Tabela.abordagens[Mês]=$L$2,ROW(Tabela.abordagens[id])-2),ROW(A371)),1)","v":{"$error":"#NUM!"}},{"$f":"INDEX(Tabela.abordagens[],SMALL(IF(Tabela.abordagens[Mês]=$L$2,ROW(Tabela.abordagens[Idade])-2),ROW(A371)),6)","v":{"$error":"#NUM!"}},{"$f":"INDEX(Tabela.abordagens[],SMALL(IF(Tabela.abordagens[Mês]=$L$2,ROW(Tabela.abordagens[Idade])-2),ROW(A371)),4)","v":{"$error":"#NUM!"}},{"$f":"INDEX(Tabela.abordagens[],SMALL(IF(Tabela.abordagens[Mês]=$L$2,ROW(Tabela.abordagens[Idade])-2),ROW(A371)),5)","v":{"$error":"#NUM!"}}]
[null,{"$f":"INDEX(Tabela.frequencia[],SMALL(IF(Tabela.frequencia[Mês]=$L$2,ROW(Tabela.frequencia[id])-1),ROW(A372)),1)","v":{"$error":"#NUM!"}},{"$f":"INDEX(Tabela.frequencia[],SMALL(IF(Tabela.frequencia[Mês]=$L$2,ROW(Tabela.frequencia[id])-1),ROW(A372)),4)","v":{"$error":"#NUM!"}},null,{"$f":"IFERROR(VLOOKUP(D419,Tabela.cadastro[[ID]:[Nome]],2,0),\"\")","v":""},{"$f":"IFERROR(VLOOKUP(D419,Tabela66[#All],2,0),\"\")","v":""},{"$f":"IFERROR(VLOOKUP(D419,Tabela.cadastro[[ID]:[CP ou M]],5,0),\"\")","v":""},{"$f":"IFERROR(VLOOKUP(D419,Cadastros!A:F,6,0),\"\")","v":""},{"$f":"IFERROR(VLOOKUP(D419,Cadastros!A:I,9,0),\"\")","v":""},{"$f":"IFERROR(VLOOKUP(D419,Cadastros!A:J,10,0),\"\")","v":""},{"$f":"IF(COUNTIF(Tabela66[id],D419)=0,\"\",COUNTIF(Tabela66[id],D419))","v":""},null,"",null,null,{"$f":"IFERROR(VLOOKUP(O419,Cadastros!A:B,2),\"\")","v":""},"",{"$f":"IFERROR(VLOOKUP(O419,Cadastros!A:E,5,0),\"\")","v":""},{"$f":"IFERROR(VLOOKUP(O419,Cadastros!A:F,6,0),\"\")","v":""},{"$f":"IFERROR(VLOOKUP(O419,Cadastros!A:I,9,0),\"\")","v":""},"","","",null,{"$f":"INDEX(Tabela.abordagens[],SMALL(IF(Tabela.abordagens[Mês]=$L$2,ROW(Tabela.abordagens[id])-2),ROW(A372)),1)","v":{"$error":"#NUM!"}},{"$f":"INDEX(Tabela.abordagens[],SMALL(IF(Tabela.abordagens[Mês]=$L$2,ROW(Tabela.abordagens[Idade])-2),ROW(A372)),6)","v":{"$error":"#NUM!"}},{"$f":"INDEX(Tabela.abordagens[],SMALL(IF(Tabela.abordagens[Mês]=$L$2,ROW(Tabela.abordagens[Idade])-2),ROW(A372)),4)","v":{"$error":"#NUM!"}},{"$f":"INDEX(Tabela.abordagens[],SMALL(IF(Tabela.abordagens[Mês]=$L$2,ROW(Tabela.abordagens[Idade])-2),ROW(A372)),5)","v":{"$error":"#NUM!"}}]
[null,{"$f":"INDEX(Tabela.frequencia[],SMALL(IF(Tabela.frequencia[Mês]=$L$2,ROW(Tabela.frequencia[id])-1),ROW(A373)),1)","v":{"$error":"#NUM!"}},{"$f":"INDEX(Tabela.frequencia[],SMALL(IF(Tabela.frequencia[Mês]=$L$2,ROW(Tabela.frequencia[id])-1),ROW(A373)),4)","v":{"$error":"#NUM!"}},null,{"$f":"IFERROR(VLOOKUP(D420,Tabela.cadastro[[ID]:[Nome]],2,0),\"\")","v":""},{"$f":"IFERROR(VLOOKUP(D420,Tabela66[#All],2,0),\"\")","v":""},{"$f":"IFERROR(VLOOKUP(D420,Tabela.cadastro[[ID]:[CP ou M]],5,0),\"\")","v":""},{"$f":"IFERROR(VLOOKUP(D420,Cadastros!A:F,6,0),\"\")","v":""},{"$f":"IFERROR(VLOOKUP(D420,Cadastros!A:I,9,0),\"\")","v":""},{"$f":"IFERROR(VLOOKUP(D420,Cadastros!A:J,10,0),\"\")","v":""},{"$f":"IF(COUNTIF(Tabela66[id],D420)=0,\"\",COUNTIF(Tabela66[id],D420))","v":""},null,"",null,null,{"$f":"IFERROR(VLOOKUP(O420,Cadastros!A:B,2),\"\")","v":""},"",{"$f":"IFERROR(VLOOKUP(O420,Cadastros!A:E,5,0),\"\")","v":""},{"$f":"IFERROR(VLOOKUP(O420,Cadastros!A:F,6,0),\"\")","v":""},{"$f":"IFERROR(VLOOKUP(O420,Cadastros!A:I,9,0),\"\")","v":""},"","","",null,{"$f":"INDEX(Tabela.abordagens[],SMALL(IF(Tabela.abordagens[Mês]=$L$2,ROW(Tabela.abordagens[id])-2),ROW(A373)),1)","v":{"$error":"#NUM!"}},{"$f":"INDEX(Tabela.abordagens[],SMALL(IF(Tabela.abordagens[Mês]=$L$2,ROW(Tabela.abordagens[Idade])-2),ROW(A373)),6)","v":{"$error":"#NUM!"}},{"$f":"INDEX(Tabela.abordagens[],SMALL(IF(Tabela.abordagens[Mês]=$L$2,ROW(Tabela.abordagens[Idade])-2),ROW(A373)),4)","v":{"$error":"#NUM!"}},{"$f":"INDEX(Tabela.abordagens[],SMALL(IF(Tabela.abordagens[Mês]=$L$2,ROW(Tabela.abordagens[Idade])-2),ROW(A373)),5)","v":{"$error":"#NUM!"}}]
[null,{"$f":"INDEX(Tabela.frequencia[],SMALL(IF(Tabela.frequencia[Mês]=$L$2,ROW(Tabela.frequencia[id])-1),ROW(A374)),1)","v":{"$error":"#NUM!"}},{"$f":"INDEX(Tabela.frequencia[],SMALL(IF(Tabela.frequencia[Mês]=$L$2,ROW(Tabela.frequencia[id])-1),ROW(A374)),4)","v":{"$error":"#NUM!"}},null,{"$f":"IFERROR(VLOOKUP(D421,Tabela.cadastro[[ID]:[Nome]],2,0),\"\")","v":""},{"$f":"IFERROR(VLOOKUP(D421,Tabela66[#All],2,0),\"\")","v":""},{"$f":"IFERROR(VLOOKUP(D421,Tabela.cadastro[[ID]:[CP ou M]],5,0),\"\")","v":""},{"$f":"IFERROR(VLOOKUP(D421,Cadastros!A:F,6,0),\"\")","v":""},{"$f":"IFERROR(VLOOKUP(D421,Cadastros!A:I,9,0),\"\")","v":""},{"$f":"IFERROR(VLOOKUP(D421,Cadastros!A:J,10,0),\"\")","v":""},{"$f":"IF(COUNTIF(Tabela66[id],D421)=0,\"\",COUNTIF(Tabela66[id],D421))","v":""},null,"",null,null,{"$f":"IFERROR(VLOOKUP(O421,Cadastros!A:B,2),\"\")","v":""},"",{"$f":"IFERROR(VLOOKUP(O421,Cadastros!A:E,5,0),\"\")","v":""},{"$f":"IFERROR(VLOOKUP(O421,Cadastros!A:F,6,0),\"\")","v":""},{"$f":"IFERROR(VLOOKUP(O421,Cadastros!A:I,9,0),\"\")","v":""},"","","",null,{"$f":"INDEX(Tabela.abordagens[],SMALL(IF(Tabela.abordagens[Mês]=$L$2,ROW(Tabela.abordagens[id])-2),ROW(A374)),1)","v":{"$error":"#NUM!"}},{"$f":"INDEX(Tabela.abordagens[],SMALL(IF(Tabela.abordagens[Mês]=$L$2,ROW(Tabela.abordagens[Idade])-2),ROW(A374)),6)","v":{"$error":"#NUM!"}},{"$f":"INDEX(Tabela.abordagens[],SMALL(IF(Tabela.abordagens[Mês]=$L$2,ROW(Tabela.abordagens[Idade])-2),ROW(A374)),4)","v":{"$error":"#NUM!"}},{"$f":"INDEX(Tabela.abordagens[],SMALL(IF(Tabela.abordagens[Mês]=$L$2,ROW(Tabela.abordagens[Idade])-2),ROW(A374)),5)","v":{"$error":"#NUM!"}}]
[null,{"$f":"INDEX(Tabela.frequencia[],SMALL(IF(Tabela.frequencia[Mês]=$L$2,ROW(Tabela.frequencia[id])-1),ROW(A375)),1)","v":{"$error":"#NUM!"}},{"$f":"INDEX(Tabela.frequencia[],SMALL(IF(Tabela.frequencia[Mês]=$L$2,ROW(Tabela.frequencia[id])-1),ROW(A375)),4)","v":{"$error":"#NUM!"}},null,{"$f":"IFERROR(VLOOKUP(D422,Tabela.cadastro[[ID]:[Nome]],2,0),\"\")","v":""},{"$f":"IFERROR(VLOOKUP(D422,Tabela66[#All],2,0),\"\")","v":""},{"$f":"IFERROR(VLOOKUP(D422,Tabela.cadastro[[ID]:[CP ou M]],5,0),\"\")","v":""},{"$f":"IFERROR(VLOOKUP(D422,Cadastros!A:F,6,0),\"\")","v":""},{"$f":"IFERROR(VLOOKUP(D422,Cadastros!A:I,9,0),\"\")","v":""},{"$f":"IFERROR(VLOOKUP(D422,Cadastros!A:J,10,0),\"\")","v":""},{"$f":"IF(COUNTIF(Tabela66[id],D422)=0,\"\",COUNTIF(Tabela66[id],D422))","v":""},null,"",null,null,{"$f":"IFERROR(VLOOKUP(O422,Cadastros!A:B,2),\"\")","v":""},"",{"$f":"IFERROR(VLOOKUP(O422,Cadastros!A:E,5,0),\"\")","v":""},{"$f":"IFERROR(VLOOKUP(O422,Cadastros!A:F,6,0),\"\")","v":""},{"$f":"IFERROR(VLOOKUP(O422,Cadastros!A:I,9,0),\"\")","v":""},"","","",null,{"$f":"INDEX(Tabela.abordagens[],SMALL(IF(Tabela.abordagens[Mês]=$L$2,ROW(Tabela.abordagens[id])-2),ROW(A375)),1)","v":{"$error":"#NUM!"}},{"$f":"INDEX(Tabela.abordagens[],SMALL(IF(Tabela.abordagens[Mês]=$L$2,ROW(Tabela.abordagens[Idade])-2),ROW(A375)),6)","v":{"$error":"#NUM!"}},{"$f":"INDEX(Tabela.abordagens[],SMALL(IF(Tabela.abordagens[Mês]=$L$2,ROW(Tabela.abordagens[Idade])-2),ROW(A375)),4)","v":{"$error":"#NUM!"}},{"$f":"INDEX(Tabela.abordagens[],SMALL(IF(Tabela.abordagens[Mês]=$L$2,ROW(Tabela.abordagens[Idade])-2),ROW(A375)),5)","v":{"$error":"#NUM!"}}]
[null,{"$f":"INDEX(Tabela.frequencia[],SMALL(IF(Tabela.frequencia[Mês]=$L$2,ROW(Tabela.frequencia[id])-1),ROW(A376)),1)","v":{"$error":"#NUM!"}},{"$f":"INDEX(Tabela.frequencia[],SMALL(IF(Tabela.frequencia[Mês]=$L$2,ROW(Tabela.frequencia[id])-1),ROW(A376)),4)","v":{"$error":"#NUM!"}},null,{"$f":"IFERROR(VLOOKUP(D423,Tabela.cadastro[[ID]:[Nome]],2,0),\"\")","v":""},{"$f":"IFERROR(VLOOKUP(D423,Tabela66[#All],2,0),\"\")","v":""},{"$f":"IFERROR(VLOOKUP(D423,Tabela.cadastro[[ID]:[CP ou M]],5,0),\"\")","v":""},{"$f":"IFERROR(VLOOKUP(D423,Cadastros!A:F,6,0),\"\")","v":""},{"$f":"IFERROR(VLOOKUP(D423,Cadastros!A:I,9,0),\"\")","v":""},{"$f":"IFERROR(VLOOKUP(D423,Cadastros!A:J,10,0),\"\")","v":""},{"$f":"IF(COUNTIF(Tabela66[id],D423)=0,\"\",COUNTIF(Tabela66[id],D423))","v":""},null,"",null,null,{"$f":"IFERROR(VLOOKUP(O423,Cadastros!A:B,2),\"\")","v":""},"",{"$f":"IFERROR(VLOOKUP(O423,Cadastros!A:E,5,0),\"\")","v":""},{"$f":"IFERROR(VLOOKUP(O423,Cadastros!A:F,6,0),\"\")","v":""},{"$f":"IFERROR(VLOOKUP(O423,Cadastros!A:I,9,0),\"\")","v":""},"","","",null,{"$f":"INDEX(Tabela.abordagens[],SMALL(IF(Tabela.abordagens[Mês]=$L$2,ROW(Tabela.abordagens[id])-2),ROW(A376)),1)","v":{"$error":"#NUM!"}},{"$f":"INDEX(Tabela.abordagens[],SMALL(IF(Tabela.abordagens[Mês]=$L$2,ROW(Tabela.abordagens[Idade])-2),ROW(A376)),6)","v":{"$error":"#NUM!"}},{"$f":"INDEX(Tabela.abordagens[],SMALL(IF(Tabela.abordagens[Mês]=$L$2,ROW(Tabela.abordagens[Idade])-2),ROW(A376)),4)","v":{"$error":"#NUM!"}},{"$f":"INDEX(Tabela.abordagens[],SMALL(IF(Tabela.abordagens[Mês]=$L$2,ROW(Tabela.abordagens[Idade])-2),ROW(A376)),5)","v":{"$error":"#NUM!"}}]
[null,{"$f":"INDEX(Tabela.frequencia[],SMALL(IF(Tabela.frequencia[Mês]=$L$2,ROW(Tabela.frequencia[id])-1),ROW(A377)),1)","v":{"$error":"#NUM!"}},{"$f":"INDEX(Tabela.frequencia[],SMALL(IF(Tabela.frequencia[Mês]=$L$2,ROW(Tabela.frequencia[id])-1),ROW(A377)),4)","v":{"$error":"#NUM!"}},null,{"$f":"IFERROR(VLOOKUP(D424,Tabela.cadastro[[ID]:[Nome]],2,0),\"\")","v":""},{"$f":"IFERROR(VLOOKUP(D424,Tabela66[#All],2,0),\"\")","v":""},{"$f":"IFERROR(VLOOKUP(D424,Tabela.cadastro[[ID]:[CP ou M]],5,0),\"\")","v":""},{"$f":"IFERROR(VLOOKUP(D424,Cadastros!A:F,6,0),\"\")","v":""},{"$f":"IFERROR(VLOOKUP(D424,Cadastros!A:I,9,0),\"\")","v":""},{"$f":"IFERROR(VLOOKUP(D424,Cadastros!A:J,10,0),\"\")","v":""},{"$f":"IF(COUNTIF(Tabela66[id],D424)=0,\"\",COUNTIF(Tabela66[id],D424))","v":""},null,"",null,null,{"$f":"IFERROR(VLOOKUP(O424,Cadastros!A:B,2),\"\")","v":""},"",{"$f":"IFERROR(VLOOKUP(O424,Cadastros!A:E,5,0),\"\")","v":""},{"$f":"IFERROR(VLOOKUP(O424,Cadastros!A:F,6,0),\"\")","v":""},{"$f":"IFERROR(VLOOKUP(O424,Cadastros!A:I,9,0),\"\")","v":""},"","","",null,{"$f":"INDEX(Tabela.abordagens[],SMALL(IF(Tabela.abordagens[Mês]=$L$2,ROW(Tabela.abordagens[id])-2),ROW(A377)),1)","v":{"$error":"#NUM!"}},{"$f":"INDEX(Tabela.abordagens[],SMALL(IF(Tabela.abordagens[Mês]=$L$2,ROW(Tabela.abordagens[Idade])-2),ROW(A377)),6)","v":{"$error":"#NUM!"}},{"$f":"INDEX(Tabela.abordagens[],SMALL(IF(Tabela.abordagens[Mês]=$L$2,ROW(Tabela.abordagens[Idade])-2),ROW(A377)),4)","v":{"$error":"#NUM!"}},{"$f":"INDEX(Tabela.abordagens[],SMALL(IF(Tabela.abordagens[Mês]=$L$2,ROW(Tabela.abordagens[Idade])-2),ROW(A377)),5)","v":{"$error":"#NUM!"}}]
[null,{"$f":"INDEX(Tabela.frequencia[],SMALL(IF(Tabela.frequencia[Mês]=$L$2,ROW(Tabela.frequencia[id])-1),ROW(A378)),1)","v":{"$error":"#NUM!"}},{"$f":"INDEX(Tabela.frequencia[],SMALL(IF(Tabela.frequencia[Mês]=$L$2,ROW(Tabela.frequencia[id])-1),ROW(A378)),4)","v":{"$error":"#NUM!"}},null,{"$f":"IFERROR(VLOOKUP(D425,Tabela.cadastro[[ID]:[Nome]],2,0),\"\")","v":""},{"$f":"IFERROR(VLOOKUP(D425,Tabela66[#All],2,0),\"\")","v":""},{"$f":"IFERROR(VLOOKUP(D425,Tabela.cadastro[[ID]:[CP ou M]],5,0),\"\")","v":""},{"$f":"IFERROR(VLOOKUP(D425,Cadastros!A:F,6,0),\"\")","v":""},{"$f":"IFERROR(VLOOKUP(D425,Cadastros!A:I,9,0),\"\")","v":""},{"$f":"IFERROR(VLOOKUP(D425,Cadastros!A:J,10,0),\"\")","v":""},{"$f":"IF(COUNTIF(Tabela66[id],D425)=0,\"\",COUNTIF(Tabela66[id],D425))","v":""},null,"",null,null,{"$f":"IFERROR(VLOOKUP(O425,Cadastros!A:B,2),\"\")","v":""},"",{"$f":"IFERROR(VLOOKUP(O425,Cadastros!A:E,5,0),\"\")","v":""},{"$f":"IFERROR(VLOOKUP(O425,Cadastros!A:F,6,0),\"\")","v":""},{"$f":"IFERROR(VLOOKUP(O425,Cadastros!A:I,9,0),\"\")","v":""},"","","",null,{"$f":"INDEX(Tabela.abordagens[],SMALL(IF(Tabela.abordagens[Mês]=$L$2,ROW(Tabela.abordagens[id])-2),ROW(A378)),1)","v":{"$error":"#NUM!"}},{"$f":"INDEX(Tabela.abordagens[],SMALL(IF(Tabela.abordagens[Mês]=$L$2,ROW(Tabela.abordagens[Idade])-2),ROW(A378)),6)","v":{"$error":"#NUM!"}},{"$f":"INDEX(Tabela.abordagens[],SMALL(IF(Tabela.abordagens[Mês]=$L$2,ROW(Tabela.abordagens[Idade])-2),ROW(A378)),4)","v":{"$error":"#NUM!"}},{"$f":"INDEX(Tabela.abordagens[],SMALL(IF(Tabela.abordagens[Mês]=$L$2,ROW(Tabela.abordagens[Idade])-2),ROW(A378)),5)","v":{"$error":"#NUM!"}}]
[null,{"$f":"INDEX(Tabela.frequencia[],SMALL(IF(Tabela.frequencia[Mês]=$L$2,ROW(Tabela.frequencia[id])-1),ROW(A379)),1)","v":{"$error":"#NUM!"}},{"$f":"INDEX(Tabela.frequencia[],SMALL(IF(Tabela.frequencia[Mês]=$L$2,ROW(Tabela.frequencia[id])-1),ROW(A379)),4)","v":{"$error":"#NUM!"}},null,{"$f":"IFERROR(VLOOKUP(D426,Tabela.cadastro[[ID]:[Nome]],2,0),\"\")","v":""},{"$f":"IFERROR(VLOOKUP(D426,Tabela66[#All],2,0),\"\")","v":""},{"$f":"IFERROR(VLOOKUP(D426,Tabela.cadastro[[ID]:[CP ou M]],5,0),\"\")","v":""},{"$f":"IFERROR(VLOOKUP(D426,Cadastros!A:F,6,0),\"\")","v":""},{"$f":"IFERROR(VLOOKUP(D426,Cadastros!A:I,9,0),\"\")","v":""},{"$f":"IFERROR(VLOOKUP(D426,Cadastros!A:J,10,0),\"\")","v":""},{"$f":"IF(COUNTIF(Tabela66[id],D426)=0,\"\",COUNTIF(Tabela66[id],D426))","v":""},null,{"$f":"IF(AND(K426:K1257>=5,L426:L1257=\"Não\"),\"*\",\"\")","v":""},null,null,{"$f":"IFERROR(VLOOKUP(O426,Cadastros!A:B,2),\"\")","v":""},"",{"$f":"IFERROR(VLOOKUP(O426,Cadastros!A:E,5,0),\"\")","v":""},{"$f":"IFERROR(VLOOKUP(O426,Cadastros!A:F,6,0),\"\")","v":""},{"$f":"IFERROR(VLOOKUP(O426,Cadastros!A:I,9,0),\"\")","v":""},"","","",null,{"$f":"INDEX(Tabela.abordagens[],SMALL(IF(Tabela.abordagens[Mês]=$L$2,ROW(Tabela.abordagens[id])-2),ROW(A379)),1)","v":{"$error":"#NUM!"}},{"$f":"INDEX(Tabela.abordagens[],SMALL(IF(Tabela.abordagens[Mês]=$L$2,ROW(Tabela.abordagens[Idade])-2),ROW(A379)),6)","v":{"$error":"#NUM!"}},{"$f":"INDEX(Tabela.abordagens[],SMALL(IF(Tabela.abordagens[Mês]=$L$2,ROW(Tabela.abordagens[Idade])-2),ROW(A379)),4)","v":{"$error":"#NUM!"}},{"$f":"INDEX(Tabela.abordagens[],SMALL(IF(Tabela.abordagens[Mês]=$L$2,ROW(Tabela.abordagens[Idade])-2),ROW(A379)),5)","v":{"$error":"#NUM!"}}]
[null,{"$f":"INDEX(Tabela.frequencia[],SMALL(IF(Tabela.frequencia[Mês]=$L$2,ROW(Tabela.frequencia[id])-1),ROW(A380)),1)","v":{"$error":"#NUM!"}},{"$f":"INDEX(Tabela.frequencia[],SMALL(IF(Tabela.frequencia[Mês]=$L$2,ROW(Tabela.frequencia[id])-1),ROW(A380)),4)","v":{"$error":"#NUM!"}},null,{"$f":"IFERROR(VLOOKUP(D427,Tabela.cadastro[[ID]:[Nome]],2,0),\"\")","v":""},{"$f":"IFERROR(VLOOKUP(D427,Tabela66[#All],2,0),\"\")","v":""},{"$f":"IFERROR(VLOOKUP(D427,Tabela.cadastro[[ID]:[CP ou M]],5,0),\"\")","v":""},{"$f":"IFERROR(VLOOKUP(D427,Cadastros!A:F,6,0),\"\")","v":""},{"$f":"IFERROR(VLOOKUP(D427,Cadastros!A:I,9,0),\"\")","v":""},{"$f":"IFERROR(VLOOKUP(D427,Cadastros!A:J,10,0),\"\")","v":""},{"$f":"IF(COUNTIF(Tabela66[id],D427)=0,\"\",COUNTIF(Tabela66[id],D427))","v":""},null,"",null,null,{"$f":"IFERROR(VLOOKUP(O427,Cadastros!A:B,2),\"\")","v":""},"",{"$f":"IFERROR(VLOOKUP(O427,Cadastros!A:E,5,0),\"\")","v":""},{"$f":"IFERROR(VLOOKUP(O427,Cadastros!A:F,6,0),\"\")","v":""},{"$f":"IFERROR(VLOOKUP(O427,Cadastros!A:I,9,0),\"\")","v":""},"","","",null,{"$f":"INDEX(Tabela.abordagens[],SMALL(IF(Tabela.abordagens[Mês]=$L$2,ROW(Tabela.abordagens[id])-2),ROW(A380)),1)","v":{"$error":"#NUM!"}},{"$f":"INDEX(Tabela.abordagens[],SMALL(IF(Tabela.abordagens[Mês]=$L$2,ROW(Tabela.abordagens[Idade])-2),ROW(A380)),6)","v":{"$error":"#NUM!"}},{"$f":"INDEX(Tabela.abordagens[],SMALL(IF(Tabela.abordagens[Mês]=$L$2,ROW(Tabela.abordagens[Idade])-2),ROW(A380)),4)","v":{"$error":"#NUM!"}},{"$f":"INDEX(Tabela.abordagens[],SMALL(IF(Tabela.abordagens[Mês]=$L$2,ROW(Tabela.abordagens[Idade])-2),ROW(A380)),5)","v":{"$error":"#NUM!"}}]
[null,{"$f":"INDEX(Tabela.frequencia[],SMALL(IF(Tabela.frequencia[Mês]=$L$2,ROW(Tabela.frequencia[id])-1),ROW(A381)),1)","v":{"$error":"#NUM!"}},{"$f":"INDEX(Tabela.frequencia[],SMALL(IF(Tabela.frequencia[Mês]=$L$2,ROW(Tabela.frequencia[id])-1),ROW(A381)),4)","v":{"$error":"#NUM!"}},null,{"$f":"IFERROR(VLOOKUP(D428,Tabela.cadastro[[ID]:[Nome]],2,0),\"\")","v":""},{"$f":"IFERROR(VLOOKUP(D428,Tabela66[#All],2,0),\"\")","v":""},{"$f":"IFERROR(VLOOKUP(D428,Tabela.cadastro[[ID]:[CP ou M]],5,0),\"\")","v":""},{"$f":"IFERROR(VLOOKUP(D428,Cadastros!A:F,6,0),\"\")","v":""},{"$f":"IFERROR(VLOOKUP(D428,Cadastros!A:I,9,0),\"\")","v":""},{"$f":"IFERROR(VLOOKUP(D428,Cadastros!A:J,10,0),\"\")","v":""},{"$f":"IF(COUNTIF(Tabela66[id],D428)=0,\"\",COUNTIF(Tabela66[id],D428))","v":""},null,"",null,null,{"$f":"IFERROR(VLOOKUP(O428,Cadastros!A:B,2),\"\")","v":""},"",{"$f":"IFERROR(VLOOKUP(O428,Cadastros!A:E,5,0),\"\")","v":""},{"$f":"IFERROR(VLOOKUP(O428,Cadastros!A:F,6,0),\"\")","v":""},{"$f":"IFERROR(VLOOKUP(O428,Cadastros!A:I,9,0),\"\")","v":""},"","","",null,{"$f":"INDEX(Tabela.abordagens[],SMALL(IF(Tabela.abordagens[Mês]=$L$2,ROW(Tabela.abordagens[id])-2),ROW(A381)),1)","v":{"$error":"#NUM!"}},{"$f":"INDEX(Tabela.abordagens[],SMALL(IF(Tabela.abordagens[Mês]=$L$2,ROW(Tabela.abordagens[Idade])-2),ROW(A381)),6)","v":{"$error":"#NUM!"}},{"$f":"INDEX(Tabela.abordagens[],SMALL(IF(Tabela.abordagens[Mês]=$L$2,ROW(Tabela.abordagens[Idade])-2),ROW(A381)),4)","v":{"$error":"#NUM!"}},{"$f":"INDEX(Tabela.abordagens[],SMALL(IF(Tabela.abordagens[Mês]=$L$2,ROW(Tabela.abordagens[Idade])-2),ROW(A381)),5)","v":{"$error":"#NUM!"}}]
[null,{"$f":"INDEX(Tabela.frequencia[],SMALL(IF(Tabela.frequencia[Mês]=$L$2,ROW(Tabela.frequencia[id])-1),ROW(A382)),1)","v":{"$error":"#NUM!"}},{"$f":"INDEX(Tabela.frequencia[],SMALL(IF(Tabela.frequencia[Mês]=$L$2,ROW(Tabela.frequencia[id])-1),ROW(A382)),4)","v":{"$error":"#NUM!"}},null,{"$f":"IFERROR(VLOOKUP(D429,Tabela.cadastro[[ID]:[Nome]],2,0),\"\")","v":""},{"$f":"IFERROR(VLOOKUP(D429,Tabela66[#All],2,0),\"\")","v":""},{"$f":"IFERROR(VLOOKUP(D429,Tabela.cadastro[[ID]:[CP ou M]],5,0),\"\")","v":""},{"$f":"IFERROR(VLOOKUP(D429,Cadastros!A:F,6,0),\"\")","v":""},{"$f":"IFERROR(VLOOKUP(D429,Cadastros!A:I,9,0),\"\")","v":""},{"$f":"IFERROR(VLOOKUP(D429,Cadastros!A:J,10,0),\"\")","v":""},{"$f":"IF(COUNTIF(Tabela66[id],D429)=0,\"\",COUNTIF(Tabela66[id],D429))","v":""},null,"",null,null,{"$f":"IFERROR(VLOOKUP(O429,Cadastros!A:B,2),\"\")","v":""},"",{"$f":"IFERROR(VLOOKUP(O429,Cadastros!A:E,5,0),\"\")","v":""},{"$f":"IFERROR(VLOOKUP(O429,Cadastros!A:F,6,0),\"\")","v":""},{"$f":"IFERROR(VLOOKUP(O429,Cadastros!A:I,9,0),\"\")","v":""},"","","",null,{"$f":"INDEX(Tabela.abordagens[],SMALL(IF(Tabela.abordagens[Mês]=$L$2,ROW(Tabela.abordagens[id])-2),ROW(A382)),1)","v":{"$error":"#NUM!"}},{"$f":"INDEX(Tabela.abordagens[],SMALL(IF(Tabela.abordagens[Mês]=$L$2,ROW(Tabela.abordagens[Idade])-2),ROW(A382)),6)","v":{"$error":"#NUM!"}},{"$f":"INDEX(Tabela.abordagens[],SMALL(IF(Tabela.abordagens[Mês]=$L$2,ROW(Tabela.abordagens[Idade])-2),ROW(A382)),4)","v":{"$error":"#NUM!"}},{"$f":"INDEX(Tabela.abordagens[],SMALL(IF(Tabela.abordagens[Mês]=$L$2,ROW(Tabela.abordagens[Idade])-2),ROW(A382)),5)","v":{"$error":"#NUM!"}}]
[null,{"$f":"INDEX(Tabela.frequencia[],SMALL(IF(Tabela.frequencia[Mês]=$L$2,ROW(Tabela.frequencia[id])-1),ROW(A383)),1)","v":{"$error":"#NUM!"}},{"$f":"INDEX(Tabela.frequencia[],SMALL(IF(Tabela.frequencia[Mês]=$L$2,ROW(Tabela.frequencia[id])-1),ROW(A383)),4)","v":{"$error":"#NUM!"}},null,{"$f":"IFERROR(VLOOKUP(D430,Tabela.cadastro[[ID]:[Nome]],2,0),\"\")","v":""},{"$f":"IFERROR(VLOOKUP(D430,Tabela66[#All],2,0),\"\")","v":""},{"$f":"IFERROR(VLOOKUP(D430,Tabela.cadastro[[ID]:[CP ou M]],5,0),\"\")","v":""},{"$f":"IFERROR(VLOOKUP(D430,Cadastros!A:F,6,0),\"\")","v":""},{"$f":"IFERROR(VLOOKUP(D430,Cadastros!A:I,9,0),\"\")","v":""},{"$f":"IFERROR(VLOOKUP(D430,Cadastros!A:J,10,0),\"\")","v":""},{"$f":"IF(COUNTIF(Tabela66[id],D430)=0,\"\",COUNTIF(Tabela66[id],D430))","v":""},null,"",null,null,{"$f":"IFERROR(VLOOKUP(O430,Cadastros!A:B,2),\"\")","v":""},"",{"$f":"IFERROR(VLOOKUP(O430,Cadastros!A:E,5,0),\"\")","v":""},{"$f":"IFERROR(VLOOKUP(O430,Cadastros!A:F,6,0),\"\")","v":""},{"$f":"IFERROR(VLOOKUP(O430,Cadastros!A:I,9,0),\"\")","v":""},"","","",null,{"$f":"INDEX(Tabela.abordagens[],SMALL(IF(Tabela.abordagens[Mês]=$L$2,ROW(Tabela.abordagens[id])-2),ROW(A383)),1)","v":{"$error":"#NUM!"}},{"$f":"INDEX(Tabela.abordagens[],SMALL(IF(Tabela.abordagens[Mês]=$L$2,ROW(Tabela.abordagens[Idade])-2),ROW(A383)),6)","v":{"$error":"#NUM!"}},{"$f":"INDEX(Tabela.abordagens[],SMALL(IF(Tabela.abordagens[Mês]=$L$2,ROW(Tabela.abordagens[Idade])-2),ROW(A383)),4)","v":{"$error":"#NUM!"}},{"$f":"INDEX(Tabela.abordagens[],SMALL(IF(Tabela.abordagens[Mês]=$L$2,ROW(Tabela.abordagens[Idade])-2),ROW(A383)),5)","v":{"$error":"#NUM!"}}]
[null,{"$f":"INDEX(Tabela.frequencia[],SMALL(IF(Tabela.frequencia[Mês]=$L$2,ROW(Tabela.frequencia[id])-1),ROW(A384)),1)","v":{"$error":"#NUM!"}},{"$f":"INDEX(Tabela.frequencia[],SMALL(IF(Tabela.frequencia[Mês]=$L$2,ROW(Tabela.frequencia[id])-1),ROW(A384)),4)","v":{"$error":"#NUM!"}},null,{"$f":"IFERROR(VLOOKUP(D431,Tabela.cadastro[[ID]:[Nome]],2,0),\"\")","v":""},{"$f":"IFERROR(VLOOKUP(D431,Tabela66[#All],2,0),\"\")","v":""},{"$f":"IFERROR(VLOOKUP(D431,Tabela.cadastro[[ID]:[CP ou M]],5,0),\"\")","v":""},{"$f":"IFERROR(VLOOKUP(D431,Cadastros!A:F,6,0),\"\")","v":""},{"$f":"IFERROR(VLOOKUP(D431,Cadastros!A:I,9,0),\"\")","v":""},{"$f":"IFERROR(VLOOKUP(D431,Cadastros!A:J,10,0),\"\")","v":""},{"$f":"IF(COUNTIF(Tabela66[id],D431)=0,\"\",COUNTIF(Tabela66[id],D431))","v":""},null,"",null,null,{"$f":"IFERROR(VLOOKUP(O431,Cadastros!A:B,2),\"\")","v":""},"",{"$f":"IFERROR(VLOOKUP(O431,Cadastros!A:E,5,0),\"\")","v":""},{"$f":"IFERROR(VLOOKUP(O431,Cadastros!A:F,6,0),\"\")","v":""},{"$f":"IFERROR(VLOOKUP(O431,Cadastros!A:I,9,0),\"\")","v":""},"","","",null,{"$f":"INDEX(Tabela.abordagens[],SMALL(IF(Tabela.abordagens[Mês]=$L$2,ROW(Tabela.abordagens[id])-2),ROW(A384)),1)","v":{"$error":"#NUM!"}},{"$f":"INDEX(Tabela.abordagens[],SMALL(IF(Tabela.abordagens[Mês]=$L$2,ROW(Tabela.abordagens[Idade])-2),ROW(A384)),6)","v":{"$error":"#NUM!"}},{"$f":"INDEX(Tabela.abordagens[],SMALL(IF(Tabela.abordagens[Mês]=$L$2,ROW(Tabela.abordagens[Idade])-2),ROW(A384)),4)","v":{"$error":"#NUM!"}},{"$f":"INDEX(Tabela.abordagens[],SMALL(IF(Tabela.abordagens[Mês]=$L$2,ROW(Tabela.abordagens[Idade])-2),ROW(A384)),5)","v":{"$error":"#NUM!"}}]
[null,{"$f":"INDEX(Tabela.frequencia[],SMALL(IF(Tabela.frequencia[Mês]=$L$2,ROW(Tabela.frequencia[id])-1),ROW(A385)),1)","v":{"$error":"#NUM!"}},{"$f":"INDEX(Tabela.frequencia[],SMALL(IF(Tabela.frequencia[Mês]=$L$2,ROW(Tabela.frequencia[id])-1),ROW(A385)),4)","v":{"$error":"#NUM!"}},null,{"$f":"IFERROR(VLOOKUP(D432,Tabela.cadastro[[ID]:[Nome]],2,0),\"\")","v":""},{"$f":"IFERROR(VLOOKUP(D432,Tabela66[#All],2,0),\"\")","v":""},{"$f":"IFERROR(VLOOKUP(D432,Tabela.cadastro[[ID]:[CP ou M]],5,0),\"\")","v":""},{"$f":"IFERROR(VLOOKUP(D432,Cadastros!A:F,6,0),\"\")","v":""},{"$f":"IFERROR(VLOOKUP(D432,Cadastros!A:I,9,0),\"\")","v":""},{"$f":"IFERROR(VLOOKUP(D432,Cadastros!A:J,10,0),\"\")","v":""},{"$f":"IF(COUNTIF(Tabela66[id],D432)=0,\"\",COUNTIF(Tabela66[id],D432))","v":""},null,"",null,null,{"$f":"IFERROR(VLOOKUP(O432,Cadastros!A:B,2),\"\")","v":""},"",{"$f":"IFERROR(VLOOKUP(O432,Cadastros!A:E,5,0),\"\")","v":""},{"$f":"IFERROR(VLOOKUP(O432,Cadastros!A:F,6,0),\"\")","v":""},{"$f":"IFERROR(VLOOKUP(O432,Cadastros!A:I,9,0),\"\")","v":""},"","","",null,{"$f":"INDEX(Tabela.abordagens[],SMALL(IF(Tabela.abordagens[Mês]=$L$2,ROW(Tabela.abordagens[id])-2),ROW(A385)),1)","v":{"$error":"#NUM!"}},{"$f":"INDEX(Tabela.abordagens[],SMALL(IF(Tabela.abordagens[Mês]=$L$2,ROW(Tabela.abordagens[Idade])-2),ROW(A385)),6)","v":{"$error":"#NUM!"}},{"$f":"INDEX(Tabela.abordagens[],SMALL(IF(Tabela.abordagens[Mês]=$L$2,ROW(Tabela.abordagens[Idade])-2),ROW(A385)),4)","v":{"$error":"#NUM!"}},{"$f":"INDEX(Tabela.abordagens[],SMALL(IF(Tabela.abordagens[Mês]=$L$2,ROW(Tabela.abordagens[Idade])-2),ROW(A385)),5)","v":{"$error":"#NUM!"}}]
[null,{"$f":"INDEX(Tabela.frequencia[],SMALL(IF(Tabela.frequencia[Mês]=$L$2,ROW(Tabela.frequencia[id])-1),ROW(A386)),1)","v":{"$error":"#NUM!"}},{"$f":"INDEX(Tabela.frequencia[],SMALL(IF(Tabela.frequencia[Mês]=$L$2,ROW(Tabela.frequencia[id])-1),ROW(A386)),4)","v":{"$error":"#NUM!"}},null,{"$f":"IFERROR(VLOOKUP(D433,Tabela.cadastro[[ID]:[Nome]],2,0),\"\")","v":""},{"$f":"IFERROR(VLOOKUP(D433,Tabela66[#All],2,0),\"\")","v":""},{"$f":"IFERROR(VLOOKUP(D433,Tabela.cadastro[[ID]:[CP ou M]],5,0),\"\")","v":""},{"$f":"IFERROR(VLOOKUP(D433,Cadastros!A:F,6,0),\"\")","v":""},{"$f":"IFERROR(VLOOKUP(D433,Cadastros!A:I,9,0),\"\")","v":""},{"$f":"IFERROR(VLOOKUP(D433,Cadastros!A:J,10,0),\"\")","v":""},{"$f":"IF(COUNTIF(Tabela66[id],D433)=0,\"\",COUNTIF(Tabela66[id],D433))","v":""},null,"",null,null,{"$f":"IFERROR(VLOOKUP(O433,Cadastros!A:B,2),\"\")","v":""},"",{"$f":"IFERROR(VLOOKUP(O433,Cadastros!A:E,5,0),\"\")","v":""},{"$f":"IFERROR(VLOOKUP(O433,Cadastros!A:F,6,0),\"\")","v":""},{"$f":"IFERROR(VLOOKUP(O433,Cadastros!A:I,9,0),\"\")","v":""},"","","",null,{"$f":"INDEX(Tabela.abordagens[],SMALL(IF(Tabela.abordagens[Mês]=$L$2,ROW(Tabela.abordagens[id])-2),ROW(A386)),1)","v":{"$error":"#NUM!"}},{"$f":"INDEX(Tabela.abordagens[],SMALL(IF(Tabela.abordagens[Mês]=$L$2,ROW(Tabela.abordagens[Idade])-2),ROW(A386)),6)","v":{"$error":"#NUM!"}},{"$f":"INDEX(Tabela.abordagens[],SMALL(IF(Tabela.abordagens[Mês]=$L$2,ROW(Tabela.abordagens[Idade])-2),ROW(A386)),4)","v":{"$error":"#NUM!"}},{"$f":"INDEX(Tabela.abordagens[],SMALL(IF(Tabela.abordagens[Mês]=$L$2,ROW(Tabela.abordagens[Idade])-2),ROW(A386)),5)","v":{"$error":"#NUM!"}}]
[null,{"$f":"INDEX(Tabela.frequencia[],SMALL(IF(Tabela.frequencia[Mês]=$L$2,ROW(Tabela.frequencia[id])-1),ROW(A387)),1)","v":{"$error":"#NUM!"}},{"$f":"INDEX(Tabela.frequencia[],SMALL(IF(Tabela.frequencia[Mês]=$L$2,ROW(Tabela.frequencia[id])-1),ROW(A387)),4)","v":{"$error":"#NUM!"}},null,{"$f":"IFERROR(VLOOKUP(D434,Tabela.cadastro[[ID]:[Nome]],2,0),\"\")","v":""},{"$f":"IFERROR(VLOOKUP(D434,Tabela66[#All],2,0),\"\")","v":""},{"$f":"IFERROR(VLOOKUP(D434,Tabela.cadastro[[ID]:[CP ou M]],5,0),\"\")","v":""},{"$f":"IFERROR(VLOOKUP(D434,Cadastros!A:F,6,0),\"\")","v":""},{"$f":"IFERROR(VLOOKUP(D434,Cadastros!A:I,9,0),\"\")","v":""},{"$f":"IFERROR(VLOOKUP(D434,Cadastros!A:J,10,0),\"\")","v":""},{"$f":"IF(COUNTIF(Tabela66[id],D434)=0,\"\",COUNTIF(Tabela66[id],D434))","v":""},null,"",null,null,{"$f":"IFERROR(VLOOKUP(O434,Cadastros!A:B,2),\"\")","v":""},"",{"$f":"IFERROR(VLOOKUP(O434,Cadastros!A:E,5,0),\"\")","v":""},{"$f":"IFERROR(VLOOKUP(O434,Cadastros!A:F,6,0),\"\")","v":""},{"$f":"IFERROR(VLOOKUP(O434,Cadastros!A:I,9,0),\"\")","v":""},"","","",null,{"$f":"INDEX(Tabela.abordagens[],SMALL(IF(Tabela.abordagens[Mês]=$L$2,ROW(Tabela.abordagens[id])-2),ROW(A387)),1)","v":{"$error":"#NUM!"}},{"$f":"INDEX(Tabela.abordagens[],SMALL(IF(Tabela.abordagens[Mês]=$L$2,ROW(Tabela.abordagens[Idade])-2),ROW(A387)),6)","v":{"$error":"#NUM!"}},{"$f":"INDEX(Tabela.abordagens[],SMALL(IF(Tabela.abordagens[Mês]=$L$2,ROW(Tabela.abordagens[Idade])-2),ROW(A387)),4)","v":{"$error":"#NUM!"}},{"$f":"INDEX(Tabela.abordagens[],SMALL(IF(Tabela.abordagens[Mês]=$L$2,ROW(Tabela.abordagens[Idade])-2),ROW(A387)),5)","v":{"$error":"#NUM!"}}]
[null,{"$f":"INDEX(Tabela.frequencia[],SMALL(IF(Tabela.frequencia[Mês]=$L$2,ROW(Tabela.frequencia[id])-1),ROW(A388)),1)","v":{"$error":"#NUM!"}},{"$f":"INDEX(Tabela.frequencia[],SMALL(IF(Tabela.frequencia[Mês]=$L$2,ROW(Tabela.frequencia[id])-1),ROW(A388)),4)","v":{"$error":"#NUM!"}},null,{"$f":"IFERROR(VLOOKUP(D435,Tabela.cadastro[[ID]:[Nome]],2,0),\"\")","v":""},{"$f":"IFERROR(VLOOKUP(D435,Tabela66[#All],2,0),\"\")","v":""},{"$f":"IFERROR(VLOOKUP(D435,Tabela.cadastro[[ID]:[CP ou M]],5,0),\"\")","v":""},{"$f":"IFERROR(VLOOKUP(D435,Cadastros!A:F,6,0),\"\")","v":""},{"$f":"IFERROR(VLOOKUP(D435,Cadastros!A:I,9,0),\"\")","v":""},{"$f":"IFERROR(VLOOKUP(D435,Cadastros!A:J,10,0),\"\")","v":""},{"$f":"IF(COUNTIF(Tabela66[id],D435)=0,\"\",COUNTIF(Tabela66[id],D435))","v":""},null,"",null,null,{"$f":"IFERROR(VLOOKUP(O435,Cadastros!A:B,2),\"\")","v":""},"",{"$f":"IFERROR(VLOOKUP(O435,Cadastros!A:E,5,0),\"\")","v":""},{"$f":"IFERROR(VLOOKUP(O435,Cadastros!A:F,6,0),\"\")","v":""},{"$f":"IFERROR(VLOOKUP(O435,Cadastros!A:I,9,0),\"\")","v":""},"","","",null,{"$f":"INDEX(Tabela.abordagens[],SMALL(IF(Tabela.abordagens[Mês]=$L$2,ROW(Tabela.abordagens[id])-2),ROW(A388)),1)","v":{"$error":"#NUM!"}},{"$f":"INDEX(Tabela.abordagens[],SMALL(IF(Tabela.abordagens[Mês]=$L$2,ROW(Tabela.abordagens[Idade])-2),ROW(A388)),6)","v":{"$error":"#NUM!"}},{"$f":"INDEX(Tabela.abordagens[],SMALL(IF(Tabela.abordagens[Mês]=$L$2,ROW(Tabela.abordagens[Idade])-2),ROW(A388)),4)","v":{"$error":"#NUM!"}},{"$f":"INDEX(Tabela.abordagens[],SMALL(IF(Tabela.abordagens[Mês]=$L$2,ROW(Tabela.abordagens[Idade])-2),ROW(A388)),5)","v":{"$error":"#NUM!"}}]
[null,{"$f":"INDEX(Tabela.frequencia[],SMALL(IF(Tabela.frequencia[Mês]=$L$2,ROW(Tabela.frequencia[id])-1),ROW(A389)),1)","v":{"$error":"#NUM!"}},{"$f":"INDEX(Tabela.frequencia[],SMALL(IF(Tabela.frequencia[Mês]=$L$2,ROW(Tabela.frequencia[id])-1),ROW(A389)),4)","v":{"$error":"#NUM!"}},null,{"$f":"IFERROR(VLOOKUP(D436,Tabela.cadastro[[ID]:[Nome]],2,0),\"\")","v":""},{"$f":"IFERROR(VLOOKUP(D436,Tabela66[#All],2,0),\"\")","v":""},{"$f":"IFERROR(VLOOKUP(D436,Tabela.cadastro[[ID]:[CP ou M]],5,0),\"\")","v":""},{"$f":"IFERROR(VLOOKUP(D436,Cadastros!A:F,6,0),\"\")","v":""},{"$f":"IFERROR(VLOOKUP(D436,Cadastros!A:I,9,0),\"\")","v":""},{"$f":"IFERROR(VLOOKUP(D436,Cadastros!A:J,10,0),\"\")","v":""},{"$f":"IF(COUNTIF(Tabela66[id],D436)=0,\"\",COUNTIF(Tabela66[id],D436))","v":""},null,"",null,null,{"$f":"IFERROR(VLOOKUP(O436,Cadastros!A:B,2),\"\")","v":""},"",{"$f":"IFERROR(VLOOKUP(O436,Cadastros!A:E,5,0),\"\")","v":""},{"$f":"IFERROR(VLOOKUP(O436,Cadastros!A:F,6,0),\"\")","v":""},{"$f":"IFERROR(VLOOKUP(O436,Cadastros!A:I,9,0),\"\")","v":""},"","","",null,{"$f":"INDEX(Tabela.abordagens[],SMALL(IF(Tabela.abordagens[Mês]=$L$2,ROW(Tabela.abordagens[id])-2),ROW(A389)),1)","v":{"$error":"#NUM!"}},{"$f":"INDEX(Tabela.abordagens[],SMALL(IF(Tabela.abordagens[Mês]=$L$2,ROW(Tabela.abordagens[Idade])-2),ROW(A389)),6)","v":{"$error":"#NUM!"}},{"$f":"INDEX(Tabela.abordagens[],SMALL(IF(Tabela.abordagens[Mês]=$L$2,ROW(Tabela.abordagens[Idade])-2),ROW(A389)),4)","v":{"$error":"#NUM!"}},{"$f":"INDEX(Tabela.abordagens[],SMALL(IF(Tabela.abordagens[Mês]=$L$2,ROW(Tabela.abordagens[Idade])-2),ROW(A389)),5)","v":{"$error":"#NUM!"}}]
[null,{"$f":"INDEX(Tabela.frequencia[],SMALL(IF(Tabela.frequencia[Mês]=$L$2,ROW(Tabela.frequencia[id])-1),ROW(A390)),1)","v":{"$error":"#NUM!"}},{"$f":"INDEX(Tabela.frequencia[],SMALL(IF(Tabela.frequencia[Mês]=$L$2,ROW(Tabela.frequencia[id])-1),ROW(A390)),4)","v":{"$error":"#NUM!"}},null,{"$f":"IFERROR(VLOOKUP(D437,Tabela.cadastro[[ID]:[Nome]],2,0),\"\")","v":""},{"$f":"IFERROR(VLOOKUP(D437,Tabela66[#All],2,0),\"\")","v":""},{"$f":"IFERROR(VLOOKUP(D437,Tabela.cadastro[[ID]:[CP ou M]],5,0),\"\")","v":""},{"$f":"IFERROR(VLOOKUP(D437,Cadastros!A:F,6,0),\"\")","v":""},{"$f":"IFERROR(VLOOKUP(D437,Cadastros!A:I,9,0),\"\")","v":""},{"$f":"IFERROR(VLOOKUP(D437,Cadastros!A:J,10,0),\"\")","v":""},{"$f":"IF(COUNTIF(Tabela66[id],D437)=0,\"\",COUNTIF(Tabela66[id],D437))","v":""},null,"",null,null,{"$f":"IFERROR(VLOOKUP(O437,Cadastros!A:B,2),\"\")","v":""},"",{"$f":"IFERROR(VLOOKUP(O437,Cadastros!A:E,5,0),\"\")","v":""},{"$f":"IFERROR(VLOOKUP(O437,Cadastros!A:F,6,0),\"\")","v":""},{"$f":"IFERROR(VLOOKUP(O437,Cadastros!A:I,9,0),\"\")","v":""},"","","",null,{"$f":"INDEX(Tabela.abordagens[],SMALL(IF(Tabela.abordagens[Mês]=$L$2,ROW(Tabela.abordagens[id])-2),ROW(A390)),1)","v":{"$error":"#NUM!"}},{"$f":"INDEX(Tabela.abordagens[],SMALL(IF(Tabela.abordagens[Mês]=$L$2,ROW(Tabela.abordagens[Idade])-2),ROW(A390)),6)","v":{"$error":"#NUM!"}},{"$f":"INDEX(Tabela.abordagens[],SMALL(IF(Tabela.abordagens[Mês]=$L$2,ROW(Tabela.abordagens[Idade])-2),ROW(A390)),4)","v":{"$error":"#NUM!"}},{"$f":"INDEX(Tabela.abordagens[],SMALL(IF(Tabela.abordagens[Mês]=$L$2,ROW(Tabela.abordagens[Idade])-2),ROW(A390)),5)","v":{"$error":"#NUM!"}}]
[null,{"$f":"INDEX(Tabela.frequencia[],SMALL(IF(Tabela.frequencia[Mês]=$L$2,ROW(Tabela.frequencia[id])-1),ROW(A391)),1)","v":{"$error":"#NUM!"}},{"$f":"INDEX(Tabela.frequencia[],SMALL(IF(Tabela.frequencia[Mês]=$L$2,ROW(Tabela.frequencia[id])-1),ROW(A391)),4)","v":{"$error":"#NUM!"}},null,{"$f":"IFERROR(VLOOKUP(D438,Tabela.cadastro[[ID]:[Nome]],2,0),\"\")","v":""},{"$f":"IFERROR(VLOOKUP(D438,Tabela66[#All],2,0),\"\")","v":""},{"$f":"IFERROR(VLOOKUP(D438,Tabela.cadastro[[ID]:[CP ou M]],5,0),\"\")","v":""},{"$f":"IFERROR(VLOOKUP(D438,Cadastros!A:F,6,0),\"\")","v":""},{"$f":"IFERROR(VLOOKUP(D438,Cadastros!A:I,9,0),\"\")","v":""},{"$f":"IFERROR(VLOOKUP(D438,Cadastros!A:J,10,0),\"\")","v":""},{"$f":"IF(COUNTIF(Tabela66[id],D438)=0,\"\",COUNTIF(Tabela66[id],D438))","v":""},null,"",null,null,{"$f":"IFERROR(VLOOKUP(O438,Cadastros!A:B,2),\"\")","v":""},"",{"$f":"IFERROR(VLOOKUP(O438,Cadastros!A:E,5,0),\"\")","v":""},{"$f":"IFERROR(VLOOKUP(O438,Cadastros!A:F,6,0),\"\")","v":""},{"$f":"IFERROR(VLOOKUP(O438,Cadastros!A:I,9,0),\"\")","v":""},"","","",null,{"$f":"INDEX(Tabela.abordagens[],SMALL(IF(Tabela.abordagens[Mês]=$L$2,ROW(Tabela.abordagens[id])-2),ROW(A391)),1)","v":{"$error":"#NUM!"}},{"$f":"INDEX(Tabela.abordagens[],SMALL(IF(Tabela.abordagens[Mês]=$L$2,ROW(Tabela.abordagens[Idade])-2),ROW(A391)),6)","v":{"$error":"#NUM!"}},{"$f":"INDEX(Tabela.abordagens[],SMALL(IF(Tabela.abordagens[Mês]=$L$2,ROW(Tabela.abordagens[Idade])-2),ROW(A391)),4)","v":{"$error":"#NUM!"}},{"$f":"INDEX(Tabela.abordagens[],SMALL(IF(Tabela.abordagens[Mês]=$L$2,ROW(Tabela.abordagens[Idade])-2),ROW(A391)),5)","v":{"$error":"#NUM!"}}]
[null,{"$f":"INDEX(Tabela.frequencia[],SMALL(IF(Tabela.frequencia[Mês]=$L$2,ROW(Tabela.frequencia[id])-1),ROW(A392)),1)","v":{"$error":"#NUM!"}},{"$f":"INDEX(Tabela.frequencia[],SMALL(IF(Tabela.frequencia[Mês]=$L$2,ROW(Tabela.frequencia[id])-1),ROW(A392)),4)","v":{"$error":"#NUM!"}},null,{"$f":"IFERROR(VLOOKUP(D439,Tabela.cadastro[[ID]:[Nome]],2,0),\"\")","v":""},{"$f":"IFERROR(VLOOKUP(D439,Tabela66[#All],2,0),\"\")","v":""},{"$f":"IFERROR(VLOOKUP(D439,Tabela.cadastro[[ID]:[CP ou M]],5,0),\"\")","v":""},{"$f":"IFERROR(VLOOKUP(D439,Cadastros!A:F,6,0),\"\")","v":""},{"$f":"IFERROR(VLOOKUP(D439,Cadastros!A:I,9,0),\"\")","v":""},{"$f":"IFERROR(VLOOKUP(D439,Cadastros!A:J,10,0),\"\")","v":""},{"$f":"IF(COUNTIF(Tabela66[id],D439)=0,\"\",COUNTIF(Tabela66[id],D439))","v":""},null,"",null,null,{"$f":"IFERROR(VLOOKUP(O439,Cadastros!A:B,2),\"\")","v":""},"",{"$f":"IFERROR(VLOOKUP(O439,Cadastros!A:E,5,0),\"\")","v":""},{"$f":"IFERROR(VLOOKUP(O439,Cadastros!A:F,6,0),\"\")","v":""},{"$f":"IFERROR(VLOOKUP(O439,Cadastros!A:I,9,0),\"\")","v":""},"","","",null,{"$f":"INDEX(Tabela.abordagens[],SMALL(IF(Tabela.abordagens[Mês]=$L$2,ROW(Tabela.abordagens[id])-2),ROW(A392)),1)","v":{"$error":"#NUM!"}},{"$f":"INDEX(Tabela.abordagens[],SMALL(IF(Tabela.abordagens[Mês]=$L$2,ROW(Tabela.abordagens[Idade])-2),ROW(A392)),6)","v":{"$error":"#NUM!"}},{"$f":"INDEX(Tabela.abordagens[],SMALL(IF(Tabela.abordagens[Mês]=$L$2,ROW(Tabela.abordagens[Idade])-2),ROW(A392)),4)","v":{"$error":"#NUM!"}},{"$f":"INDEX(Tabela.abordagens[],SMALL(IF(Tabela.abordagens[Mês]=$L$2,ROW(Tabela.abordagens[Idade])-2),ROW(A392)),5)","v":{"$error":"#NUM!"}}]
[null,{"$f":"INDEX(Tabela.frequencia[],SMALL(IF(Tabela.frequencia[Mês]=$L$2,ROW(Tabela.frequencia[id])-1),ROW(A393)),1)","v":{"$error":"#NUM!"}},{"$f":"INDEX(Tabela.frequencia[],SMALL(IF(Tabela.frequencia[Mês]=$L$2,ROW(Tabela.frequencia[id])-1),ROW(A393)),4)","v":{"$error":"#NUM!"}},null,{"$f":"IFERROR(VLOOKUP(D440,Tabela.cadastro[[ID]:[Nome]],2,0),\"\")","v":""},{"$f":"IFERROR(VLOOKUP(D440,Tabela66[#All],2,0),\"\")","v":""},{"$f":"IFERROR(VLOOKUP(D440,Tabela.cadastro[[ID]:[CP ou M]],5,0),\"\")","v":""},{"$f":"IFERROR(VLOOKUP(D440,Cadastros!A:F,6,0),\"\")","v":""},{"$f":"IFERROR(VLOOKUP(D440,Cadastros!A:I,9,0),\"\")","v":""},{"$f":"IFERROR(VLOOKUP(D440,Cadastros!A:J,10,0),\"\")","v":""},{"$f":"IF(COUNTIF(Tabela66[id],D440)=0,\"\",COUNTIF(Tabela66[id],D440))","v":""},null,"",null,null,{"$f":"IFERROR(VLOOKUP(O440,Cadastros!A:B,2),\"\")","v":""},"",{"$f":"IFERROR(VLOOKUP(O440,Cadastros!A:E,5,0),\"\")","v":""},{"$f":"IFERROR(VLOOKUP(O440,Cadastros!A:F,6,0),\"\")","v":""},{"$f":"IFERROR(VLOOKUP(O440,Cadastros!A:I,9,0),\"\")","v":""},"","","",null,{"$f":"INDEX(Tabela.abordagens[],SMALL(IF(Tabela.abordagens[Mês]=$L$2,ROW(Tabela.abordagens[id])-2),ROW(A393)),1)","v":{"$error":"#NUM!"}},{"$f":"INDEX(Tabela.abordagens[],SMALL(IF(Tabela.abordagens[Mês]=$L$2,ROW(Tabela.abordagens[Idade])-2),ROW(A393)),6)","v":{"$error":"#NUM!"}},{"$f":"INDEX(Tabela.abordagens[],SMALL(IF(Tabela.abordagens[Mês]=$L$2,ROW(Tabela.abordagens[Idade])-2),ROW(A393)),4)","v":{"$error":"#NUM!"}},{"$f":"INDEX(Tabela.abordagens[],SMALL(IF(Tabela.abordagens[Mês]=$L$2,ROW(Tabela.abordagens[Idade])-2),ROW(A393)),5)","v":{"$error":"#NUM!"}}]
[null,{"$f":"INDEX(Tabela.frequencia[],SMALL(IF(Tabela.frequencia[Mês]=$L$2,ROW(Tabela.frequencia[id])-1),ROW(A394)),1)","v":{"$error":"#NUM!"}},{"$f":"INDEX(Tabela.frequencia[],SMALL(IF(Tabela.frequencia[Mês]=$L$2,ROW(Tabela.frequencia[id])-1),ROW(A394)),4)","v":{"$error":"#NUM!"}},null,{"$f":"IFERROR(VLOOKUP(D441,Tabela.cadastro[[ID]:[Nome]],2,0),\"\")","v":""},{"$f":"IFERROR(VLOOKUP(D441,Tabela66[#All],2,0),\"\")","v":""},{"$f":"IFERROR(VLOOKUP(D441,Tabela.cadastro[[ID]:[CP ou M]],5,0),\"\")","v":""},{"$f":"IFERROR(VLOOKUP(D441,Cadastros!A:F,6,0),\"\")","v":""},{"$f":"IFERROR(VLOOKUP(D441,Cadastros!A:I,9,0),\"\")","v":""},{"$f":"IFERROR(VLOOKUP(D441,Cadastros!A:J,10,0),\"\")","v":""},{"$f":"IF(COUNTIF(Tabela66[id],D441)=0,\"\",COUNTIF(Tabela66[id],D441))","v":""},null,"",null,null,{"$f":"IFERROR(VLOOKUP(O441,Cadastros!A:B,2),\"\")","v":""},"",{"$f":"IFERROR(VLOOKUP(O441,Cadastros!A:E,5,0),\"\")","v":""},{"$f":"IFERROR(VLOOKUP(O441,Cadastros!A:F,6,0),\"\")","v":""},{"$f":"IFERROR(VLOOKUP(O441,Cadastros!A:I,9,0),\"\")","v":""},"","","",null,{"$f":"INDEX(Tabela.abordagens[],SMALL(IF(Tabela.abordagens[Mês]=$L$2,ROW(Tabela.abordagens[id])-2),ROW(A394)),1)","v":{"$error":"#NUM!"}},{"$f":"INDEX(Tabela.abordagens[],SMALL(IF(Tabela.abordagens[Mês]=$L$2,ROW(Tabela.abordagens[Idade])-2),ROW(A394)),6)","v":{"$error":"#NUM!"}},{"$f":"INDEX(Tabela.abordagens[],SMALL(IF(Tabela.abordagens[Mês]=$L$2,ROW(Tabela.abordagens[Idade])-2),ROW(A394)),4)","v":{"$error":"#NUM!"}},{"$f":"INDEX(Tabela.abordagens[],SMALL(IF(Tabela.abordagens[Mês]=$L$2,ROW(Tabela.abordagens[Idade])-2),ROW(A394)),5)","v":{"$error":"#NUM!"}}]
[null,{"$f":"INDEX(Tabela.frequencia[],SMALL(IF(Tabela.frequencia[Mês]=$L$2,ROW(Tabela.frequencia[id])-1),ROW(A395)),1)","v":{"$error":"#NUM!"}},{"$f":"INDEX(Tabela.frequencia[],SMALL(IF(Tabela.frequencia[Mês]=$L$2,ROW(Tabela.frequencia[id])-1),ROW(A395)),4)","v":{"$error":"#NUM!"}},null,{"$f":"IFERROR(VLOOKUP(D442,Tabela.cadastro[[ID]:[Nome]],2,0),\"\")","v":""},{"$f":"IFERROR(VLOOKUP(D442,Tabela66[#All],2,0),\"\")","v":""},{"$f":"IFERROR(VLOOKUP(D442,Tabela.cadastro[[ID]:[CP ou M]],5,0),\"\")","v":""},{"$f":"IFERROR(VLOOKUP(D442,Cadastros!A:F,6,0),\"\")","v":""},{"$f":"IFERROR(VLOOKUP(D442,Cadastros!A:I,9,0),\"\")","v":""},{"$f":"IFERROR(VLOOKUP(D442,Cadastros!A:J,10,0),\"\")","v":""},{"$f":"IF(COUNTIF(Tabela66[id],D442)=0,\"\",COUNTIF(Tabela66[id],D442))","v":""},null,"",null,null,{"$f":"IFERROR(VLOOKUP(O442,Cadastros!A:B,2),\"\")","v":""},"",{"$f":"IFERROR(VLOOKUP(O442,Cadastros!A:E,5,0),\"\")","v":""},{"$f":"IFERROR(VLOOKUP(O442,Cadastros!A:F,6,0),\"\")","v":""},{"$f":"IFERROR(VLOOKUP(O442,Cadastros!A:I,9,0),\"\")","v":""},"","","",null,{"$f":"INDEX(Tabela.abordagens[],SMALL(IF(Tabela.abordagens[Mês]=$L$2,ROW(Tabela.abordagens[id])-2),ROW(A395)),1)","v":{"$error":"#NUM!"}},{"$f":"INDEX(Tabela.abordagens[],SMALL(IF(Tabela.abordagens[Mês]=$L$2,ROW(Tabela.abordagens[Idade])-2),ROW(A395)),6)","v":{"$error":"#NUM!"}},{"$f":"INDEX(Tabela.abordagens[],SMALL(IF(Tabela.abordagens[Mês]=$L$2,ROW(Tabela.abordagens[Idade])-2),ROW(A395)),4)","v":{"$error":"#NUM!"}},{"$f":"INDEX(Tabela.abordagens[],SMALL(IF(Tabela.abordagens[Mês]=$L$2,ROW(Tabela.abordagens[Idade])-2),ROW(A395)),5)","v":{"$error":"#NUM!"}}]
[null,{"$f":"INDEX(Tabela.frequencia[],SMALL(IF(Tabela.frequencia[Mês]=$L$2,ROW(Tabela.frequencia[id])-1),ROW(A396)),1)","v":{"$error":"#NUM!"}},{"$f":"INDEX(Tabela.frequencia[],SMALL(IF(Tabela.frequencia[Mês]=$L$2,ROW(Tabela.frequencia[id])-1),ROW(A396)),4)","v":{"$error":"#NUM!"}},null,{"$f":"IFERROR(VLOOKUP(D443,Tabela.cadastro[[ID]:[Nome]],2,0),\"\")","v":""},{"$f":"IFERROR(VLOOKUP(D443,Tabela66[#All],2,0),\"\")","v":""},{"$f":"IFERROR(VLOOKUP(D443,Tabela.cadastro[[ID]:[CP ou M]],5,0),\"\")","v":""},{"$f":"IFERROR(VLOOKUP(D443,Cadastros!A:F,6,0),\"\")","v":""},{"$f":"IFERROR(VLOOKUP(D443,Cadastros!A:I,9,0),\"\")","v":""},{"$f":"IFERROR(VLOOKUP(D443,Cadastros!A:J,10,0),\"\")","v":""},{"$f":"IF(COUNTIF(Tabela66[id],D443)=0,\"\",COUNTIF(Tabela66[id],D443))","v":""},null,"",null,null,{"$f":"IFERROR(VLOOKUP(O443,Cadastros!A:B,2),\"\")","v":""},"",{"$f":"IFERROR(VLOOKUP(O443,Cadastros!A:E,5,0),\"\")","v":""},{"$f":"IFERROR(VLOOKUP(O443,Cadastros!A:F,6,0),\"\")","v":""},{"$f":"IFERROR(VLOOKUP(O443,Cadastros!A:I,9,0),\"\")","v":""},"","","",null,{"$f":"INDEX(Tabela.abordagens[],SMALL(IF(Tabela.abordagens[Mês]=$L$2,ROW(Tabela.abordagens[id])-2),ROW(A396)),1)","v":{"$error":"#NUM!"}},{"$f":"INDEX(Tabela.abordagens[],SMALL(IF(Tabela.abordagens[Mês]=$L$2,ROW(Tabela.abordagens[Idade])-2),ROW(A396)),6)","v":{"$error":"#NUM!"}},{"$f":"INDEX(Tabela.abordagens[],SMALL(IF(Tabela.abordagens[Mês]=$L$2,ROW(Tabela.abordagens[Idade])-2),ROW(A396)),4)","v":{"$error":"#NUM!"}},{"$f":"INDEX(Tabela.abordagens[],SMALL(IF(Tabela.abordagens[Mês]=$L$2,ROW(Tabela.abordagens[Idade])-2),ROW(A396)),5)","v":{"$error":"#NUM!"}}]
[null,{"$f":"INDEX(Tabela.frequencia[],SMALL(IF(Tabela.frequencia[Mês]=$L$2,ROW(Tabela.frequencia[id])-1),ROW(A397)),1)","v":{"$error":"#NUM!"}},{"$f":"INDEX(Tabela.frequencia[],SMALL(IF(Tabela.frequencia[Mês]=$L$2,ROW(Tabela.frequencia[id])-1),ROW(A397)),4)","v":{"$error":"#NUM!"}},null,{"$f":"IFERROR(VLOOKUP(D444,Tabela.cadastro[[ID]:[Nome]],2,0),\"\")","v":""},{"$f":"IFERROR(VLOOKUP(D444,Tabela66[#All],2,0),\"\")","v":""},{"$f":"IFERROR(VLOOKUP(D444,Tabela.cadastro[[ID]:[CP ou M]],5,0),\"\")","v":""},{"$f":"IFERROR(VLOOKUP(D444,Cadastros!A:F,6,0),\"\")","v":""},{"$f":"IFERROR(VLOOKUP(D444,Cadastros!A:I,9,0),\"\")","v":""},{"$f":"IFERROR(VLOOKUP(D444,Cadastros!A:J,10,0),\"\")","v":""},{"$f":"IF(COUNTIF(Tabela66[id],D444)=0,\"\",COUNTIF(Tabela66[id],D444))","v":""},null,"",null,null,{"$f":"IFERROR(VLOOKUP(O444,Cadastros!A:B,2),\"\")","v":""},"",{"$f":"IFERROR(VLOOKUP(O444,Cadastros!A:E,5,0),\"\")","v":""},{"$f":"IFERROR(VLOOKUP(O444,Cadastros!A:F,6,0),\"\")","v":""},{"$f":"IFERROR(VLOOKUP(O444,Cadastros!A:I,9,0),\"\")","v":""},"","","",null,{"$f":"INDEX(Tabela.abordagens[],SMALL(IF(Tabela.abordagens[Mês]=$L$2,ROW(Tabela.abordagens[id])-2),ROW(A397)),1)","v":{"$error":"#NUM!"}},{"$f":"INDEX(Tabela.abordagens[],SMALL(IF(Tabela.abordagens[Mês]=$L$2,ROW(Tabela.abordagens[Idade])-2),ROW(A397)),6)","v":{"$error":"#NUM!"}},{"$f":"INDEX(Tabela.abordagens[],SMALL(IF(Tabela.abordagens[Mês]=$L$2,ROW(Tabela.abordagens[Idade])-2),ROW(A397)),4)","v":{"$error":"#NUM!"}},{"$f":"INDEX(Tabela.abordagens[],SMALL(IF(Tabela.abordagens[Mês]=$L$2,ROW(Tabela.abordagens[Idade])-2),ROW(A397)),5)","v":{"$error":"#NUM!"}}]
[null,{"$f":"INDEX(Tabela.frequencia[],SMALL(IF(Tabela.frequencia[Mês]=$L$2,ROW(Tabela.frequencia[id])-1),ROW(A398)),1)","v":{"$error":"#NUM!"}},{"$f":"INDEX(Tabela.frequencia[],SMALL(IF(Tabela.frequencia[Mês]=$L$2,ROW(Tabela.frequencia[id])-1),ROW(A398)),4)","v":{"$error":"#NUM!"}},null,{"$f":"IFERROR(VLOOKUP(D445,Tabela.cadastro[[ID]:[Nome]],2,0),\"\")","v":""},{"$f":"IFERROR(VLOOKUP(D445,Tabela66[#All],2,0),\"\")","v":""},{"$f":"IFERROR(VLOOKUP(D445,Tabela.cadastro[[ID]:[CP ou M]],5,0),\"\")","v":""},{"$f":"IFERROR(VLOOKUP(D445,Cadastros!A:F,6,0),\"\")","v":""},{"$f":"IFERROR(VLOOKUP(D445,Cadastros!A:I,9,0),\"\")","v":""},{"$f":"IFERROR(VLOOKUP(D445,Cadastros!A:J,10,0),\"\")","v":""},{"$f":"IF(COUNTIF(Tabela66[id],D445)=0,\"\",COUNTIF(Tabela66[id],D445))","v":""},null,"",null,null,{"$f":"IFERROR(VLOOKUP(O445,Cadastros!A:B,2),\"\")","v":""},"",{"$f":"IFERROR(VLOOKUP(O445,Cadastros!A:E,5,0),\"\")","v":""},{"$f":"IFERROR(VLOOKUP(O445,Cadastros!A:F,6,0),\"\")","v":""},{"$f":"IFERROR(VLOOKUP(O445,Cadastros!A:I,9,0),\"\")","v":""},"","","",null,{"$f":"INDEX(Tabela.abordagens[],SMALL(IF(Tabela.abordagens[Mês]=$L$2,ROW(Tabela.abordagens[id])-2),ROW(A398)),1)","v":{"$error":"#NUM!"}},{"$f":"INDEX(Tabela.abordagens[],SMALL(IF(Tabela.abordagens[Mês]=$L$2,ROW(Tabela.abordagens[Idade])-2),ROW(A398)),6)","v":{"$error":"#NUM!"}},{"$f":"INDEX(Tabela.abordagens[],SMALL(IF(Tabela.abordagens[Mês]=$L$2,ROW(Tabela.abordagens[Idade])-2),ROW(A398)),4)","v":{"$error":"#NUM!"}},{"$f":"INDEX(Tabela.abordagens[],SMALL(IF(Tabela.abordagens[Mês]=$L$2,ROW(Tabela.abordagens[Idade])-2),ROW(A398)),5)","v":{"$error":"#NUM!"}}]
[null,{"$f":"INDEX(Tabela.frequencia[],SMALL(IF(Tabela.frequencia[Mês]=$L$2,ROW(Tabela.frequencia[id])-1),ROW(A399)),1)","v":{"$error":"#NUM!"}},{"$f":"INDEX(Tabela.frequencia[],SMALL(IF(Tabela.frequencia[Mês]=$L$2,ROW(Tabela.frequencia[id])-1),ROW(A399)),4)","v":{"$error":"#NUM!"}},null,{"$f":"IFERROR(VLOOKUP(D446,Tabela.cadastro[[ID]:[Nome]],2,0),\"\")","v":""},{"$f":"IFERROR(VLOOKUP(D446,Tabela66[#All],2,0),\"\")","v":""},{"$f":"IFERROR(VLOOKUP(D446,Tabela.cadastro[[ID]:[CP ou M]],5,0),\"\")","v":""},{"$f":"IFERROR(VLOOKUP(D446,Cadastros!A:F,6,0),\"\")","v":""},{"$f":"IFERROR(VLOOKUP(D446,Cadastros!A:I,9,0),\"\")","v":""},{"$f":"IFERROR(VLOOKUP(D446,Cadastros!A:J,10,0),\"\")","v":""},{"$f":"IF(COUNTIF(Tabela66[id],D446)=0,\"\",COUNTIF(Tabela66[id],D446))","v":""},null,"",null,null,{"$f":"IFERROR(VLOOKUP(O446,Cadastros!A:B,2),\"\")","v":""},"",{"$f":"IFERROR(VLOOKUP(O446,Cadastros!A:E,5,0),\"\")","v":""},{"$f":"IFERROR(VLOOKUP(O446,Cadastros!A:F,6,0),\"\")","v":""},{"$f":"IFERROR(VLOOKUP(O446,Cadastros!A:I,9,0),\"\")","v":""},"","","",null,{"$f":"INDEX(Tabela.abordagens[],SMALL(IF(Tabela.abordagens[Mês]=$L$2,ROW(Tabela.abordagens[id])-2),ROW(A399)),1)","v":{"$error":"#NUM!"}},{"$f":"INDEX(Tabela.abordagens[],SMALL(IF(Tabela.abordagens[Mês]=$L$2,ROW(Tabela.abordagens[Idade])-2),ROW(A399)),6)","v":{"$error":"#NUM!"}},{"$f":"INDEX(Tabela.abordagens[],SMALL(IF(Tabela.abordagens[Mês]=$L$2,ROW(Tabela.abordagens[Idade])-2),ROW(A399)),4)","v":{"$error":"#NUM!"}},{"$f":"INDEX(Tabela.abordagens[],SMALL(IF(Tabela.abordagens[Mês]=$L$2,ROW(Tabela.abordagens[Idade])-2),ROW(A399)),5)","v":{"$error":"#NUM!"}}]
[null,{"$f":"INDEX(Tabela.frequencia[],SMALL(IF(Tabela.frequencia[Mês]=$L$2,ROW(Tabela.frequencia[id])-1),ROW(A400)),1)","v":{"$error":"#NUM!"}},{"$f":"INDEX(Tabela.frequencia[],SMALL(IF(Tabela.frequencia[Mês]=$L$2,ROW(Tabela.frequencia[id])-1),ROW(A400)),4)","v":{"$error":"#NUM!"}},null,{"$f":"IFERROR(VLOOKUP(D447,Tabela.cadastro[[ID]:[Nome]],2,0),\"\")","v":""},{"$f":"IFERROR(VLOOKUP(D447,Tabela66[#All],2,0),\"\")","v":""},{"$f":"IFERROR(VLOOKUP(D447,Tabela.cadastro[[ID]:[CP ou M]],5,0),\"\")","v":""},{"$f":"IFERROR(VLOOKUP(D447,Cadastros!A:F,6,0),\"\")","v":""},{"$f":"IFERROR(VLOOKUP(D447,Cadastros!A:I,9,0),\"\")","v":""},{"$f":"IFERROR(VLOOKUP(D447,Cadastros!A:J,10,0),\"\")","v":""},{"$f":"IF(COUNTIF(Tabela66[id],D447)=0,\"\",COUNTIF(Tabela66[id],D447))","v":""},null,"",null,null,{"$f":"IFERROR(VLOOKUP(O447,Cadastros!A:B,2),\"\")","v":""},"",{"$f":"IFERROR(VLOOKUP(O447,Cadastros!A:E,5,0),\"\")","v":""},{"$f":"IFERROR(VLOOKUP(O447,Cadastros!A:F,6,0),\"\")","v":""},{"$f":"IFERROR(VLOOKUP(O447,Cadastros!A:I,9,0),\"\")","v":""},"","","",null,{"$f":"INDEX(Tabela.abordagens[],SMALL(IF(Tabela.abordagens[Mês]=$L$2,ROW(Tabela.abordagens[id])-2),ROW(A400)),1)","v":{"$error":"#NUM!"}},{"$f":"INDEX(Tabela.abordagens[],SMALL(IF(Tabela.abordagens[Mês]=$L$2,ROW(Tabela.abordagens[Idade])-2),ROW(A400)),6)","v":{"$error":"#NUM!"}},{"$f":"INDEX(Tabela.abordagens[],SMALL(IF(Tabela.abordagens[Mês]=$L$2,ROW(Tabela.abordagens[Idade])-2),ROW(A400)),4)","v":{"$error":"#NUM!"}},{"$f":"INDEX(Tabela.abordagens[],SMALL(IF(Tabela.abordagens[Mês]=$L$2,ROW(Tabela.abordagens[Idade])-2),ROW(A400)),5)","v":{"$error":"#NUM!"}}]
[null,{"$f":"INDEX(Tabela.frequencia[],SMALL(IF(Tabela.frequencia[Mês]=$L$2,ROW(Tabela.frequencia[id])-1),ROW(A401)),1)","v":{"$error":"#NUM!"}},{"$f":"INDEX(Tabela.frequencia[],SMALL(IF(Tabela.frequencia[Mês]=$L$2,ROW(Tabela.frequencia[id])-1),ROW(A401)),4)","v":{"$error":"#NUM!"}},null,{"$f":"IFERROR(VLOOKUP(D448,Tabela.cadastro[[ID]:[Nome]],2,0),\"\")","v":""},{"$f":"IFERROR(VLOOKUP(D448,Tabela66[#All],2,0),\"\")","v":""},{"$f":"IFERROR(VLOOKUP(D448,Tabela.cadastro[[ID]:[CP ou M]],5,0),\"\")","v":""},{"$f":"IFERROR(VLOOKUP(D448,Cadastros!A:F,6,0),\"\")","v":""},{"$f":"IFERROR(VLOOKUP(D448,Cadastros!A:I,9,0),\"\")","v":""},{"$f":"IFERROR(VLOOKUP(D448,Cadastros!A:J,10,0),\"\")","v":""},{"$f":"IF(COUNTIF(Tabela66[id],D448)=0,\"\",COUNTIF(Tabela66[id],D448))","v":""},null,"",null,null,{"$f":"IFERROR(VLOOKUP(O448,Cadastros!A:B,2),\"\")","v":""},"",{"$f":"IFERROR(VLOOKUP(O448,Cadastros!A:E,5,0),\"\")","v":""},{"$f":"IFERROR(VLOOKUP(O448,Cadastros!A:F,6,0),\"\")","v":""},{"$f":"IFERROR(VLOOKUP(O448,Cadastros!A:I,9,0),\"\")","v":""},"","","",null,{"$f":"INDEX(Tabela.abordagens[],SMALL(IF(Tabela.abordagens[Mês]=$L$2,ROW(Tabela.abordagens[id])-2),ROW(A401)),1)","v":{"$error":"#NUM!"}},{"$f":"INDEX(Tabela.abordagens[],SMALL(IF(Tabela.abordagens[Mês]=$L$2,ROW(Tabela.abordagens[Idade])-2),ROW(A401)),6)","v":{"$error":"#NUM!"}},{"$f":"INDEX(Tabela.abordagens[],SMALL(IF(Tabela.abordagens[Mês]=$L$2,ROW(Tabela.abordagens[Idade])-2),ROW(A401)),4)","v":{"$error":"#NUM!"}},{"$f":"INDEX(Tabela.abordagens[],SMALL(IF(Tabela.abordagens[Mês]=$L$2,ROW(Tabela.abordagens[Idade])-2),ROW(A401)),5)","v":{"$error":"#NUM!"}}]
[null,{"$f":"INDEX(Tabela.frequencia[],SMALL(IF(Tabela.frequencia[Mês]=$L$2,ROW(Tabela.frequencia[id])-1),ROW(A402)),1)","v":{"$error":"#NUM!"}},{"$f":"INDEX(Tabela.frequencia[],SMALL(IF(Tabela.frequencia[Mês]=$L$2,ROW(Tabela.frequencia[id])-1),ROW(A402)),4)","v":{"$error":"#NUM!"}},null,{"$f":"IFERROR(VLOOKUP(D449,Tabela.cadastro[[ID]:[Nome]],2,0),\"\")","v":""},{"$f":"IFERROR(VLOOKUP(D449,Tabela66[#All],2,0),\"\")","v":""},{"$f":"IFERROR(VLOOKUP(D449,Tabela.cadastro[[ID]:[CP ou M]],5,0),\"\")","v":""},{"$f":"IFERROR(VLOOKUP(D449,Cadastros!A:F,6,0),\"\")","v":""},{"$f":"IFERROR(VLOOKUP(D449,Cadastros!A:I,9,0),\"\")","v":""},{"$f":"IFERROR(VLOOKUP(D449,Cadastros!A:J,10,0),\"\")","v":""},{"$f":"IF(COUNTIF(Tabela66[id],D449)=0,\"\",COUNTIF(Tabela66[id],D449))","v":""},null,"",null,null,{"$f":"IFERROR(VLOOKUP(O449,Cadastros!A:B,2),\"\")","v":""},"",{"$f":"IFERROR(VLOOKUP(O449,Cadastros!A:E,5,0),\"\")","v":""},{"$f":"IFERROR(VLOOKUP(O449,Cadastros!A:F,6,0),\"\")","v":""},{"$f":"IFERROR(VLOOKUP(O449,Cadastros!A:I,9,0),\"\")","v":""},"","","",null,{"$f":"INDEX(Tabela.abordagens[],SMALL(IF(Tabela.abordagens[Mês]=$L$2,ROW(Tabela.abordagens[id])-2),ROW(A402)),1)","v":{"$error":"#NUM!"}},{"$f":"INDEX(Tabela.abordagens[],SMALL(IF(Tabela.abordagens[Mês]=$L$2,ROW(Tabela.abordagens[Idade])-2),ROW(A402)),6)","v":{"$error":"#NUM!"}},{"$f":"INDEX(Tabela.abordagens[],SMALL(IF(Tabela.abordagens[Mês]=$L$2,ROW(Tabela.abordagens[Idade])-2),ROW(A402)),4)","v":{"$error":"#NUM!"}},{"$f":"INDEX(Tabela.abordagens[],SMALL(IF(Tabela.abordagens[Mês]=$L$2,ROW(Tabela.abordagens[Idade])-2),ROW(A402)),5)","v":{"$error":"#NUM!"}}]
[null,{"$f":"INDEX(Tabela.frequencia[],SMALL(IF(Tabela.frequencia[Mês]=$L$2,ROW(Tabela.frequencia[id])-1),ROW(A403)),1)","v":{"$error":"#NUM!"}},{"$f":"INDEX(Tabela.frequencia[],SMALL(IF(Tabela.frequencia[Mês]=$L$2,ROW(Tabela.frequencia[id])-1),ROW(A403)),4)","v":{"$error":"#NUM!"}},null,{"$f":"IFERROR(VLOOKUP(D450,Tabela.cadastro[[ID]:[Nome]],2,0),\"\")","v":""},{"$f":"IFERROR(VLOOKUP(D450,Tabela66[#All],2,0),\"\")","v":""},{"$f":"IFERROR(VLOOKUP(D450,Tabela.cadastro[[ID]:[CP ou M]],5,0),\"\")","v":""},{"$f":"IFERROR(VLOOKUP(D450,Cadastros!A:F,6,0),\"\")","v":""},{"$f":"IFERROR(VLOOKUP(D450,Cadastros!A:I,9,0),\"\")","v":""},{"$f":"IFERROR(VLOOKUP(D450,Cadastros!A:J,10,0),\"\")","v":""},{"$f":"IF(COUNTIF(Tabela66[id],D450)=0,\"\",COUNTIF(Tabela66[id],D450))","v":""},null,"",null,null,{"$f":"IFERROR(VLOOKUP(O450,Cadastros!A:B,2),\"\")","v":""},"",{"$f":"IFERROR(VLOOKUP(O450,Cadastros!A:E,5,0),\"\")","v":""},{"$f":"IFERROR(VLOOKUP(O450,Cadastros!A:F,6,0),\"\")","v":""},{"$f":"IFERROR(VLOOKUP(O450,Cadastros!A:I,9,0),\"\")","v":""},"","","",null,{"$f":"INDEX(Tabela.abordagens[],SMALL(IF(Tabela.abordagens[Mês]=$L$2,ROW(Tabela.abordagens[id])-2),ROW(A403)),1)","v":{"$error":"#NUM!"}},{"$f":"INDEX(Tabela.abordagens[],SMALL(IF(Tabela.abordagens[Mês]=$L$2,ROW(Tabela.abordagens[Idade])-2),ROW(A403)),6)","v":{"$error":"#NUM!"}},{"$f":"INDEX(Tabela.abordagens[],SMALL(IF(Tabela.abordagens[Mês]=$L$2,ROW(Tabela.abordagens[Idade])-2),ROW(A403)),4)","v":{"$error":"#NUM!"}},{"$f":"INDEX(Tabela.abordagens[],SMALL(IF(Tabela.abordagens[Mês]=$L$2,ROW(Tabela.abordagens[Idade])-2),ROW(A403)),5)","v":{"$error":"#NUM!"}}]
[null,{"$f":"INDEX(Tabela.frequencia[],SMALL(IF(Tabela.frequencia[Mês]=$L$2,ROW(Tabela.frequencia[id])-1),ROW(A404)),1)","v":{"$error":"#NUM!"}},{"$f":"INDEX(Tabela.frequencia[],SMALL(IF(Tabela.frequencia[Mês]=$L$2,ROW(Tabela.frequencia[id])-1),ROW(A404)),4)","v":{"$error":"#NUM!"}},null,{"$f":"IFERROR(VLOOKUP(D451,Tabela.cadastro[[ID]:[Nome]],2,0),\"\")","v":""},{"$f":"IFERROR(VLOOKUP(D451,Tabela66[#All],2,0),\"\")","v":""},{"$f":"IFERROR(VLOOKUP(D451,Tabela.cadastro[[ID]:[CP ou M]],5,0),\"\")","v":""},{"$f":"IFERROR(VLOOKUP(D451,Cadastros!A:F,6,0),\"\")","v":""},{"$f":"IFERROR(VLOOKUP(D451,Cadastros!A:I,9,0),\"\")","v":""},{"$f":"IFERROR(VLOOKUP(D451,Cadastros!A:J,10,0),\"\")","v":""},{"$f":"IF(COUNTIF(Tabela66[id],D451)=0,\"\",COUNTIF(Tabela66[id],D451))","v":""},null,"",null,null,{"$f":"IFERROR(VLOOKUP(O451,Cadastros!A:B,2),\"\")","v":""},"",{"$f":"IFERROR(VLOOKUP(O451,Cadastros!A:E,5,0),\"\")","v":""},{"$f":"IFERROR(VLOOKUP(O451,Cadastros!A:F,6,0),\"\")","v":""},{"$f":"IFERROR(VLOOKUP(O451,Cadastros!A:I,9,0),\"\")","v":""},"","","",null,{"$f":"INDEX(Tabela.abordagens[],SMALL(IF(Tabela.abordagens[Mês]=$L$2,ROW(Tabela.abordagens[id])-2),ROW(A404)),1)","v":{"$error":"#NUM!"}},{"$f":"INDEX(Tabela.abordagens[],SMALL(IF(Tabela.abordagens[Mês]=$L$2,ROW(Tabela.abordagens[Idade])-2),ROW(A404)),6)","v":{"$error":"#NUM!"}},{"$f":"INDEX(Tabela.abordagens[],SMALL(IF(Tabela.abordagens[Mês]=$L$2,ROW(Tabela.abordagens[Idade])-2),ROW(A404)),4)","v":{"$error":"#NUM!"}},{"$f":"INDEX(Tabela.abordagens[],SMALL(IF(Tabela.abordagens[Mês]=$L$2,ROW(Tabela.abordagens[Idade])-2),ROW(A404)),5)","v":{"$error":"#NUM!"}}]
[null,{"$f":"INDEX(Tabela.frequencia[],SMALL(IF(Tabela.frequencia[Mês]=$L$2,ROW(Tabela.frequencia[id])-1),ROW(A405)),1)","v":{"$error":"#NUM!"}},{"$f":"INDEX(Tabela.frequencia[],SMALL(IF(Tabela.frequencia[Mês]=$L$2,ROW(Tabela.frequencia[id])-1),ROW(A405)),4)","v":{"$error":"#NUM!"}},null,{"$f":"IFERROR(VLOOKUP(D452,Tabela.cadastro[[ID]:[Nome]],2,0),\"\")","v":""},{"$f":"IFERROR(VLOOKUP(D452,Tabela66[#All],2,0),\"\")","v":""},{"$f":"IFERROR(VLOOKUP(D452,Tabela.cadastro[[ID]:[CP ou M]],5,0),\"\")","v":""},{"$f":"IFERROR(VLOOKUP(D452,Cadastros!A:F,6,0),\"\")","v":""},{"$f":"IFERROR(VLOOKUP(D452,Cadastros!A:I,9,0),\"\")","v":""},{"$f":"IFERROR(VLOOKUP(D452,Cadastros!A:J,10,0),\"\")","v":""},{"$f":"IF(COUNTIF(Tabela66[id],D452)=0,\"\",COUNTIF(Tabela66[id],D452))","v":""},null,"",null,null,{"$f":"IFERROR(VLOOKUP(O452,Cadastros!A:B,2),\"\")","v":""},"",{"$f":"IFERROR(VLOOKUP(O452,Cadastros!A:E,5,0),\"\")","v":""},{"$f":"IFERROR(VLOOKUP(O452,Cadastros!A:F,6,0),\"\")","v":""},{"$f":"IFERROR(VLOOKUP(O452,Cadastros!A:I,9,0),\"\")","v":""},"","","",null,{"$f":"INDEX(Tabela.abordagens[],SMALL(IF(Tabela.abordagens[Mês]=$L$2,ROW(Tabela.abordagens[id])-2),ROW(A405)),1)","v":{"$error":"#NUM!"}},{"$f":"INDEX(Tabela.abordagens[],SMALL(IF(Tabela.abordagens[Mês]=$L$2,ROW(Tabela.abordagens[Idade])-2),ROW(A405)),6)","v":{"$error":"#NUM!"}},{"$f":"INDEX(Tabela.abordagens[],SMALL(IF(Tabela.abordagens[Mês]=$L$2,ROW(Tabela.abordagens[Idade])-2),ROW(A405)),4)","v":{"$error":"#NUM!"}},{"$f":"INDEX(Tabela.abordagens[],SMALL(IF(Tabela.abordagens[Mês]=$L$2,ROW(Tabela.abordagens[Idade])-2),ROW(A405)),5)","v":{"$error":"#NUM!"}}]
[null,{"$f":"INDEX(Tabela.frequencia[],SMALL(IF(Tabela.frequencia[Mês]=$L$2,ROW(Tabela.frequencia[id])-1),ROW(A406)),1)","v":{"$error":"#NUM!"}},{"$f":"INDEX(Tabela.frequencia[],SMALL(IF(Tabela.frequencia[Mês]=$L$2,ROW(Tabela.frequencia[id])-1),ROW(A406)),4)","v":{"$error":"#NUM!"}},null,{"$f":"IFERROR(VLOOKUP(D453,Tabela.cadastro[[ID]:[Nome]],2,0),\"\")","v":""},{"$f":"IFERROR(VLOOKUP(D453,Tabela66[#All],2,0),\"\")","v":""},{"$f":"IFERROR(VLOOKUP(D453,Tabela.cadastro[[ID]:[CP ou M]],5,0),\"\")","v":""},{"$f":"IFERROR(VLOOKUP(D453,Cadastros!A:F,6,0),\"\")","v":""},{"$f":"IFERROR(VLOOKUP(D453,Cadastros!A:I,9,0),\"\")","v":""},{"$f":"IFERROR(VLOOKUP(D453,Cadastros!A:J,10,0),\"\")","v":""},{"$f":"IF(COUNTIF(Tabela66[id],D453)=0,\"\",COUNTIF(Tabela66[id],D453))","v":""},null,"",null,null,{"$f":"IFERROR(VLOOKUP(O453,Cadastros!A:B,2),\"\")","v":""},"",{"$f":"IFERROR(VLOOKUP(O453,Cadastros!A:E,5,0),\"\")","v":""},{"$f":"IFERROR(VLOOKUP(O453,Cadastros!A:F,6,0),\"\")","v":""},{"$f":"IFERROR(VLOOKUP(O453,Cadastros!A:I,9,0),\"\")","v":""},"","","",null,{"$f":"INDEX(Tabela.abordagens[],SMALL(IF(Tabela.abordagens[Mês]=$L$2,ROW(Tabela.abordagens[id])-2),ROW(A406)),1)","v":{"$error":"#NUM!"}},{"$f":"INDEX(Tabela.abordagens[],SMALL(IF(Tabela.abordagens[Mês]=$L$2,ROW(Tabela.abordagens[Idade])-2),ROW(A406)),6)","v":{"$error":"#NUM!"}},{"$f":"INDEX(Tabela.abordagens[],SMALL(IF(Tabela.abordagens[Mês]=$L$2,ROW(Tabela.abordagens[Idade])-2),ROW(A406)),4)","v":{"$error":"#NUM!"}},{"$f":"INDEX(Tabela.abordagens[],SMALL(IF(Tabela.abordagens[Mês]=$L$2,ROW(Tabela.abordagens[Idade])-2),ROW(A406)),5)","v":{"$error":"#NUM!"}}]
[null,{"$f":"INDEX(Tabela.frequencia[],SMALL(IF(Tabela.frequencia[Mês]=$L$2,ROW(Tabela.frequencia[id])-1),ROW(A407)),1)","v":{"$error":"#NUM!"}},{"$f":"INDEX(Tabela.frequencia[],SMALL(IF(Tabela.frequencia[Mês]=$L$2,ROW(Tabela.frequencia[id])-1),ROW(A407)),4)","v":{"$error":"#NUM!"}},null,{"$f":"IFERROR(VLOOKUP(D454,Tabela.cadastro[[ID]:[Nome]],2,0),\"\")","v":""},{"$f":"IFERROR(VLOOKUP(D454,Tabela66[#All],2,0),\"\")","v":""},{"$f":"IFERROR(VLOOKUP(D454,Tabela.cadastro[[ID]:[CP ou M]],5,0),\"\")","v":""},{"$f":"IFERROR(VLOOKUP(D454,Cadastros!A:F,6,0),\"\")","v":""},{"$f":"IFERROR(VLOOKUP(D454,Cadastros!A:I,9,0),\"\")","v":""},{"$f":"IFERROR(VLOOKUP(D454,Cadastros!A:J,10,0),\"\")","v":""},{"$f":"IF(COUNTIF(Tabela66[id],D454)=0,\"\",COUNTIF(Tabela66[id],D454))","v":""},null,"",null,null,{"$f":"IFERROR(VLOOKUP(O454,Cadastros!A:B,2),\"\")","v":""},"",{"$f":"IFERROR(VLOOKUP(O454,Cadastros!A:E,5,0),\"\")","v":""},{"$f":"IFERROR(VLOOKUP(O454,Cadastros!A:F,6,0),\"\")","v":""},{"$f":"IFERROR(VLOOKUP(O454,Cadastros!A:I,9,0),\"\")","v":""},"","","",null,{"$f":"INDEX(Tabela.abordagens[],SMALL(IF(Tabela.abordagens[Mês]=$L$2,ROW(Tabela.abordagens[id])-2),ROW(A407)),1)","v":{"$error":"#NUM!"}},{"$f":"INDEX(Tabela.abordagens[],SMALL(IF(Tabela.abordagens[Mês]=$L$2,ROW(Tabela.abordagens[Idade])-2),ROW(A407)),6)","v":{"$error":"#NUM!"}},{"$f":"INDEX(Tabela.abordagens[],SMALL(IF(Tabela.abordagens[Mês]=$L$2,ROW(Tabela.abordagens[Idade])-2),ROW(A407)),4)","v":{"$error":"#NUM!"}},{"$f":"INDEX(Tabela.abordagens[],SMALL(IF(Tabela.abordagens[Mês]=$L$2,ROW(Tabela.abordagens[Idade])-2),ROW(A407)),5)","v":{"$error":"#NUM!"}}]
[null,{"$f":"INDEX(Tabela.frequencia[],SMALL(IF(Tabela.frequencia[Mês]=$L$2,ROW(Tabela.frequencia[id])-1),ROW(A408)),1)","v":{"$error":"#NUM!"}},{"$f":"INDEX(Tabela.frequencia[],SMALL(IF(Tabela.frequencia[Mês]=$L$2,ROW(Tabela.frequencia[id])-1),ROW(A408)),4)","v":{"$error":"#NUM!"}},null,{"$f":"IFERROR(VLOOKUP(D455,Tabela.cadastro[[ID]:[Nome]],2,0),\"\")","v":""},{"$f":"IFERROR(VLOOKUP(D455,Tabela66[#All],2,0),\"\")","v":""},{"$f":"IFERROR(VLOOKUP(D455,Tabela.cadastro[[ID]:[CP ou M]],5,0),\"\")","v":""},{"$f":"IFERROR(VLOOKUP(D455,Cadastros!A:F,6,0),\"\")","v":""},{"$f":"IFERROR(VLOOKUP(D455,Cadastros!A:I,9,0),\"\")","v":""},{"$f":"IFERROR(VLOOKUP(D455,Cadastros!A:J,10,0),\"\")","v":""},{"$f":"IF(COUNTIF(Tabela66[id],D455)=0,\"\",COUNTIF(Tabela66[id],D455))","v":""},null,"",null,null,{"$f":"IFERROR(VLOOKUP(O455,Cadastros!A:B,2),\"\")","v":""},"",{"$f":"IFERROR(VLOOKUP(O455,Cadastros!A:E,5,0),\"\")","v":""},{"$f":"IFERROR(VLOOKUP(O455,Cadastros!A:F,6,0),\"\")","v":""},{"$f":"IFERROR(VLOOKUP(O455,Cadastros!A:I,9,0),\"\")","v":""},"","","",null,{"$f":"INDEX(Tabela.abordagens[],SMALL(IF(Tabela.abordagens[Mês]=$L$2,ROW(Tabela.abordagens[id])-2),ROW(A408)),1)","v":{"$error":"#NUM!"}},{"$f":"INDEX(Tabela.abordagens[],SMALL(IF(Tabela.abordagens[Mês]=$L$2,ROW(Tabela.abordagens[Idade])-2),ROW(A408)),6)","v":{"$error":"#NUM!"}},{"$f":"INDEX(Tabela.abordagens[],SMALL(IF(Tabela.abordagens[Mês]=$L$2,ROW(Tabela.abordagens[Idade])-2),ROW(A408)),4)","v":{"$error":"#NUM!"}},{"$f":"INDEX(Tabela.abordagens[],SMALL(IF(Tabela.abordagens[Mês]=$L$2,ROW(Tabela.abordagens[Idade])-2),ROW(A408)),5)","v":{"$error":"#NUM!"}}]
[null,{"$f":"INDEX(Tabela.frequencia[],SMALL(IF(Tabela.frequencia[Mês]=$L$2,ROW(Tabela.frequencia[id])-1),ROW(A409)),1)","v":{"$error":"#NUM!"}},{"$f":"INDEX(Tabela.frequencia[],SMALL(IF(Tabela.frequencia[Mês]=$L$2,ROW(Tabela.frequencia[id])-1),ROW(A409)),4)","v":{"$error":"#NUM!"}},null,{"$f":"IFERROR(VLOOKUP(D456,Tabela.cadastro[[ID]:[Nome]],2,0),\"\")","v":""},{"$f":"IFERROR(VLOOKUP(D456,Tabela66[#All],2,0),\"\")","v":""},{"$f":"IFERROR(VLOOKUP(D456,Tabela.cadastro[[ID]:[CP ou M]],5,0),\"\")","v":""},{"$f":"IFERROR(VLOOKUP(D456,Cadastros!A:F,6,0),\"\")","v":""},{"$f":"IFERROR(VLOOKUP(D456,Cadastros!A:I,9,0),\"\")","v":""},{"$f":"IFERROR(VLOOKUP(D456,Cadastros!A:J,10,0),\"\")","v":""},{"$f":"IF(COUNTIF(Tabela66[id],D456)=0,\"\",COUNTIF(Tabela66[id],D456))","v":""},null,"",null,null,{"$f":"IFERROR(VLOOKUP(O456,Cadastros!A:B,2),\"\")","v":""},"",{"$f":"IFERROR(VLOOKUP(O456,Cadastros!A:E,5,0),\"\")","v":""},{"$f":"IFERROR(VLOOKUP(O456,Cadastros!A:F,6,0),\"\")","v":""},{"$f":"IFERROR(VLOOKUP(O456,Cadastros!A:I,9,0),\"\")","v":""},"","","",null,{"$f":"INDEX(Tabela.abordagens[],SMALL(IF(Tabela.abordagens[Mês]=$L$2,ROW(Tabela.abordagens[id])-2),ROW(A409)),1)","v":{"$error":"#NUM!"}},{"$f":"INDEX(Tabela.abordagens[],SMALL(IF(Tabela.abordagens[Mês]=$L$2,ROW(Tabela.abordagens[Idade])-2),ROW(A409)),6)","v":{"$error":"#NUM!"}},{"$f":"INDEX(Tabela.abordagens[],SMALL(IF(Tabela.abordagens[Mês]=$L$2,ROW(Tabela.abordagens[Idade])-2),ROW(A409)),4)","v":{"$error":"#NUM!"}},{"$f":"INDEX(Tabela.abordagens[],SMALL(IF(Tabela.abordagens[Mês]=$L$2,ROW(Tabela.abordagens[Idade])-2),ROW(A409)),5)","v":{"$error":"#NUM!"}}]
[null,{"$f":"INDEX(Tabela.frequencia[],SMALL(IF(Tabela.frequencia[Mês]=$L$2,ROW(Tabela.frequencia[id])-1),ROW(A410)),1)","v":{"$error":"#NUM!"}},{"$f":"INDEX(Tabela.frequencia[],SMALL(IF(Tabela.frequencia[Mês]=$L$2,ROW(Tabela.frequencia[id])-1),ROW(A410)),4)","v":{"$error":"#NUM!"}},null,{"$f":"IFERROR(VLOOKUP(D457,Tabela.cadastro[[ID]:[Nome]],2,0),\"\")","v":""},{"$f":"IFERROR(VLOOKUP(D457,Tabela66[#All],2,0),\"\")","v":""},{"$f":"IFERROR(VLOOKUP(D457,Tabela.cadastro[[ID]:[CP ou M]],5,0),\"\")","v":""},{"$f":"IFERROR(VLOOKUP(D457,Cadastros!A:F,6,0),\"\")","v":""},{"$f":"IFERROR(VLOOKUP(D457,Cadastros!A:I,9,0),\"\")","v":""},{"$f":"IFERROR(VLOOKUP(D457,Cadastros!A:J,10,0),\"\")","v":""},{"$f":"IF(COUNTIF(Tabela66[id],D457)=0,\"\",COUNTIF(Tabela66[id],D457))","v":""},null,"",null,null,{"$f":"IFERROR(VLOOKUP(O457,Cadastros!A:B,2),\"\")","v":""},"",{"$f":"IFERROR(VLOOKUP(O457,Cadastros!A:E,5,0),\"\")","v":""},{"$f":"IFERROR(VLOOKUP(O457,Cadastros!A:F,6,0),\"\")","v":""},{"$f":"IFERROR(VLOOKUP(O457,Cadastros!A:I,9,0),\"\")","v":""},"","","",null,{"$f":"INDEX(Tabela.abordagens[],SMALL(IF(Tabela.abordagens[Mês]=$L$2,ROW(Tabela.abordagens[id])-2),ROW(A410)),1)","v":{"$error":"#NUM!"}},{"$f":"INDEX(Tabela.abordagens[],SMALL(IF(Tabela.abordagens[Mês]=$L$2,ROW(Tabela.abordagens[Idade])-2),ROW(A410)),6)","v":{"$error":"#NUM!"}},{"$f":"INDEX(Tabela.abordagens[],SMALL(IF(Tabela.abordagens[Mês]=$L$2,ROW(Tabela.abordagens[Idade])-2),ROW(A410)),4)","v":{"$error":"#NUM!"}},{"$f":"INDEX(Tabela.abordagens[],SMALL(IF(Tabela.abordagens[Mês]=$L$2,ROW(Tabela.abordagens[Idade])-2),ROW(A410)),5)","v":{"$error":"#NUM!"}}]
[null,{"$f":"INDEX(Tabela.frequencia[],SMALL(IF(Tabela.frequencia[Mês]=$L$2,ROW(Tabela.frequencia[id])-1),ROW(A411)),1)","v":{"$error":"#NUM!"}},{"$f":"INDEX(Tabela.frequencia[],SMALL(IF(Tabela.frequencia[Mês]=$L$2,ROW(Tabela.frequencia[id])-1),ROW(A411)),4)","v":{"$error":"#NUM!"}},null,{"$f":"IFERROR(VLOOKUP(D458,Tabela.cadastro[[ID]:[Nome]],2,0),\"\")","v":""},{"$f":"IFERROR(VLOOKUP(D458,Tabela66[#All],2,0),\"\")","v":""},{"$f":"IFERROR(VLOOKUP(D458,Tabela.cadastro[[ID]:[CP ou M]],5,0),\"\")","v":""},{"$f":"IFERROR(VLOOKUP(D458,Cadastros!A:F,6,0),\"\")","v":""},{"$f":"IFERROR(VLOOKUP(D458,Cadastros!A:I,9,0),\"\")","v":""},{"$f":"IFERROR(VLOOKUP(D458,Cadastros!A:J,10,0),\"\")","v":""},{"$f":"IF(COUNTIF(Tabela66[id],D458)=0,\"\",COUNTIF(Tabela66[id],D458))","v":""},null,"",null,null,{"$f":"IFERROR(VLOOKUP(O458,Cadastros!A:B,2),\"\")","v":""},"",{"$f":"IFERROR(VLOOKUP(O458,Cadastros!A:E,5,0),\"\")","v":""},{"$f":"IFERROR(VLOOKUP(O458,Cadastros!A:F,6,0),\"\")","v":""},{"$f":"IFERROR(VLOOKUP(O458,Cadastros!A:I,9,0),\"\")","v":""},"","","",null,{"$f":"INDEX(Tabela.abordagens[],SMALL(IF(Tabela.abordagens[Mês]=$L$2,ROW(Tabela.abordagens[id])-2),ROW(A411)),1)","v":{"$error":"#NUM!"}},{"$f":"INDEX(Tabela.abordagens[],SMALL(IF(Tabela.abordagens[Mês]=$L$2,ROW(Tabela.abordagens[Idade])-2),ROW(A411)),6)","v":{"$error":"#NUM!"}},{"$f":"INDEX(Tabela.abordagens[],SMALL(IF(Tabela.abordagens[Mês]=$L$2,ROW(Tabela.abordagens[Idade])-2),ROW(A411)),4)","v":{"$error":"#NUM!"}},{"$f":"INDEX(Tabela.abordagens[],SMALL(IF(Tabela.abordagens[Mês]=$L$2,ROW(Tabela.abordagens[Idade])-2),ROW(A411)),5)","v":{"$error":"#NUM!"}}]
[null,{"$f":"INDEX(Tabela.frequencia[],SMALL(IF(Tabela.frequencia[Mês]=$L$2,ROW(Tabela.frequencia[id])-1),ROW(A412)),1)","v":{"$error":"#NUM!"}},{"$f":"INDEX(Tabela.frequencia[],SMALL(IF(Tabela.frequencia[Mês]=$L$2,ROW(Tabela.frequencia[id])-1),ROW(A412)),4)","v":{"$error":"#NUM!"}},null,{"$f":"IFERROR(VLOOKUP(D459,Tabela.cadastro[[ID]:[Nome]],2,0),\"\")","v":""},{"$f":"IFERROR(VLOOKUP(D459,Tabela66[#All],2,0),\"\")","v":""},{"$f":"IFERROR(VLOOKUP(D459,Tabela.cadastro[[ID]:[CP ou M]],5,0),\"\")","v":""},{"$f":"IFERROR(VLOOKUP(D459,Cadastros!A:F,6,0),\"\")","v":""},{"$f":"IFERROR(VLOOKUP(D459,Cadastros!A:I,9,0),\"\")","v":""},{"$f":"IFERROR(VLOOKUP(D459,Cadastros!A:J,10,0),\"\")","v":""},{"$f":"IF(COUNTIF(Tabela66[id],D459)=0,\"\",COUNTIF(Tabela66[id],D459))","v":""},null,"",null,null,{"$f":"IFERROR(VLOOKUP(O459,Cadastros!A:B,2),\"\")","v":""},"",{"$f":"IFERROR(VLOOKUP(O459,Cadastros!A:E,5,0),\"\")","v":""},{"$f":"IFERROR(VLOOKUP(O459,Cadastros!A:F,6,0),\"\")","v":""},{"$f":"IFERROR(VLOOKUP(O459,Cadastros!A:I,9,0),\"\")","v":""},"","","",null,{"$f":"INDEX(Tabela.abordagens[],SMALL(IF(Tabela.abordagens[Mês]=$L$2,ROW(Tabela.abordagens[id])-2),ROW(A412)),1)","v":{"$error":"#NUM!"}},{"$f":"INDEX(Tabela.abordagens[],SMALL(IF(Tabela.abordagens[Mês]=$L$2,ROW(Tabela.abordagens[Idade])-2),ROW(A412)),6)","v":{"$error":"#NUM!"}},{"$f":"INDEX(Tabela.abordagens[],SMALL(IF(Tabela.abordagens[Mês]=$L$2,ROW(Tabela.abordagens[Idade])-2),ROW(A412)),4)","v":{"$error":"#NUM!"}},{"$f":"INDEX(Tabela.abordagens[],SMALL(IF(Tabela.abordagens[Mês]=$L$2,ROW(Tabela.abordagens[Idade])-2),ROW(A412)),5)","v":{"$error":"#NUM!"}}]
[null,{"$f":"INDEX(Tabela.frequencia[],SMALL(IF(Tabela.frequencia[Mês]=$L$2,ROW(Tabela.frequencia[id])-1),ROW(A413)),1)","v":{"$error":"#NUM!"}},{"$f":"INDEX(Tabela.frequencia[],SMALL(IF(Tabela.frequencia[Mês]=$L$2,ROW(Tabela.frequencia[id])-1),ROW(A413)),4)","v":{"$error":"#NUM!"}},null,{"$f":"IFERROR(VLOOKUP(D460,Tabela.cadastro[[ID]:[Nome]],2,0),\"\")","v":""},{"$f":"IFERROR(VLOOKUP(D460,Tabela66[#All],2,0),\"\")","v":""},{"$f":"IFERROR(VLOOKUP(D460,Tabela.cadastro[[ID]:[CP ou M]],5,0),\"\")","v":""},{"$f":"IFERROR(VLOOKUP(D460,Cadastros!A:F,6,0),\"\")","v":""},{"$f":"IFERROR(VLOOKUP(D460,Cadastros!A:I,9,0),\"\")","v":""},{"$f":"IFERROR(VLOOKUP(D460,Cadastros!A:J,10,0),\"\")","v":""},{"$f":"IF(COUNTIF(Tabela66[id],D460)=0,\"\",COUNTIF(Tabela66[id],D460))","v":""},null,"",null,null,{"$f":"IFERROR(VLOOKUP(O460,Cadastros!A:B,2),\"\")","v":""},"",{"$f":"IFERROR(VLOOKUP(O460,Cadastros!A:E,5,0),\"\")","v":""},{"$f":"IFERROR(VLOOKUP(O460,Cadastros!A:F,6,0),\"\")","v":""},{"$f":"IFERROR(VLOOKUP(O460,Cadastros!A:I,9,0),\"\")","v":""},"","","",null,{"$f":"INDEX(Tabela.abordagens[],SMALL(IF(Tabela.abordagens[Mês]=$L$2,ROW(Tabela.abordagens[id])-2),ROW(A413)),1)","v":{"$error":"#NUM!"}},{"$f":"INDEX(Tabela.abordagens[],SMALL(IF(Tabela.abordagens[Mês]=$L$2,ROW(Tabela.abordagens[Idade])-2),ROW(A413)),6)","v":{"$error":"#NUM!"}},{"$f":"INDEX(Tabela.abordagens[],SMALL(IF(Tabela.abordagens[Mês]=$L$2,ROW(Tabela.abordagens[Idade])-2),ROW(A413)),4)","v":{"$error":"#NUM!"}},{"$f":"INDEX(Tabela.abordagens[],SMALL(IF(Tabela.abordagens[Mês]=$L$2,ROW(Tabela.abordagens[Idade])-2),ROW(A413)),5)","v":{"$error":"#NUM!"}}]
[null,{"$f":"INDEX(Tabela.frequencia[],SMALL(IF(Tabela.frequencia[Mês]=$L$2,ROW(Tabela.frequencia[id])-1),ROW(A414)),1)","v":{"$error":"#NUM!"}},{"$f":"INDEX(Tabela.frequencia[],SMALL(IF(Tabela.frequencia[Mês]=$L$2,ROW(Tabela.frequencia[id])-1),ROW(A414)),4)","v":{"$error":"#NUM!"}},null,{"$f":"IFERROR(VLOOKUP(D461,Tabela.cadastro[[ID]:[Nome]],2,0),\"\")","v":""},{"$f":"IFERROR(VLOOKUP(D461,Tabela66[#All],2,0),\"\")","v":""},{"$f":"IFERROR(VLOOKUP(D461,Tabela.cadastro[[ID]:[CP ou M]],5,0),\"\")","v":""},{"$f":"IFERROR(VLOOKUP(D461,Cadastros!A:F,6,0),\"\")","v":""},{"$f":"IFERROR(VLOOKUP(D461,Cadastros!A:I,9,0),\"\")","v":""},{"$f":"IFERROR(VLOOKUP(D461,Cadastros!A:J,10,0),\"\")","v":""},{"$f":"IF(COUNTIF(Tabela66[id],D461)=0,\"\",COUNTIF(Tabela66[id],D461))","v":""},null,"",null,null,{"$f":"IFERROR(VLOOKUP(O461,Cadastros!A:B,2),\"\")","v":""},"",{"$f":"IFERROR(VLOOKUP(O461,Cadastros!A:E,5,0),\"\")","v":""},{"$f":"IFERROR(VLOOKUP(O461,Cadastros!A:F,6,0),\"\")","v":""},{"$f":"IFERROR(VLOOKUP(O461,Cadastros!A:I,9,0),\"\")","v":""},"","","",null,{"$f":"INDEX(Tabela.abordagens[],SMALL(IF(Tabela.abordagens[Mês]=$L$2,ROW(Tabela.abordagens[id])-2),ROW(A414)),1)","v":{"$error":"#NUM!"}},{"$f":"INDEX(Tabela.abordagens[],SMALL(IF(Tabela.abordagens[Mês]=$L$2,ROW(Tabela.abordagens[Idade])-2),ROW(A414)),6)","v":{"$error":"#NUM!"}},{"$f":"INDEX(Tabela.abordagens[],SMALL(IF(Tabela.abordagens[Mês]=$L$2,ROW(Tabela.abordagens[Idade])-2),ROW(A414)),4)","v":{"$error":"#NUM!"}},{"$f":"INDEX(Tabela.abordagens[],SMALL(IF(Tabela.abordagens[Mês]=$L$2,ROW(Tabela.abordagens[Idade])-2),ROW(A414)),5)","v":{"$error":"#NUM!"}}]
[null,{"$f":"INDEX(Tabela.frequencia[],SMALL(IF(Tabela.frequencia[Mês]=$L$2,ROW(Tabela.frequencia[id])-1),ROW(A415)),1)","v":{"$error":"#NUM!"}},{"$f":"INDEX(Tabela.frequencia[],SMALL(IF(Tabela.frequencia[Mês]=$L$2,ROW(Tabela.frequencia[id])-1),ROW(A415)),4)","v":{"$error":"#NUM!"}},null,{"$f":"IFERROR(VLOOKUP(D462,Tabela.cadastro[[ID]:[Nome]],2,0),\"\")","v":""},{"$f":"IFERROR(VLOOKUP(D462,Tabela66[#All],2,0),\"\")","v":""},{"$f":"IFERROR(VLOOKUP(D462,Tabela.cadastro[[ID]:[CP ou M]],5,0),\"\")","v":""},{"$f":"IFERROR(VLOOKUP(D462,Cadastros!A:F,6,0),\"\")","v":""},{"$f":"IFERROR(VLOOKUP(D462,Cadastros!A:I,9,0),\"\")","v":""},{"$f":"IFERROR(VLOOKUP(D462,Cadastros!A:J,10,0),\"\")","v":""},{"$f":"IF(COUNTIF(Tabela66[id],D462)=0,\"\",COUNTIF(Tabela66[id],D462))","v":""},null,"",null,null,{"$f":"IFERROR(VLOOKUP(O462,Cadastros!A:B,2),\"\")","v":""},"",{"$f":"IFERROR(VLOOKUP(O462,Cadastros!A:E,5,0),\"\")","v":""},{"$f":"IFERROR(VLOOKUP(O462,Cadastros!A:F,6,0),\"\")","v":""},{"$f":"IFERROR(VLOOKUP(O462,Cadastros!A:I,9,0),\"\")","v":""},"","","",null,{"$f":"INDEX(Tabela.abordagens[],SMALL(IF(Tabela.abordagens[Mês]=$L$2,ROW(Tabela.abordagens[id])-2),ROW(A415)),1)","v":{"$error":"#NUM!"}},{"$f":"INDEX(Tabela.abordagens[],SMALL(IF(Tabela.abordagens[Mês]=$L$2,ROW(Tabela.abordagens[Idade])-2),ROW(A415)),6)","v":{"$error":"#NUM!"}},{"$f":"INDEX(Tabela.abordagens[],SMALL(IF(Tabela.abordagens[Mês]=$L$2,ROW(Tabela.abordagens[Idade])-2),ROW(A415)),4)","v":{"$error":"#NUM!"}},{"$f":"INDEX(Tabela.abordagens[],SMALL(IF(Tabela.abordagens[Mês]=$L$2,ROW(Tabela.abordagens[Idade])-2),ROW(A415)),5)","v":{"$error":"#NUM!"}}]
[null,{"$f":"INDEX(Tabela.frequencia[],SMALL(IF(Tabela.frequencia[Mês]=$L$2,ROW(Tabela.frequencia[id])-1),ROW(A416)),1)","v":{"$error":"#NUM!"}},{"$f":"INDEX(Tabela.frequencia[],SMALL(IF(Tabela.frequencia[Mês]=$L$2,ROW(Tabela.frequencia[id])-1),ROW(A416)),4)","v":{"$error":"#NUM!"}},null,{"$f":"IFERROR(VLOOKUP(D463,Tabela.cadastro[[ID]:[Nome]],2,0),\"\")","v":""},{"$f":"IFERROR(VLOOKUP(D463,Tabela66[#All],2,0),\"\")","v":""},{"$f":"IFERROR(VLOOKUP(D463,Tabela.cadastro[[ID]:[CP ou M]],5,0),\"\")","v":""},{"$f":"IFERROR(VLOOKUP(D463,Cadastros!A:F,6,0),\"\")","v":""},{"$f":"IFERROR(VLOOKUP(D463,Cadastros!A:I,9,0),\"\")","v":""},{"$f":"IFERROR(VLOOKUP(D463,Cadastros!A:J,10,0),\"\")","v":""},{"$f":"IF(COUNTIF(Tabela66[id],D463)=0,\"\",COUNTIF(Tabela66[id],D463))","v":""},null,"",null,null,{"$f":"IFERROR(VLOOKUP(O463,Cadastros!A:B,2),\"\")","v":""},"",{"$f":"IFERROR(VLOOKUP(O463,Cadastros!A:E,5,0),\"\")","v":""},{"$f":"IFERROR(VLOOKUP(O463,Cadastros!A:F,6,0),\"\")","v":""},{"$f":"IFERROR(VLOOKUP(O463,Cadastros!A:I,9,0),\"\")","v":""},"","","",null,{"$f":"INDEX(Tabela.abordagens[],SMALL(IF(Tabela.abordagens[Mês]=$L$2,ROW(Tabela.abordagens[id])-2),ROW(A416)),1)","v":{"$error":"#NUM!"}},{"$f":"INDEX(Tabela.abordagens[],SMALL(IF(Tabela.abordagens[Mês]=$L$2,ROW(Tabela.abordagens[Idade])-2),ROW(A416)),6)","v":{"$error":"#NUM!"}},{"$f":"INDEX(Tabela.abordagens[],SMALL(IF(Tabela.abordagens[Mês]=$L$2,ROW(Tabela.abordagens[Idade])-2),ROW(A416)),4)","v":{"$error":"#NUM!"}},{"$f":"INDEX(Tabela.abordagens[],SMALL(IF(Tabela.abordagens[Mês]=$L$2,ROW(Tabela.abordagens[Idade])-2),ROW(A416)),5)","v":{"$error":"#NUM!"}}]
[null,{"$f":"INDEX(Tabela.frequencia[],SMALL(IF(Tabela.frequencia[Mês]=$L$2,ROW(Tabela.frequencia[id])-1),ROW(A417)),1)","v":{"$error":"#NUM!"}},{"$f":"INDEX(Tabela.frequencia[],SMALL(IF(Tabela.frequencia[Mês]=$L$2,ROW(Tabela.frequencia[id])-1),ROW(A417)),4)","v":{"$error":"#NUM!"}},null,{"$f":"IFERROR(VLOOKUP(D464,Tabela.cadastro[[ID]:[Nome]],2,0),\"\")","v":""},{"$f":"IFERROR(VLOOKUP(D464,Tabela66[#All],2,0),\"\")","v":""},{"$f":"IFERROR(VLOOKUP(D464,Tabela.cadastro[[ID]:[CP ou M]],5,0),\"\")","v":""},{"$f":"IFERROR(VLOOKUP(D464,Cadastros!A:F,6,0),\"\")","v":""},{"$f":"IFERROR(VLOOKUP(D464,Cadastros!A:I,9,0),\"\")","v":""},{"$f":"IFERROR(VLOOKUP(D464,Cadastros!A:J,10,0),\"\")","v":""},{"$f":"IF(COUNTIF(Tabela66[id],D464)=0,\"\",COUNTIF(Tabela66[id],D464))","v":""},null,"",null,null,{"$f":"IFERROR(VLOOKUP(O464,Cadastros!A:B,2),\"\")","v":""},"",{"$f":"IFERROR(VLOOKUP(O464,Cadastros!A:E,5,0),\"\")","v":""},{"$f":"IFERROR(VLOOKUP(O464,Cadastros!A:F,6,0),\"\")","v":""},{"$f":"IFERROR(VLOOKUP(O464,Cadastros!A:I,9,0),\"\")","v":""},"","","",null,{"$f":"INDEX(Tabela.abordagens[],SMALL(IF(Tabela.abordagens[Mês]=$L$2,ROW(Tabela.abordagens[id])-2),ROW(A417)),1)","v":{"$error":"#NUM!"}},{"$f":"INDEX(Tabela.abordagens[],SMALL(IF(Tabela.abordagens[Mês]=$L$2,ROW(Tabela.abordagens[Idade])-2),ROW(A417)),6)","v":{"$error":"#NUM!"}},{"$f":"INDEX(Tabela.abordagens[],SMALL(IF(Tabela.abordagens[Mês]=$L$2,ROW(Tabela.abordagens[Idade])-2),ROW(A417)),4)","v":{"$error":"#NUM!"}},{"$f":"INDEX(Tabela.abordagens[],SMALL(IF(Tabela.abordagens[Mês]=$L$2,ROW(Tabela.abordagens[Idade])-2),ROW(A417)),5)","v":{"$error":"#NUM!"}}]
[null,{"$f":"INDEX(Tabela.frequencia[],SMALL(IF(Tabela.frequencia[Mês]=$L$2,ROW(Tabela.frequencia[id])-1),ROW(A418)),1)","v":{"$error":"#NUM!"}},{"$f":"INDEX(Tabela.frequencia[],SMALL(IF(Tabela.frequencia[Mês]=$L$2,ROW(Tabela.frequencia[id])-1),ROW(A418)),4)","v":{"$error":"#NUM!"}},null,{"$f":"IFERROR(VLOOKUP(D465,Tabela.cadastro[[ID]:[Nome]],2,0),\"\")","v":""},{"$f":"IFERROR(VLOOKUP(D465,Tabela66[#All],2,0),\"\")","v":""},{"$f":"IFERROR(VLOOKUP(D465,Tabela.cadastro[[ID]:[CP ou M]],5,0),\"\")","v":""},{"$f":"IFERROR(VLOOKUP(D465,Cadastros!A:F,6,0),\"\")","v":""},{"$f":"IFERROR(VLOOKUP(D465,Cadastros!A:I,9,0),\"\")","v":""},{"$f":"IFERROR(VLOOKUP(D465,Cadastros!A:J,10,0),\"\")","v":""},{"$f":"IF(COUNTIF(Tabela66[id],D465)=0,\"\",COUNTIF(Tabela66[id],D465))","v":""},null,"",null,null,{"$f":"IFERROR(VLOOKUP(O465,Cadastros!A:B,2),\"\")","v":""},"",{"$f":"IFERROR(VLOOKUP(O465,Cadastros!A:E,5,0),\"\")","v":""},{"$f":"IFERROR(VLOOKUP(O465,Cadastros!A:F,6,0),\"\")","v":""},{"$f":"IFERROR(VLOOKUP(O465,Cadastros!A:I,9,0),\"\")","v":""},"","","",null,{"$f":"INDEX(Tabela.abordagens[],SMALL(IF(Tabela.abordagens[Mês]=$L$2,ROW(Tabela.abordagens[id])-2),ROW(A418)),1)","v":{"$error":"#NUM!"}},{"$f":"INDEX(Tabela.abordagens[],SMALL(IF(Tabela.abordagens[Mês]=$L$2,ROW(Tabela.abordagens[Idade])-2),ROW(A418)),6)","v":{"$error":"#NUM!"}},{"$f":"INDEX(Tabela.abordagens[],SMALL(IF(Tabela.abordagens[Mês]=$L$2,ROW(Tabela.abordagens[Idade])-2),ROW(A418)),4)","v":{"$error":"#NUM!"}},{"$f":"INDEX(Tabela.abordagens[],SMALL(IF(Tabela.abordagens[Mês]=$L$2,ROW(Tabela.abordagens[Idade])-2),ROW(A418)),5)","v":{"$error":"#NUM!"}}]
[null,{"$f":"INDEX(Tabela.frequencia[],SMALL(IF(Tabela.frequencia[Mês]=$L$2,ROW(Tabela.frequencia[id])-1),ROW(A419)),1)","v":{"$error":"#NUM!"}},{"$f":"INDEX(Tabela.frequencia[],SMALL(IF(Tabela.frequencia[Mês]=$L$2,ROW(Tabela.frequencia[id])-1),ROW(A419)),4)","v":{"$error":"#NUM!"}},null,{"$f":"IFERROR(VLOOKUP(D466,Tabela.cadastro[[ID]:[Nome]],2,0),\"\")","v":""},{"$f":"IFERROR(VLOOKUP(D466,Tabela66[#All],2,0),\"\")","v":""},{"$f":"IFERROR(VLOOKUP(D466,Tabela.cadastro[[ID]:[CP ou M]],5,0),\"\")","v":""},{"$f":"IFERROR(VLOOKUP(D466,Cadastros!A:F,6,0),\"\")","v":""},{"$f":"IFERROR(VLOOKUP(D466,Cadastros!A:I,9,0),\"\")","v":""},{"$f":"IFERROR(VLOOKUP(D466,Cadastros!A:J,10,0),\"\")","v":""},{"$f":"IF(COUNTIF(Tabela66[id],D466)=0,\"\",COUNTIF(Tabela66[id],D466))","v":""},null,"",null,null,{"$f":"IFERROR(VLOOKUP(O466,Cadastros!A:B,2),\"\")","v":""},"",{"$f":"IFERROR(VLOOKUP(O466,Cadastros!A:E,5,0),\"\")","v":""},{"$f":"IFERROR(VLOOKUP(O466,Cadastros!A:F,6,0),\"\")","v":""},{"$f":"IFERROR(VLOOKUP(O466,Cadastros!A:I,9,0),\"\")","v":""},"","","",null,{"$f":"INDEX(Tabela.abordagens[],SMALL(IF(Tabela.abordagens[Mês]=$L$2,ROW(Tabela.abordagens[id])-2),ROW(A419)),1)","v":{"$error":"#NUM!"}},{"$f":"INDEX(Tabela.abordagens[],SMALL(IF(Tabela.abordagens[Mês]=$L$2,ROW(Tabela.abordagens[Idade])-2),ROW(A419)),6)","v":{"$error":"#NUM!"}},{"$f":"INDEX(Tabela.abordagens[],SMALL(IF(Tabela.abordagens[Mês]=$L$2,ROW(Tabela.abordagens[Idade])-2),ROW(A419)),4)","v":{"$error":"#NUM!"}},{"$f":"INDEX(Tabela.abordagens[],SMALL(IF(Tabela.abordagens[Mês]=$L$2,ROW(Tabela.abordagens[Idade])-2),ROW(A419)),5)","v":{"$error":"#NUM!"}}]
[null,{"$f":"INDEX(Tabela.frequencia[],SMALL(IF(Tabela.frequencia[Mês]=$L$2,ROW(Tabela.frequencia[id])-1),ROW(A420)),1)","v":{"$error":"#NUM!"}},{"$f":"INDEX(Tabela.frequencia[],SMALL(IF(Tabela.frequencia[Mês]=$L$2,ROW(Tabela.frequencia[id])-1),ROW(A420)),4)","v":{"$error":"#NUM!"}},null,{"$f":"IFERROR(VLOOKUP(D467,Tabela.cadastro[[ID]:[Nome]],2,0),\"\")","v":""},{"$f":"IFERROR(VLOOKUP(D467,Tabela66[#All],2,0),\"\")","v":""},{"$f":"IFERROR(VLOOKUP(D467,Tabela.cadastro[[ID]:[CP ou M]],5,0),\"\")","v":""},{"$f":"IFERROR(VLOOKUP(D467,Cadastros!A:F,6,0),\"\")","v":""},{"$f":"IFERROR(VLOOKUP(D467,Cadastros!A:I,9,0),\"\")","v":""},{"$f":"IFERROR(VLOOKUP(D467,Cadastros!A:J,10,0),\"\")","v":""},{"$f":"IF(COUNTIF(Tabela66[id],D467)=0,\"\",COUNTIF(Tabela66[id],D467))","v":""},null,"",null,null,{"$f":"IFERROR(VLOOKUP(O467,Cadastros!A:B,2),\"\")","v":""},"",{"$f":"IFERROR(VLOOKUP(O467,Cadastros!A:E,5,0),\"\")","v":""},{"$f":"IFERROR(VLOOKUP(O467,Cadastros!A:F,6,0),\"\")","v":""},{"$f":"IFERROR(VLOOKUP(O467,Cadastros!A:I,9,0),\"\")","v":""},"","","",null,{"$f":"INDEX(Tabela.abordagens[],SMALL(IF(Tabela.abordagens[Mês]=$L$2,ROW(Tabela.abordagens[id])-2),ROW(A420)),1)","v":{"$error":"#NUM!"}},{"$f":"INDEX(Tabela.abordagens[],SMALL(IF(Tabela.abordagens[Mês]=$L$2,ROW(Tabela.abordagens[Idade])-2),ROW(A420)),6)","v":{"$error":"#NUM!"}},{"$f":"INDEX(Tabela.abordagens[],SMALL(IF(Tabela.abordagens[Mês]=$L$2,ROW(Tabela.abordagens[Idade])-2),ROW(A420)),4)","v":{"$error":"#NUM!"}},{"$f":"INDEX(Tabela.abordagens[],SMALL(IF(Tabela.abordagens[Mês]=$L$2,ROW(Tabela.abordagens[Idade])-2),ROW(A420)),5)","v":{"$error":"#NUM!"}}]
[null,{"$f":"INDEX(Tabela.frequencia[],SMALL(IF(Tabela.frequencia[Mês]=$L$2,ROW(Tabela.frequencia[id])-1),ROW(A421)),1)","v":{"$error":"#NUM!"}},{"$f":"INDEX(Tabela.frequencia[],SMALL(IF(Tabela.frequencia[Mês]=$L$2,ROW(Tabela.frequencia[id])-1),ROW(A421)),4)","v":{"$error":"#NUM!"}},null,{"$f":"IFERROR(VLOOKUP(D468,Tabela.cadastro[[ID]:[Nome]],2,0),\"\")","v":""},{"$f":"IFERROR(VLOOKUP(D468,Tabela66[#All],2,0),\"\")","v":""},{"$f":"IFERROR(VLOOKUP(D468,Tabela.cadastro[[ID]:[CP ou M]],5,0),\"\")","v":""},{"$f":"IFERROR(VLOOKUP(D468,Cadastros!A:F,6,0),\"\")","v":""},{"$f":"IFERROR(VLOOKUP(D468,Cadastros!A:I,9,0),\"\")","v":""},{"$f":"IFERROR(VLOOKUP(D468,Cadastros!A:J,10,0),\"\")","v":""},{"$f":"IF(COUNTIF(Tabela66[id],D468)=0,\"\",COUNTIF(Tabela66[id],D468))","v":""},null,"",null,null,{"$f":"IFERROR(VLOOKUP(O468,Cadastros!A:B,2),\"\")","v":""},"",{"$f":"IFERROR(VLOOKUP(O468,Cadastros!A:E,5,0),\"\")","v":""},{"$f":"IFERROR(VLOOKUP(O468,Cadastros!A:F,6,0),\"\")","v":""},{"$f":"IFERROR(VLOOKUP(O468,Cadastros!A:I,9,0),\"\")","v":""},"","","",null,{"$f":"INDEX(Tabela.abordagens[],SMALL(IF(Tabela.abordagens[Mês]=$L$2,ROW(Tabela.abordagens[id])-2),ROW(A421)),1)","v":{"$error":"#NUM!"}},{"$f":"INDEX(Tabela.abordagens[],SMALL(IF(Tabela.abordagens[Mês]=$L$2,ROW(Tabela.abordagens[Idade])-2),ROW(A421)),6)","v":{"$error":"#NUM!"}},{"$f":"INDEX(Tabela.abordagens[],SMALL(IF(Tabela.abordagens[Mês]=$L$2,ROW(Tabela.abordagens[Idade])-2),ROW(A421)),4)","v":{"$error":"#NUM!"}},{"$f":"INDEX(Tabela.abordagens[],SMALL(IF(Tabela.abordagens[Mês]=$L$2,ROW(Tabela.abordagens[Idade])-2),ROW(A421)),5)","v":{"$error":"#NUM!"}}]
[null,{"$f":"INDEX(Tabela.frequencia[],SMALL(IF(Tabela.frequencia[Mês]=$L$2,ROW(Tabela.frequencia[id])-1),ROW(A422)),1)","v":{"$error":"#NUM!"}},{"$f":"INDEX(Tabela.frequencia[],SMALL(IF(Tabela.frequencia[Mês]=$L$2,ROW(Tabela.frequencia[id])-1),ROW(A422)),4)","v":{"$error":"#NUM!"}},null,{"$f":"IFERROR(VLOOKUP(D469,Tabela.cadastro[[ID]:[Nome]],2,0),\"\")","v":""},{"$f":"IFERROR(VLOOKUP(D469,Tabela66[#All],2,0),\"\")","v":""},{"$f":"IFERROR(VLOOKUP(D469,Tabela.cadastro[[ID]:[CP ou M]],5,0),\"\")","v":""},{"$f":"IFERROR(VLOOKUP(D469,Cadastros!A:F,6,0),\"\")","v":""},{"$f":"IFERROR(VLOOKUP(D469,Cadastros!A:I,9,0),\"\")","v":""},{"$f":"IFERROR(VLOOKUP(D469,Cadastros!A:J,10,0),\"\")","v":""},{"$f":"IF(COUNTIF(Tabela66[id],D469)=0,\"\",COUNTIF(Tabela66[id],D469))","v":""},null,"",null,null,{"$f":"IFERROR(VLOOKUP(O469,Cadastros!A:B,2),\"\")","v":""},"",{"$f":"IFERROR(VLOOKUP(O469,Cadastros!A:E,5,0),\"\")","v":""},{"$f":"IFERROR(VLOOKUP(O469,Cadastros!A:F,6,0),\"\")","v":""},{"$f":"IFERROR(VLOOKUP(O469,Cadastros!A:I,9,0),\"\")","v":""},"","","",null,{"$f":"INDEX(Tabela.abordagens[],SMALL(IF(Tabela.abordagens[Mês]=$L$2,ROW(Tabela.abordagens[id])-2),ROW(A422)),1)","v":{"$error":"#NUM!"}},{"$f":"INDEX(Tabela.abordagens[],SMALL(IF(Tabela.abordagens[Mês]=$L$2,ROW(Tabela.abordagens[Idade])-2),ROW(A422)),6)","v":{"$error":"#NUM!"}},{"$f":"INDEX(Tabela.abordagens[],SMALL(IF(Tabela.abordagens[Mês]=$L$2,ROW(Tabela.abordagens[Idade])-2),ROW(A422)),4)","v":{"$error":"#NUM!"}},{"$f":"INDEX(Tabela.abordagens[],SMALL(IF(Tabela.abordagens[Mês]=$L$2,ROW(Tabela.abordagens[Idade])-2),ROW(A422)),5)","v":{"$error":"#NUM!"}}]
[null,{"$f":"INDEX(Tabela.frequencia[],SMALL(IF(Tabela.frequencia[Mês]=$L$2,ROW(Tabela.frequencia[id])-1),ROW(A423)),1)","v":{"$error":"#NUM!"}},{"$f":"INDEX(Tabela.frequencia[],SMALL(IF(Tabela.frequencia[Mês]=$L$2,ROW(Tabela.frequencia[id])-1),ROW(A423)),4)","v":{"$error":"#NUM!"}},null,{"$f":"IFERROR(VLOOKUP(D470,Tabela.cadastro[[ID]:[Nome]],2,0),\"\")","v":""},{"$f":"IFERROR(VLOOKUP(D470,Tabela66[#All],2,0),\"\")","v":""},{"$f":"IFERROR(VLOOKUP(D470,Tabela.cadastro[[ID]:[CP ou M]],5,0),\"\")","v":""},{"$f":"IFERROR(VLOOKUP(D470,Cadastros!A:F,6,0),\"\")","v":""},{"$f":"IFERROR(VLOOKUP(D470,Cadastros!A:I,9,0),\"\")","v":""},{"$f":"IFERROR(VLOOKUP(D470,Cadastros!A:J,10,0),\"\")","v":""},{"$f":"IF(COUNTIF(Tabela66[id],D470)=0,\"\",COUNTIF(Tabela66[id],D470))","v":""},null,"",null,null,{"$f":"IFERROR(VLOOKUP(O470,Cadastros!A:B,2),\"\")","v":""},"",{"$f":"IFERROR(VLOOKUP(O470,Cadastros!A:E,5,0),\"\")","v":""},{"$f":"IFERROR(VLOOKUP(O470,Cadastros!A:F,6,0),\"\")","v":""},{"$f":"IFERROR(VLOOKUP(O470,Cadastros!A:I,9,0),\"\")","v":""},"","","",null,{"$f":"INDEX(Tabela.abordagens[],SMALL(IF(Tabela.abordagens[Mês]=$L$2,ROW(Tabela.abordagens[id])-2),ROW(A423)),1)","v":{"$error":"#NUM!"}},{"$f":"INDEX(Tabela.abordagens[],SMALL(IF(Tabela.abordagens[Mês]=$L$2,ROW(Tabela.abordagens[Idade])-2),ROW(A423)),6)","v":{"$error":"#NUM!"}},{"$f":"INDEX(Tabela.abordagens[],SMALL(IF(Tabela.abordagens[Mês]=$L$2,ROW(Tabela.abordagens[Idade])-2),ROW(A423)),4)","v":{"$error":"#NUM!"}},{"$f":"INDEX(Tabela.abordagens[],SMALL(IF(Tabela.abordagens[Mês]=$L$2,ROW(Tabela.abordagens[Idade])-2),ROW(A423)),5)","v":{"$error":"#NUM!"}}]
[null,{"$f":"INDEX(Tabela.frequencia[],SMALL(IF(Tabela.frequencia[Mês]=$L$2,ROW(Tabela.frequencia[id])-1),ROW(A424)),1)","v":{"$error":"#NUM!"}},{"$f":"INDEX(Tabela.frequencia[],SMALL(IF(Tabela.frequencia[Mês]=$L$2,ROW(Tabela.frequencia[id])-1),ROW(A424)),4)","v":{"$error":"#NUM!"}},null,{"$f":"IFERROR(VLOOKUP(D471,Tabela.cadastro[[ID]:[Nome]],2,0),\"\")","v":""},{"$f":"IFERROR(VLOOKUP(D471,Tabela66[#All],2,0),\"\")","v":""},{"$f":"IFERROR(VLOOKUP(D471,Tabela.cadastro[[ID]:[CP ou M]],5,0),\"\")","v":""},{"$f":"IFERROR(VLOOKUP(D471,Cadastros!A:F,6,0),\"\")","v":""},{"$f":"IFERROR(VLOOKUP(D471,Cadastros!A:I,9,0),\"\")","v":""},{"$f":"IFERROR(VLOOKUP(D471,Cadastros!A:J,10,0),\"\")","v":""},{"$f":"IF(COUNTIF(Tabela66[id],D471)=0,\"\",COUNTIF(Tabela66[id],D471))","v":""},null,"",null,null,{"$f":"IFERROR(VLOOKUP(O471,Cadastros!A:B,2),\"\")","v":""},"",{"$f":"IFERROR(VLOOKUP(O471,Cadastros!A:E,5,0),\"\")","v":""},{"$f":"IFERROR(VLOOKUP(O471,Cadastros!A:F,6,0),\"\")","v":""},{"$f":"IFERROR(VLOOKUP(O471,Cadastros!A:I,9,0),\"\")","v":""},"","","",null,{"$f":"INDEX(Tabela.abordagens[],SMALL(IF(Tabela.abordagens[Mês]=$L$2,ROW(Tabela.abordagens[id])-2),ROW(A424)),1)","v":{"$error":"#NUM!"}},{"$f":"INDEX(Tabela.abordagens[],SMALL(IF(Tabela.abordagens[Mês]=$L$2,ROW(Tabela.abordagens[Idade])-2),ROW(A424)),6)","v":{"$error":"#NUM!"}},{"$f":"INDEX(Tabela.abordagens[],SMALL(IF(Tabela.abordagens[Mês]=$L$2,ROW(Tabela.abordagens[Idade])-2),ROW(A424)),4)","v":{"$error":"#NUM!"}},{"$f":"INDEX(Tabela.abordagens[],SMALL(IF(Tabela.abordagens[Mês]=$L$2,ROW(Tabela.abordagens[Idade])-2),ROW(A424)),5)","v":{"$error":"#NUM!"}}]
[null,{"$f":"INDEX(Tabela.frequencia[],SMALL(IF(Tabela.frequencia[Mês]=$L$2,ROW(Tabela.frequencia[id])-1),ROW(A425)),1)","v":{"$error":"#NUM!"}},{"$f":"INDEX(Tabela.frequencia[],SMALL(IF(Tabela.frequencia[Mês]=$L$2,ROW(Tabela.frequencia[id])-1),ROW(A425)),4)","v":{"$error":"#NUM!"}},null,{"$f":"IFERROR(VLOOKUP(D472,Tabela.cadastro[[ID]:[Nome]],2,0),\"\")","v":""},{"$f":"IFERROR(VLOOKUP(D472,Tabela66[#All],2,0),\"\")","v":""},{"$f":"IFERROR(VLOOKUP(D472,Tabela.cadastro[[ID]:[CP ou M]],5,0),\"\")","v":""},{"$f":"IFERROR(VLOOKUP(D472,Cadastros!A:F,6,0),\"\")","v":""},{"$f":"IFERROR(VLOOKUP(D472,Cadastros!A:I,9,0),\"\")","v":""},{"$f":"IFERROR(VLOOKUP(D472,Cadastros!A:J,10,0),\"\")","v":""},{"$f":"IF(COUNTIF(Tabela66[id],D472)=0,\"\",COUNTIF(Tabela66[id],D472))","v":""},null,"",null,null,{"$f":"IFERROR(VLOOKUP(O472,Cadastros!A:B,2),\"\")","v":""},"",{"$f":"IFERROR(VLOOKUP(O472,Cadastros!A:E,5,0),\"\")","v":""},{"$f":"IFERROR(VLOOKUP(O472,Cadastros!A:F,6,0),\"\")","v":""},{"$f":"IFERROR(VLOOKUP(O472,Cadastros!A:I,9,0),\"\")","v":""},"","","",null,{"$f":"INDEX(Tabela.abordagens[],SMALL(IF(Tabela.abordagens[Mês]=$L$2,ROW(Tabela.abordagens[id])-2),ROW(A425)),1)","v":{"$error":"#NUM!"}},{"$f":"INDEX(Tabela.abordagens[],SMALL(IF(Tabela.abordagens[Mês]=$L$2,ROW(Tabela.abordagens[Idade])-2),ROW(A425)),6)","v":{"$error":"#NUM!"}},{"$f":"INDEX(Tabela.abordagens[],SMALL(IF(Tabela.abordagens[Mês]=$L$2,ROW(Tabela.abordagens[Idade])-2),ROW(A425)),4)","v":{"$error":"#NUM!"}},{"$f":"INDEX(Tabela.abordagens[],SMALL(IF(Tabela.abordagens[Mês]=$L$2,ROW(Tabela.abordagens[Idade])-2),ROW(A425)),5)","v":{"$error":"#NUM!"}}]
[null,{"$f":"INDEX(Tabela.frequencia[],SMALL(IF(Tabela.frequencia[Mês]=$L$2,ROW(Tabela.frequencia[id])-1),ROW(A426)),1)","v":{"$error":"#NUM!"}},{"$f":"INDEX(Tabela.frequencia[],SMALL(IF(Tabela.frequencia[Mês]=$L$2,ROW(Tabela.frequencia[id])-1),ROW(A426)),4)","v":{"$error":"#NUM!"}},null,{"$f":"IFERROR(VLOOKUP(D473,Tabela.cadastro[[ID]:[Nome]],2,0),\"\")","v":""},{"$f":"IFERROR(VLOOKUP(D473,Tabela66[#All],2,0),\"\")","v":""},{"$f":"IFERROR(VLOOKUP(D473,Tabela.cadastro[[ID]:[CP ou M]],5,0),\"\")","v":""},{"$f":"IFERROR(VLOOKUP(D473,Cadastros!A:F,6,0),\"\")","v":""},{"$f":"IFERROR(VLOOKUP(D473,Cadastros!A:I,9,0),\"\")","v":""},{"$f":"IFERROR(VLOOKUP(D473,Cadastros!A:J,10,0),\"\")","v":""},{"$f":"IF(COUNTIF(Tabela66[id],D473)=0,\"\",COUNTIF(Tabela66[id],D473))","v":""},null,"",null,null,{"$f":"IFERROR(VLOOKUP(O473,Cadastros!A:B,2),\"\")","v":""},"",{"$f":"IFERROR(VLOOKUP(O473,Cadastros!A:E,5,0),\"\")","v":""},{"$f":"IFERROR(VLOOKUP(O473,Cadastros!A:F,6,0),\"\")","v":""},{"$f":"IFERROR(VLOOKUP(O473,Cadastros!A:I,9,0),\"\")","v":""},"","","",null,{"$f":"INDEX(Tabela.abordagens[],SMALL(IF(Tabela.abordagens[Mês]=$L$2,ROW(Tabela.abordagens[id])-2),ROW(A426)),1)","v":{"$error":"#NUM!"}},{"$f":"INDEX(Tabela.abordagens[],SMALL(IF(Tabela.abordagens[Mês]=$L$2,ROW(Tabela.abordagens[Idade])-2),ROW(A426)),6)","v":{"$error":"#NUM!"}},{"$f":"INDEX(Tabela.abordagens[],SMALL(IF(Tabela.abordagens[Mês]=$L$2,ROW(Tabela.abordagens[Idade])-2),ROW(A426)),4)","v":{"$error":"#NUM!"}},{"$f":"INDEX(Tabela.abordagens[],SMALL(IF(Tabela.abordagens[Mês]=$L$2,ROW(Tabela.abordagens[Idade])-2),ROW(A426)),5)","v":{"$error":"#NUM!"}}]
[null,{"$f":"INDEX(Tabela.frequencia[],SMALL(IF(Tabela.frequencia[Mês]=$L$2,ROW(Tabela.frequencia[id])-1),ROW(A427)),1)","v":{"$error":"#NUM!"}},{"$f":"INDEX(Tabela.frequencia[],SMALL(IF(Tabela.frequencia[Mês]=$L$2,ROW(Tabela.frequencia[id])-1),ROW(A427)),4)","v":{"$error":"#NUM!"}},null,{"$f":"IFERROR(VLOOKUP(D474,Tabela.cadastro[[ID]:[Nome]],2,0),\"\")","v":""},{"$f":"IFERROR(VLOOKUP(D474,Tabela66[#All],2,0),\"\")","v":""},{"$f":"IFERROR(VLOOKUP(D474,Tabela.cadastro[[ID]:[CP ou M]],5,0),\"\")","v":""},{"$f":"IFERROR(VLOOKUP(D474,Cadastros!A:F,6,0),\"\")","v":""},{"$f":"IFERROR(VLOOKUP(D474,Cadastros!A:I,9,0),\"\")","v":""},{"$f":"IFERROR(VLOOKUP(D474,Cadastros!A:J,10,0),\"\")","v":""},{"$f":"IF(COUNTIF(Tabela66[id],D474)=0,\"\",COUNTIF(Tabela66[id],D474))","v":""},null,"",null,null,{"$f":"IFERROR(VLOOKUP(O474,Cadastros!A:B,2),\"\")","v":""},"",{"$f":"IFERROR(VLOOKUP(O474,Cadastros!A:E,5,0),\"\")","v":""},{"$f":"IFERROR(VLOOKUP(O474,Cadastros!A:F,6,0),\"\")","v":""},{"$f":"IFERROR(VLOOKUP(O474,Cadastros!A:I,9,0),\"\")","v":""},"","","",null,{"$f":"INDEX(Tabela.abordagens[],SMALL(IF(Tabela.abordagens[Mês]=$L$2,ROW(Tabela.abordagens[id])-2),ROW(A427)),1)","v":{"$error":"#NUM!"}},{"$f":"INDEX(Tabela.abordagens[],SMALL(IF(Tabela.abordagens[Mês]=$L$2,ROW(Tabela.abordagens[Idade])-2),ROW(A427)),6)","v":{"$error":"#NUM!"}},{"$f":"INDEX(Tabela.abordagens[],SMALL(IF(Tabela.abordagens[Mês]=$L$2,ROW(Tabela.abordagens[Idade])-2),ROW(A427)),4)","v":{"$error":"#NUM!"}},{"$f":"INDEX(Tabela.abordagens[],SMALL(IF(Tabela.abordagens[Mês]=$L$2,ROW(Tabela.abordagens[Idade])-2),ROW(A427)),5)","v":{"$error":"#NUM!"}}]
[null,{"$f":"INDEX(Tabela.frequencia[],SMALL(IF(Tabela.frequencia[Mês]=$L$2,ROW(Tabela.frequencia[id])-1),ROW(A428)),1)","v":{"$error":"#NUM!"}},{"$f":"INDEX(Tabela.frequencia[],SMALL(IF(Tabela.frequencia[Mês]=$L$2,ROW(Tabela.frequencia[id])-1),ROW(A428)),4)","v":{"$error":"#NUM!"}},null,{"$f":"IFERROR(VLOOKUP(D475,Tabela.cadastro[[ID]:[Nome]],2,0),\"\")","v":""},{"$f":"IFERROR(VLOOKUP(D475,Tabela66[#All],2,0),\"\")","v":""},{"$f":"IFERROR(VLOOKUP(D475,Tabela.cadastro[[ID]:[CP ou M]],5,0),\"\")","v":""},{"$f":"IFERROR(VLOOKUP(D475,Cadastros!A:F,6,0),\"\")","v":""},{"$f":"IFERROR(VLOOKUP(D475,Cadastros!A:I,9,0),\"\")","v":""},{"$f":"IFERROR(VLOOKUP(D475,Cadastros!A:J,10,0),\"\")","v":""},{"$f":"IF(COUNTIF(Tabela66[id],D475)=0,\"\",COUNTIF(Tabela66[id],D475))","v":""},null,"",null,null,{"$f":"IFERROR(VLOOKUP(O475,Cadastros!A:B,2),\"\")","v":""},"",{"$f":"IFERROR(VLOOKUP(O475,Cadastros!A:E,5,0),\"\")","v":""},{"$f":"IFERROR(VLOOKUP(O475,Cadastros!A:F,6,0),\"\")","v":""},{"$f":"IFERROR(VLOOKUP(O475,Cadastros!A:I,9,0),\"\")","v":""},"","","",null,{"$f":"INDEX(Tabela.abordagens[],SMALL(IF(Tabela.abordagens[Mês]=$L$2,ROW(Tabela.abordagens[id])-2),ROW(A428)),1)","v":{"$error":"#NUM!"}},{"$f":"INDEX(Tabela.abordagens[],SMALL(IF(Tabela.abordagens[Mês]=$L$2,ROW(Tabela.abordagens[Idade])-2),ROW(A428)),6)","v":{"$error":"#NUM!"}},{"$f":"INDEX(Tabela.abordagens[],SMALL(IF(Tabela.abordagens[Mês]=$L$2,ROW(Tabela.abordagens[Idade])-2),ROW(A428)),4)","v":{"$error":"#NUM!"}},{"$f":"INDEX(Tabela.abordagens[],SMALL(IF(Tabela.abordagens[Mês]=$L$2,ROW(Tabela.abordagens[Idade])-2),ROW(A428)),5)","v":{"$error":"#NUM!"}}]
[null,{"$f":"INDEX(Tabela.frequencia[],SMALL(IF(Tabela.frequencia[Mês]=$L$2,ROW(Tabela.frequencia[id])-1),ROW(A429)),1)","v":{"$error":"#NUM!"}},{"$f":"INDEX(Tabela.frequencia[],SMALL(IF(Tabela.frequencia[Mês]=$L$2,ROW(Tabela.frequencia[id])-1),ROW(A429)),4)","v":{"$error":"#NUM!"}},null,{"$f":"IFERROR(VLOOKUP(D476,Tabela.cadastro[[ID]:[Nome]],2,0),\"\")","v":""},{"$f":"IFERROR(VLOOKUP(D476,Tabela66[#All],2,0),\"\")","v":""},{"$f":"IFERROR(VLOOKUP(D476,Tabela.cadastro[[ID]:[CP ou M]],5,0),\"\")","v":""},{"$f":"IFERROR(VLOOKUP(D476,Cadastros!A:F,6,0),\"\")","v":""},{"$f":"IFERROR(VLOOKUP(D476,Cadastros!A:I,9,0),\"\")","v":""},{"$f":"IFERROR(VLOOKUP(D476,Cadastros!A:J,10,0),\"\")","v":""},{"$f":"IF(COUNTIF(Tabela66[id],D476)=0,\"\",COUNTIF(Tabela66[id],D476))","v":""},null,"",null,null,{"$f":"IFERROR(VLOOKUP(O476,Cadastros!A:B,2),\"\")","v":""},"",{"$f":"IFERROR(VLOOKUP(O476,Cadastros!A:E,5,0),\"\")","v":""},{"$f":"IFERROR(VLOOKUP(O476,Cadastros!A:F,6,0),\"\")","v":""},{"$f":"IFERROR(VLOOKUP(O476,Cadastros!A:I,9,0),\"\")","v":""},"","","",null,{"$f":"INDEX(Tabela.abordagens[],SMALL(IF(Tabela.abordagens[Mês]=$L$2,ROW(Tabela.abordagens[id])-2),ROW(A429)),1)","v":{"$error":"#NUM!"}},{"$f":"INDEX(Tabela.abordagens[],SMALL(IF(Tabela.abordagens[Mês]=$L$2,ROW(Tabela.abordagens[Idade])-2),ROW(A429)),6)","v":{"$error":"#NUM!"}},{"$f":"INDEX(Tabela.abordagens[],SMALL(IF(Tabela.abordagens[Mês]=$L$2,ROW(Tabela.abordagens[Idade])-2),ROW(A429)),4)","v":{"$error":"#NUM!"}},{"$f":"INDEX(Tabela.abordagens[],SMALL(IF(Tabela.abordagens[Mês]=$L$2,ROW(Tabela.abordagens[Idade])-2),ROW(A429)),5)","v":{"$error":"#NUM!"}}]
[null,{"$f":"INDEX(Tabela.frequencia[],SMALL(IF(Tabela.frequencia[Mês]=$L$2,ROW(Tabela.frequencia[id])-1),ROW(A430)),1)","v":{"$error":"#NUM!"}},{"$f":"INDEX(Tabela.frequencia[],SMALL(IF(Tabela.frequencia[Mês]=$L$2,ROW(Tabela.frequencia[id])-1),ROW(A430)),4)","v":{"$error":"#NUM!"}},null,{"$f":"IFERROR(VLOOKUP(D477,Tabela.cadastro[[ID]:[Nome]],2,0),\"\")","v":""},{"$f":"IFERROR(VLOOKUP(D477,Tabela66[#All],2,0),\"\")","v":""},{"$f":"IFERROR(VLOOKUP(D477,Tabela.cadastro[[ID]:[CP ou M]],5,0),\"\")","v":""},{"$f":"IFERROR(VLOOKUP(D477,Cadastros!A:F,6,0),\"\")","v":""},{"$f":"IFERROR(VLOOKUP(D477,Cadastros!A:I,9,0),\"\")","v":""},{"$f":"IFERROR(VLOOKUP(D477,Cadastros!A:J,10,0),\"\")","v":""},{"$f":"IF(COUNTIF(Tabela66[id],D477)=0,\"\",COUNTIF(Tabela66[id],D477))","v":""},null,"",null,null,{"$f":"IFERROR(VLOOKUP(O477,Cadastros!A:B,2),\"\")","v":""},"",{"$f":"IFERROR(VLOOKUP(O477,Cadastros!A:E,5,0),\"\")","v":""},{"$f":"IFERROR(VLOOKUP(O477,Cadastros!A:F,6,0),\"\")","v":""},{"$f":"IFERROR(VLOOKUP(O477,Cadastros!A:I,9,0),\"\")","v":""},"","","",null,{"$f":"INDEX(Tabela.abordagens[],SMALL(IF(Tabela.abordagens[Mês]=$L$2,ROW(Tabela.abordagens[id])-2),ROW(A430)),1)","v":{"$error":"#NUM!"}},{"$f":"INDEX(Tabela.abordagens[],SMALL(IF(Tabela.abordagens[Mês]=$L$2,ROW(Tabela.abordagens[Idade])-2),ROW(A430)),6)","v":{"$error":"#NUM!"}},{"$f":"INDEX(Tabela.abordagens[],SMALL(IF(Tabela.abordagens[Mês]=$L$2,ROW(Tabela.abordagens[Idade])-2),ROW(A430)),4)","v":{"$error":"#NUM!"}},{"$f":"INDEX(Tabela.abordagens[],SMALL(IF(Tabela.abordagens[Mês]=$L$2,ROW(Tabela.abordagens[Idade])-2),ROW(A430)),5)","v":{"$error":"#NUM!"}}]
[null,{"$f":"INDEX(Tabela.frequencia[],SMALL(IF(Tabela.frequencia[Mês]=$L$2,ROW(Tabela.frequencia[id])-1),ROW(A431)),1)","v":{"$error":"#NUM!"}},{"$f":"INDEX(Tabela.frequencia[],SMALL(IF(Tabela.frequencia[Mês]=$L$2,ROW(Tabela.frequencia[id])-1),ROW(A431)),4)","v":{"$error":"#NUM!"}},null,{"$f":"IFERROR(VLOOKUP(D478,Tabela.cadastro[[ID]:[Nome]],2,0),\"\")","v":""},{"$f":"IFERROR(VLOOKUP(D478,Tabela66[#All],2,0),\"\")","v":""},{"$f":"IFERROR(VLOOKUP(D478,Tabela.cadastro[[ID]:[CP ou M]],5,0),\"\")","v":""},{"$f":"IFERROR(VLOOKUP(D478,Cadastros!A:F,6,0),\"\")","v":""},{"$f":"IFERROR(VLOOKUP(D478,Cadastros!A:I,9,0),\"\")","v":""},{"$f":"IFERROR(VLOOKUP(D478,Cadastros!A:J,10,0),\"\")","v":""},{"$f":"IF(COUNTIF(Tabela66[id],D478)=0,\"\",COUNTIF(Tabela66[id],D478))","v":""},null,"",null,null,{"$f":"IFERROR(VLOOKUP(O478,Cadastros!A:B,2),\"\")","v":""},"",{"$f":"IFERROR(VLOOKUP(O478,Cadastros!A:E,5,0),\"\")","v":""},{"$f":"IFERROR(VLOOKUP(O478,Cadastros!A:F,6,0),\"\")","v":""},{"$f":"IFERROR(VLOOKUP(O478,Cadastros!A:I,9,0),\"\")","v":""},"","","",null,{"$f":"INDEX(Tabela.abordagens[],SMALL(IF(Tabela.abordagens[Mês]=$L$2,ROW(Tabela.abordagens[id])-2),ROW(A431)),1)","v":{"$error":"#NUM!"}},{"$f":"INDEX(Tabela.abordagens[],SMALL(IF(Tabela.abordagens[Mês]=$L$2,ROW(Tabela.abordagens[Idade])-2),ROW(A431)),6)","v":{"$error":"#NUM!"}},{"$f":"INDEX(Tabela.abordagens[],SMALL(IF(Tabela.abordagens[Mês]=$L$2,ROW(Tabela.abordagens[Idade])-2),ROW(A431)),4)","v":{"$error":"#NUM!"}},{"$f":"INDEX(Tabela.abordagens[],SMALL(IF(Tabela.abordagens[Mês]=$L$2,ROW(Tabela.abordagens[Idade])-2),ROW(A431)),5)","v":{"$error":"#NUM!"}}]
[null,{"$f":"INDEX(Tabela.frequencia[],SMALL(IF(Tabela.frequencia[Mês]=$L$2,ROW(Tabela.frequencia[id])-1),ROW(A432)),1)","v":{"$error":"#NUM!"}},{"$f":"INDEX(Tabela.frequencia[],SMALL(IF(Tabela.frequencia[Mês]=$L$2,ROW(Tabela.frequencia[id])-1),ROW(A432)),4)","v":{"$error":"#NUM!"}},null,{"$f":"IFERROR(VLOOKUP(D479,Tabela.cadastro[[ID]:[Nome]],2,0),\"\")","v":""},{"$f":"IFERROR(VLOOKUP(D479,Tabela66[#All],2,0),\"\")","v":""},{"$f":"IFERROR(VLOOKUP(D479,Tabela.cadastro[[ID]:[CP ou M]],5,0),\"\")","v":""},{"$f":"IFERROR(VLOOKUP(D479,Cadastros!A:F,6,0),\"\")","v":""},{"$f":"IFERROR(VLOOKUP(D479,Cadastros!A:I,9,0),\"\")","v":""},{"$f":"IFERROR(VLOOKUP(D479,Cadastros!A:J,10,0),\"\")","v":""},{"$f":"IF(COUNTIF(Tabela66[id],D479)=0,\"\",COUNTIF(Tabela66[id],D479))","v":""},null,"",null,null,{"$f":"IFERROR(VLOOKUP(O479,Cadastros!A:B,2),\"\")","v":""},"",{"$f":"IFERROR(VLOOKUP(O479,Cadastros!A:E,5,0),\"\")","v":""},{"$f":"IFERROR(VLOOKUP(O479,Cadastros!A:F,6,0),\"\")","v":""},{"$f":"IFERROR(VLOOKUP(O479,Cadastros!A:I,9,0),\"\")","v":""},"","","",null,{"$f":"INDEX(Tabela.abordagens[],SMALL(IF(Tabela.abordagens[Mês]=$L$2,ROW(Tabela.abordagens[id])-2),ROW(A432)),1)","v":{"$error":"#NUM!"}},{"$f":"INDEX(Tabela.abordagens[],SMALL(IF(Tabela.abordagens[Mês]=$L$2,ROW(Tabela.abordagens[Idade])-2),ROW(A432)),6)","v":{"$error":"#NUM!"}},{"$f":"INDEX(Tabela.abordagens[],SMALL(IF(Tabela.abordagens[Mês]=$L$2,ROW(Tabela.abordagens[Idade])-2),ROW(A432)),4)","v":{"$error":"#NUM!"}},{"$f":"INDEX(Tabela.abordagens[],SMALL(IF(Tabela.abordagens[Mês]=$L$2,ROW(Tabela.abordagens[Idade])-2),ROW(A432)),5)","v":{"$error":"#NUM!"}}]
[null,{"$f":"INDEX(Tabela.frequencia[],SMALL(IF(Tabela.frequencia[Mês]=$L$2,ROW(Tabela.frequencia[id])-1),ROW(A433)),1)","v":{"$error":"#NUM!"}},{"$f":"INDEX(Tabela.frequencia[],SMALL(IF(Tabela.frequencia[Mês]=$L$2,ROW(Tabela.frequencia[id])-1),ROW(A433)),4)","v":{"$error":"#NUM!"}},null,{"$f":"IFERROR(VLOOKUP(D480,Tabela.cadastro[[ID]:[Nome]],2,0),\"\")","v":""},{"$f":"IFERROR(VLOOKUP(D480,Tabela66[#All],2,0),\"\")","v":""},{"$f":"IFERROR(VLOOKUP(D480,Tabela.cadastro[[ID]:[CP ou M]],5,0),\"\")","v":""},{"$f":"IFERROR(VLOOKUP(D480,Cadastros!A:F,6,0),\"\")","v":""},{"$f":"IFERROR(VLOOKUP(D480,Cadastros!A:I,9,0),\"\")","v":""},{"$f":"IFERROR(VLOOKUP(D480,Cadastros!A:J,10,0),\"\")","v":""},{"$f":"IF(COUNTIF(Tabela66[id],D480)=0,\"\",COUNTIF(Tabela66[id],D480))","v":""},null,"",null,null,{"$f":"IFERROR(VLOOKUP(O480,Cadastros!A:B,2),\"\")","v":""},"",{"$f":"IFERROR(VLOOKUP(O480,Cadastros!A:E,5,0),\"\")","v":""},{"$f":"IFERROR(VLOOKUP(O480,Cadastros!A:F,6,0),\"\")","v":""},{"$f":"IFERROR(VLOOKUP(O480,Cadastros!A:I,9,0),\"\")","v":""},"","","",null,{"$f":"INDEX(Tabela.abordagens[],SMALL(IF(Tabela.abordagens[Mês]=$L$2,ROW(Tabela.abordagens[id])-2),ROW(A433)),1)","v":{"$error":"#NUM!"}},{"$f":"INDEX(Tabela.abordagens[],SMALL(IF(Tabela.abordagens[Mês]=$L$2,ROW(Tabela.abordagens[Idade])-2),ROW(A433)),6)","v":{"$error":"#NUM!"}},{"$f":"INDEX(Tabela.abordagens[],SMALL(IF(Tabela.abordagens[Mês]=$L$2,ROW(Tabela.abordagens[Idade])-2),ROW(A433)),4)","v":{"$error":"#NUM!"}},{"$f":"INDEX(Tabela.abordagens[],SMALL(IF(Tabela.abordagens[Mês]=$L$2,ROW(Tabela.abordagens[Idade])-2),ROW(A433)),5)","v":{"$error":"#NUM!"}}]
[null,{"$f":"INDEX(Tabela.frequencia[],SMALL(IF(Tabela.frequencia[Mês]=$L$2,ROW(Tabela.frequencia[id])-1),ROW(A434)),1)","v":{"$error":"#NUM!"}},{"$f":"INDEX(Tabela.frequencia[],SMALL(IF(Tabela.frequencia[Mês]=$L$2,ROW(Tabela.frequencia[id])-1),ROW(A434)),4)","v":{"$error":"#NUM!"}},null,{"$f":"IFERROR(VLOOKUP(D481,Tabela.cadastro[[ID]:[Nome]],2,0),\"\")","v":""},{"$f":"IFERROR(VLOOKUP(D481,Tabela66[#All],2,0),\"\")","v":""},{"$f":"IFERROR(VLOOKUP(D481,Tabela.cadastro[[ID]:[CP ou M]],5,0),\"\")","v":""},{"$f":"IFERROR(VLOOKUP(D481,Cadastros!A:F,6,0),\"\")","v":""},{"$f":"IFERROR(VLOOKUP(D481,Cadastros!A:I,9,0),\"\")","v":""},{"$f":"IFERROR(VLOOKUP(D481,Cadastros!A:J,10,0),\"\")","v":""},{"$f":"IF(COUNTIF(Tabela66[id],D481)=0,\"\",COUNTIF(Tabela66[id],D481))","v":""},null,"",null,null,{"$f":"IFERROR(VLOOKUP(O481,Cadastros!A:B,2),\"\")","v":""},"",{"$f":"IFERROR(VLOOKUP(O481,Cadastros!A:E,5,0),\"\")","v":""},{"$f":"IFERROR(VLOOKUP(O481,Cadastros!A:F,6,0),\"\")","v":""},{"$f":"IFERROR(VLOOKUP(O481,Cadastros!A:I,9,0),\"\")","v":""},"","","",null,{"$f":"INDEX(Tabela.abordagens[],SMALL(IF(Tabela.abordagens[Mês]=$L$2,ROW(Tabela.abordagens[id])-2),ROW(A434)),1)","v":{"$error":"#NUM!"}},{"$f":"INDEX(Tabela.abordagens[],SMALL(IF(Tabela.abordagens[Mês]=$L$2,ROW(Tabela.abordagens[Idade])-2),ROW(A434)),6)","v":{"$error":"#NUM!"}},{"$f":"INDEX(Tabela.abordagens[],SMALL(IF(Tabela.abordagens[Mês]=$L$2,ROW(Tabela.abordagens[Idade])-2),ROW(A434)),4)","v":{"$error":"#NUM!"}},{"$f":"INDEX(Tabela.abordagens[],SMALL(IF(Tabela.abordagens[Mês]=$L$2,ROW(Tabela.abordagens[Idade])-2),ROW(A434)),5)","v":{"$error":"#NUM!"}}]
[null,{"$f":"INDEX(Tabela.frequencia[],SMALL(IF(Tabela.frequencia[Mês]=$L$2,ROW(Tabela.frequencia[id])-1),ROW(A435)),1)","v":{"$error":"#NUM!"}},{"$f":"INDEX(Tabela.frequencia[],SMALL(IF(Tabela.frequencia[Mês]=$L$2,ROW(Tabela.frequencia[id])-1),ROW(A435)),4)","v":{"$error":"#NUM!"}},null,{"$f":"IFERROR(VLOOKUP(D482,Tabela.cadastro[[ID]:[Nome]],2,0),\"\")","v":""},{"$f":"IFERROR(VLOOKUP(D482,Tabela66[#All],2,0),\"\")","v":""},{"$f":"IFERROR(VLOOKUP(D482,Tabela.cadastro[[ID]:[CP ou M]],5,0),\"\")","v":""},{"$f":"IFERROR(VLOOKUP(D482,Cadastros!A:F,6,0),\"\")","v":""},{"$f":"IFERROR(VLOOKUP(D482,Cadastros!A:I,9,0),\"\")","v":""},{"$f":"IFERROR(VLOOKUP(D482,Cadastros!A:J,10,0),\"\")","v":""},{"$f":"IF(COUNTIF(Tabela66[id],D482)=0,\"\",COUNTIF(Tabela66[id],D482))","v":""},null,"",null,null,{"$f":"IFERROR(VLOOKUP(O482,Cadastros!A:B,2),\"\")","v":""},{"$f":"IFERROR(VLOOKUP(O482,$Y$33:$Z$866,2,0),\"\")","v":""},{"$f":"IFERROR(VLOOKUP(O482,Cadastros!A:E,5,0),\"\")","v":""},{"$f":"IFERROR(VLOOKUP(O482,Cadastros!A:F,6,0),\"\")","v":""},{"$f":"IFERROR(VLOOKUP(O482,Cadastros!A:I,9,0),\"\")","v":""},{"$f":"IFERROR(VLOOKUP(O482,Y$33:AB$866,3,0),\"\")","v":""},{"$f":"IFERROR(VLOOKUP(O482,Y$33:AB$866,4,0),\"\")","v":""},{"$f":"IF(COUNTIF(Y$33:Y$866,O482)=0,\"\",COUNTIF(Y$33:Y$866,O482))","v":""},null,{"$f":"INDEX(Tabela.abordagens[],SMALL(IF(Tabela.abordagens[Mês]=$L$2,ROW(Tabela.abordagens[id])-2),ROW(A435)),1)","v":{"$error":"#NUM!"}},{"$f":"INDEX(Tabela.abordagens[],SMALL(IF(Tabela.abordagens[Mês]=$L$2,ROW(Tabela.abordagens[Idade])-2),ROW(A435)),6)","v":{"$error":"#NUM!"}},{"$f":"INDEX(Tabela.abordagens[],SMALL(IF(Tabela.abordagens[Mês]=$L$2,ROW(Tabela.abordagens[Idade])-2),ROW(A435)),4)","v":{"$error":"#NUM!"}},{"$f":"INDEX(Tabela.abordagens[],SMALL(IF(Tabela.abordagens[Mês]=$L$2,ROW(Tabela.abordagens[Idade])-2),ROW(A435)),5)","v":{"$error":"#NUM!"}}]
[null,{"$f":"INDEX(Tabela.frequencia[],SMALL(IF(Tabela.frequencia[Mês]=$L$2,ROW(Tabela.frequencia[id])-1),ROW(A436)),1)","v":{"$error":"#NUM!"}},{"$f":"INDEX(Tabela.frequencia[],SMALL(IF(Tabela.frequencia[Mês]=$L$2,ROW(Tabela.frequencia[id])-1),ROW(A436)),4)","v":{"$error":"#NUM!"}},null,{"$f":"IFERROR(VLOOKUP(D483,Tabela.cadastro[[ID]:[Nome]],2,0),\"\")","v":""},{"$f":"IFERROR(VLOOKUP(D483,Tabela66[#All],2,0),\"\")","v":""},{"$f":"IFERROR(VLOOKUP(D483,Tabela.cadastro[[ID]:[CP ou M]],5,0),\"\")","v":""},{"$f":"IFERROR(VLOOKUP(D483,Cadastros!A:F,6,0),\"\")","v":""},{"$f":"IFERROR(VLOOKUP(D483,Cadastros!A:I,9,0),\"\")","v":""},{"$f":"IFERROR(VLOOKUP(D483,Cadastros!A:J,10,0),\"\")","v":""},{"$f":"IF(COUNTIF(Tabela66[id],D483)=0,\"\",COUNTIF(Tabela66[id],D483))","v":""},null,"",null,null,{"$f":"IFERROR(VLOOKUP(O483,Cadastros!A:B,2),\"\")","v":""},"",{"$f":"IFERROR(VLOOKUP(O483,Cadastros!A:E,5,0),\"\")","v":""},{"$f":"IFERROR(VLOOKUP(O483,Cadastros!A:F,6,0),\"\")","v":""},{"$f":"IFERROR(VLOOKUP(O483,Cadastros!A:I,9,0),\"\")","v":""},"","","",null,{"$f":"INDEX(Tabela.abordagens[],SMALL(IF(Tabela.abordagens[Mês]=$L$2,ROW(Tabela.abordagens[id])-2),ROW(A436)),1)","v":{"$error":"#NUM!"}},{"$f":"INDEX(Tabela.abordagens[],SMALL(IF(Tabela.abordagens[Mês]=$L$2,ROW(Tabela.abordagens[Idade])-2),ROW(A436)),6)","v":{"$error":"#NUM!"}},{"$f":"INDEX(Tabela.abordagens[],SMALL(IF(Tabela.abordagens[Mês]=$L$2,ROW(Tabela.abordagens[Idade])-2),ROW(A436)),4)","v":{"$error":"#NUM!"}},{"$f":"INDEX(Tabela.abordagens[],SMALL(IF(Tabela.abordagens[Mês]=$L$2,ROW(Tabela.abordagens[Idade])-2),ROW(A436)),5)","v":{"$error":"#NUM!"}}]
[null,{"$f":"INDEX(Tabela.frequencia[],SMALL(IF(Tabela.frequencia[Mês]=$L$2,ROW(Tabela.frequencia[id])-1),ROW(A437)),1)","v":{"$error":"#NUM!"}},{"$f":"INDEX(Tabela.frequencia[],SMALL(IF(Tabela.frequencia[Mês]=$L$2,ROW(Tabela.frequencia[id])-1),ROW(A437)),4)","v":{"$error":"#NUM!"}},null,{"$f":"IFERROR(VLOOKUP(D484,Tabela.cadastro[[ID]:[Nome]],2,0),\"\")","v":""},{"$f":"IFERROR(VLOOKUP(D484,Tabela66[#All],2,0),\"\")","v":""},{"$f":"IFERROR(VLOOKUP(D484,Tabela.cadastro[[ID]:[CP ou M]],5,0),\"\")","v":""},{"$f":"IFERROR(VLOOKUP(D484,Cadastros!A:F,6,0),\"\")","v":""},{"$f":"IFERROR(VLOOKUP(D484,Cadastros!A:I,9,0),\"\")","v":""},{"$f":"IFERROR(VLOOKUP(D484,Cadastros!A:J,10,0),\"\")","v":""},{"$f":"IF(COUNTIF(Tabela66[id],D484)=0,\"\",COUNTIF(Tabela66[id],D484))","v":""},null,"",null,null,{"$f":"IFERROR(VLOOKUP(O484,Cadastros!A:B,2),\"\")","v":""},"",{"$f":"IFERROR(VLOOKUP(O484,Cadastros!A:E,5,0),\"\")","v":""},{"$f":"IFERROR(VLOOKUP(O484,Cadastros!A:F,6,0),\"\")","v":""},{"$f":"IFERROR(VLOOKUP(O484,Cadastros!A:I,9,0),\"\")","v":""},"","","",null,{"$f":"INDEX(Tabela.abordagens[],SMALL(IF(Tabela.abordagens[Mês]=$L$2,ROW(Tabela.abordagens[id])-2),ROW(A437)),1)","v":{"$error":"#NUM!"}},{"$f":"INDEX(Tabela.abordagens[],SMALL(IF(Tabela.abordagens[Mês]=$L$2,ROW(Tabela.abordagens[Idade])-2),ROW(A437)),6)","v":{"$error":"#NUM!"}},{"$f":"INDEX(Tabela.abordagens[],SMALL(IF(Tabela.abordagens[Mês]=$L$2,ROW(Tabela.abordagens[Idade])-2),ROW(A437)),4)","v":{"$error":"#NUM!"}},{"$f":"INDEX(Tabela.abordagens[],SMALL(IF(Tabela.abordagens[Mês]=$L$2,ROW(Tabela.abordagens[Idade])-2),ROW(A437)),5)","v":{"$error":"#NUM!"}}]
[null,{"$f":"INDEX(Tabela.frequencia[],SMALL(IF(Tabela.frequencia[Mês]=$L$2,ROW(Tabela.frequencia[id])-1),ROW(A438)),1)","v":{"$error":"#NUM!"}},{"$f":"INDEX(Tabela.frequencia[],SMALL(IF(Tabela.frequencia[Mês]=$L$2,ROW(Tabela.frequencia[id])-1),ROW(A438)),4)","v":{"$error":"#NUM!"}},null,{"$f":"IFERROR(VLOOKUP(D485,Tabela.cadastro[[ID]:[Nome]],2,0),\"\")","v":""},{"$f":"IFERROR(VLOOKUP(D485,Tabela66[#All],2,0),\"\")","v":""},{"$f":"IFERROR(VLOOKUP(D485,Tabela.cadastro[[ID]:[CP ou M]],5,0),\"\")","v":""},{"$f":"IFERROR(VLOOKUP(D485,Cadastros!A:F,6,0),\"\")","v":""},{"$f":"IFERROR(VLOOKUP(D485,Cadastros!A:I,9,0),\"\")","v":""},{"$f":"IFERROR(VLOOKUP(D485,Cadastros!A:J,10,0),\"\")","v":""},{"$f":"IF(COUNTIF(Tabela66[id],D485)=0,\"\",COUNTIF(Tabela66[id],D485))","v":""},null,"",null,null,{"$f":"IFERROR(VLOOKUP(O485,Cadastros!A:B,2),\"\")","v":""},"",{"$f":"IFERROR(VLOOKUP(O485,Cadastros!A:E,5,0),\"\")","v":""},{"$f":"IFERROR(VLOOKUP(O485,Cadastros!A:F,6,0),\"\")","v":""},{"$f":"IFERROR(VLOOKUP(O485,Cadastros!A:I,9,0),\"\")","v":""},"","","",null,{"$f":"INDEX(Tabela.abordagens[],SMALL(IF(Tabela.abordagens[Mês]=$L$2,ROW(Tabela.abordagens[id])-2),ROW(A438)),1)","v":{"$error":"#NUM!"}},{"$f":"INDEX(Tabela.abordagens[],SMALL(IF(Tabela.abordagens[Mês]=$L$2,ROW(Tabela.abordagens[Idade])-2),ROW(A438)),6)","v":{"$error":"#NUM!"}},{"$f":"INDEX(Tabela.abordagens[],SMALL(IF(Tabela.abordagens[Mês]=$L$2,ROW(Tabela.abordagens[Idade])-2),ROW(A438)),4)","v":{"$error":"#NUM!"}},{"$f":"INDEX(Tabela.abordagens[],SMALL(IF(Tabela.abordagens[Mês]=$L$2,ROW(Tabela.abordagens[Idade])-2),ROW(A438)),5)","v":{"$error":"#NUM!"}}]
[null,{"$f":"INDEX(Tabela.frequencia[],SMALL(IF(Tabela.frequencia[Mês]=$L$2,ROW(Tabela.frequencia[id])-1),ROW(A439)),1)","v":{"$error":"#NUM!"}},{"$f":"INDEX(Tabela.frequencia[],SMALL(IF(Tabela.frequencia[Mês]=$L$2,ROW(Tabela.frequencia[id])-1),ROW(A439)),4)","v":{"$error":"#NUM!"}},null,{"$f":"IFERROR(VLOOKUP(D486,Tabela.cadastro[[ID]:[Nome]],2,0),\"\")","v":""},{"$f":"IFERROR(VLOOKUP(D486,Tabela66[#All],2,0),\"\")","v":""},{"$f":"IFERROR(VLOOKUP(D486,Tabela.cadastro[[ID]:[CP ou M]],5,0),\"\")","v":""},{"$f":"IFERROR(VLOOKUP(D486,Cadastros!A:F,6,0),\"\")","v":""},{"$f":"IFERROR(VLOOKUP(D486,Cadastros!A:I,9,0),\"\")","v":""},{"$f":"IFERROR(VLOOKUP(D486,Cadastros!A:J,10,0),\"\")","v":""},{"$f":"IF(COUNTIF(Tabela66[id],D486)=0,\"\",COUNTIF(Tabela66[id],D486))","v":""},null,"",null,null,{"$f":"IFERROR(VLOOKUP(O486,Cadastros!A:B,2),\"\")","v":""},"",{"$f":"IFERROR(VLOOKUP(O486,Cadastros!A:E,5,0),\"\")","v":""},{"$f":"IFERROR(VLOOKUP(O486,Cadastros!A:F,6,0),\"\")","v":""},{"$f":"IFERROR(VLOOKUP(O486,Cadastros!A:I,9,0),\"\")","v":""},"","","",null,{"$f":"INDEX(Tabela.abordagens[],SMALL(IF(Tabela.abordagens[Mês]=$L$2,ROW(Tabela.abordagens[id])-2),ROW(A439)),1)","v":{"$error":"#NUM!"}},{"$f":"INDEX(Tabela.abordagens[],SMALL(IF(Tabela.abordagens[Mês]=$L$2,ROW(Tabela.abordagens[Idade])-2),ROW(A439)),6)","v":{"$error":"#NUM!"}},{"$f":"INDEX(Tabela.abordagens[],SMALL(IF(Tabela.abordagens[Mês]=$L$2,ROW(Tabela.abordagens[Idade])-2),ROW(A439)),4)","v":{"$error":"#NUM!"}},{"$f":"INDEX(Tabela.abordagens[],SMALL(IF(Tabela.abordagens[Mês]=$L$2,ROW(Tabela.abordagens[Idade])-2),ROW(A439)),5)","v":{"$error":"#NUM!"}}]
[null,{"$f":"INDEX(Tabela.frequencia[],SMALL(IF(Tabela.frequencia[Mês]=$L$2,ROW(Tabela.frequencia[id])-1),ROW(A440)),1)","v":{"$error":"#NUM!"}},{"$f":"INDEX(Tabela.frequencia[],SMALL(IF(Tabela.frequencia[Mês]=$L$2,ROW(Tabela.frequencia[id])-1),ROW(A440)),4)","v":{"$error":"#NUM!"}},null,{"$f":"IFERROR(VLOOKUP(D487,Tabela.cadastro[[ID]:[Nome]],2,0),\"\")","v":""},{"$f":"IFERROR(VLOOKUP(D487,Tabela66[#All],2,0),\"\")","v":""},{"$f":"IFERROR(VLOOKUP(D487,Tabela.cadastro[[ID]:[CP ou M]],5,0),\"\")","v":""},{"$f":"IFERROR(VLOOKUP(D487,Cadastros!A:F,6,0),\"\")","v":""},{"$f":"IFERROR(VLOOKUP(D487,Cadastros!A:I,9,0),\"\")","v":""},{"$f":"IFERROR(VLOOKUP(D487,Cadastros!A:J,10,0),\"\")","v":""},{"$f":"IF(COUNTIF(Tabela66[id],D487)=0,\"\",COUNTIF(Tabela66[id],D487))","v":""},null,"",null,null,{"$f":"IFERROR(VLOOKUP(O487,Cadastros!A:B,2),\"\")","v":""},"",{"$f":"IFERROR(VLOOKUP(O487,Cadastros!A:E,5,0),\"\")","v":""},{"$f":"IFERROR(VLOOKUP(O487,Cadastros!A:F,6,0),\"\")","v":""},{"$f":"IFERROR(VLOOKUP(O487,Cadastros!A:I,9,0),\"\")","v":""},"","","",null,{"$f":"INDEX(Tabela.abordagens[],SMALL(IF(Tabela.abordagens[Mês]=$L$2,ROW(Tabela.abordagens[id])-2),ROW(A440)),1)","v":{"$error":"#NUM!"}},{"$f":"INDEX(Tabela.abordagens[],SMALL(IF(Tabela.abordagens[Mês]=$L$2,ROW(Tabela.abordagens[Idade])-2),ROW(A440)),6)","v":{"$error":"#NUM!"}},{"$f":"INDEX(Tabela.abordagens[],SMALL(IF(Tabela.abordagens[Mês]=$L$2,ROW(Tabela.abordagens[Idade])-2),ROW(A440)),4)","v":{"$error":"#NUM!"}},{"$f":"INDEX(Tabela.abordagens[],SMALL(IF(Tabela.abordagens[Mês]=$L$2,ROW(Tabela.abordagens[Idade])-2),ROW(A440)),5)","v":{"$error":"#NUM!"}}]
[null,{"$f":"INDEX(Tabela.frequencia[],SMALL(IF(Tabela.frequencia[Mês]=$L$2,ROW(Tabela.frequencia[id])-1),ROW(A441)),1)","v":{"$error":"#NUM!"}},{"$f":"INDEX(Tabela.frequencia[],SMALL(IF(Tabela.frequencia[Mês]=$L$2,ROW(Tabela.frequencia[id])-1),ROW(A441)),4)","v":{"$error":"#NUM!"}},null,{"$f":"IFERROR(VLOOKUP(D488,Tabela.cadastro[[ID]:[Nome]],2,0),\"\")","v":""},{"$f":"IFERROR(VLOOKUP(D488,Tabela66[#All],2,0),\"\")","v":""},{"$f":"IFERROR(VLOOKUP(D488,Tabela.cadastro[[ID]:[CP ou M]],5,0),\"\")","v":""},{"$f":"IFERROR(VLOOKUP(D488,Cadastros!A:F,6,0),\"\")","v":""},{"$f":"IFERROR(VLOOKUP(D488,Cadastros!A:I,9,0),\"\")","v":""},{"$f":"IFERROR(VLOOKUP(D488,Cadastros!A:J,10,0),\"\")","v":""},{"$f":"IF(COUNTIF(Tabela66[id],D488)=0,\"\",COUNTIF(Tabela66[id],D488))","v":""},null,"",null,null,{"$f":"IFERROR(VLOOKUP(O488,Cadastros!A:B,2),\"\")","v":""},"",{"$f":"IFERROR(VLOOKUP(O488,Cadastros!A:E,5,0),\"\")","v":""},{"$f":"IFERROR(VLOOKUP(O488,Cadastros!A:F,6,0),\"\")","v":""},{"$f":"IFERROR(VLOOKUP(O488,Cadastros!A:I,9,0),\"\")","v":""},"","","",null,{"$f":"INDEX(Tabela.abordagens[],SMALL(IF(Tabela.abordagens[Mês]=$L$2,ROW(Tabela.abordagens[id])-2),ROW(A441)),1)","v":{"$error":"#NUM!"}},{"$f":"INDEX(Tabela.abordagens[],SMALL(IF(Tabela.abordagens[Mês]=$L$2,ROW(Tabela.abordagens[Idade])-2),ROW(A441)),6)","v":{"$error":"#NUM!"}},{"$f":"INDEX(Tabela.abordagens[],SMALL(IF(Tabela.abordagens[Mês]=$L$2,ROW(Tabela.abordagens[Idade])-2),ROW(A441)),4)","v":{"$error":"#NUM!"}},{"$f":"INDEX(Tabela.abordagens[],SMALL(IF(Tabela.abordagens[Mês]=$L$2,ROW(Tabela.abordagens[Idade])-2),ROW(A441)),5)","v":{"$error":"#NUM!"}}]
[null,{"$f":"INDEX(Tabela.frequencia[],SMALL(IF(Tabela.frequencia[Mês]=$L$2,ROW(Tabela.frequencia[id])-1),ROW(A442)),1)","v":{"$error":"#NUM!"}},{"$f":"INDEX(Tabela.frequencia[],SMALL(IF(Tabela.frequencia[Mês]=$L$2,ROW(Tabela.frequencia[id])-1),ROW(A442)),4)","v":{"$error":"#NUM!"}},null,{"$f":"IFERROR(VLOOKUP(D489,Tabela.cadastro[[ID]:[Nome]],2,0),\"\")","v":""},{"$f":"IFERROR(VLOOKUP(D489,Tabela66[#All],2,0),\"\")","v":""},{"$f":"IFERROR(VLOOKUP(D489,Tabela.cadastro[[ID]:[CP ou M]],5,0),\"\")","v":""},{"$f":"IFERROR(VLOOKUP(D489,Cadastros!A:F,6,0),\"\")","v":""},{"$f":"IFERROR(VLOOKUP(D489,Cadastros!A:I,9,0),\"\")","v":""},{"$f":"IFERROR(VLOOKUP(D489,Cadastros!A:J,10,0),\"\")","v":""},{"$f":"IF(COUNTIF(Tabela66[id],D489)=0,\"\",COUNTIF(Tabela66[id],D489))","v":""},null,"",null,null,{"$f":"IFERROR(VLOOKUP(O489,Cadastros!A:B,2),\"\")","v":""},"",{"$f":"IFERROR(VLOOKUP(O489,Cadastros!A:E,5,0),\"\")","v":""},{"$f":"IFERROR(VLOOKUP(O489,Cadastros!A:F,6,0),\"\")","v":""},{"$f":"IFERROR(VLOOKUP(O489,Cadastros!A:I,9,0),\"\")","v":""},"","","",null,{"$f":"INDEX(Tabela.abordagens[],SMALL(IF(Tabela.abordagens[Mês]=$L$2,ROW(Tabela.abordagens[id])-2),ROW(A442)),1)","v":{"$error":"#NUM!"}},{"$f":"INDEX(Tabela.abordagens[],SMALL(IF(Tabela.abordagens[Mês]=$L$2,ROW(Tabela.abordagens[Idade])-2),ROW(A442)),6)","v":{"$error":"#NUM!"}},{"$f":"INDEX(Tabela.abordagens[],SMALL(IF(Tabela.abordagens[Mês]=$L$2,ROW(Tabela.abordagens[Idade])-2),ROW(A442)),4)","v":{"$error":"#NUM!"}},{"$f":"INDEX(Tabela.abordagens[],SMALL(IF(Tabela.abordagens[Mês]=$L$2,ROW(Tabela.abordagens[Idade])-2),ROW(A442)),5)","v":{"$error":"#NUM!"}}]
[null,{"$f":"INDEX(Tabela.frequencia[],SMALL(IF(Tabela.frequencia[Mês]=$L$2,ROW(Tabela.frequencia[id])-1),ROW(A443)),1)","v":{"$error":"#NUM!"}},{"$f":"INDEX(Tabela.frequencia[],SMALL(IF(Tabela.frequencia[Mês]=$L$2,ROW(Tabela.frequencia[id])-1),ROW(A443)),4)","v":{"$error":"#NUM!"}},null,{"$f":"IFERROR(VLOOKUP(D490,Tabela.cadastro[[ID]:[Nome]],2,0),\"\")","v":""},{"$f":"IFERROR(VLOOKUP(D490,Tabela66[#All],2,0),\"\")","v":""},{"$f":"IFERROR(VLOOKUP(D490,Tabela.cadastro[[ID]:[CP ou M]],5,0),\"\")","v":""},{"$f":"IFERROR(VLOOKUP(D490,Cadastros!A:F,6,0),\"\")","v":""},{"$f":"IFERROR(VLOOKUP(D490,Cadastros!A:I,9,0),\"\")","v":""},{"$f":"IFERROR(VLOOKUP(D490,Cadastros!A:J,10,0),\"\")","v":""},{"$f":"IF(COUNTIF(Tabela66[id],D490)=0,\"\",COUNTIF(Tabela66[id],D490))","v":""},null,{"$f":"IF(AND(K490:K1321>=5,L490:L1321=\"Não\"),\"*\",\"\")","v":""},null,null,{"$f":"IFERROR(VLOOKUP(O490,Cadastros!A:B,2),\"\")","v":""},"",{"$f":"IFERROR(VLOOKUP(O490,Cadastros!A:E,5,0),\"\")","v":""},{"$f":"IFERROR(VLOOKUP(O490,Cadastros!A:F,6,0),\"\")","v":""},{"$f":"IFERROR(VLOOKUP(O490,Cadastros!A:I,9,0),\"\")","v":""},"","","",null,{"$f":"INDEX(Tabela.abordagens[],SMALL(IF(Tabela.abordagens[Mês]=$L$2,ROW(Tabela.abordagens[id])-2),ROW(A443)),1)","v":{"$error":"#NUM!"}},{"$f":"INDEX(Tabela.abordagens[],SMALL(IF(Tabela.abordagens[Mês]=$L$2,ROW(Tabela.abordagens[Idade])-2),ROW(A443)),6)","v":{"$error":"#NUM!"}},{"$f":"INDEX(Tabela.abordagens[],SMALL(IF(Tabela.abordagens[Mês]=$L$2,ROW(Tabela.abordagens[Idade])-2),ROW(A443)),4)","v":{"$error":"#NUM!"}},{"$f":"INDEX(Tabela.abordagens[],SMALL(IF(Tabela.abordagens[Mês]=$L$2,ROW(Tabela.abordagens[Idade])-2),ROW(A443)),5)","v":{"$error":"#NUM!"}}]
[null,{"$f":"INDEX(Tabela.frequencia[],SMALL(IF(Tabela.frequencia[Mês]=$L$2,ROW(Tabela.frequencia[id])-1),ROW(A444)),1)","v":{"$error":"#NUM!"}},{"$f":"INDEX(Tabela.frequencia[],SMALL(IF(Tabela.frequencia[Mês]=$L$2,ROW(Tabela.frequencia[id])-1),ROW(A444)),4)","v":{"$error":"#NUM!"}},null,{"$f":"IFERROR(VLOOKUP(D491,Tabela.cadastro[[ID]:[Nome]],2,0),\"\")","v":""},{"$f":"IFERROR(VLOOKUP(D491,Tabela66[#All],2,0),\"\")","v":""},{"$f":"IFERROR(VLOOKUP(D491,Tabela.cadastro[[ID]:[CP ou M]],5,0),\"\")","v":""},{"$f":"IFERROR(VLOOKUP(D491,Cadastros!A:F,6,0),\"\")","v":""},{"$f":"IFERROR(VLOOKUP(D491,Cadastros!A:I,9,0),\"\")","v":""},{"$f":"IFERROR(VLOOKUP(D491,Cadastros!A:J,10,0),\"\")","v":""},{"$f":"IF(COUNTIF(Tabela66[id],D491)=0,\"\",COUNTIF(Tabela66[id],D491))","v":""},null,"",null,null,{"$f":"IFERROR(VLOOKUP(O491,Cadastros!A:B,2),\"\")","v":""},"",{"$f":"IFERROR(VLOOKUP(O491,Cadastros!A:E,5,0),\"\")","v":""},{"$f":"IFERROR(VLOOKUP(O491,Cadastros!A:F,6,0),\"\")","v":""},{"$f":"IFERROR(VLOOKUP(O491,Cadastros!A:I,9,0),\"\")","v":""},"","","",null,{"$f":"INDEX(Tabela.abordagens[],SMALL(IF(Tabela.abordagens[Mês]=$L$2,ROW(Tabela.abordagens[id])-2),ROW(A444)),1)","v":{"$error":"#NUM!"}},{"$f":"INDEX(Tabela.abordagens[],SMALL(IF(Tabela.abordagens[Mês]=$L$2,ROW(Tabela.abordagens[Idade])-2),ROW(A444)),6)","v":{"$error":"#NUM!"}},{"$f":"INDEX(Tabela.abordagens[],SMALL(IF(Tabela.abordagens[Mês]=$L$2,ROW(Tabela.abordagens[Idade])-2),ROW(A444)),4)","v":{"$error":"#NUM!"}},{"$f":"INDEX(Tabela.abordagens[],SMALL(IF(Tabela.abordagens[Mês]=$L$2,ROW(Tabela.abordagens[Idade])-2),ROW(A444)),5)","v":{"$error":"#NUM!"}}]
[null,{"$f":"INDEX(Tabela.frequencia[],SMALL(IF(Tabela.frequencia[Mês]=$L$2,ROW(Tabela.frequencia[id])-1),ROW(A445)),1)","v":{"$error":"#NUM!"}},{"$f":"INDEX(Tabela.frequencia[],SMALL(IF(Tabela.frequencia[Mês]=$L$2,ROW(Tabela.frequencia[id])-1),ROW(A445)),4)","v":{"$error":"#NUM!"}},null,{"$f":"IFERROR(VLOOKUP(D492,Tabela.cadastro[[ID]:[Nome]],2,0),\"\")","v":""},{"$f":"IFERROR(VLOOKUP(D492,Tabela66[#All],2,0),\"\")","v":""},{"$f":"IFERROR(VLOOKUP(D492,Tabela.cadastro[[ID]:[CP ou M]],5,0),\"\")","v":""},{"$f":"IFERROR(VLOOKUP(D492,Cadastros!A:F,6,0),\"\")","v":""},{"$f":"IFERROR(VLOOKUP(D492,Cadastros!A:I,9,0),\"\")","v":""},{"$f":"IFERROR(VLOOKUP(D492,Cadastros!A:J,10,0),\"\")","v":""},{"$f":"IF(COUNTIF(Tabela66[id],D492)=0,\"\",COUNTIF(Tabela66[id],D492))","v":""},null,"",null,null,{"$f":"IFERROR(VLOOKUP(O492,Cadastros!A:B,2),\"\")","v":""},"",{"$f":"IFERROR(VLOOKUP(O492,Cadastros!A:E,5,0),\"\")","v":""},{"$f":"IFERROR(VLOOKUP(O492,Cadastros!A:F,6,0),\"\")","v":""},{"$f":"IFERROR(VLOOKUP(O492,Cadastros!A:I,9,0),\"\")","v":""},"","","",null,{"$f":"INDEX(Tabela.abordagens[],SMALL(IF(Tabela.abordagens[Mês]=$L$2,ROW(Tabela.abordagens[id])-2),ROW(A445)),1)","v":{"$error":"#NUM!"}},{"$f":"INDEX(Tabela.abordagens[],SMALL(IF(Tabela.abordagens[Mês]=$L$2,ROW(Tabela.abordagens[Idade])-2),ROW(A445)),6)","v":{"$error":"#NUM!"}},{"$f":"INDEX(Tabela.abordagens[],SMALL(IF(Tabela.abordagens[Mês]=$L$2,ROW(Tabela.abordagens[Idade])-2),ROW(A445)),4)","v":{"$error":"#NUM!"}},{"$f":"INDEX(Tabela.abordagens[],SMALL(IF(Tabela.abordagens[Mês]=$L$2,ROW(Tabela.abordagens[Idade])-2),ROW(A445)),5)","v":{"$error":"#NUM!"}}]
[null,{"$f":"INDEX(Tabela.frequencia[],SMALL(IF(Tabela.frequencia[Mês]=$L$2,ROW(Tabela.frequencia[id])-1),ROW(A446)),1)","v":{"$error":"#NUM!"}},{"$f":"INDEX(Tabela.frequencia[],SMALL(IF(Tabela.frequencia[Mês]=$L$2,ROW(Tabela.frequencia[id])-1),ROW(A446)),4)","v":{"$error":"#NUM!"}},null,{"$f":"IFERROR(VLOOKUP(D493,Tabela.cadastro[[ID]:[Nome]],2,0),\"\")","v":""},{"$f":"IFERROR(VLOOKUP(D493,Tabela66[#All],2,0),\"\")","v":""},{"$f":"IFERROR(VLOOKUP(D493,Tabela.cadastro[[ID]:[CP ou M]],5,0),\"\")","v":""},{"$f":"IFERROR(VLOOKUP(D493,Cadastros!A:F,6,0),\"\")","v":""},{"$f":"IFERROR(VLOOKUP(D493,Cadastros!A:I,9,0),\"\")","v":""},{"$f":"IFERROR(VLOOKUP(D493,Cadastros!A:J,10,0),\"\")","v":""},{"$f":"IF(COUNTIF(Tabela66[id],D493)=0,\"\",COUNTIF(Tabela66[id],D493))","v":""},null,"",null,null,{"$f":"IFERROR(VLOOKUP(O493,Cadastros!A:B,2),\"\")","v":""},"",{"$f":"IFERROR(VLOOKUP(O493,Cadastros!A:E,5,0),\"\")","v":""},{"$f":"IFERROR(VLOOKUP(O493,Cadastros!A:F,6,0),\"\")","v":""},{"$f":"IFERROR(VLOOKUP(O493,Cadastros!A:I,9,0),\"\")","v":""},"","","",null,{"$f":"INDEX(Tabela.abordagens[],SMALL(IF(Tabela.abordagens[Mês]=$L$2,ROW(Tabela.abordagens[id])-2),ROW(A446)),1)","v":{"$error":"#NUM!"}},{"$f":"INDEX(Tabela.abordagens[],SMALL(IF(Tabela.abordagens[Mês]=$L$2,ROW(Tabela.abordagens[Idade])-2),ROW(A446)),6)","v":{"$error":"#NUM!"}},{"$f":"INDEX(Tabela.abordagens[],SMALL(IF(Tabela.abordagens[Mês]=$L$2,ROW(Tabela.abordagens[Idade])-2),ROW(A446)),4)","v":{"$error":"#NUM!"}},{"$f":"INDEX(Tabela.abordagens[],SMALL(IF(Tabela.abordagens[Mês]=$L$2,ROW(Tabela.abordagens[Idade])-2),ROW(A446)),5)","v":{"$error":"#NUM!"}}]
[null,{"$f":"INDEX(Tabela.frequencia[],SMALL(IF(Tabela.frequencia[Mês]=$L$2,ROW(Tabela.frequencia[id])-1),ROW(A447)),1)","v":{"$error":"#NUM!"}},{"$f":"INDEX(Tabela.frequencia[],SMALL(IF(Tabela.frequencia[Mês]=$L$2,ROW(Tabela.frequencia[id])-1),ROW(A447)),4)","v":{"$error":"#NUM!"}},null,{"$f":"IFERROR(VLOOKUP(D494,Tabela.cadastro[[ID]:[Nome]],2,0),\"\")","v":""},{"$f":"IFERROR(VLOOKUP(D494,Tabela66[#All],2,0),\"\")","v":""},{"$f":"IFERROR(VLOOKUP(D494,Tabela.cadastro[[ID]:[CP ou M]],5,0),\"\")","v":""},{"$f":"IFERROR(VLOOKUP(D494,Cadastros!A:F,6,0),\"\")","v":""},{"$f":"IFERROR(VLOOKUP(D494,Cadastros!A:I,9,0),\"\")","v":""},{"$f":"IFERROR(VLOOKUP(D494,Cadastros!A:J,10,0),\"\")","v":""},{"$f":"IF(COUNTIF(Tabela66[id],D494)=0,\"\",COUNTIF(Tabela66[id],D494))","v":""},null,"",null,null,{"$f":"IFERROR(VLOOKUP(O494,Cadastros!A:B,2),\"\")","v":""},"",{"$f":"IFERROR(VLOOKUP(O494,Cadastros!A:E,5,0),\"\")","v":""},{"$f":"IFERROR(VLOOKUP(O494,Cadastros!A:F,6,0),\"\")","v":""},{"$f":"IFERROR(VLOOKUP(O494,Cadastros!A:I,9,0),\"\")","v":""},"","","",null,{"$f":"INDEX(Tabela.abordagens[],SMALL(IF(Tabela.abordagens[Mês]=$L$2,ROW(Tabela.abordagens[id])-2),ROW(A447)),1)","v":{"$error":"#NUM!"}},{"$f":"INDEX(Tabela.abordagens[],SMALL(IF(Tabela.abordagens[Mês]=$L$2,ROW(Tabela.abordagens[Idade])-2),ROW(A447)),6)","v":{"$error":"#NUM!"}},{"$f":"INDEX(Tabela.abordagens[],SMALL(IF(Tabela.abordagens[Mês]=$L$2,ROW(Tabela.abordagens[Idade])-2),ROW(A447)),4)","v":{"$error":"#NUM!"}},{"$f":"INDEX(Tabela.abordagens[],SMALL(IF(Tabela.abordagens[Mês]=$L$2,ROW(Tabela.abordagens[Idade])-2),ROW(A447)),5)","v":{"$error":"#NUM!"}}]
[null,{"$f":"INDEX(Tabela.frequencia[],SMALL(IF(Tabela.frequencia[Mês]=$L$2,ROW(Tabela.frequencia[id])-1),ROW(A448)),1)","v":{"$error":"#NUM!"}},{"$f":"INDEX(Tabela.frequencia[],SMALL(IF(Tabela.frequencia[Mês]=$L$2,ROW(Tabela.frequencia[id])-1),ROW(A448)),4)","v":{"$error":"#NUM!"}},null,{"$f":"IFERROR(VLOOKUP(D495,Tabela.cadastro[[ID]:[Nome]],2,0),\"\")","v":""},{"$f":"IFERROR(VLOOKUP(D495,Tabela66[#All],2,0),\"\")","v":""},{"$f":"IFERROR(VLOOKUP(D495,Tabela.cadastro[[ID]:[CP ou M]],5,0),\"\")","v":""},{"$f":"IFERROR(VLOOKUP(D495,Cadastros!A:F,6,0),\"\")","v":""},{"$f":"IFERROR(VLOOKUP(D495,Cadastros!A:I,9,0),\"\")","v":""},{"$f":"IFERROR(VLOOKUP(D495,Cadastros!A:J,10,0),\"\")","v":""},{"$f":"IF(COUNTIF(Tabela66[id],D495)=0,\"\",COUNTIF(Tabela66[id],D495))","v":""},null,"",null,null,{"$f":"IFERROR(VLOOKUP(O495,Cadastros!A:B,2),\"\")","v":""},"",{"$f":"IFERROR(VLOOKUP(O495,Cadastros!A:E,5,0),\"\")","v":""},{"$f":"IFERROR(VLOOKUP(O495,Cadastros!A:F,6,0),\"\")","v":""},{"$f":"IFERROR(VLOOKUP(O495,Cadastros!A:I,9,0),\"\")","v":""},"","","",null,{"$f":"INDEX(Tabela.abordagens[],SMALL(IF(Tabela.abordagens[Mês]=$L$2,ROW(Tabela.abordagens[id])-2),ROW(A448)),1)","v":{"$error":"#NUM!"}},{"$f":"INDEX(Tabela.abordagens[],SMALL(IF(Tabela.abordagens[Mês]=$L$2,ROW(Tabela.abordagens[Idade])-2),ROW(A448)),6)","v":{"$error":"#NUM!"}},{"$f":"INDEX(Tabela.abordagens[],SMALL(IF(Tabela.abordagens[Mês]=$L$2,ROW(Tabela.abordagens[Idade])-2),ROW(A448)),4)","v":{"$error":"#NUM!"}},{"$f":"INDEX(Tabela.abordagens[],SMALL(IF(Tabela.abordagens[Mês]=$L$2,ROW(Tabela.abordagens[Idade])-2),ROW(A448)),5)","v":{"$error":"#NUM!"}}]
[null,{"$f":"INDEX(Tabela.frequencia[],SMALL(IF(Tabela.frequencia[Mês]=$L$2,ROW(Tabela.frequencia[id])-1),ROW(A449)),1)","v":{"$error":"#NUM!"}},{"$f":"INDEX(Tabela.frequencia[],SMALL(IF(Tabela.frequencia[Mês]=$L$2,ROW(Tabela.frequencia[id])-1),ROW(A449)),4)","v":{"$error":"#NUM!"}},null,{"$f":"IFERROR(VLOOKUP(D496,Tabela.cadastro[[ID]:[Nome]],2,0),\"\")","v":""},{"$f":"IFERROR(VLOOKUP(D496,Tabela66[#All],2,0),\"\")","v":""},{"$f":"IFERROR(VLOOKUP(D496,Tabela.cadastro[[ID]:[CP ou M]],5,0),\"\")","v":""},{"$f":"IFERROR(VLOOKUP(D496,Cadastros!A:F,6,0),\"\")","v":""},{"$f":"IFERROR(VLOOKUP(D496,Cadastros!A:I,9,0),\"\")","v":""},{"$f":"IFERROR(VLOOKUP(D496,Cadastros!A:J,10,0),\"\")","v":""},{"$f":"IF(COUNTIF(Tabela66[id],D496)=0,\"\",COUNTIF(Tabela66[id],D496))","v":""},null,"",null,null,{"$f":"IFERROR(VLOOKUP(O496,Cadastros!A:B,2),\"\")","v":""},"",{"$f":"IFERROR(VLOOKUP(O496,Cadastros!A:E,5,0),\"\")","v":""},{"$f":"IFERROR(VLOOKUP(O496,Cadastros!A:F,6,0),\"\")","v":""},{"$f":"IFERROR(VLOOKUP(O496,Cadastros!A:I,9,0),\"\")","v":""},"","","",null,{"$f":"INDEX(Tabela.abordagens[],SMALL(IF(Tabela.abordagens[Mês]=$L$2,ROW(Tabela.abordagens[id])-2),ROW(A449)),1)","v":{"$error":"#NUM!"}},{"$f":"INDEX(Tabela.abordagens[],SMALL(IF(Tabela.abordagens[Mês]=$L$2,ROW(Tabela.abordagens[Idade])-2),ROW(A449)),6)","v":{"$error":"#NUM!"}},{"$f":"INDEX(Tabela.abordagens[],SMALL(IF(Tabela.abordagens[Mês]=$L$2,ROW(Tabela.abordagens[Idade])-2),ROW(A449)),4)","v":{"$error":"#NUM!"}},{"$f":"INDEX(Tabela.abordagens[],SMALL(IF(Tabela.abordagens[Mês]=$L$2,ROW(Tabela.abordagens[Idade])-2),ROW(A449)),5)","v":{"$error":"#NUM!"}}]
[null,{"$f":"INDEX(Tabela.frequencia[],SMALL(IF(Tabela.frequencia[Mês]=$L$2,ROW(Tabela.frequencia[id])-1),ROW(A450)),1)","v":{"$error":"#NUM!"}},{"$f":"INDEX(Tabela.frequencia[],SMALL(IF(Tabela.frequencia[Mês]=$L$2,ROW(Tabela.frequencia[id])-1),ROW(A450)),4)","v":{"$error":"#NUM!"}},null,{"$f":"IFERROR(VLOOKUP(D497,Tabela.cadastro[[ID]:[Nome]],2,0),\"\")","v":""},{"$f":"IFERROR(VLOOKUP(D497,Tabela66[#All],2,0),\"\")","v":""},{"$f":"IFERROR(VLOOKUP(D497,Tabela.cadastro[[ID]:[CP ou M]],5,0),\"\")","v":""},{"$f":"IFERROR(VLOOKUP(D497,Cadastros!A:F,6,0),\"\")","v":""},{"$f":"IFERROR(VLOOKUP(D497,Cadastros!A:I,9,0),\"\")","v":""},{"$f":"IFERROR(VLOOKUP(D497,Cadastros!A:J,10,0),\"\")","v":""},{"$f":"IF(COUNTIF(Tabela66[id],D497)=0,\"\",COUNTIF(Tabela66[id],D497))","v":""},null,"",null,null,{"$f":"IFERROR(VLOOKUP(O497,Cadastros!A:B,2),\"\")","v":""},"",{"$f":"IFERROR(VLOOKUP(O497,Cadastros!A:E,5,0),\"\")","v":""},{"$f":"IFERROR(VLOOKUP(O497,Cadastros!A:F,6,0),\"\")","v":""},{"$f":"IFERROR(VLOOKUP(O497,Cadastros!A:I,9,0),\"\")","v":""},"","","",null,{"$f":"INDEX(Tabela.abordagens[],SMALL(IF(Tabela.abordagens[Mês]=$L$2,ROW(Tabela.abordagens[id])-2),ROW(A450)),1)","v":{"$error":"#NUM!"}},{"$f":"INDEX(Tabela.abordagens[],SMALL(IF(Tabela.abordagens[Mês]=$L$2,ROW(Tabela.abordagens[Idade])-2),ROW(A450)),6)","v":{"$error":"#NUM!"}},{"$f":"INDEX(Tabela.abordagens[],SMALL(IF(Tabela.abordagens[Mês]=$L$2,ROW(Tabela.abordagens[Idade])-2),ROW(A450)),4)","v":{"$error":"#NUM!"}},{"$f":"INDEX(Tabela.abordagens[],SMALL(IF(Tabela.abordagens[Mês]=$L$2,ROW(Tabela.abordagens[Idade])-2),ROW(A450)),5)","v":{"$error":"#NUM!"}}]
[null,{"$f":"INDEX(Tabela.frequencia[],SMALL(IF(Tabela.frequencia[Mês]=$L$2,ROW(Tabela.frequencia[id])-1),ROW(A451)),1)","v":{"$error":"#NUM!"}},{"$f":"INDEX(Tabela.frequencia[],SMALL(IF(Tabela.frequencia[Mês]=$L$2,ROW(Tabela.frequencia[id])-1),ROW(A451)),4)","v":{"$error":"#NUM!"}},null,{"$f":"IFERROR(VLOOKUP(D498,Tabela.cadastro[[ID]:[Nome]],2,0),\"\")","v":""},{"$f":"IFERROR(VLOOKUP(D498,Tabela66[#All],2,0),\"\")","v":""},{"$f":"IFERROR(VLOOKUP(D498,Tabela.cadastro[[ID]:[CP ou M]],5,0),\"\")","v":""},{"$f":"IFERROR(VLOOKUP(D498,Cadastros!A:F,6,0),\"\")","v":""},{"$f":"IFERROR(VLOOKUP(D498,Cadastros!A:I,9,0),\"\")","v":""},{"$f":"IFERROR(VLOOKUP(D498,Cadastros!A:J,10,0),\"\")","v":""},{"$f":"IF(COUNTIF(Tabela66[id],D498)=0,\"\",COUNTIF(Tabela66[id],D498))","v":""},null,"",null,null,{"$f":"IFERROR(VLOOKUP(O498,Cadastros!A:B,2),\"\")","v":""},"",{"$f":"IFERROR(VLOOKUP(O498,Cadastros!A:E,5,0),\"\")","v":""},{"$f":"IFERROR(VLOOKUP(O498,Cadastros!A:F,6,0),\"\")","v":""},{"$f":"IFERROR(VLOOKUP(O498,Cadastros!A:I,9,0),\"\")","v":""},"","","",null,{"$f":"INDEX(Tabela.abordagens[],SMALL(IF(Tabela.abordagens[Mês]=$L$2,ROW(Tabela.abordagens[id])-2),ROW(A451)),1)","v":{"$error":"#NUM!"}},{"$f":"INDEX(Tabela.abordagens[],SMALL(IF(Tabela.abordagens[Mês]=$L$2,ROW(Tabela.abordagens[Idade])-2),ROW(A451)),6)","v":{"$error":"#NUM!"}},{"$f":"INDEX(Tabela.abordagens[],SMALL(IF(Tabela.abordagens[Mês]=$L$2,ROW(Tabela.abordagens[Idade])-2),ROW(A451)),4)","v":{"$error":"#NUM!"}},{"$f":"INDEX(Tabela.abordagens[],SMALL(IF(Tabela.abordagens[Mês]=$L$2,ROW(Tabela.abordagens[Idade])-2),ROW(A451)),5)","v":{"$error":"#NUM!"}}]
[null,{"$f":"INDEX(Tabela.frequencia[],SMALL(IF(Tabela.frequencia[Mês]=$L$2,ROW(Tabela.frequencia[id])-1),ROW(A452)),1)","v":{"$error":"#NUM!"}},{"$f":"INDEX(Tabela.frequencia[],SMALL(IF(Tabela.frequencia[Mês]=$L$2,ROW(Tabela.frequencia[id])-1),ROW(A452)),4)","v":{"$error":"#NUM!"}},null,{"$f":"IFERROR(VLOOKUP(D499,Tabela.cadastro[[ID]:[Nome]],2,0),\"\")","v":""},{"$f":"IFERROR(VLOOKUP(D499,Tabela66[#All],2,0),\"\")","v":""},{"$f":"IFERROR(VLOOKUP(D499,Tabela.cadastro[[ID]:[CP ou M]],5,0),\"\")","v":""},{"$f":"IFERROR(VLOOKUP(D499,Cadastros!A:F,6,0),\"\")","v":""},{"$f":"IFERROR(VLOOKUP(D499,Cadastros!A:I,9,0),\"\")","v":""},{"$f":"IFERROR(VLOOKUP(D499,Cadastros!A:J,10,0),\"\")","v":""},{"$f":"IF(COUNTIF(Tabela66[id],D499)=0,\"\",COUNTIF(Tabela66[id],D499))","v":""},null,"",null,null,{"$f":"IFERROR(VLOOKUP(O499,Cadastros!A:B,2),\"\")","v":""},"",{"$f":"IFERROR(VLOOKUP(O499,Cadastros!A:E,5,0),\"\")","v":""},{"$f":"IFERROR(VLOOKUP(O499,Cadastros!A:F,6,0),\"\")","v":""},{"$f":"IFERROR(VLOOKUP(O499,Cadastros!A:I,9,0),\"\")","v":""},"","","",null,{"$f":"INDEX(Tabela.abordagens[],SMALL(IF(Tabela.abordagens[Mês]=$L$2,ROW(Tabela.abordagens[id])-2),ROW(A452)),1)","v":{"$error":"#NUM!"}},{"$f":"INDEX(Tabela.abordagens[],SMALL(IF(Tabela.abordagens[Mês]=$L$2,ROW(Tabela.abordagens[Idade])-2),ROW(A452)),6)","v":{"$error":"#NUM!"}},{"$f":"INDEX(Tabela.abordagens[],SMALL(IF(Tabela.abordagens[Mês]=$L$2,ROW(Tabela.abordagens[Idade])-2),ROW(A452)),4)","v":{"$error":"#NUM!"}},{"$f":"INDEX(Tabela.abordagens[],SMALL(IF(Tabela.abordagens[Mês]=$L$2,ROW(Tabela.abordagens[Idade])-2),ROW(A452)),5)","v":{"$error":"#NUM!"}}]
[null,{"$f":"INDEX(Tabela.frequencia[],SMALL(IF(Tabela.frequencia[Mês]=$L$2,ROW(Tabela.frequencia[id])-1),ROW(A453)),1)","v":{"$error":"#NUM!"}},{"$f":"INDEX(Tabela.frequencia[],SMALL(IF(Tabela.frequencia[Mês]=$L$2,ROW(Tabela.frequencia[id])-1),ROW(A453)),4)","v":{"$error":"#NUM!"}},null,{"$f":"IFERROR(VLOOKUP(D500,Tabela.cadastro[[ID]:[Nome]],2,0),\"\")","v":""},{"$f":"IFERROR(VLOOKUP(D500,Tabela66[#All],2,0),\"\")","v":""},{"$f":"IFERROR(VLOOKUP(D500,Tabela.cadastro[[ID]:[CP ou M]],5,0),\"\")","v":""},{"$f":"IFERROR(VLOOKUP(D500,Cadastros!A:F,6,0),\"\")","v":""},{"$f":"IFERROR(VLOOKUP(D500,Cadastros!A:I,9,0),\"\")","v":""},{"$f":"IFERROR(VLOOKUP(D500,Cadastros!A:J,10,0),\"\")","v":""},{"$f":"IF(COUNTIF(Tabela66[id],D500)=0,\"\",COUNTIF(Tabela66[id],D500))","v":""},null,"",null,null,{"$f":"IFERROR(VLOOKUP(O500,Cadastros!A:B,2),\"\")","v":""},"",{"$f":"IFERROR(VLOOKUP(O500,Cadastros!A:E,5,0),\"\")","v":""},{"$f":"IFERROR(VLOOKUP(O500,Cadastros!A:F,6,0),\"\")","v":""},{"$f":"IFERROR(VLOOKUP(O500,Cadastros!A:I,9,0),\"\")","v":""},"","","",null,{"$f":"INDEX(Tabela.abordagens[],SMALL(IF(Tabela.abordagens[Mês]=$L$2,ROW(Tabela.abordagens[id])-2),ROW(A453)),1)","v":{"$error":"#NUM!"}},{"$f":"INDEX(Tabela.abordagens[],SMALL(IF(Tabela.abordagens[Mês]=$L$2,ROW(Tabela.abordagens[Idade])-2),ROW(A453)),6)","v":{"$error":"#NUM!"}},{"$f":"INDEX(Tabela.abordagens[],SMALL(IF(Tabela.abordagens[Mês]=$L$2,ROW(Tabela.abordagens[Idade])-2),ROW(A453)),4)","v":{"$error":"#NUM!"}},{"$f":"INDEX(Tabela.abordagens[],SMALL(IF(Tabela.abordagens[Mês]=$L$2,ROW(Tabela.abordagens[Idade])-2),ROW(A453)),5)","v":{"$error":"#NUM!"}}]
[null,{"$f":"INDEX(Tabela.frequencia[],SMALL(IF(Tabela.frequencia[Mês]=$L$2,ROW(Tabela.frequencia[id])-1),ROW(A454)),1)","v":{"$error":"#NUM!"}},{"$f":"INDEX(Tabela.frequencia[],SMALL(IF(Tabela.frequencia[Mês]=$L$2,ROW(Tabela.frequencia[id])-1),ROW(A454)),4)","v":{"$error":"#NUM!"}},null,{"$f":"IFERROR(VLOOKUP(D501,Tabela.cadastro[[ID]:[Nome]],2,0),\"\")","v":""},{"$f":"IFERROR(VLOOKUP(D501,Tabela66[#All],2,0),\"\")","v":""},{"$f":"IFERROR(VLOOKUP(D501,Tabela.cadastro[[ID]:[CP ou M]],5,0),\"\")","v":""},{"$f":"IFERROR(VLOOKUP(D501,Cadastros!A:F,6,0),\"\")","v":""},{"$f":"IFERROR(VLOOKUP(D501,Cadastros!A:I,9,0),\"\")","v":""},{"$f":"IFERROR(VLOOKUP(D501,Cadastros!A:J,10,0),\"\")","v":""},{"$f":"IF(COUNTIF(Tabela66[id],D501)=0,\"\",COUNTIF(Tabela66[id],D501))","v":""},null,"",null,null,{"$f":"IFERROR(VLOOKUP(O501,Cadastros!A:B,2),\"\")","v":""},"",{"$f":"IFERROR(VLOOKUP(O501,Cadastros!A:E,5,0),\"\")","v":""},{"$f":"IFERROR(VLOOKUP(O501,Cadastros!A:F,6,0),\"\")","v":""},{"$f":"IFERROR(VLOOKUP(O501,Cadastros!A:I,9,0),\"\")","v":""},"","","",null,{"$f":"INDEX(Tabela.abordagens[],SMALL(IF(Tabela.abordagens[Mês]=$L$2,ROW(Tabela.abordagens[id])-2),ROW(A454)),1)","v":{"$error":"#NUM!"}},{"$f":"INDEX(Tabela.abordagens[],SMALL(IF(Tabela.abordagens[Mês]=$L$2,ROW(Tabela.abordagens[Idade])-2),ROW(A454)),6)","v":{"$error":"#NUM!"}},{"$f":"INDEX(Tabela.abordagens[],SMALL(IF(Tabela.abordagens[Mês]=$L$2,ROW(Tabela.abordagens[Idade])-2),ROW(A454)),4)","v":{"$error":"#NUM!"}},{"$f":"INDEX(Tabela.abordagens[],SMALL(IF(Tabela.abordagens[Mês]=$L$2,ROW(Tabela.abordagens[Idade])-2),ROW(A454)),5)","v":{"$error":"#NUM!"}}]
[null,{"$f":"INDEX(Tabela.frequencia[],SMALL(IF(Tabela.frequencia[Mês]=$L$2,ROW(Tabela.frequencia[id])-1),ROW(A455)),1)","v":{"$error":"#NUM!"}},{"$f":"INDEX(Tabela.frequencia[],SMALL(IF(Tabela.frequencia[Mês]=$L$2,ROW(Tabela.frequencia[id])-1),ROW(A455)),4)","v":{"$error":"#NUM!"}},null,{"$f":"IFERROR(VLOOKUP(D502,Tabela.cadastro[[ID]:[Nome]],2,0),\"\")","v":""},{"$f":"IFERROR(VLOOKUP(D502,Tabela66[#All],2,0),\"\")","v":""},{"$f":"IFERROR(VLOOKUP(D502,Tabela.cadastro[[ID]:[CP ou M]],5,0),\"\")","v":""},{"$f":"IFERROR(VLOOKUP(D502,Cadastros!A:F,6,0),\"\")","v":""},{"$f":"IFERROR(VLOOKUP(D502,Cadastros!A:I,9,0),\"\")","v":""},{"$f":"IFERROR(VLOOKUP(D502,Cadastros!A:J,10,0),\"\")","v":""},{"$f":"IF(COUNTIF(Tabela66[id],D502)=0,\"\",COUNTIF(Tabela66[id],D502))","v":""},null,"",null,null,{"$f":"IFERROR(VLOOKUP(O502,Cadastros!A:B,2),\"\")","v":""},"",{"$f":"IFERROR(VLOOKUP(O502,Cadastros!A:E,5,0),\"\")","v":""},{"$f":"IFERROR(VLOOKUP(O502,Cadastros!A:F,6,0),\"\")","v":""},{"$f":"IFERROR(VLOOKUP(O502,Cadastros!A:I,9,0),\"\")","v":""},"","","",null,{"$f":"INDEX(Tabela.abordagens[],SMALL(IF(Tabela.abordagens[Mês]=$L$2,ROW(Tabela.abordagens[id])-2),ROW(A455)),1)","v":{"$error":"#NUM!"}},{"$f":"INDEX(Tabela.abordagens[],SMALL(IF(Tabela.abordagens[Mês]=$L$2,ROW(Tabela.abordagens[Idade])-2),ROW(A455)),6)","v":{"$error":"#NUM!"}},{"$f":"INDEX(Tabela.abordagens[],SMALL(IF(Tabela.abordagens[Mês]=$L$2,ROW(Tabela.abordagens[Idade])-2),ROW(A455)),4)","v":{"$error":"#NUM!"}},{"$f":"INDEX(Tabela.abordagens[],SMALL(IF(Tabela.abordagens[Mês]=$L$2,ROW(Tabela.abordagens[Idade])-2),ROW(A455)),5)","v":{"$error":"#NUM!"}}]
[null,{"$f":"INDEX(Tabela.frequencia[],SMALL(IF(Tabela.frequencia[Mês]=$L$2,ROW(Tabela.frequencia[id])-1),ROW(A456)),1)","v":{"$error":"#NUM!"}},{"$f":"INDEX(Tabela.frequencia[],SMALL(IF(Tabela.frequencia[Mês]=$L$2,ROW(Tabela.frequencia[id])-1),ROW(A456)),4)","v":{"$error":"#NUM!"}},null,{"$f":"IFERROR(VLOOKUP(D503,Tabela.cadastro[[ID]:[Nome]],2,0),\"\")","v":""},{"$f":"IFERROR(VLOOKUP(D503,Tabela66[#All],2,0),\"\")","v":""},{"$f":"IFERROR(VLOOKUP(D503,Tabela.cadastro[[ID]:[CP ou M]],5,0),\"\")","v":""},{"$f":"IFERROR(VLOOKUP(D503,Cadastros!A:F,6,0),\"\")","v":""},{"$f":"IFERROR(VLOOKUP(D503,Cadastros!A:I,9,0),\"\")","v":""},{"$f":"IFERROR(VLOOKUP(D503,Cadastros!A:J,10,0),\"\")","v":""},{"$f":"IF(COUNTIF(Tabela66[id],D503)=0,\"\",COUNTIF(Tabela66[id],D503))","v":""},null,"",null,null,{"$f":"IFERROR(VLOOKUP(O503,Cadastros!A:B,2),\"\")","v":""},"",{"$f":"IFERROR(VLOOKUP(O503,Cadastros!A:E,5,0),\"\")","v":""},{"$f":"IFERROR(VLOOKUP(O503,Cadastros!A:F,6,0),\"\")","v":""},{"$f":"IFERROR(VLOOKUP(O503,Cadastros!A:I,9,0),\"\")","v":""},"","","",null,{"$f":"INDEX(Tabela.abordagens[],SMALL(IF(Tabela.abordagens[Mês]=$L$2,ROW(Tabela.abordagens[id])-2),ROW(A456)),1)","v":{"$error":"#NUM!"}},{"$f":"INDEX(Tabela.abordagens[],SMALL(IF(Tabela.abordagens[Mês]=$L$2,ROW(Tabela.abordagens[Idade])-2),ROW(A456)),6)","v":{"$error":"#NUM!"}},{"$f":"INDEX(Tabela.abordagens[],SMALL(IF(Tabela.abordagens[Mês]=$L$2,ROW(Tabela.abordagens[Idade])-2),ROW(A456)),4)","v":{"$error":"#NUM!"}},{"$f":"INDEX(Tabela.abordagens[],SMALL(IF(Tabela.abordagens[Mês]=$L$2,ROW(Tabela.abordagens[Idade])-2),ROW(A456)),5)","v":{"$error":"#NUM!"}}]
[null,{"$f":"INDEX(Tabela.frequencia[],SMALL(IF(Tabela.frequencia[Mês]=$L$2,ROW(Tabela.frequencia[id])-1),ROW(A457)),1)","v":{"$error":"#NUM!"}},{"$f":"INDEX(Tabela.frequencia[],SMALL(IF(Tabela.frequencia[Mês]=$L$2,ROW(Tabela.frequencia[id])-1),ROW(A457)),4)","v":{"$error":"#NUM!"}},null,{"$f":"IFERROR(VLOOKUP(D504,Tabela.cadastro[[ID]:[Nome]],2,0),\"\")","v":""},{"$f":"IFERROR(VLOOKUP(D504,Tabela66[#All],2,0),\"\")","v":""},{"$f":"IFERROR(VLOOKUP(D504,Tabela.cadastro[[ID]:[CP ou M]],5,0),\"\")","v":""},{"$f":"IFERROR(VLOOKUP(D504,Cadastros!A:F,6,0),\"\")","v":""},{"$f":"IFERROR(VLOOKUP(D504,Cadastros!A:I,9,0),\"\")","v":""},{"$f":"IFERROR(VLOOKUP(D504,Cadastros!A:J,10,0),\"\")","v":""},{"$f":"IF(COUNTIF(Tabela66[id],D504)=0,\"\",COUNTIF(Tabela66[id],D504))","v":""},null,"",null,null,{"$f":"IFERROR(VLOOKUP(O504,Cadastros!A:B,2),\"\")","v":""},"",{"$f":"IFERROR(VLOOKUP(O504,Cadastros!A:E,5,0),\"\")","v":""},{"$f":"IFERROR(VLOOKUP(O504,Cadastros!A:F,6,0),\"\")","v":""},{"$f":"IFERROR(VLOOKUP(O504,Cadastros!A:I,9,0),\"\")","v":""},"","","",null,{"$f":"INDEX(Tabela.abordagens[],SMALL(IF(Tabela.abordagens[Mês]=$L$2,ROW(Tabela.abordagens[id])-2),ROW(A457)),1)","v":{"$error":"#NUM!"}},{"$f":"INDEX(Tabela.abordagens[],SMALL(IF(Tabela.abordagens[Mês]=$L$2,ROW(Tabela.abordagens[Idade])-2),ROW(A457)),6)","v":{"$error":"#NUM!"}},{"$f":"INDEX(Tabela.abordagens[],SMALL(IF(Tabela.abordagens[Mês]=$L$2,ROW(Tabela.abordagens[Idade])-2),ROW(A457)),4)","v":{"$error":"#NUM!"}},{"$f":"INDEX(Tabela.abordagens[],SMALL(IF(Tabela.abordagens[Mês]=$L$2,ROW(Tabela.abordagens[Idade])-2),ROW(A457)),5)","v":{"$error":"#NUM!"}}]
[null,{"$f":"INDEX(Tabela.frequencia[],SMALL(IF(Tabela.frequencia[Mês]=$L$2,ROW(Tabela.frequencia[id])-1),ROW(A458)),1)","v":{"$error":"#NUM!"}},{"$f":"INDEX(Tabela.frequencia[],SMALL(IF(Tabela.frequencia[Mês]=$L$2,ROW(Tabela.frequencia[id])-1),ROW(A458)),4)","v":{"$error":"#NUM!"}},null,{"$f":"IFERROR(VLOOKUP(D505,Tabela.cadastro[[ID]:[Nome]],2,0),\"\")","v":""},{"$f":"IFERROR(VLOOKUP(D505,Tabela66[#All],2,0),\"\")","v":""},{"$f":"IFERROR(VLOOKUP(D505,Tabela.cadastro[[ID]:[CP ou M]],5,0),\"\")","v":""},{"$f":"IFERROR(VLOOKUP(D505,Cadastros!A:F,6,0),\"\")","v":""},{"$f":"IFERROR(VLOOKUP(D505,Cadastros!A:I,9,0),\"\")","v":""},{"$f":"IFERROR(VLOOKUP(D505,Cadastros!A:J,10,0),\"\")","v":""},{"$f":"IF(COUNTIF(Tabela66[id],D505)=0,\"\",COUNTIF(Tabela66[id],D505))","v":""},null,"",null,null,{"$f":"IFERROR(VLOOKUP(O505,Cadastros!A:B,2),\"\")","v":""},"",{"$f":"IFERROR(VLOOKUP(O505,Cadastros!A:E,5,0),\"\")","v":""},{"$f":"IFERROR(VLOOKUP(O505,Cadastros!A:F,6,0),\"\")","v":""},{"$f":"IFERROR(VLOOKUP(O505,Cadastros!A:I,9,0),\"\")","v":""},"","","",null,{"$f":"INDEX(Tabela.abordagens[],SMALL(IF(Tabela.abordagens[Mês]=$L$2,ROW(Tabela.abordagens[id])-2),ROW(A458)),1)","v":{"$error":"#NUM!"}},{"$f":"INDEX(Tabela.abordagens[],SMALL(IF(Tabela.abordagens[Mês]=$L$2,ROW(Tabela.abordagens[Idade])-2),ROW(A458)),6)","v":{"$error":"#NUM!"}},{"$f":"INDEX(Tabela.abordagens[],SMALL(IF(Tabela.abordagens[Mês]=$L$2,ROW(Tabela.abordagens[Idade])-2),ROW(A458)),4)","v":{"$error":"#NUM!"}},{"$f":"INDEX(Tabela.abordagens[],SMALL(IF(Tabela.abordagens[Mês]=$L$2,ROW(Tabela.abordagens[Idade])-2),ROW(A458)),5)","v":{"$error":"#NUM!"}}]
[null,{"$f":"INDEX(Tabela.frequencia[],SMALL(IF(Tabela.frequencia[Mês]=$L$2,ROW(Tabela.frequencia[id])-1),ROW(A459)),1)","v":{"$error":"#NUM!"}},{"$f":"INDEX(Tabela.frequencia[],SMALL(IF(Tabela.frequencia[Mês]=$L$2,ROW(Tabela.frequencia[id])-1),ROW(A459)),4)","v":{"$error":"#NUM!"}},null,{"$f":"IFERROR(VLOOKUP(D506,Tabela.cadastro[[ID]:[Nome]],2,0),\"\")","v":""},{"$f":"IFERROR(VLOOKUP(D506,Tabela66[#All],2,0),\"\")","v":""},{"$f":"IFERROR(VLOOKUP(D506,Tabela.cadastro[[ID]:[CP ou M]],5,0),\"\")","v":""},{"$f":"IFERROR(VLOOKUP(D506,Cadastros!A:F,6,0),\"\")","v":""},{"$f":"IFERROR(VLOOKUP(D506,Cadastros!A:I,9,0),\"\")","v":""},{"$f":"IFERROR(VLOOKUP(D506,Cadastros!A:J,10,0),\"\")","v":""},{"$f":"IF(COUNTIF(Tabela66[id],D506)=0,\"\",COUNTIF(Tabela66[id],D506))","v":""},null,"",null,null,{"$f":"IFERROR(VLOOKUP(O506,Cadastros!A:B,2),\"\")","v":""},"",{"$f":"IFERROR(VLOOKUP(O506,Cadastros!A:E,5,0),\"\")","v":""},{"$f":"IFERROR(VLOOKUP(O506,Cadastros!A:F,6,0),\"\")","v":""},{"$f":"IFERROR(VLOOKUP(O506,Cadastros!A:I,9,0),\"\")","v":""},"","","",null,{"$f":"INDEX(Tabela.abordagens[],SMALL(IF(Tabela.abordagens[Mês]=$L$2,ROW(Tabela.abordagens[id])-2),ROW(A459)),1)","v":{"$error":"#NUM!"}},{"$f":"INDEX(Tabela.abordagens[],SMALL(IF(Tabela.abordagens[Mês]=$L$2,ROW(Tabela.abordagens[Idade])-2),ROW(A459)),6)","v":{"$error":"#NUM!"}},{"$f":"INDEX(Tabela.abordagens[],SMALL(IF(Tabela.abordagens[Mês]=$L$2,ROW(Tabela.abordagens[Idade])-2),ROW(A459)),4)","v":{"$error":"#NUM!"}},{"$f":"INDEX(Tabela.abordagens[],SMALL(IF(Tabela.abordagens[Mês]=$L$2,ROW(Tabela.abordagens[Idade])-2),ROW(A459)),5)","v":{"$error":"#NUM!"}}]
[null,{"$f":"INDEX(Tabela.frequencia[],SMALL(IF(Tabela.frequencia[Mês]=$L$2,ROW(Tabela.frequencia[id])-1),ROW(A460)),1)","v":{"$error":"#NUM!"}},{"$f":"INDEX(Tabela.frequencia[],SMALL(IF(Tabela.frequencia[Mês]=$L$2,ROW(Tabela.frequencia[id])-1),ROW(A460)),4)","v":{"$error":"#NUM!"}},null,{"$f":"IFERROR(VLOOKUP(D507,Tabela.cadastro[[ID]:[Nome]],2,0),\"\")","v":""},{"$f":"IFERROR(VLOOKUP(D507,Tabela66[#All],2,0),\"\")","v":""},{"$f":"IFERROR(VLOOKUP(D507,Tabela.cadastro[[ID]:[CP ou M]],5,0),\"\")","v":""},{"$f":"IFERROR(VLOOKUP(D507,Cadastros!A:F,6,0),\"\")","v":""},{"$f":"IFERROR(VLOOKUP(D507,Cadastros!A:I,9,0),\"\")","v":""},{"$f":"IFERROR(VLOOKUP(D507,Cadastros!A:J,10,0),\"\")","v":""},{"$f":"IF(COUNTIF(Tabela66[id],D507)=0,\"\",COUNTIF(Tabela66[id],D507))","v":""},null,"",null,null,{"$f":"IFERROR(VLOOKUP(O507,Cadastros!A:B,2),\"\")","v":""},"",{"$f":"IFERROR(VLOOKUP(O507,Cadastros!A:E,5,0),\"\")","v":""},{"$f":"IFERROR(VLOOKUP(O507,Cadastros!A:F,6,0),\"\")","v":""},{"$f":"IFERROR(VLOOKUP(O507,Cadastros!A:I,9,0),\"\")","v":""},"","","",null,{"$f":"INDEX(Tabela.abordagens[],SMALL(IF(Tabela.abordagens[Mês]=$L$2,ROW(Tabela.abordagens[id])-2),ROW(A460)),1)","v":{"$error":"#NUM!"}},{"$f":"INDEX(Tabela.abordagens[],SMALL(IF(Tabela.abordagens[Mês]=$L$2,ROW(Tabela.abordagens[Idade])-2),ROW(A460)),6)","v":{"$error":"#NUM!"}},{"$f":"INDEX(Tabela.abordagens[],SMALL(IF(Tabela.abordagens[Mês]=$L$2,ROW(Tabela.abordagens[Idade])-2),ROW(A460)),4)","v":{"$error":"#NUM!"}},{"$f":"INDEX(Tabela.abordagens[],SMALL(IF(Tabela.abordagens[Mês]=$L$2,ROW(Tabela.abordagens[Idade])-2),ROW(A460)),5)","v":{"$error":"#NUM!"}}]
[null,{"$f":"INDEX(Tabela.frequencia[],SMALL(IF(Tabela.frequencia[Mês]=$L$2,ROW(Tabela.frequencia[id])-1),ROW(A461)),1)","v":{"$error":"#NUM!"}},{"$f":"INDEX(Tabela.frequencia[],SMALL(IF(Tabela.frequencia[Mês]=$L$2,ROW(Tabela.frequencia[id])-1),ROW(A461)),4)","v":{"$error":"#NUM!"}},null,{"$f":"IFERROR(VLOOKUP(D508,Tabela.cadastro[[ID]:[Nome]],2,0),\"\")","v":""},{"$f":"IFERROR(VLOOKUP(D508,Tabela66[#All],2,0),\"\")","v":""},{"$f":"IFERROR(VLOOKUP(D508,Tabela.cadastro[[ID]:[CP ou M]],5,0),\"\")","v":""},{"$f":"IFERROR(VLOOKUP(D508,Cadastros!A:F,6,0),\"\")","v":""},{"$f":"IFERROR(VLOOKUP(D508,Cadastros!A:I,9,0),\"\")","v":""},{"$f":"IFERROR(VLOOKUP(D508,Cadastros!A:J,10,0),\"\")","v":""},{"$f":"IF(COUNTIF(Tabela66[id],D508)=0,\"\",COUNTIF(Tabela66[id],D508))","v":""},null,"",null,null,{"$f":"IFERROR(VLOOKUP(O508,Cadastros!A:B,2),\"\")","v":""},"",{"$f":"IFERROR(VLOOKUP(O508,Cadastros!A:E,5,0),\"\")","v":""},{"$f":"IFERROR(VLOOKUP(O508,Cadastros!A:F,6,0),\"\")","v":""},{"$f":"IFERROR(VLOOKUP(O508,Cadastros!A:I,9,0),\"\")","v":""},"","","",null,{"$f":"INDEX(Tabela.abordagens[],SMALL(IF(Tabela.abordagens[Mês]=$L$2,ROW(Tabela.abordagens[id])-2),ROW(A461)),1)","v":{"$error":"#NUM!"}},{"$f":"INDEX(Tabela.abordagens[],SMALL(IF(Tabela.abordagens[Mês]=$L$2,ROW(Tabela.abordagens[Idade])-2),ROW(A461)),6)","v":{"$error":"#NUM!"}},{"$f":"INDEX(Tabela.abordagens[],SMALL(IF(Tabela.abordagens[Mês]=$L$2,ROW(Tabela.abordagens[Idade])-2),ROW(A461)),4)","v":{"$error":"#NUM!"}},{"$f":"INDEX(Tabela.abordagens[],SMALL(IF(Tabela.abordagens[Mês]=$L$2,ROW(Tabela.abordagens[Idade])-2),ROW(A461)),5)","v":{"$error":"#NUM!"}}]
[null,{"$f":"INDEX(Tabela.frequencia[],SMALL(IF(Tabela.frequencia[Mês]=$L$2,ROW(Tabela.frequencia[id])-1),ROW(A462)),1)","v":{"$error":"#NUM!"}},{"$f":"INDEX(Tabela.frequencia[],SMALL(IF(Tabela.frequencia[Mês]=$L$2,ROW(Tabela.frequencia[id])-1),ROW(A462)),4)","v":{"$error":"#NUM!"}},null,{"$f":"IFERROR(VLOOKUP(D509,Tabela.cadastro[[ID]:[Nome]],2,0),\"\")","v":""},{"$f":"IFERROR(VLOOKUP(D509,Tabela66[#All],2,0),\"\")","v":""},{"$f":"IFERROR(VLOOKUP(D509,Tabela.cadastro[[ID]:[CP ou M]],5,0),\"\")","v":""},{"$f":"IFERROR(VLOOKUP(D509,Cadastros!A:F,6,0),\"\")","v":""},{"$f":"IFERROR(VLOOKUP(D509,Cadastros!A:I,9,0),\"\")","v":""},{"$f":"IFERROR(VLOOKUP(D509,Cadastros!A:J,10,0),\"\")","v":""},{"$f":"IF(COUNTIF(Tabela66[id],D509)=0,\"\",COUNTIF(Tabela66[id],D509))","v":""},null,"",null,null,{"$f":"IFERROR(VLOOKUP(O509,Cadastros!A:B,2),\"\")","v":""},"",{"$f":"IFERROR(VLOOKUP(O509,Cadastros!A:E,5,0),\"\")","v":""},{"$f":"IFERROR(VLOOKUP(O509,Cadastros!A:F,6,0),\"\")","v":""},{"$f":"IFERROR(VLOOKUP(O509,Cadastros!A:I,9,0),\"\")","v":""},"","","",null,{"$f":"INDEX(Tabela.abordagens[],SMALL(IF(Tabela.abordagens[Mês]=$L$2,ROW(Tabela.abordagens[id])-2),ROW(A462)),1)","v":{"$error":"#NUM!"}},{"$f":"INDEX(Tabela.abordagens[],SMALL(IF(Tabela.abordagens[Mês]=$L$2,ROW(Tabela.abordagens[Idade])-2),ROW(A462)),6)","v":{"$error":"#NUM!"}},{"$f":"INDEX(Tabela.abordagens[],SMALL(IF(Tabela.abordagens[Mês]=$L$2,ROW(Tabela.abordagens[Idade])-2),ROW(A462)),4)","v":{"$error":"#NUM!"}},{"$f":"INDEX(Tabela.abordagens[],SMALL(IF(Tabela.abordagens[Mês]=$L$2,ROW(Tabela.abordagens[Idade])-2),ROW(A462)),5)","v":{"$error":"#NUM!"}}]
[null,{"$f":"INDEX(Tabela.frequencia[],SMALL(IF(Tabela.frequencia[Mês]=$L$2,ROW(Tabela.frequencia[id])-1),ROW(A463)),1)","v":{"$error":"#NUM!"}},{"$f":"INDEX(Tabela.frequencia[],SMALL(IF(Tabela.frequencia[Mês]=$L$2,ROW(Tabela.frequencia[id])-1),ROW(A463)),4)","v":{"$error":"#NUM!"}},null,{"$f":"IFERROR(VLOOKUP(D510,Tabela.cadastro[[ID]:[Nome]],2,0),\"\")","v":""},{"$f":"IFERROR(VLOOKUP(D510,Tabela66[#All],2,0),\"\")","v":""},{"$f":"IFERROR(VLOOKUP(D510,Tabela.cadastro[[ID]:[CP ou M]],5,0),\"\")","v":""},{"$f":"IFERROR(VLOOKUP(D510,Cadastros!A:F,6,0),\"\")","v":""},{"$f":"IFERROR(VLOOKUP(D510,Cadastros!A:I,9,0),\"\")","v":""},{"$f":"IFERROR(VLOOKUP(D510,Cadastros!A:J,10,0),\"\")","v":""},{"$f":"IF(COUNTIF(Tabela66[id],D510)=0,\"\",COUNTIF(Tabela66[id],D510))","v":""},null,"",null,null,{"$f":"IFERROR(VLOOKUP(O510,Cadastros!A:B,2),\"\")","v":""},"",{"$f":"IFERROR(VLOOKUP(O510,Cadastros!A:E,5,0),\"\")","v":""},{"$f":"IFERROR(VLOOKUP(O510,Cadastros!A:F,6,0),\"\")","v":""},{"$f":"IFERROR(VLOOKUP(O510,Cadastros!A:I,9,0),\"\")","v":""},"","","",null,{"$f":"INDEX(Tabela.abordagens[],SMALL(IF(Tabela.abordagens[Mês]=$L$2,ROW(Tabela.abordagens[id])-2),ROW(A463)),1)","v":{"$error":"#NUM!"}},{"$f":"INDEX(Tabela.abordagens[],SMALL(IF(Tabela.abordagens[Mês]=$L$2,ROW(Tabela.abordagens[Idade])-2),ROW(A463)),6)","v":{"$error":"#NUM!"}},{"$f":"INDEX(Tabela.abordagens[],SMALL(IF(Tabela.abordagens[Mês]=$L$2,ROW(Tabela.abordagens[Idade])-2),ROW(A463)),4)","v":{"$error":"#NUM!"}},{"$f":"INDEX(Tabela.abordagens[],SMALL(IF(Tabela.abordagens[Mês]=$L$2,ROW(Tabela.abordagens[Idade])-2),ROW(A463)),5)","v":{"$error":"#NUM!"}}]
[null,{"$f":"INDEX(Tabela.frequencia[],SMALL(IF(Tabela.frequencia[Mês]=$L$2,ROW(Tabela.frequencia[id])-1),ROW(A464)),1)","v":{"$error":"#NUM!"}},{"$f":"INDEX(Tabela.frequencia[],SMALL(IF(Tabela.frequencia[Mês]=$L$2,ROW(Tabela.frequencia[id])-1),ROW(A464)),4)","v":{"$error":"#NUM!"}},null,{"$f":"IFERROR(VLOOKUP(D511,Tabela.cadastro[[ID]:[Nome]],2,0),\"\")","v":""},{"$f":"IFERROR(VLOOKUP(D511,Tabela66[#All],2,0),\"\")","v":""},{"$f":"IFERROR(VLOOKUP(D511,Tabela.cadastro[[ID]:[CP ou M]],5,0),\"\")","v":""},{"$f":"IFERROR(VLOOKUP(D511,Cadastros!A:F,6,0),\"\")","v":""},{"$f":"IFERROR(VLOOKUP(D511,Cadastros!A:I,9,0),\"\")","v":""},{"$f":"IFERROR(VLOOKUP(D511,Cadastros!A:J,10,0),\"\")","v":""},{"$f":"IF(COUNTIF(Tabela66[id],D511)=0,\"\",COUNTIF(Tabela66[id],D511))","v":""},null,"",null,null,{"$f":"IFERROR(VLOOKUP(O511,Cadastros!A:B,2),\"\")","v":""},"",{"$f":"IFERROR(VLOOKUP(O511,Cadastros!A:E,5,0),\"\")","v":""},{"$f":"IFERROR(VLOOKUP(O511,Cadastros!A:F,6,0),\"\")","v":""},{"$f":"IFERROR(VLOOKUP(O511,Cadastros!A:I,9,0),\"\")","v":""},"","","",null,{"$f":"INDEX(Tabela.abordagens[],SMALL(IF(Tabela.abordagens[Mês]=$L$2,ROW(Tabela.abordagens[id])-2),ROW(A464)),1)","v":{"$error":"#NUM!"}},{"$f":"INDEX(Tabela.abordagens[],SMALL(IF(Tabela.abordagens[Mês]=$L$2,ROW(Tabela.abordagens[Idade])-2),ROW(A464)),6)","v":{"$error":"#NUM!"}},{"$f":"INDEX(Tabela.abordagens[],SMALL(IF(Tabela.abordagens[Mês]=$L$2,ROW(Tabela.abordagens[Idade])-2),ROW(A464)),4)","v":{"$error":"#NUM!"}},{"$f":"INDEX(Tabela.abordagens[],SMALL(IF(Tabela.abordagens[Mês]=$L$2,ROW(Tabela.abordagens[Idade])-2),ROW(A464)),5)","v":{"$error":"#NUM!"}}]
[null,{"$f":"INDEX(Tabela.frequencia[],SMALL(IF(Tabela.frequencia[Mês]=$L$2,ROW(Tabela.frequencia[id])-1),ROW(A465)),1)","v":{"$error":"#NUM!"}},{"$f":"INDEX(Tabela.frequencia[],SMALL(IF(Tabela.frequencia[Mês]=$L$2,ROW(Tabela.frequencia[id])-1),ROW(A465)),4)","v":{"$error":"#NUM!"}},null,{"$f":"IFERROR(VLOOKUP(D512,Tabela.cadastro[[ID]:[Nome]],2,0),\"\")","v":""},{"$f":"IFERROR(VLOOKUP(D512,Tabela66[#All],2,0),\"\")","v":""},{"$f":"IFERROR(VLOOKUP(D512,Tabela.cadastro[[ID]:[CP ou M]],5,0),\"\")","v":""},{"$f":"IFERROR(VLOOKUP(D512,Cadastros!A:F,6,0),\"\")","v":""},{"$f":"IFERROR(VLOOKUP(D512,Cadastros!A:I,9,0),\"\")","v":""},{"$f":"IFERROR(VLOOKUP(D512,Cadastros!A:J,10,0),\"\")","v":""},{"$f":"IF(COUNTIF(Tabela66[id],D512)=0,\"\",COUNTIF(Tabela66[id],D512))","v":""},null,"",null,null,{"$f":"IFERROR(VLOOKUP(O512,Cadastros!A:B,2),\"\")","v":""},"",{"$f":"IFERROR(VLOOKUP(O512,Cadastros!A:E,5,0),\"\")","v":""},{"$f":"IFERROR(VLOOKUP(O512,Cadastros!A:F,6,0),\"\")","v":""},{"$f":"IFERROR(VLOOKUP(O512,Cadastros!A:I,9,0),\"\")","v":""},"","","",null,{"$f":"INDEX(Tabela.abordagens[],SMALL(IF(Tabela.abordagens[Mês]=$L$2,ROW(Tabela.abordagens[id])-2),ROW(A465)),1)","v":{"$error":"#NUM!"}},{"$f":"INDEX(Tabela.abordagens[],SMALL(IF(Tabela.abordagens[Mês]=$L$2,ROW(Tabela.abordagens[Idade])-2),ROW(A465)),6)","v":{"$error":"#NUM!"}},{"$f":"INDEX(Tabela.abordagens[],SMALL(IF(Tabela.abordagens[Mês]=$L$2,ROW(Tabela.abordagens[Idade])-2),ROW(A465)),4)","v":{"$error":"#NUM!"}},{"$f":"INDEX(Tabela.abordagens[],SMALL(IF(Tabela.abordagens[Mês]=$L$2,ROW(Tabela.abordagens[Idade])-2),ROW(A465)),5)","v":{"$error":"#NUM!"}}]
[null,{"$f":"INDEX(Tabela.frequencia[],SMALL(IF(Tabela.frequencia[Mês]=$L$2,ROW(Tabela.frequencia[id])-1),ROW(A466)),1)","v":{"$error":"#NUM!"}},{"$f":"INDEX(Tabela.frequencia[],SMALL(IF(Tabela.frequencia[Mês]=$L$2,ROW(Tabela.frequencia[id])-1),ROW(A466)),4)","v":{"$error":"#NUM!"}},null,{"$f":"IFERROR(VLOOKUP(D513,Tabela.cadastro[[ID]:[Nome]],2,0),\"\")","v":""},{"$f":"IFERROR(VLOOKUP(D513,Tabela66[#All],2,0),\"\")","v":""},{"$f":"IFERROR(VLOOKUP(D513,Tabela.cadastro[[ID]:[CP ou M]],5,0),\"\")","v":""},{"$f":"IFERROR(VLOOKUP(D513,Cadastros!A:F,6,0),\"\")","v":""},{"$f":"IFERROR(VLOOKUP(D513,Cadastros!A:I,9,0),\"\")","v":""},{"$f":"IFERROR(VLOOKUP(D513,Cadastros!A:J,10,0),\"\")","v":""},{"$f":"IF(COUNTIF(Tabela66[id],D513)=0,\"\",COUNTIF(Tabela66[id],D513))","v":""},null,"",null,null,{"$f":"IFERROR(VLOOKUP(O513,Cadastros!A:B,2),\"\")","v":""},"",{"$f":"IFERROR(VLOOKUP(O513,Cadastros!A:E,5,0),\"\")","v":""},{"$f":"IFERROR(VLOOKUP(O513,Cadastros!A:F,6,0),\"\")","v":""},{"$f":"IFERROR(VLOOKUP(O513,Cadastros!A:I,9,0),\"\")","v":""},"","","",null,{"$f":"INDEX(Tabela.abordagens[],SMALL(IF(Tabela.abordagens[Mês]=$L$2,ROW(Tabela.abordagens[id])-2),ROW(A466)),1)","v":{"$error":"#NUM!"}},{"$f":"INDEX(Tabela.abordagens[],SMALL(IF(Tabela.abordagens[Mês]=$L$2,ROW(Tabela.abordagens[Idade])-2),ROW(A466)),6)","v":{"$error":"#NUM!"}},{"$f":"INDEX(Tabela.abordagens[],SMALL(IF(Tabela.abordagens[Mês]=$L$2,ROW(Tabela.abordagens[Idade])-2),ROW(A466)),4)","v":{"$error":"#NUM!"}},{"$f":"INDEX(Tabela.abordagens[],SMALL(IF(Tabela.abordagens[Mês]=$L$2,ROW(Tabela.abordagens[Idade])-2),ROW(A466)),5)","v":{"$error":"#NUM!"}}]
[null,{"$f":"INDEX(Tabela.frequencia[],SMALL(IF(Tabela.frequencia[Mês]=$L$2,ROW(Tabela.frequencia[id])-1),ROW(A467)),1)","v":{"$error":"#NUM!"}},{"$f":"INDEX(Tabela.frequencia[],SMALL(IF(Tabela.frequencia[Mês]=$L$2,ROW(Tabela.frequencia[id])-1),ROW(A467)),4)","v":{"$error":"#NUM!"}},null,{"$f":"IFERROR(VLOOKUP(D514,Tabela.cadastro[[ID]:[Nome]],2,0),\"\")","v":""},{"$f":"IFERROR(VLOOKUP(D514,Tabela66[#All],2,0),\"\")","v":""},{"$f":"IFERROR(VLOOKUP(D514,Tabela.cadastro[[ID]:[CP ou M]],5,0),\"\")","v":""},{"$f":"IFERROR(VLOOKUP(D514,Cadastros!A:F,6,0),\"\")","v":""},{"$f":"IFERROR(VLOOKUP(D514,Cadastros!A:I,9,0),\"\")","v":""},{"$f":"IFERROR(VLOOKUP(D514,Cadastros!A:J,10,0),\"\")","v":""},{"$f":"IF(COUNTIF(Tabela66[id],D514)=0,\"\",COUNTIF(Tabela66[id],D514))","v":""},null,"",null,null,{"$f":"IFERROR(VLOOKUP(O514,Cadastros!A:B,2),\"\")","v":""},"",{"$f":"IFERROR(VLOOKUP(O514,Cadastros!A:E,5,0),\"\")","v":""},{"$f":"IFERROR(VLOOKUP(O514,Cadastros!A:F,6,0),\"\")","v":""},{"$f":"IFERROR(VLOOKUP(O514,Cadastros!A:I,9,0),\"\")","v":""},"","","",null,{"$f":"INDEX(Tabela.abordagens[],SMALL(IF(Tabela.abordagens[Mês]=$L$2,ROW(Tabela.abordagens[id])-2),ROW(A467)),1)","v":{"$error":"#NUM!"}},{"$f":"INDEX(Tabela.abordagens[],SMALL(IF(Tabela.abordagens[Mês]=$L$2,ROW(Tabela.abordagens[Idade])-2),ROW(A467)),6)","v":{"$error":"#NUM!"}},{"$f":"INDEX(Tabela.abordagens[],SMALL(IF(Tabela.abordagens[Mês]=$L$2,ROW(Tabela.abordagens[Idade])-2),ROW(A467)),4)","v":{"$error":"#NUM!"}},{"$f":"INDEX(Tabela.abordagens[],SMALL(IF(Tabela.abordagens[Mês]=$L$2,ROW(Tabela.abordagens[Idade])-2),ROW(A467)),5)","v":{"$error":"#NUM!"}}]
[null,{"$f":"INDEX(Tabela.frequencia[],SMALL(IF(Tabela.frequencia[Mês]=$L$2,ROW(Tabela.frequencia[id])-1),ROW(A468)),1)","v":{"$error":"#NUM!"}},{"$f":"INDEX(Tabela.frequencia[],SMALL(IF(Tabela.frequencia[Mês]=$L$2,ROW(Tabela.frequencia[id])-1),ROW(A468)),4)","v":{"$error":"#NUM!"}},null,{"$f":"IFERROR(VLOOKUP(D515,Tabela.cadastro[[ID]:[Nome]],2,0),\"\")","v":""},{"$f":"IFERROR(VLOOKUP(D515,Tabela66[#All],2,0),\"\")","v":""},{"$f":"IFERROR(VLOOKUP(D515,Tabela.cadastro[[ID]:[CP ou M]],5,0),\"\")","v":""},{"$f":"IFERROR(VLOOKUP(D515,Cadastros!A:F,6,0),\"\")","v":""},{"$f":"IFERROR(VLOOKUP(D515,Cadastros!A:I,9,0),\"\")","v":""},{"$f":"IFERROR(VLOOKUP(D515,Cadastros!A:J,10,0),\"\")","v":""},{"$f":"IF(COUNTIF(Tabela66[id],D515)=0,\"\",COUNTIF(Tabela66[id],D515))","v":""},null,"",null,null,{"$f":"IFERROR(VLOOKUP(O515,Cadastros!A:B,2),\"\")","v":""},"",{"$f":"IFERROR(VLOOKUP(O515,Cadastros!A:E,5,0),\"\")","v":""},{"$f":"IFERROR(VLOOKUP(O515,Cadastros!A:F,6,0),\"\")","v":""},{"$f":"IFERROR(VLOOKUP(O515,Cadastros!A:I,9,0),\"\")","v":""},"","","",null,{"$f":"INDEX(Tabela.abordagens[],SMALL(IF(Tabela.abordagens[Mês]=$L$2,ROW(Tabela.abordagens[id])-2),ROW(A468)),1)","v":{"$error":"#NUM!"}},{"$f":"INDEX(Tabela.abordagens[],SMALL(IF(Tabela.abordagens[Mês]=$L$2,ROW(Tabela.abordagens[Idade])-2),ROW(A468)),6)","v":{"$error":"#NUM!"}},{"$f":"INDEX(Tabela.abordagens[],SMALL(IF(Tabela.abordagens[Mês]=$L$2,ROW(Tabela.abordagens[Idade])-2),ROW(A468)),4)","v":{"$error":"#NUM!"}},{"$f":"INDEX(Tabela.abordagens[],SMALL(IF(Tabela.abordagens[Mês]=$L$2,ROW(Tabela.abordagens[Idade])-2),ROW(A468)),5)","v":{"$error":"#NUM!"}}]
[null,{"$f":"INDEX(Tabela.frequencia[],SMALL(IF(Tabela.frequencia[Mês]=$L$2,ROW(Tabela.frequencia[id])-1),ROW(A469)),1)","v":{"$error":"#NUM!"}},{"$f":"INDEX(Tabela.frequencia[],SMALL(IF(Tabela.frequencia[Mês]=$L$2,ROW(Tabela.frequencia[id])-1),ROW(A469)),4)","v":{"$error":"#NUM!"}},null,{"$f":"IFERROR(VLOOKUP(D516,Tabela.cadastro[[ID]:[Nome]],2,0),\"\")","v":""},{"$f":"IFERROR(VLOOKUP(D516,Tabela66[#All],2,0),\"\")","v":""},{"$f":"IFERROR(VLOOKUP(D516,Tabela.cadastro[[ID]:[CP ou M]],5,0),\"\")","v":""},{"$f":"IFERROR(VLOOKUP(D516,Cadastros!A:F,6,0),\"\")","v":""},{"$f":"IFERROR(VLOOKUP(D516,Cadastros!A:I,9,0),\"\")","v":""},{"$f":"IFERROR(VLOOKUP(D516,Cadastros!A:J,10,0),\"\")","v":""},{"$f":"IF(COUNTIF(Tabela66[id],D516)=0,\"\",COUNTIF(Tabela66[id],D516))","v":""},null,"",null,null,{"$f":"IFERROR(VLOOKUP(O516,Cadastros!A:B,2),\"\")","v":""},"",{"$f":"IFERROR(VLOOKUP(O516,Cadastros!A:E,5,0),\"\")","v":""},{"$f":"IFERROR(VLOOKUP(O516,Cadastros!A:F,6,0),\"\")","v":""},{"$f":"IFERROR(VLOOKUP(O516,Cadastros!A:I,9,0),\"\")","v":""},"","","",null,{"$f":"INDEX(Tabela.abordagens[],SMALL(IF(Tabela.abordagens[Mês]=$L$2,ROW(Tabela.abordagens[id])-2),ROW(A469)),1)","v":{"$error":"#NUM!"}},{"$f":"INDEX(Tabela.abordagens[],SMALL(IF(Tabela.abordagens[Mês]=$L$2,ROW(Tabela.abordagens[Idade])-2),ROW(A469)),6)","v":{"$error":"#NUM!"}},{"$f":"INDEX(Tabela.abordagens[],SMALL(IF(Tabela.abordagens[Mês]=$L$2,ROW(Tabela.abordagens[Idade])-2),ROW(A469)),4)","v":{"$error":"#NUM!"}},{"$f":"INDEX(Tabela.abordagens[],SMALL(IF(Tabela.abordagens[Mês]=$L$2,ROW(Tabela.abordagens[Idade])-2),ROW(A469)),5)","v":{"$error":"#NUM!"}}]
[null,{"$f":"INDEX(Tabela.frequencia[],SMALL(IF(Tabela.frequencia[Mês]=$L$2,ROW(Tabela.frequencia[id])-1),ROW(A470)),1)","v":{"$error":"#NUM!"}},{"$f":"INDEX(Tabela.frequencia[],SMALL(IF(Tabela.frequencia[Mês]=$L$2,ROW(Tabela.frequencia[id])-1),ROW(A470)),4)","v":{"$error":"#NUM!"}},null,{"$f":"IFERROR(VLOOKUP(D517,Tabela.cadastro[[ID]:[Nome]],2,0),\"\")","v":""},{"$f":"IFERROR(VLOOKUP(D517,Tabela66[#All],2,0),\"\")","v":""},{"$f":"IFERROR(VLOOKUP(D517,Tabela.cadastro[[ID]:[CP ou M]],5,0),\"\")","v":""},{"$f":"IFERROR(VLOOKUP(D517,Cadastros!A:F,6,0),\"\")","v":""},{"$f":"IFERROR(VLOOKUP(D517,Cadastros!A:I,9,0),\"\")","v":""},{"$f":"IFERROR(VLOOKUP(D517,Cadastros!A:J,10,0),\"\")","v":""},{"$f":"IF(COUNTIF(Tabela66[id],D517)=0,\"\",COUNTIF(Tabela66[id],D517))","v":""},null,"",null,null,{"$f":"IFERROR(VLOOKUP(O517,Cadastros!A:B,2),\"\")","v":""},"",{"$f":"IFERROR(VLOOKUP(O517,Cadastros!A:E,5,0),\"\")","v":""},{"$f":"IFERROR(VLOOKUP(O517,Cadastros!A:F,6,0),\"\")","v":""},{"$f":"IFERROR(VLOOKUP(O517,Cadastros!A:I,9,0),\"\")","v":""},"","","",null,{"$f":"INDEX(Tabela.abordagens[],SMALL(IF(Tabela.abordagens[Mês]=$L$2,ROW(Tabela.abordagens[id])-2),ROW(A470)),1)","v":{"$error":"#NUM!"}},{"$f":"INDEX(Tabela.abordagens[],SMALL(IF(Tabela.abordagens[Mês]=$L$2,ROW(Tabela.abordagens[Idade])-2),ROW(A470)),6)","v":{"$error":"#NUM!"}},{"$f":"INDEX(Tabela.abordagens[],SMALL(IF(Tabela.abordagens[Mês]=$L$2,ROW(Tabela.abordagens[Idade])-2),ROW(A470)),4)","v":{"$error":"#NUM!"}},{"$f":"INDEX(Tabela.abordagens[],SMALL(IF(Tabela.abordagens[Mês]=$L$2,ROW(Tabela.abordagens[Idade])-2),ROW(A470)),5)","v":{"$error":"#NUM!"}}]
[null,{"$f":"INDEX(Tabela.frequencia[],SMALL(IF(Tabela.frequencia[Mês]=$L$2,ROW(Tabela.frequencia[id])-1),ROW(A471)),1)","v":{"$error":"#NUM!"}},{"$f":"INDEX(Tabela.frequencia[],SMALL(IF(Tabela.frequencia[Mês]=$L$2,ROW(Tabela.frequencia[id])-1),ROW(A471)),4)","v":{"$error":"#NUM!"}},null,{"$f":"IFERROR(VLOOKUP(D518,Tabela.cadastro[[ID]:[Nome]],2,0),\"\")","v":""},{"$f":"IFERROR(VLOOKUP(D518,Tabela66[#All],2,0),\"\")","v":""},{"$f":"IFERROR(VLOOKUP(D518,Tabela.cadastro[[ID]:[CP ou M]],5,0),\"\")","v":""},{"$f":"IFERROR(VLOOKUP(D518,Cadastros!A:F,6,0),\"\")","v":""},{"$f":"IFERROR(VLOOKUP(D518,Cadastros!A:I,9,0),\"\")","v":""},{"$f":"IFERROR(VLOOKUP(D518,Cadastros!A:J,10,0),\"\")","v":""},{"$f":"IF(COUNTIF(Tabela66[id],D518)=0,\"\",COUNTIF(Tabela66[id],D518))","v":""},null,"",null,null,{"$f":"IFERROR(VLOOKUP(O518,Cadastros!A:B,2),\"\")","v":""},"",{"$f":"IFERROR(VLOOKUP(O518,Cadastros!A:E,5,0),\"\")","v":""},{"$f":"IFERROR(VLOOKUP(O518,Cadastros!A:F,6,0),\"\")","v":""},{"$f":"IFERROR(VLOOKUP(O518,Cadastros!A:I,9,0),\"\")","v":""},"","","",null,{"$f":"INDEX(Tabela.abordagens[],SMALL(IF(Tabela.abordagens[Mês]=$L$2,ROW(Tabela.abordagens[id])-2),ROW(A471)),1)","v":{"$error":"#NUM!"}},{"$f":"INDEX(Tabela.abordagens[],SMALL(IF(Tabela.abordagens[Mês]=$L$2,ROW(Tabela.abordagens[Idade])-2),ROW(A471)),6)","v":{"$error":"#NUM!"}},{"$f":"INDEX(Tabela.abordagens[],SMALL(IF(Tabela.abordagens[Mês]=$L$2,ROW(Tabela.abordagens[Idade])-2),ROW(A471)),4)","v":{"$error":"#NUM!"}},{"$f":"INDEX(Tabela.abordagens[],SMALL(IF(Tabela.abordagens[Mês]=$L$2,ROW(Tabela.abordagens[Idade])-2),ROW(A471)),5)","v":{"$error":"#NUM!"}}]
[null,{"$f":"INDEX(Tabela.frequencia[],SMALL(IF(Tabela.frequencia[Mês]=$L$2,ROW(Tabela.frequencia[id])-1),ROW(A472)),1)","v":{"$error":"#NUM!"}},{"$f":"INDEX(Tabela.frequencia[],SMALL(IF(Tabela.frequencia[Mês]=$L$2,ROW(Tabela.frequencia[id])-1),ROW(A472)),4)","v":{"$error":"#NUM!"}},null,{"$f":"IFERROR(VLOOKUP(D519,Tabela.cadastro[[ID]:[Nome]],2,0),\"\")","v":""},{"$f":"IFERROR(VLOOKUP(D519,Tabela66[#All],2,0),\"\")","v":""},{"$f":"IFERROR(VLOOKUP(D519,Tabela.cadastro[[ID]:[CP ou M]],5,0),\"\")","v":""},{"$f":"IFERROR(VLOOKUP(D519,Cadastros!A:F,6,0),\"\")","v":""},{"$f":"IFERROR(VLOOKUP(D519,Cadastros!A:I,9,0),\"\")","v":""},{"$f":"IFERROR(VLOOKUP(D519,Cadastros!A:J,10,0),\"\")","v":""},{"$f":"IF(COUNTIF(Tabela66[id],D519)=0,\"\",COUNTIF(Tabela66[id],D519))","v":""},null,"",null,null,{"$f":"IFERROR(VLOOKUP(O519,Cadastros!A:B,2),\"\")","v":""},"",{"$f":"IFERROR(VLOOKUP(O519,Cadastros!A:E,5,0),\"\")","v":""},{"$f":"IFERROR(VLOOKUP(O519,Cadastros!A:F,6,0),\"\")","v":""},{"$f":"IFERROR(VLOOKUP(O519,Cadastros!A:I,9,0),\"\")","v":""},"","","",null,{"$f":"INDEX(Tabela.abordagens[],SMALL(IF(Tabela.abordagens[Mês]=$L$2,ROW(Tabela.abordagens[id])-2),ROW(A472)),1)","v":{"$error":"#NUM!"}},{"$f":"INDEX(Tabela.abordagens[],SMALL(IF(Tabela.abordagens[Mês]=$L$2,ROW(Tabela.abordagens[Idade])-2),ROW(A472)),6)","v":{"$error":"#NUM!"}},{"$f":"INDEX(Tabela.abordagens[],SMALL(IF(Tabela.abordagens[Mês]=$L$2,ROW(Tabela.abordagens[Idade])-2),ROW(A472)),4)","v":{"$error":"#NUM!"}},{"$f":"INDEX(Tabela.abordagens[],SMALL(IF(Tabela.abordagens[Mês]=$L$2,ROW(Tabela.abordagens[Idade])-2),ROW(A472)),5)","v":{"$error":"#NUM!"}}]
[null,{"$f":"INDEX(Tabela.frequencia[],SMALL(IF(Tabela.frequencia[Mês]=$L$2,ROW(Tabela.frequencia[id])-1),ROW(A473)),1)","v":{"$error":"#NUM!"}},{"$f":"INDEX(Tabela.frequencia[],SMALL(IF(Tabela.frequencia[Mês]=$L$2,ROW(Tabela.frequencia[id])-1),ROW(A473)),4)","v":{"$error":"#NUM!"}},null,{"$f":"IFERROR(VLOOKUP(D520,Tabela.cadastro[[ID]:[Nome]],2,0),\"\")","v":""},{"$f":"IFERROR(VLOOKUP(D520,Tabela66[#All],2,0),\"\")","v":""},{"$f":"IFERROR(VLOOKUP(D520,Tabela.cadastro[[ID]:[CP ou M]],5,0),\"\")","v":""},{"$f":"IFERROR(VLOOKUP(D520,Cadastros!A:F,6,0),\"\")","v":""},{"$f":"IFERROR(VLOOKUP(D520,Cadastros!A:I,9,0),\"\")","v":""},{"$f":"IFERROR(VLOOKUP(D520,Cadastros!A:J,10,0),\"\")","v":""},{"$f":"IF(COUNTIF(Tabela66[id],D520)=0,\"\",COUNTIF(Tabela66[id],D520))","v":""},null,"",null,null,{"$f":"IFERROR(VLOOKUP(O520,Cadastros!A:B,2),\"\")","v":""},"",{"$f":"IFERROR(VLOOKUP(O520,Cadastros!A:E,5,0),\"\")","v":""},{"$f":"IFERROR(VLOOKUP(O520,Cadastros!A:F,6,0),\"\")","v":""},{"$f":"IFERROR(VLOOKUP(O520,Cadastros!A:I,9,0),\"\")","v":""},"","","",null,{"$f":"INDEX(Tabela.abordagens[],SMALL(IF(Tabela.abordagens[Mês]=$L$2,ROW(Tabela.abordagens[id])-2),ROW(A473)),1)","v":{"$error":"#NUM!"}},{"$f":"INDEX(Tabela.abordagens[],SMALL(IF(Tabela.abordagens[Mês]=$L$2,ROW(Tabela.abordagens[Idade])-2),ROW(A473)),6)","v":{"$error":"#NUM!"}},{"$f":"INDEX(Tabela.abordagens[],SMALL(IF(Tabela.abordagens[Mês]=$L$2,ROW(Tabela.abordagens[Idade])-2),ROW(A473)),4)","v":{"$error":"#NUM!"}},{"$f":"INDEX(Tabela.abordagens[],SMALL(IF(Tabela.abordagens[Mês]=$L$2,ROW(Tabela.abordagens[Idade])-2),ROW(A473)),5)","v":{"$error":"#NUM!"}}]
[null,{"$f":"INDEX(Tabela.frequencia[],SMALL(IF(Tabela.frequencia[Mês]=$L$2,ROW(Tabela.frequencia[id])-1),ROW(A474)),1)","v":{"$error":"#NUM!"}},{"$f":"INDEX(Tabela.frequencia[],SMALL(IF(Tabela.frequencia[Mês]=$L$2,ROW(Tabela.frequencia[id])-1),ROW(A474)),4)","v":{"$error":"#NUM!"}},null,{"$f":"IFERROR(VLOOKUP(D521,Tabela.cadastro[[ID]:[Nome]],2,0),\"\")","v":""},{"$f":"IFERROR(VLOOKUP(D521,Tabela66[#All],2,0),\"\")","v":""},{"$f":"IFERROR(VLOOKUP(D521,Tabela.cadastro[[ID]:[CP ou M]],5,0),\"\")","v":""},{"$f":"IFERROR(VLOOKUP(D521,Cadastros!A:F,6,0),\"\")","v":""},{"$f":"IFERROR(VLOOKUP(D521,Cadastros!A:I,9,0),\"\")","v":""},{"$f":"IFERROR(VLOOKUP(D521,Cadastros!A:J,10,0),\"\")","v":""},{"$f":"IF(COUNTIF(Tabela66[id],D521)=0,\"\",COUNTIF(Tabela66[id],D521))","v":""},null,"",null,null,{"$f":"IFERROR(VLOOKUP(O521,Cadastros!A:B,2),\"\")","v":""},"",{"$f":"IFERROR(VLOOKUP(O521,Cadastros!A:E,5,0),\"\")","v":""},{"$f":"IFERROR(VLOOKUP(O521,Cadastros!A:F,6,0),\"\")","v":""},{"$f":"IFERROR(VLOOKUP(O521,Cadastros!A:I,9,0),\"\")","v":""},"","","",null,{"$f":"INDEX(Tabela.abordagens[],SMALL(IF(Tabela.abordagens[Mês]=$L$2,ROW(Tabela.abordagens[id])-2),ROW(A474)),1)","v":{"$error":"#NUM!"}},{"$f":"INDEX(Tabela.abordagens[],SMALL(IF(Tabela.abordagens[Mês]=$L$2,ROW(Tabela.abordagens[Idade])-2),ROW(A474)),6)","v":{"$error":"#NUM!"}},{"$f":"INDEX(Tabela.abordagens[],SMALL(IF(Tabela.abordagens[Mês]=$L$2,ROW(Tabela.abordagens[Idade])-2),ROW(A474)),4)","v":{"$error":"#NUM!"}},{"$f":"INDEX(Tabela.abordagens[],SMALL(IF(Tabela.abordagens[Mês]=$L$2,ROW(Tabela.abordagens[Idade])-2),ROW(A474)),5)","v":{"$error":"#NUM!"}}]
[null,{"$f":"INDEX(Tabela.frequencia[],SMALL(IF(Tabela.frequencia[Mês]=$L$2,ROW(Tabela.frequencia[id])-1),ROW(A475)),1)","v":{"$error":"#NUM!"}},{"$f":"INDEX(Tabela.frequencia[],SMALL(IF(Tabela.frequencia[Mês]=$L$2,ROW(Tabela.frequencia[id])-1),ROW(A475)),4)","v":{"$error":"#NUM!"}},null,{"$f":"IFERROR(VLOOKUP(D522,Tabela.cadastro[[ID]:[Nome]],2,0),\"\")","v":""},{"$f":"IFERROR(VLOOKUP(D522,Tabela66[#All],2,0),\"\")","v":""},{"$f":"IFERROR(VLOOKUP(D522,Tabela.cadastro[[ID]:[CP ou M]],5,0),\"\")","v":""},{"$f":"IFERROR(VLOOKUP(D522,Cadastros!A:F,6,0),\"\")","v":""},{"$f":"IFERROR(VLOOKUP(D522,Cadastros!A:I,9,0),\"\")","v":""},{"$f":"IFERROR(VLOOKUP(D522,Cadastros!A:J,10,0),\"\")","v":""},{"$f":"IF(COUNTIF(Tabela66[id],D522)=0,\"\",COUNTIF(Tabela66[id],D522))","v":""},null,"",null,null,{"$f":"IFERROR(VLOOKUP(O522,Cadastros!A:B,2),\"\")","v":""},"",{"$f":"IFERROR(VLOOKUP(O522,Cadastros!A:E,5,0),\"\")","v":""},{"$f":"IFERROR(VLOOKUP(O522,Cadastros!A:F,6,0),\"\")","v":""},{"$f":"IFERROR(VLOOKUP(O522,Cadastros!A:I,9,0),\"\")","v":""},"","","",null,{"$f":"INDEX(Tabela.abordagens[],SMALL(IF(Tabela.abordagens[Mês]=$L$2,ROW(Tabela.abordagens[id])-2),ROW(A475)),1)","v":{"$error":"#NUM!"}},{"$f":"INDEX(Tabela.abordagens[],SMALL(IF(Tabela.abordagens[Mês]=$L$2,ROW(Tabela.abordagens[Idade])-2),ROW(A475)),6)","v":{"$error":"#NUM!"}},{"$f":"INDEX(Tabela.abordagens[],SMALL(IF(Tabela.abordagens[Mês]=$L$2,ROW(Tabela.abordagens[Idade])-2),ROW(A475)),4)","v":{"$error":"#NUM!"}},{"$f":"INDEX(Tabela.abordagens[],SMALL(IF(Tabela.abordagens[Mês]=$L$2,ROW(Tabela.abordagens[Idade])-2),ROW(A475)),5)","v":{"$error":"#NUM!"}}]
[null,{"$f":"INDEX(Tabela.frequencia[],SMALL(IF(Tabela.frequencia[Mês]=$L$2,ROW(Tabela.frequencia[id])-1),ROW(A476)),1)","v":{"$error":"#NUM!"}},{"$f":"INDEX(Tabela.frequencia[],SMALL(IF(Tabela.frequencia[Mês]=$L$2,ROW(Tabela.frequencia[id])-1),ROW(A476)),4)","v":{"$error":"#NUM!"}},null,{"$f":"IFERROR(VLOOKUP(D523,Tabela.cadastro[[ID]:[Nome]],2,0),\"\")","v":""},{"$f":"IFERROR(VLOOKUP(D523,Tabela66[#All],2,0),\"\")","v":""},{"$f":"IFERROR(VLOOKUP(D523,Tabela.cadastro[[ID]:[CP ou M]],5,0),\"\")","v":""},{"$f":"IFERROR(VLOOKUP(D523,Cadastros!A:F,6,0),\"\")","v":""},{"$f":"IFERROR(VLOOKUP(D523,Cadastros!A:I,9,0),\"\")","v":""},{"$f":"IFERROR(VLOOKUP(D523,Cadastros!A:J,10,0),\"\")","v":""},{"$f":"IF(COUNTIF(Tabela66[id],D523)=0,\"\",COUNTIF(Tabela66[id],D523))","v":""},null,"",null,null,{"$f":"IFERROR(VLOOKUP(O523,Cadastros!A:B,2),\"\")","v":""},"",{"$f":"IFERROR(VLOOKUP(O523,Cadastros!A:E,5,0),\"\")","v":""},{"$f":"IFERROR(VLOOKUP(O523,Cadastros!A:F,6,0),\"\")","v":""},{"$f":"IFERROR(VLOOKUP(O523,Cadastros!A:I,9,0),\"\")","v":""},"","","",null,{"$f":"INDEX(Tabela.abordagens[],SMALL(IF(Tabela.abordagens[Mês]=$L$2,ROW(Tabela.abordagens[id])-2),ROW(A476)),1)","v":{"$error":"#NUM!"}},{"$f":"INDEX(Tabela.abordagens[],SMALL(IF(Tabela.abordagens[Mês]=$L$2,ROW(Tabela.abordagens[Idade])-2),ROW(A476)),6)","v":{"$error":"#NUM!"}},{"$f":"INDEX(Tabela.abordagens[],SMALL(IF(Tabela.abordagens[Mês]=$L$2,ROW(Tabela.abordagens[Idade])-2),ROW(A476)),4)","v":{"$error":"#NUM!"}},{"$f":"INDEX(Tabela.abordagens[],SMALL(IF(Tabela.abordagens[Mês]=$L$2,ROW(Tabela.abordagens[Idade])-2),ROW(A476)),5)","v":{"$error":"#NUM!"}}]
[null,{"$f":"INDEX(Tabela.frequencia[],SMALL(IF(Tabela.frequencia[Mês]=$L$2,ROW(Tabela.frequencia[id])-1),ROW(A477)),1)","v":{"$error":"#NUM!"}},{"$f":"INDEX(Tabela.frequencia[],SMALL(IF(Tabela.frequencia[Mês]=$L$2,ROW(Tabela.frequencia[id])-1),ROW(A477)),4)","v":{"$error":"#NUM!"}},null,{"$f":"IFERROR(VLOOKUP(D524,Tabela.cadastro[[ID]:[Nome]],2,0),\"\")","v":""},{"$f":"IFERROR(VLOOKUP(D524,Tabela66[#All],2,0),\"\")","v":""},{"$f":"IFERROR(VLOOKUP(D524,Tabela.cadastro[[ID]:[CP ou M]],5,0),\"\")","v":""},{"$f":"IFERROR(VLOOKUP(D524,Cadastros!A:F,6,0),\"\")","v":""},{"$f":"IFERROR(VLOOKUP(D524,Cadastros!A:I,9,0),\"\")","v":""},{"$f":"IFERROR(VLOOKUP(D524,Cadastros!A:J,10,0),\"\")","v":""},{"$f":"IF(COUNTIF(Tabela66[id],D524)=0,\"\",COUNTIF(Tabela66[id],D524))","v":""},null,"",null,null,{"$f":"IFERROR(VLOOKUP(O524,Cadastros!A:B,2),\"\")","v":""},"",{"$f":"IFERROR(VLOOKUP(O524,Cadastros!A:E,5,0),\"\")","v":""},{"$f":"IFERROR(VLOOKUP(O524,Cadastros!A:F,6,0),\"\")","v":""},{"$f":"IFERROR(VLOOKUP(O524,Cadastros!A:I,9,0),\"\")","v":""},"","","",null,{"$f":"INDEX(Tabela.abordagens[],SMALL(IF(Tabela.abordagens[Mês]=$L$2,ROW(Tabela.abordagens[id])-2),ROW(A477)),1)","v":{"$error":"#NUM!"}},{"$f":"INDEX(Tabela.abordagens[],SMALL(IF(Tabela.abordagens[Mês]=$L$2,ROW(Tabela.abordagens[Idade])-2),ROW(A477)),6)","v":{"$error":"#NUM!"}},{"$f":"INDEX(Tabela.abordagens[],SMALL(IF(Tabela.abordagens[Mês]=$L$2,ROW(Tabela.abordagens[Idade])-2),ROW(A477)),4)","v":{"$error":"#NUM!"}},{"$f":"INDEX(Tabela.abordagens[],SMALL(IF(Tabela.abordagens[Mês]=$L$2,ROW(Tabela.abordagens[Idade])-2),ROW(A477)),5)","v":{"$error":"#NUM!"}}]
[null,{"$f":"INDEX(Tabela.frequencia[],SMALL(IF(Tabela.frequencia[Mês]=$L$2,ROW(Tabela.frequencia[id])-1),ROW(A478)),1)","v":{"$error":"#NUM!"}},{"$f":"INDEX(Tabela.frequencia[],SMALL(IF(Tabela.frequencia[Mês]=$L$2,ROW(Tabela.frequencia[id])-1),ROW(A478)),4)","v":{"$error":"#NUM!"}},null,{"$f":"IFERROR(VLOOKUP(D525,Tabela.cadastro[[ID]:[Nome]],2,0),\"\")","v":""},{"$f":"IFERROR(VLOOKUP(D525,Tabela66[#All],2,0),\"\")","v":""},{"$f":"IFERROR(VLOOKUP(D525,Tabela.cadastro[[ID]:[CP ou M]],5,0),\"\")","v":""},{"$f":"IFERROR(VLOOKUP(D525,Cadastros!A:F,6,0),\"\")","v":""},{"$f":"IFERROR(VLOOKUP(D525,Cadastros!A:I,9,0),\"\")","v":""},{"$f":"IFERROR(VLOOKUP(D525,Cadastros!A:J,10,0),\"\")","v":""},{"$f":"IF(COUNTIF(Tabela66[id],D525)=0,\"\",COUNTIF(Tabela66[id],D525))","v":""},null,"",null,null,{"$f":"IFERROR(VLOOKUP(O525,Cadastros!A:B,2),\"\")","v":""},"",{"$f":"IFERROR(VLOOKUP(O525,Cadastros!A:E,5,0),\"\")","v":""},{"$f":"IFERROR(VLOOKUP(O525,Cadastros!A:F,6,0),\"\")","v":""},{"$f":"IFERROR(VLOOKUP(O525,Cadastros!A:I,9,0),\"\")","v":""},"","","",null,{"$f":"INDEX(Tabela.abordagens[],SMALL(IF(Tabela.abordagens[Mês]=$L$2,ROW(Tabela.abordagens[id])-2),ROW(A478)),1)","v":{"$error":"#NUM!"}},{"$f":"INDEX(Tabela.abordagens[],SMALL(IF(Tabela.abordagens[Mês]=$L$2,ROW(Tabela.abordagens[Idade])-2),ROW(A478)),6)","v":{"$error":"#NUM!"}},{"$f":"INDEX(Tabela.abordagens[],SMALL(IF(Tabela.abordagens[Mês]=$L$2,ROW(Tabela.abordagens[Idade])-2),ROW(A478)),4)","v":{"$error":"#NUM!"}},{"$f":"INDEX(Tabela.abordagens[],SMALL(IF(Tabela.abordagens[Mês]=$L$2,ROW(Tabela.abordagens[Idade])-2),ROW(A478)),5)","v":{"$error":"#NUM!"}}]
[null,{"$f":"INDEX(Tabela.frequencia[],SMALL(IF(Tabela.frequencia[Mês]=$L$2,ROW(Tabela.frequencia[id])-1),ROW(A479)),1)","v":{"$error":"#NUM!"}},{"$f":"INDEX(Tabela.frequencia[],SMALL(IF(Tabela.frequencia[Mês]=$L$2,ROW(Tabela.frequencia[id])-1),ROW(A479)),4)","v":{"$error":"#NUM!"}},null,{"$f":"IFERROR(VLOOKUP(D526,Tabela.cadastro[[ID]:[Nome]],2,0),\"\")","v":""},{"$f":"IFERROR(VLOOKUP(D526,Tabela66[#All],2,0),\"\")","v":""},{"$f":"IFERROR(VLOOKUP(D526,Tabela.cadastro[[ID]:[CP ou M]],5,0),\"\")","v":""},{"$f":"IFERROR(VLOOKUP(D526,Cadastros!A:F,6,0),\"\")","v":""},{"$f":"IFERROR(VLOOKUP(D526,Cadastros!A:I,9,0),\"\")","v":""},{"$f":"IFERROR(VLOOKUP(D526,Cadastros!A:J,10,0),\"\")","v":""},{"$f":"IF(COUNTIF(Tabela66[id],D526)=0,\"\",COUNTIF(Tabela66[id],D526))","v":""},null,"",null,null,{"$f":"IFERROR(VLOOKUP(O526,Cadastros!A:B,2),\"\")","v":""},"",{"$f":"IFERROR(VLOOKUP(O526,Cadastros!A:E,5,0),\"\")","v":""},{"$f":"IFERROR(VLOOKUP(O526,Cadastros!A:F,6,0),\"\")","v":""},{"$f":"IFERROR(VLOOKUP(O526,Cadastros!A:I,9,0),\"\")","v":""},"","","",null,{"$f":"INDEX(Tabela.abordagens[],SMALL(IF(Tabela.abordagens[Mês]=$L$2,ROW(Tabela.abordagens[id])-2),ROW(A479)),1)","v":{"$error":"#NUM!"}},{"$f":"INDEX(Tabela.abordagens[],SMALL(IF(Tabela.abordagens[Mês]=$L$2,ROW(Tabela.abordagens[Idade])-2),ROW(A479)),6)","v":{"$error":"#NUM!"}},{"$f":"INDEX(Tabela.abordagens[],SMALL(IF(Tabela.abordagens[Mês]=$L$2,ROW(Tabela.abordagens[Idade])-2),ROW(A479)),4)","v":{"$error":"#NUM!"}},{"$f":"INDEX(Tabela.abordagens[],SMALL(IF(Tabela.abordagens[Mês]=$L$2,ROW(Tabela.abordagens[Idade])-2),ROW(A479)),5)","v":{"$error":"#NUM!"}}]
[null,{"$f":"INDEX(Tabela.frequencia[],SMALL(IF(Tabela.frequencia[Mês]=$L$2,ROW(Tabela.frequencia[id])-1),ROW(A480)),1)","v":{"$error":"#NUM!"}},{"$f":"INDEX(Tabela.frequencia[],SMALL(IF(Tabela.frequencia[Mês]=$L$2,ROW(Tabela.frequencia[id])-1),ROW(A480)),4)","v":{"$error":"#NUM!"}},null,{"$f":"IFERROR(VLOOKUP(D527,Tabela.cadastro[[ID]:[Nome]],2,0),\"\")","v":""},{"$f":"IFERROR(VLOOKUP(D527,Tabela66[#All],2,0),\"\")","v":""},{"$f":"IFERROR(VLOOKUP(D527,Tabela.cadastro[[ID]:[CP ou M]],5,0),\"\")","v":""},{"$f":"IFERROR(VLOOKUP(D527,Cadastros!A:F,6,0),\"\")","v":""},{"$f":"IFERROR(VLOOKUP(D527,Cadastros!A:I,9,0),\"\")","v":""},{"$f":"IFERROR(VLOOKUP(D527,Cadastros!A:J,10,0),\"\")","v":""},{"$f":"IF(COUNTIF(Tabela66[id],D527)=0,\"\",COUNTIF(Tabela66[id],D527))","v":""},null,"",null,null,{"$f":"IFERROR(VLOOKUP(O527,Cadastros!A:B,2),\"\")","v":""},"",{"$f":"IFERROR(VLOOKUP(O527,Cadastros!A:E,5,0),\"\")","v":""},{"$f":"IFERROR(VLOOKUP(O527,Cadastros!A:F,6,0),\"\")","v":""},{"$f":"IFERROR(VLOOKUP(O527,Cadastros!A:I,9,0),\"\")","v":""},"","","",null,{"$f":"INDEX(Tabela.abordagens[],SMALL(IF(Tabela.abordagens[Mês]=$L$2,ROW(Tabela.abordagens[id])-2),ROW(A480)),1)","v":{"$error":"#NUM!"}},{"$f":"INDEX(Tabela.abordagens[],SMALL(IF(Tabela.abordagens[Mês]=$L$2,ROW(Tabela.abordagens[Idade])-2),ROW(A480)),6)","v":{"$error":"#NUM!"}},{"$f":"INDEX(Tabela.abordagens[],SMALL(IF(Tabela.abordagens[Mês]=$L$2,ROW(Tabela.abordagens[Idade])-2),ROW(A480)),4)","v":{"$error":"#NUM!"}},{"$f":"INDEX(Tabela.abordagens[],SMALL(IF(Tabela.abordagens[Mês]=$L$2,ROW(Tabela.abordagens[Idade])-2),ROW(A480)),5)","v":{"$error":"#NUM!"}}]
[null,{"$f":"INDEX(Tabela.frequencia[],SMALL(IF(Tabela.frequencia[Mês]=$L$2,ROW(Tabela.frequencia[id])-1),ROW(A481)),1)","v":{"$error":"#NUM!"}},{"$f":"INDEX(Tabela.frequencia[],SMALL(IF(Tabela.frequencia[Mês]=$L$2,ROW(Tabela.frequencia[id])-1),ROW(A481)),4)","v":{"$error":"#NUM!"}},null,{"$f":"IFERROR(VLOOKUP(D528,Tabela.cadastro[[ID]:[Nome]],2,0),\"\")","v":""},{"$f":"IFERROR(VLOOKUP(D528,Tabela66[#All],2,0),\"\")","v":""},{"$f":"IFERROR(VLOOKUP(D528,Tabela.cadastro[[ID]:[CP ou M]],5,0),\"\")","v":""},{"$f":"IFERROR(VLOOKUP(D528,Cadastros!A:F,6,0),\"\")","v":""},{"$f":"IFERROR(VLOOKUP(D528,Cadastros!A:I,9,0),\"\")","v":""},{"$f":"IFERROR(VLOOKUP(D528,Cadastros!A:J,10,0),\"\")","v":""},{"$f":"IF(COUNTIF(Tabela66[id],D528)=0,\"\",COUNTIF(Tabela66[id],D528))","v":""},null,"",null,null,{"$f":"IFERROR(VLOOKUP(O528,Cadastros!A:B,2),\"\")","v":""},"",{"$f":"IFERROR(VLOOKUP(O528,Cadastros!A:E,5,0),\"\")","v":""},{"$f":"IFERROR(VLOOKUP(O528,Cadastros!A:F,6,0),\"\")","v":""},{"$f":"IFERROR(VLOOKUP(O528,Cadastros!A:I,9,0),\"\")","v":""},"","","",null,{"$f":"INDEX(Tabela.abordagens[],SMALL(IF(Tabela.abordagens[Mês]=$L$2,ROW(Tabela.abordagens[id])-2),ROW(A481)),1)","v":{"$error":"#NUM!"}},{"$f":"INDEX(Tabela.abordagens[],SMALL(IF(Tabela.abordagens[Mês]=$L$2,ROW(Tabela.abordagens[Idade])-2),ROW(A481)),6)","v":{"$error":"#NUM!"}},{"$f":"INDEX(Tabela.abordagens[],SMALL(IF(Tabela.abordagens[Mês]=$L$2,ROW(Tabela.abordagens[Idade])-2),ROW(A481)),4)","v":{"$error":"#NUM!"}},{"$f":"INDEX(Tabela.abordagens[],SMALL(IF(Tabela.abordagens[Mês]=$L$2,ROW(Tabela.abordagens[Idade])-2),ROW(A481)),5)","v":{"$error":"#NUM!"}}]
[null,{"$f":"INDEX(Tabela.frequencia[],SMALL(IF(Tabela.frequencia[Mês]=$L$2,ROW(Tabela.frequencia[id])-1),ROW(A482)),1)","v":{"$error":"#NUM!"}},{"$f":"INDEX(Tabela.frequencia[],SMALL(IF(Tabela.frequencia[Mês]=$L$2,ROW(Tabela.frequencia[id])-1),ROW(A482)),4)","v":{"$error":"#NUM!"}},null,{"$f":"IFERROR(VLOOKUP(D529,Tabela.cadastro[[ID]:[Nome]],2,0),\"\")","v":""},{"$f":"IFERROR(VLOOKUP(D529,Tabela66[#All],2,0),\"\")","v":""},{"$f":"IFERROR(VLOOKUP(D529,Tabela.cadastro[[ID]:[CP ou M]],5,0),\"\")","v":""},{"$f":"IFERROR(VLOOKUP(D529,Cadastros!A:F,6,0),\"\")","v":""},{"$f":"IFERROR(VLOOKUP(D529,Cadastros!A:I,9,0),\"\")","v":""},{"$f":"IFERROR(VLOOKUP(D529,Cadastros!A:J,10,0),\"\")","v":""},{"$f":"IF(COUNTIF(Tabela66[id],D529)=0,\"\",COUNTIF(Tabela66[id],D529))","v":""},null,"",null,null,{"$f":"IFERROR(VLOOKUP(O529,Cadastros!A:B,2),\"\")","v":""},"",{"$f":"IFERROR(VLOOKUP(O529,Cadastros!A:E,5,0),\"\")","v":""},{"$f":"IFERROR(VLOOKUP(O529,Cadastros!A:F,6,0),\"\")","v":""},{"$f":"IFERROR(VLOOKUP(O529,Cadastros!A:I,9,0),\"\")","v":""},"","","",null,{"$f":"INDEX(Tabela.abordagens[],SMALL(IF(Tabela.abordagens[Mês]=$L$2,ROW(Tabela.abordagens[id])-2),ROW(A482)),1)","v":{"$error":"#NUM!"}},{"$f":"INDEX(Tabela.abordagens[],SMALL(IF(Tabela.abordagens[Mês]=$L$2,ROW(Tabela.abordagens[Idade])-2),ROW(A482)),6)","v":{"$error":"#NUM!"}},{"$f":"INDEX(Tabela.abordagens[],SMALL(IF(Tabela.abordagens[Mês]=$L$2,ROW(Tabela.abordagens[Idade])-2),ROW(A482)),4)","v":{"$error":"#NUM!"}},{"$f":"INDEX(Tabela.abordagens[],SMALL(IF(Tabela.abordagens[Mês]=$L$2,ROW(Tabela.abordagens[Idade])-2),ROW(A482)),5)","v":{"$error":"#NUM!"}}]
[null,{"$f":"INDEX(Tabela.frequencia[],SMALL(IF(Tabela.frequencia[Mês]=$L$2,ROW(Tabela.frequencia[id])-1),ROW(A483)),1)","v":{"$error":"#NUM!"}},{"$f":"INDEX(Tabela.frequencia[],SMALL(IF(Tabela.frequencia[Mês]=$L$2,ROW(Tabela.frequencia[id])-1),ROW(A483)),4)","v":{"$error":"#NUM!"}},null,{"$f":"IFERROR(VLOOKUP(D530,Tabela.cadastro[[ID]:[Nome]],2,0),\"\")","v":""},{"$f":"IFERROR(VLOOKUP(D530,Tabela66[#All],2,0),\"\")","v":""},{"$f":"IFERROR(VLOOKUP(D530,Tabela.cadastro[[ID]:[CP ou M]],5,0),\"\")","v":""},{"$f":"IFERROR(VLOOKUP(D530,Cadastros!A:F,6,0),\"\")","v":""},{"$f":"IFERROR(VLOOKUP(D530,Cadastros!A:I,9,0),\"\")","v":""},{"$f":"IFERROR(VLOOKUP(D530,Cadastros!A:J,10,0),\"\")","v":""},{"$f":"IF(COUNTIF(Tabela66[id],D530)=0,\"\",COUNTIF(Tabela66[id],D530))","v":""},null,"",null,null,{"$f":"IFERROR(VLOOKUP(O530,Cadastros!A:B,2),\"\")","v":""},"",{"$f":"IFERROR(VLOOKUP(O530,Cadastros!A:E,5,0),\"\")","v":""},{"$f":"IFERROR(VLOOKUP(O530,Cadastros!A:F,6,0),\"\")","v":""},{"$f":"IFERROR(VLOOKUP(O530,Cadastros!A:I,9,0),\"\")","v":""},"","","",null,{"$f":"INDEX(Tabela.abordagens[],SMALL(IF(Tabela.abordagens[Mês]=$L$2,ROW(Tabela.abordagens[id])-2),ROW(A483)),1)","v":{"$error":"#NUM!"}},{"$f":"INDEX(Tabela.abordagens[],SMALL(IF(Tabela.abordagens[Mês]=$L$2,ROW(Tabela.abordagens[Idade])-2),ROW(A483)),6)","v":{"$error":"#NUM!"}},{"$f":"INDEX(Tabela.abordagens[],SMALL(IF(Tabela.abordagens[Mês]=$L$2,ROW(Tabela.abordagens[Idade])-2),ROW(A483)),4)","v":{"$error":"#NUM!"}},{"$f":"INDEX(Tabela.abordagens[],SMALL(IF(Tabela.abordagens[Mês]=$L$2,ROW(Tabela.abordagens[Idade])-2),ROW(A483)),5)","v":{"$error":"#NUM!"}}]
[null,{"$f":"INDEX(Tabela.frequencia[],SMALL(IF(Tabela.frequencia[Mês]=$L$2,ROW(Tabela.frequencia[id])-1),ROW(A484)),1)","v":{"$error":"#NUM!"}},{"$f":"INDEX(Tabela.frequencia[],SMALL(IF(Tabela.frequencia[Mês]=$L$2,ROW(Tabela.frequencia[id])-1),ROW(A484)),4)","v":{"$error":"#NUM!"}},null,{"$f":"IFERROR(VLOOKUP(D531,Tabela.cadastro[[ID]:[Nome]],2,0),\"\")","v":""},{"$f":"IFERROR(VLOOKUP(D531,Tabela66[#All],2,0),\"\")","v":""},{"$f":"IFERROR(VLOOKUP(D531,Tabela.cadastro[[ID]:[CP ou M]],5,0),\"\")","v":""},{"$f":"IFERROR(VLOOKUP(D531,Cadastros!A:F,6,0),\"\")","v":""},{"$f":"IFERROR(VLOOKUP(D531,Cadastros!A:I,9,0),\"\")","v":""},{"$f":"IFERROR(VLOOKUP(D531,Cadastros!A:J,10,0),\"\")","v":""},{"$f":"IF(COUNTIF(Tabela66[id],D531)=0,\"\",COUNTIF(Tabela66[id],D531))","v":""},null,"",null,null,{"$f":"IFERROR(VLOOKUP(O531,Cadastros!A:B,2),\"\")","v":""},"",{"$f":"IFERROR(VLOOKUP(O531,Cadastros!A:E,5,0),\"\")","v":""},{"$f":"IFERROR(VLOOKUP(O531,Cadastros!A:F,6,0),\"\")","v":""},{"$f":"IFERROR(VLOOKUP(O531,Cadastros!A:I,9,0),\"\")","v":""},"","","",null,{"$f":"INDEX(Tabela.abordagens[],SMALL(IF(Tabela.abordagens[Mês]=$L$2,ROW(Tabela.abordagens[id])-2),ROW(A484)),1)","v":{"$error":"#NUM!"}},{"$f":"INDEX(Tabela.abordagens[],SMALL(IF(Tabela.abordagens[Mês]=$L$2,ROW(Tabela.abordagens[Idade])-2),ROW(A484)),6)","v":{"$error":"#NUM!"}},{"$f":"INDEX(Tabela.abordagens[],SMALL(IF(Tabela.abordagens[Mês]=$L$2,ROW(Tabela.abordagens[Idade])-2),ROW(A484)),4)","v":{"$error":"#NUM!"}},{"$f":"INDEX(Tabela.abordagens[],SMALL(IF(Tabela.abordagens[Mês]=$L$2,ROW(Tabela.abordagens[Idade])-2),ROW(A484)),5)","v":{"$error":"#NUM!"}}]
[null,{"$f":"INDEX(Tabela.frequencia[],SMALL(IF(Tabela.frequencia[Mês]=$L$2,ROW(Tabela.frequencia[id])-1),ROW(A485)),1)","v":{"$error":"#NUM!"}},{"$f":"INDEX(Tabela.frequencia[],SMALL(IF(Tabela.frequencia[Mês]=$L$2,ROW(Tabela.frequencia[id])-1),ROW(A485)),4)","v":{"$error":"#NUM!"}},null,{"$f":"IFERROR(VLOOKUP(D532,Tabela.cadastro[[ID]:[Nome]],2,0),\"\")","v":""},{"$f":"IFERROR(VLOOKUP(D532,Tabela66[#All],2,0),\"\")","v":""},{"$f":"IFERROR(VLOOKUP(D532,Tabela.cadastro[[ID]:[CP ou M]],5,0),\"\")","v":""},{"$f":"IFERROR(VLOOKUP(D532,Cadastros!A:F,6,0),\"\")","v":""},{"$f":"IFERROR(VLOOKUP(D532,Cadastros!A:I,9,0),\"\")","v":""},{"$f":"IFERROR(VLOOKUP(D532,Cadastros!A:J,10,0),\"\")","v":""},{"$f":"IF(COUNTIF(Tabela66[id],D532)=0,\"\",COUNTIF(Tabela66[id],D532))","v":""},null,"",null,null,{"$f":"IFERROR(VLOOKUP(O532,Cadastros!A:B,2),\"\")","v":""},"",{"$f":"IFERROR(VLOOKUP(O532,Cadastros!A:E,5,0),\"\")","v":""},{"$f":"IFERROR(VLOOKUP(O532,Cadastros!A:F,6,0),\"\")","v":""},{"$f":"IFERROR(VLOOKUP(O532,Cadastros!A:I,9,0),\"\")","v":""},"","","",null,{"$f":"INDEX(Tabela.abordagens[],SMALL(IF(Tabela.abordagens[Mês]=$L$2,ROW(Tabela.abordagens[id])-2),ROW(A485)),1)","v":{"$error":"#NUM!"}},{"$f":"INDEX(Tabela.abordagens[],SMALL(IF(Tabela.abordagens[Mês]=$L$2,ROW(Tabela.abordagens[Idade])-2),ROW(A485)),6)","v":{"$error":"#NUM!"}},{"$f":"INDEX(Tabela.abordagens[],SMALL(IF(Tabela.abordagens[Mês]=$L$2,ROW(Tabela.abordagens[Idade])-2),ROW(A485)),4)","v":{"$error":"#NUM!"}},{"$f":"INDEX(Tabela.abordagens[],SMALL(IF(Tabela.abordagens[Mês]=$L$2,ROW(Tabela.abordagens[Idade])-2),ROW(A485)),5)","v":{"$error":"#NUM!"}}]
[null,{"$f":"INDEX(Tabela.frequencia[],SMALL(IF(Tabela.frequencia[Mês]=$L$2,ROW(Tabela.frequencia[id])-1),ROW(A486)),1)","v":{"$error":"#NUM!"}},{"$f":"INDEX(Tabela.frequencia[],SMALL(IF(Tabela.frequencia[Mês]=$L$2,ROW(Tabela.frequencia[id])-1),ROW(A486)),4)","v":{"$error":"#NUM!"}},null,{"$f":"IFERROR(VLOOKUP(D533,Tabela.cadastro[[ID]:[Nome]],2,0),\"\")","v":""},{"$f":"IFERROR(VLOOKUP(D533,Tabela66[#All],2,0),\"\")","v":""},{"$f":"IFERROR(VLOOKUP(D533,Tabela.cadastro[[ID]:[CP ou M]],5,0),\"\")","v":""},{"$f":"IFERROR(VLOOKUP(D533,Cadastros!A:F,6,0),\"\")","v":""},{"$f":"IFERROR(VLOOKUP(D533,Cadastros!A:I,9,0),\"\")","v":""},{"$f":"IFERROR(VLOOKUP(D533,Cadastros!A:J,10,0),\"\")","v":""},{"$f":"IF(COUNTIF(Tabela66[id],D533)=0,\"\",COUNTIF(Tabela66[id],D533))","v":""},null,"",null,null,{"$f":"IFERROR(VLOOKUP(O533,Cadastros!A:B,2),\"\")","v":""},"",{"$f":"IFERROR(VLOOKUP(O533,Cadastros!A:E,5,0),\"\")","v":""},{"$f":"IFERROR(VLOOKUP(O533,Cadastros!A:F,6,0),\"\")","v":""},{"$f":"IFERROR(VLOOKUP(O533,Cadastros!A:I,9,0),\"\")","v":""},"","","",null,{"$f":"INDEX(Tabela.abordagens[],SMALL(IF(Tabela.abordagens[Mês]=$L$2,ROW(Tabela.abordagens[id])-2),ROW(A486)),1)","v":{"$error":"#NUM!"}},{"$f":"INDEX(Tabela.abordagens[],SMALL(IF(Tabela.abordagens[Mês]=$L$2,ROW(Tabela.abordagens[Idade])-2),ROW(A486)),6)","v":{"$error":"#NUM!"}},{"$f":"INDEX(Tabela.abordagens[],SMALL(IF(Tabela.abordagens[Mês]=$L$2,ROW(Tabela.abordagens[Idade])-2),ROW(A486)),4)","v":{"$error":"#NUM!"}},{"$f":"INDEX(Tabela.abordagens[],SMALL(IF(Tabela.abordagens[Mês]=$L$2,ROW(Tabela.abordagens[Idade])-2),ROW(A486)),5)","v":{"$error":"#NUM!"}}]
[null,{"$f":"INDEX(Tabela.frequencia[],SMALL(IF(Tabela.frequencia[Mês]=$L$2,ROW(Tabela.frequencia[id])-1),ROW(A487)),1)","v":{"$error":"#NUM!"}},{"$f":"INDEX(Tabela.frequencia[],SMALL(IF(Tabela.frequencia[Mês]=$L$2,ROW(Tabela.frequencia[id])-1),ROW(A487)),4)","v":{"$error":"#NUM!"}},null,{"$f":"IFERROR(VLOOKUP(D534,Tabela.cadastro[[ID]:[Nome]],2,0),\"\")","v":""},{"$f":"IFERROR(VLOOKUP(D534,Tabela66[#All],2,0),\"\")","v":""},{"$f":"IFERROR(VLOOKUP(D534,Tabela.cadastro[[ID]:[CP ou M]],5,0),\"\")","v":""},{"$f":"IFERROR(VLOOKUP(D534,Cadastros!A:F,6,0),\"\")","v":""},{"$f":"IFERROR(VLOOKUP(D534,Cadastros!A:I,9,0),\"\")","v":""},{"$f":"IFERROR(VLOOKUP(D534,Cadastros!A:J,10,0),\"\")","v":""},{"$f":"IF(COUNTIF(Tabela66[id],D534)=0,\"\",COUNTIF(Tabela66[id],D534))","v":""},null,"",null,null,{"$f":"IFERROR(VLOOKUP(O534,Cadastros!A:B,2),\"\")","v":""},"",{"$f":"IFERROR(VLOOKUP(O534,Cadastros!A:E,5,0),\"\")","v":""},{"$f":"IFERROR(VLOOKUP(O534,Cadastros!A:F,6,0),\"\")","v":""},{"$f":"IFERROR(VLOOKUP(O534,Cadastros!A:I,9,0),\"\")","v":""},"","","",null,{"$f":"INDEX(Tabela.abordagens[],SMALL(IF(Tabela.abordagens[Mês]=$L$2,ROW(Tabela.abordagens[id])-2),ROW(A487)),1)","v":{"$error":"#NUM!"}},{"$f":"INDEX(Tabela.abordagens[],SMALL(IF(Tabela.abordagens[Mês]=$L$2,ROW(Tabela.abordagens[Idade])-2),ROW(A487)),6)","v":{"$error":"#NUM!"}},{"$f":"INDEX(Tabela.abordagens[],SMALL(IF(Tabela.abordagens[Mês]=$L$2,ROW(Tabela.abordagens[Idade])-2),ROW(A487)),4)","v":{"$error":"#NUM!"}},{"$f":"INDEX(Tabela.abordagens[],SMALL(IF(Tabela.abordagens[Mês]=$L$2,ROW(Tabela.abordagens[Idade])-2),ROW(A487)),5)","v":{"$error":"#NUM!"}}]
[null,{"$f":"INDEX(Tabela.frequencia[],SMALL(IF(Tabela.frequencia[Mês]=$L$2,ROW(Tabela.frequencia[id])-1),ROW(A488)),1)","v":{"$error":"#NUM!"}},{"$f":"INDEX(Tabela.frequencia[],SMALL(IF(Tabela.frequencia[Mês]=$L$2,ROW(Tabela.frequencia[id])-1),ROW(A488)),4)","v":{"$error":"#NUM!"}},null,{"$f":"IFERROR(VLOOKUP(D535,Tabela.cadastro[[ID]:[Nome]],2,0),\"\")","v":""},{"$f":"IFERROR(VLOOKUP(D535,Tabela66[#All],2,0),\"\")","v":""},{"$f":"IFERROR(VLOOKUP(D535,Tabela.cadastro[[ID]:[CP ou M]],5,0),\"\")","v":""},{"$f":"IFERROR(VLOOKUP(D535,Cadastros!A:F,6,0),\"\")","v":""},{"$f":"IFERROR(VLOOKUP(D535,Cadastros!A:I,9,0),\"\")","v":""},{"$f":"IFERROR(VLOOKUP(D535,Cadastros!A:J,10,0),\"\")","v":""},{"$f":"IF(COUNTIF(Tabela66[id],D535)=0,\"\",COUNTIF(Tabela66[id],D535))","v":""},null,"",null,null,{"$f":"IFERROR(VLOOKUP(O535,Cadastros!A:B,2),\"\")","v":""},"",{"$f":"IFERROR(VLOOKUP(O535,Cadastros!A:E,5,0),\"\")","v":""},{"$f":"IFERROR(VLOOKUP(O535,Cadastros!A:F,6,0),\"\")","v":""},{"$f":"IFERROR(VLOOKUP(O535,Cadastros!A:I,9,0),\"\")","v":""},"","","",null,{"$f":"INDEX(Tabela.abordagens[],SMALL(IF(Tabela.abordagens[Mês]=$L$2,ROW(Tabela.abordagens[id])-2),ROW(A488)),1)","v":{"$error":"#NUM!"}},{"$f":"INDEX(Tabela.abordagens[],SMALL(IF(Tabela.abordagens[Mês]=$L$2,ROW(Tabela.abordagens[Idade])-2),ROW(A488)),6)","v":{"$error":"#NUM!"}},{"$f":"INDEX(Tabela.abordagens[],SMALL(IF(Tabela.abordagens[Mês]=$L$2,ROW(Tabela.abordagens[Idade])-2),ROW(A488)),4)","v":{"$error":"#NUM!"}},{"$f":"INDEX(Tabela.abordagens[],SMALL(IF(Tabela.abordagens[Mês]=$L$2,ROW(Tabela.abordagens[Idade])-2),ROW(A488)),5)","v":{"$error":"#NUM!"}}]
[null,{"$f":"INDEX(Tabela.frequencia[],SMALL(IF(Tabela.frequencia[Mês]=$L$2,ROW(Tabela.frequencia[id])-1),ROW(A489)),1)","v":{"$error":"#NUM!"}},{"$f":"INDEX(Tabela.frequencia[],SMALL(IF(Tabela.frequencia[Mês]=$L$2,ROW(Tabela.frequencia[id])-1),ROW(A489)),4)","v":{"$error":"#NUM!"}},null,{"$f":"IFERROR(VLOOKUP(D536,Tabela.cadastro[[ID]:[Nome]],2,0),\"\")","v":""},{"$f":"IFERROR(VLOOKUP(D536,Tabela66[#All],2,0),\"\")","v":""},{"$f":"IFERROR(VLOOKUP(D536,Tabela.cadastro[[ID]:[CP ou M]],5,0),\"\")","v":""},{"$f":"IFERROR(VLOOKUP(D536,Cadastros!A:F,6,0),\"\")","v":""},{"$f":"IFERROR(VLOOKUP(D536,Cadastros!A:I,9,0),\"\")","v":""},{"$f":"IFERROR(VLOOKUP(D536,Cadastros!A:J,10,0),\"\")","v":""},{"$f":"IF(COUNTIF(Tabela66[id],D536)=0,\"\",COUNTIF(Tabela66[id],D536))","v":""},null,"",null,null,{"$f":"IFERROR(VLOOKUP(O536,Cadastros!A:B,2),\"\")","v":""},"",{"$f":"IFERROR(VLOOKUP(O536,Cadastros!A:E,5,0),\"\")","v":""},{"$f":"IFERROR(VLOOKUP(O536,Cadastros!A:F,6,0),\"\")","v":""},{"$f":"IFERROR(VLOOKUP(O536,Cadastros!A:I,9,0),\"\")","v":""},"","","",null,{"$f":"INDEX(Tabela.abordagens[],SMALL(IF(Tabela.abordagens[Mês]=$L$2,ROW(Tabela.abordagens[id])-2),ROW(A489)),1)","v":{"$error":"#NUM!"}},{"$f":"INDEX(Tabela.abordagens[],SMALL(IF(Tabela.abordagens[Mês]=$L$2,ROW(Tabela.abordagens[Idade])-2),ROW(A489)),6)","v":{"$error":"#NUM!"}},{"$f":"INDEX(Tabela.abordagens[],SMALL(IF(Tabela.abordagens[Mês]=$L$2,ROW(Tabela.abordagens[Idade])-2),ROW(A489)),4)","v":{"$error":"#NUM!"}},{"$f":"INDEX(Tabela.abordagens[],SMALL(IF(Tabela.abordagens[Mês]=$L$2,ROW(Tabela.abordagens[Idade])-2),ROW(A489)),5)","v":{"$error":"#NUM!"}}]
[null,{"$f":"INDEX(Tabela.frequencia[],SMALL(IF(Tabela.frequencia[Mês]=$L$2,ROW(Tabela.frequencia[id])-1),ROW(A490)),1)","v":{"$error":"#NUM!"}},{"$f":"INDEX(Tabela.frequencia[],SMALL(IF(Tabela.frequencia[Mês]=$L$2,ROW(Tabela.frequencia[id])-1),ROW(A490)),4)","v":{"$error":"#NUM!"}},null,{"$f":"IFERROR(VLOOKUP(D537,Tabela.cadastro[[ID]:[Nome]],2,0),\"\")","v":""},{"$f":"IFERROR(VLOOKUP(D537,Tabela66[#All],2,0),\"\")","v":""},{"$f":"IFERROR(VLOOKUP(D537,Tabela.cadastro[[ID]:[CP ou M]],5,0),\"\")","v":""},{"$f":"IFERROR(VLOOKUP(D537,Cadastros!A:F,6,0),\"\")","v":""},{"$f":"IFERROR(VLOOKUP(D537,Cadastros!A:I,9,0),\"\")","v":""},{"$f":"IFERROR(VLOOKUP(D537,Cadastros!A:J,10,0),\"\")","v":""},{"$f":"IF(COUNTIF(Tabela66[id],D537)=0,\"\",COUNTIF(Tabela66[id],D537))","v":""},null,"",null,null,{"$f":"IFERROR(VLOOKUP(O537,Cadastros!A:B,2),\"\")","v":""},"",{"$f":"IFERROR(VLOOKUP(O537,Cadastros!A:E,5,0),\"\")","v":""},{"$f":"IFERROR(VLOOKUP(O537,Cadastros!A:F,6,0),\"\")","v":""},{"$f":"IFERROR(VLOOKUP(O537,Cadastros!A:I,9,0),\"\")","v":""},"","","",null,{"$f":"INDEX(Tabela.abordagens[],SMALL(IF(Tabela.abordagens[Mês]=$L$2,ROW(Tabela.abordagens[id])-2),ROW(A490)),1)","v":{"$error":"#NUM!"}},{"$f":"INDEX(Tabela.abordagens[],SMALL(IF(Tabela.abordagens[Mês]=$L$2,ROW(Tabela.abordagens[Idade])-2),ROW(A490)),6)","v":{"$error":"#NUM!"}},{"$f":"INDEX(Tabela.abordagens[],SMALL(IF(Tabela.abordagens[Mês]=$L$2,ROW(Tabela.abordagens[Idade])-2),ROW(A490)),4)","v":{"$error":"#NUM!"}},{"$f":"INDEX(Tabela.abordagens[],SMALL(IF(Tabela.abordagens[Mês]=$L$2,ROW(Tabela.abordagens[Idade])-2),ROW(A490)),5)","v":{"$error":"#NUM!"}}]
[null,{"$f":"INDEX(Tabela.frequencia[],SMALL(IF(Tabela.frequencia[Mês]=$L$2,ROW(Tabela.frequencia[id])-1),ROW(A491)),1)","v":{"$error":"#NUM!"}},{"$f":"INDEX(Tabela.frequencia[],SMALL(IF(Tabela.frequencia[Mês]=$L$2,ROW(Tabela.frequencia[id])-1),ROW(A491)),4)","v":{"$error":"#NUM!"}},null,{"$f":"IFERROR(VLOOKUP(D538,Tabela.cadastro[[ID]:[Nome]],2,0),\"\")","v":""},{"$f":"IFERROR(VLOOKUP(D538,Tabela66[#All],2,0),\"\")","v":""},{"$f":"IFERROR(VLOOKUP(D538,Tabela.cadastro[[ID]:[CP ou M]],5,0),\"\")","v":""},{"$f":"IFERROR(VLOOKUP(D538,Cadastros!A:F,6,0),\"\")","v":""},{"$f":"IFERROR(VLOOKUP(D538,Cadastros!A:I,9,0),\"\")","v":""},{"$f":"IFERROR(VLOOKUP(D538,Cadastros!A:J,10,0),\"\")","v":""},{"$f":"IF(COUNTIF(Tabela66[id],D538)=0,\"\",COUNTIF(Tabela66[id],D538))","v":""},null,"",null,null,{"$f":"IFERROR(VLOOKUP(O538,Cadastros!A:B,2),\"\")","v":""},"",{"$f":"IFERROR(VLOOKUP(O538,Cadastros!A:E,5,0),\"\")","v":""},{"$f":"IFERROR(VLOOKUP(O538,Cadastros!A:F,6,0),\"\")","v":""},{"$f":"IFERROR(VLOOKUP(O538,Cadastros!A:I,9,0),\"\")","v":""},"","","",null,{"$f":"INDEX(Tabela.abordagens[],SMALL(IF(Tabela.abordagens[Mês]=$L$2,ROW(Tabela.abordagens[id])-2),ROW(A491)),1)","v":{"$error":"#NUM!"}},{"$f":"INDEX(Tabela.abordagens[],SMALL(IF(Tabela.abordagens[Mês]=$L$2,ROW(Tabela.abordagens[Idade])-2),ROW(A491)),6)","v":{"$error":"#NUM!"}},{"$f":"INDEX(Tabela.abordagens[],SMALL(IF(Tabela.abordagens[Mês]=$L$2,ROW(Tabela.abordagens[Idade])-2),ROW(A491)),4)","v":{"$error":"#NUM!"}},{"$f":"INDEX(Tabela.abordagens[],SMALL(IF(Tabela.abordagens[Mês]=$L$2,ROW(Tabela.abordagens[Idade])-2),ROW(A491)),5)","v":{"$error":"#NUM!"}}]
[null,{"$f":"INDEX(Tabela.frequencia[],SMALL(IF(Tabela.frequencia[Mês]=$L$2,ROW(Tabela.frequencia[id])-1),ROW(A492)),1)","v":{"$error":"#NUM!"}},{"$f":"INDEX(Tabela.frequencia[],SMALL(IF(Tabela.frequencia[Mês]=$L$2,ROW(Tabela.frequencia[id])-1),ROW(A492)),4)","v":{"$error":"#NUM!"}},null,{"$f":"IFERROR(VLOOKUP(D539,Tabela.cadastro[[ID]:[Nome]],2,0),\"\")","v":""},{"$f":"IFERROR(VLOOKUP(D539,Tabela66[#All],2,0),\"\")","v":""},{"$f":"IFERROR(VLOOKUP(D539,Tabela.cadastro[[ID]:[CP ou M]],5,0),\"\")","v":""},{"$f":"IFERROR(VLOOKUP(D539,Cadastros!A:F,6,0),\"\")","v":""},{"$f":"IFERROR(VLOOKUP(D539,Cadastros!A:I,9,0),\"\")","v":""},{"$f":"IFERROR(VLOOKUP(D539,Cadastros!A:J,10,0),\"\")","v":""},{"$f":"IF(COUNTIF(Tabela66[id],D539)=0,\"\",COUNTIF(Tabela66[id],D539))","v":""},null,"",null,null,{"$f":"IFERROR(VLOOKUP(O539,Cadastros!A:B,2),\"\")","v":""},"",{"$f":"IFERROR(VLOOKUP(O539,Cadastros!A:E,5,0),\"\")","v":""},{"$f":"IFERROR(VLOOKUP(O539,Cadastros!A:F,6,0),\"\")","v":""},{"$f":"IFERROR(VLOOKUP(O539,Cadastros!A:I,9,0),\"\")","v":""},"","","",null,{"$f":"INDEX(Tabela.abordagens[],SMALL(IF(Tabela.abordagens[Mês]=$L$2,ROW(Tabela.abordagens[id])-2),ROW(A492)),1)","v":{"$error":"#NUM!"}},{"$f":"INDEX(Tabela.abordagens[],SMALL(IF(Tabela.abordagens[Mês]=$L$2,ROW(Tabela.abordagens[Idade])-2),ROW(A492)),6)","v":{"$error":"#NUM!"}},{"$f":"INDEX(Tabela.abordagens[],SMALL(IF(Tabela.abordagens[Mês]=$L$2,ROW(Tabela.abordagens[Idade])-2),ROW(A492)),4)","v":{"$error":"#NUM!"}},{"$f":"INDEX(Tabela.abordagens[],SMALL(IF(Tabela.abordagens[Mês]=$L$2,ROW(Tabela.abordagens[Idade])-2),ROW(A492)),5)","v":{"$error":"#NUM!"}}]
[null,{"$f":"INDEX(Tabela.frequencia[],SMALL(IF(Tabela.frequencia[Mês]=$L$2,ROW(Tabela.frequencia[id])-1),ROW(A493)),1)","v":{"$error":"#NUM!"}},{"$f":"INDEX(Tabela.frequencia[],SMALL(IF(Tabela.frequencia[Mês]=$L$2,ROW(Tabela.frequencia[id])-1),ROW(A493)),4)","v":{"$error":"#NUM!"}},null,{"$f":"IFERROR(VLOOKUP(D540,Tabela.cadastro[[ID]:[Nome]],2,0),\"\")","v":""},{"$f":"IFERROR(VLOOKUP(D540,Tabela66[#All],2,0),\"\")","v":""},{"$f":"IFERROR(VLOOKUP(D540,Tabela.cadastro[[ID]:[CP ou M]],5,0),\"\")","v":""},{"$f":"IFERROR(VLOOKUP(D540,Cadastros!A:F,6,0),\"\")","v":""},{"$f":"IFERROR(VLOOKUP(D540,Cadastros!A:I,9,0),\"\")","v":""},{"$f":"IFERROR(VLOOKUP(D540,Cadastros!A:J,10,0),\"\")","v":""},{"$f":"IF(COUNTIF(Tabela66[id],D540)=0,\"\",COUNTIF(Tabela66[id],D540))","v":""},null,"",null,null,{"$f":"IFERROR(VLOOKUP(O540,Cadastros!A:B,2),\"\")","v":""},"",{"$f":"IFERROR(VLOOKUP(O540,Cadastros!A:E,5,0),\"\")","v":""},{"$f":"IFERROR(VLOOKUP(O540,Cadastros!A:F,6,0),\"\")","v":""},{"$f":"IFERROR(VLOOKUP(O540,Cadastros!A:I,9,0),\"\")","v":""},"","","",null,{"$f":"INDEX(Tabela.abordagens[],SMALL(IF(Tabela.abordagens[Mês]=$L$2,ROW(Tabela.abordagens[id])-2),ROW(A493)),1)","v":{"$error":"#NUM!"}},{"$f":"INDEX(Tabela.abordagens[],SMALL(IF(Tabela.abordagens[Mês]=$L$2,ROW(Tabela.abordagens[Idade])-2),ROW(A493)),6)","v":{"$error":"#NUM!"}},{"$f":"INDEX(Tabela.abordagens[],SMALL(IF(Tabela.abordagens[Mês]=$L$2,ROW(Tabela.abordagens[Idade])-2),ROW(A493)),4)","v":{"$error":"#NUM!"}},{"$f":"INDEX(Tabela.abordagens[],SMALL(IF(Tabela.abordagens[Mês]=$L$2,ROW(Tabela.abordagens[Idade])-2),ROW(A493)),5)","v":{"$error":"#NUM!"}}]
[null,{"$f":"INDEX(Tabela.frequencia[],SMALL(IF(Tabela.frequencia[Mês]=$L$2,ROW(Tabela.frequencia[id])-1),ROW(A494)),1)","v":{"$error":"#NUM!"}},{"$f":"INDEX(Tabela.frequencia[],SMALL(IF(Tabela.frequencia[Mês]=$L$2,ROW(Tabela.frequencia[id])-1),ROW(A494)),4)","v":{"$error":"#NUM!"}},null,{"$f":"IFERROR(VLOOKUP(D541,Tabela.cadastro[[ID]:[Nome]],2,0),\"\")","v":""},{"$f":"IFERROR(VLOOKUP(D541,Tabela66[#All],2,0),\"\")","v":""},{"$f":"IFERROR(VLOOKUP(D541,Tabela.cadastro[[ID]:[CP ou M]],5,0),\"\")","v":""},{"$f":"IFERROR(VLOOKUP(D541,Cadastros!A:F,6,0),\"\")","v":""},{"$f":"IFERROR(VLOOKUP(D541,Cadastros!A:I,9,0),\"\")","v":""},{"$f":"IFERROR(VLOOKUP(D541,Cadastros!A:J,10,0),\"\")","v":""},{"$f":"IF(COUNTIF(Tabela66[id],D541)=0,\"\",COUNTIF(Tabela66[id],D541))","v":""},null,"",null,null,{"$f":"IFERROR(VLOOKUP(O541,Cadastros!A:B,2),\"\")","v":""},"",{"$f":"IFERROR(VLOOKUP(O541,Cadastros!A:E,5,0),\"\")","v":""},{"$f":"IFERROR(VLOOKUP(O541,Cadastros!A:F,6,0),\"\")","v":""},{"$f":"IFERROR(VLOOKUP(O541,Cadastros!A:I,9,0),\"\")","v":""},"","","",null,{"$f":"INDEX(Tabela.abordagens[],SMALL(IF(Tabela.abordagens[Mês]=$L$2,ROW(Tabela.abordagens[id])-2),ROW(A494)),1)","v":{"$error":"#NUM!"}},{"$f":"INDEX(Tabela.abordagens[],SMALL(IF(Tabela.abordagens[Mês]=$L$2,ROW(Tabela.abordagens[Idade])-2),ROW(A494)),6)","v":{"$error":"#NUM!"}},{"$f":"INDEX(Tabela.abordagens[],SMALL(IF(Tabela.abordagens[Mês]=$L$2,ROW(Tabela.abordagens[Idade])-2),ROW(A494)),4)","v":{"$error":"#NUM!"}},{"$f":"INDEX(Tabela.abordagens[],SMALL(IF(Tabela.abordagens[Mês]=$L$2,ROW(Tabela.abordagens[Idade])-2),ROW(A494)),5)","v":{"$error":"#NUM!"}}]
[null,{"$f":"INDEX(Tabela.frequencia[],SMALL(IF(Tabela.frequencia[Mês]=$L$2,ROW(Tabela.frequencia[id])-1),ROW(A495)),1)","v":{"$error":"#NUM!"}},{"$f":"INDEX(Tabela.frequencia[],SMALL(IF(Tabela.frequencia[Mês]=$L$2,ROW(Tabela.frequencia[id])-1),ROW(A495)),4)","v":{"$error":"#NUM!"}},null,{"$f":"IFERROR(VLOOKUP(D542,Tabela.cadastro[[ID]:[Nome]],2,0),\"\")","v":""},{"$f":"IFERROR(VLOOKUP(D542,Tabela66[#All],2,0),\"\")","v":""},{"$f":"IFERROR(VLOOKUP(D542,Tabela.cadastro[[ID]:[CP ou M]],5,0),\"\")","v":""},{"$f":"IFERROR(VLOOKUP(D542,Cadastros!A:F,6,0),\"\")","v":""},{"$f":"IFERROR(VLOOKUP(D542,Cadastros!A:I,9,0),\"\")","v":""},{"$f":"IFERROR(VLOOKUP(D542,Cadastros!A:J,10,0),\"\")","v":""},{"$f":"IF(COUNTIF(Tabela66[id],D542)=0,\"\",COUNTIF(Tabela66[id],D542))","v":""},null,"",null,null,{"$f":"IFERROR(VLOOKUP(O542,Cadastros!A:B,2),\"\")","v":""},"",{"$f":"IFERROR(VLOOKUP(O542,Cadastros!A:E,5,0),\"\")","v":""},{"$f":"IFERROR(VLOOKUP(O542,Cadastros!A:F,6,0),\"\")","v":""},{"$f":"IFERROR(VLOOKUP(O542,Cadastros!A:I,9,0),\"\")","v":""},"","","",null,{"$f":"INDEX(Tabela.abordagens[],SMALL(IF(Tabela.abordagens[Mês]=$L$2,ROW(Tabela.abordagens[id])-2),ROW(A495)),1)","v":{"$error":"#NUM!"}},{"$f":"INDEX(Tabela.abordagens[],SMALL(IF(Tabela.abordagens[Mês]=$L$2,ROW(Tabela.abordagens[Idade])-2),ROW(A495)),6)","v":{"$error":"#NUM!"}},{"$f":"INDEX(Tabela.abordagens[],SMALL(IF(Tabela.abordagens[Mês]=$L$2,ROW(Tabela.abordagens[Idade])-2),ROW(A495)),4)","v":{"$error":"#NUM!"}},{"$f":"INDEX(Tabela.abordagens[],SMALL(IF(Tabela.abordagens[Mês]=$L$2,ROW(Tabela.abordagens[Idade])-2),ROW(A495)),5)","v":{"$error":"#NUM!"}}]
[null,{"$f":"INDEX(Tabela.frequencia[],SMALL(IF(Tabela.frequencia[Mês]=$L$2,ROW(Tabela.frequencia[id])-1),ROW(A496)),1)","v":{"$error":"#NUM!"}},{"$f":"INDEX(Tabela.frequencia[],SMALL(IF(Tabela.frequencia[Mês]=$L$2,ROW(Tabela.frequencia[id])-1),ROW(A496)),4)","v":{"$error":"#NUM!"}},null,{"$f":"IFERROR(VLOOKUP(D543,Tabela.cadastro[[ID]:[Nome]],2,0),\"\")","v":""},{"$f":"IFERROR(VLOOKUP(D543,Tabela66[#All],2,0),\"\")","v":""},{"$f":"IFERROR(VLOOKUP(D543,Tabela.cadastro[[ID]:[CP ou M]],5,0),\"\")","v":""},{"$f":"IFERROR(VLOOKUP(D543,Cadastros!A:F,6,0),\"\")","v":""},{"$f":"IFERROR(VLOOKUP(D543,Cadastros!A:I,9,0),\"\")","v":""},{"$f":"IFERROR(VLOOKUP(D543,Cadastros!A:J,10,0),\"\")","v":""},{"$f":"IF(COUNTIF(Tabela66[id],D543)=0,\"\",COUNTIF(Tabela66[id],D543))","v":""},null,"",null,null,{"$f":"IFERROR(VLOOKUP(O543,Cadastros!A:B,2),\"\")","v":""},"",{"$f":"IFERROR(VLOOKUP(O543,Cadastros!A:E,5,0),\"\")","v":""},{"$f":"IFERROR(VLOOKUP(O543,Cadastros!A:F,6,0),\"\")","v":""},{"$f":"IFERROR(VLOOKUP(O543,Cadastros!A:I,9,0),\"\")","v":""},"","","",null,{"$f":"INDEX(Tabela.abordagens[],SMALL(IF(Tabela.abordagens[Mês]=$L$2,ROW(Tabela.abordagens[id])-2),ROW(A496)),1)","v":{"$error":"#NUM!"}},{"$f":"INDEX(Tabela.abordagens[],SMALL(IF(Tabela.abordagens[Mês]=$L$2,ROW(Tabela.abordagens[Idade])-2),ROW(A496)),6)","v":{"$error":"#NUM!"}},{"$f":"INDEX(Tabela.abordagens[],SMALL(IF(Tabela.abordagens[Mês]=$L$2,ROW(Tabela.abordagens[Idade])-2),ROW(A496)),4)","v":{"$error":"#NUM!"}},{"$f":"INDEX(Tabela.abordagens[],SMALL(IF(Tabela.abordagens[Mês]=$L$2,ROW(Tabela.abordagens[Idade])-2),ROW(A496)),5)","v":{"$error":"#NUM!"}}]
[null,{"$f":"INDEX(Tabela.frequencia[],SMALL(IF(Tabela.frequencia[Mês]=$L$2,ROW(Tabela.frequencia[id])-1),ROW(A497)),1)","v":{"$error":"#NUM!"}},{"$f":"INDEX(Tabela.frequencia[],SMALL(IF(Tabela.frequencia[Mês]=$L$2,ROW(Tabela.frequencia[id])-1),ROW(A497)),4)","v":{"$error":"#NUM!"}},null,{"$f":"IFERROR(VLOOKUP(D544,Tabela.cadastro[[ID]:[Nome]],2,0),\"\")","v":""},{"$f":"IFERROR(VLOOKUP(D544,Tabela66[#All],2,0),\"\")","v":""},{"$f":"IFERROR(VLOOKUP(D544,Tabela.cadastro[[ID]:[CP ou M]],5,0),\"\")","v":""},{"$f":"IFERROR(VLOOKUP(D544,Cadastros!A:F,6,0),\"\")","v":""},{"$f":"IFERROR(VLOOKUP(D544,Cadastros!A:I,9,0),\"\")","v":""},{"$f":"IFERROR(VLOOKUP(D544,Cadastros!A:J,10,0),\"\")","v":""},{"$f":"IF(COUNTIF(Tabela66[id],D544)=0,\"\",COUNTIF(Tabela66[id],D544))","v":""},null,"",null,null,{"$f":"IFERROR(VLOOKUP(O544,Cadastros!A:B,2),\"\")","v":""},"",{"$f":"IFERROR(VLOOKUP(O544,Cadastros!A:E,5,0),\"\")","v":""},{"$f":"IFERROR(VLOOKUP(O544,Cadastros!A:F,6,0),\"\")","v":""},{"$f":"IFERROR(VLOOKUP(O544,Cadastros!A:I,9,0),\"\")","v":""},"","","",null,{"$f":"INDEX(Tabela.abordagens[],SMALL(IF(Tabela.abordagens[Mês]=$L$2,ROW(Tabela.abordagens[id])-2),ROW(A497)),1)","v":{"$error":"#NUM!"}},{"$f":"INDEX(Tabela.abordagens[],SMALL(IF(Tabela.abordagens[Mês]=$L$2,ROW(Tabela.abordagens[Idade])-2),ROW(A497)),6)","v":{"$error":"#NUM!"}},{"$f":"INDEX(Tabela.abordagens[],SMALL(IF(Tabela.abordagens[Mês]=$L$2,ROW(Tabela.abordagens[Idade])-2),ROW(A497)),4)","v":{"$error":"#NUM!"}},{"$f":"INDEX(Tabela.abordagens[],SMALL(IF(Tabela.abordagens[Mês]=$L$2,ROW(Tabela.abordagens[Idade])-2),ROW(A497)),5)","v":{"$error":"#NUM!"}}]
[null,{"$f":"INDEX(Tabela.frequencia[],SMALL(IF(Tabela.frequencia[Mês]=$L$2,ROW(Tabela.frequencia[id])-1),ROW(A498)),1)","v":{"$error":"#NUM!"}},{"$f":"INDEX(Tabela.frequencia[],SMALL(IF(Tabela.frequencia[Mês]=$L$2,ROW(Tabela.frequencia[id])-1),ROW(A498)),4)","v":{"$error":"#NUM!"}},null,{"$f":"IFERROR(VLOOKUP(D545,Tabela.cadastro[[ID]:[Nome]],2,0),\"\")","v":""},{"$f":"IFERROR(VLOOKUP(D545,Tabela66[#All],2,0),\"\")","v":""},{"$f":"IFERROR(VLOOKUP(D545,Tabela.cadastro[[ID]:[CP ou M]],5,0),\"\")","v":""},{"$f":"IFERROR(VLOOKUP(D545,Cadastros!A:F,6,0),\"\")","v":""},{"$f":"IFERROR(VLOOKUP(D545,Cadastros!A:I,9,0),\"\")","v":""},{"$f":"IFERROR(VLOOKUP(D545,Cadastros!A:J,10,0),\"\")","v":""},{"$f":"IF(COUNTIF(Tabela66[id],D545)=0,\"\",COUNTIF(Tabela66[id],D545))","v":""},null,"",null,null,{"$f":"IFERROR(VLOOKUP(O545,Cadastros!A:B,2),\"\")","v":""},"",{"$f":"IFERROR(VLOOKUP(O545,Cadastros!A:E,5,0),\"\")","v":""},{"$f":"IFERROR(VLOOKUP(O545,Cadastros!A:F,6,0),\"\")","v":""},{"$f":"IFERROR(VLOOKUP(O545,Cadastros!A:I,9,0),\"\")","v":""},"","","",null,{"$f":"INDEX(Tabela.abordagens[],SMALL(IF(Tabela.abordagens[Mês]=$L$2,ROW(Tabela.abordagens[id])-2),ROW(A498)),1)","v":{"$error":"#NUM!"}},{"$f":"INDEX(Tabela.abordagens[],SMALL(IF(Tabela.abordagens[Mês]=$L$2,ROW(Tabela.abordagens[Idade])-2),ROW(A498)),6)","v":{"$error":"#NUM!"}},{"$f":"INDEX(Tabela.abordagens[],SMALL(IF(Tabela.abordagens[Mês]=$L$2,ROW(Tabela.abordagens[Idade])-2),ROW(A498)),4)","v":{"$error":"#NUM!"}},{"$f":"INDEX(Tabela.abordagens[],SMALL(IF(Tabela.abordagens[Mês]=$L$2,ROW(Tabela.abordagens[Idade])-2),ROW(A498)),5)","v":{"$error":"#NUM!"}}]
[null,{"$f":"INDEX(Tabela.frequencia[],SMALL(IF(Tabela.frequencia[Mês]=$L$2,ROW(Tabela.frequencia[id])-1),ROW(A499)),1)","v":{"$error":"#NUM!"}},{"$f":"INDEX(Tabela.frequencia[],SMALL(IF(Tabela.frequencia[Mês]=$L$2,ROW(Tabela.frequencia[id])-1),ROW(A499)),4)","v":{"$error":"#NUM!"}},null,{"$f":"IFERROR(VLOOKUP(D546,Tabela.cadastro[[ID]:[Nome]],2,0),\"\")","v":""},{"$f":"IFERROR(VLOOKUP(D546,Tabela66[#All],2,0),\"\")","v":""},{"$f":"IFERROR(VLOOKUP(D546,Tabela.cadastro[[ID]:[CP ou M]],5,0),\"\")","v":""},{"$f":"IFERROR(VLOOKUP(D546,Cadastros!A:F,6,0),\"\")","v":""},{"$f":"IFERROR(VLOOKUP(D546,Cadastros!A:I,9,0),\"\")","v":""},{"$f":"IFERROR(VLOOKUP(D546,Cadastros!A:J,10,0),\"\")","v":""},{"$f":"IF(COUNTIF(Tabela66[id],D546)=0,\"\",COUNTIF(Tabela66[id],D546))","v":""},null,"",null,null,{"$f":"IFERROR(VLOOKUP(O546,Cadastros!A:B,2),\"\")","v":""},{"$f":"IFERROR(VLOOKUP(O546,$Y$33:$Z$866,2,0),\"\")","v":""},{"$f":"IFERROR(VLOOKUP(O546,Cadastros!A:E,5,0),\"\")","v":""},{"$f":"IFERROR(VLOOKUP(O546,Cadastros!A:F,6,0),\"\")","v":""},{"$f":"IFERROR(VLOOKUP(O546,Cadastros!A:I,9,0),\"\")","v":""},{"$f":"IFERROR(VLOOKUP(O546,Y$33:AB$866,3,0),\"\")","v":""},{"$f":"IFERROR(VLOOKUP(O546,Y$33:AB$866,4,0),\"\")","v":""},{"$f":"IF(COUNTIF(Y$33:Y$866,O546)=0,\"\",COUNTIF(Y$33:Y$866,O546))","v":""},null,{"$f":"INDEX(Tabela.abordagens[],SMALL(IF(Tabela.abordagens[Mês]=$L$2,ROW(Tabela.abordagens[id])-2),ROW(A499)),1)","v":{"$error":"#NUM!"}},{"$f":"INDEX(Tabela.abordagens[],SMALL(IF(Tabela.abordagens[Mês]=$L$2,ROW(Tabela.abordagens[Idade])-2),ROW(A499)),6)","v":{"$error":"#NUM!"}},{"$f":"INDEX(Tabela.abordagens[],SMALL(IF(Tabela.abordagens[Mês]=$L$2,ROW(Tabela.abordagens[Idade])-2),ROW(A499)),4)","v":{"$error":"#NUM!"}},{"$f":"INDEX(Tabela.abordagens[],SMALL(IF(Tabela.abordagens[Mês]=$L$2,ROW(Tabela.abordagens[Idade])-2),ROW(A499)),5)","v":{"$error":"#NUM!"}}]
[null,{"$f":"INDEX(Tabela.frequencia[],SMALL(IF(Tabela.frequencia[Mês]=$L$2,ROW(Tabela.frequencia[id])-1),ROW(A500)),1)","v":{"$error":"#NUM!"}},{"$f":"INDEX(Tabela.frequencia[],SMALL(IF(Tabela.frequencia[Mês]=$L$2,ROW(Tabela.frequencia[id])-1),ROW(A500)),4)","v":{"$error":"#NUM!"}},null,{"$f":"IFERROR(VLOOKUP(D547,Tabela.cadastro[[ID]:[Nome]],2,0),\"\")","v":""},{"$f":"IFERROR(VLOOKUP(D547,Tabela66[#All],2,0),\"\")","v":""},{"$f":"IFERROR(VLOOKUP(D547,Tabela.cadastro[[ID]:[CP ou M]],5,0),\"\")","v":""},{"$f":"IFERROR(VLOOKUP(D547,Cadastros!A:F,6,0),\"\")","v":""},{"$f":"IFERROR(VLOOKUP(D547,Cadastros!A:I,9,0),\"\")","v":""},{"$f":"IFERROR(VLOOKUP(D547,Cadastros!A:J,10,0),\"\")","v":""},{"$f":"IF(COUNTIF(Tabela66[id],D547)=0,\"\",COUNTIF(Tabela66[id],D547))","v":""},null,"",null,null,{"$f":"IFERROR(VLOOKUP(O547,Cadastros!A:B,2),\"\")","v":""},"",{"$f":"IFERROR(VLOOKUP(O547,Cadastros!A:E,5,0),\"\")","v":""},{"$f":"IFERROR(VLOOKUP(O547,Cadastros!A:F,6,0),\"\")","v":""},{"$f":"IFERROR(VLOOKUP(O547,Cadastros!A:I,9,0),\"\")","v":""},"","","",null,{"$f":"INDEX(Tabela.abordagens[],SMALL(IF(Tabela.abordagens[Mês]=$L$2,ROW(Tabela.abordagens[id])-2),ROW(A500)),1)","v":{"$error":"#NUM!"}},{"$f":"INDEX(Tabela.abordagens[],SMALL(IF(Tabela.abordagens[Mês]=$L$2,ROW(Tabela.abordagens[Idade])-2),ROW(A500)),6)","v":{"$error":"#NUM!"}},{"$f":"INDEX(Tabela.abordagens[],SMALL(IF(Tabela.abordagens[Mês]=$L$2,ROW(Tabela.abordagens[Idade])-2),ROW(A500)),4)","v":{"$error":"#NUM!"}},{"$f":"INDEX(Tabela.abordagens[],SMALL(IF(Tabela.abordagens[Mês]=$L$2,ROW(Tabela.abordagens[Idade])-2),ROW(A500)),5)","v":{"$error":"#NUM!"}}]
[null,{"$f":"INDEX(Tabela.frequencia[],SMALL(IF(Tabela.frequencia[Mês]=$L$2,ROW(Tabela.frequencia[id])-1),ROW(A501)),1)","v":{"$error":"#NUM!"}},{"$f":"INDEX(Tabela.frequencia[],SMALL(IF(Tabela.frequencia[Mês]=$L$2,ROW(Tabela.frequencia[id])-1),ROW(A501)),4)","v":{"$error":"#NUM!"}},null,{"$f":"IFERROR(VLOOKUP(D548,Tabela.cadastro[[ID]:[Nome]],2,0),\"\")","v":""},{"$f":"IFERROR(VLOOKUP(D548,Tabela66[#All],2,0),\"\")","v":""},{"$f":"IFERROR(VLOOKUP(D548,Tabela.cadastro[[ID]:[CP ou M]],5,0),\"\")","v":""},{"$f":"IFERROR(VLOOKUP(D548,Cadastros!A:F,6,0),\"\")","v":""},{"$f":"IFERROR(VLOOKUP(D548,Cadastros!A:I,9,0),\"\")","v":""},{"$f":"IFERROR(VLOOKUP(D548,Cadastros!A:J,10,0),\"\")","v":""},{"$f":"IF(COUNTIF(Tabela66[id],D548)=0,\"\",COUNTIF(Tabela66[id],D548))","v":""},null,"",null,null,{"$f":"IFERROR(VLOOKUP(O548,Cadastros!A:B,2),\"\")","v":""},"",{"$f":"IFERROR(VLOOKUP(O548,Cadastros!A:E,5,0),\"\")","v":""},{"$f":"IFERROR(VLOOKUP(O548,Cadastros!A:F,6,0),\"\")","v":""},{"$f":"IFERROR(VLOOKUP(O548,Cadastros!A:I,9,0),\"\")","v":""},"","","",null,{"$f":"INDEX(Tabela.abordagens[],SMALL(IF(Tabela.abordagens[Mês]=$L$2,ROW(Tabela.abordagens[id])-2),ROW(A501)),1)","v":{"$error":"#NUM!"}},{"$f":"INDEX(Tabela.abordagens[],SMALL(IF(Tabela.abordagens[Mês]=$L$2,ROW(Tabela.abordagens[Idade])-2),ROW(A501)),6)","v":{"$error":"#NUM!"}},{"$f":"INDEX(Tabela.abordagens[],SMALL(IF(Tabela.abordagens[Mês]=$L$2,ROW(Tabela.abordagens[Idade])-2),ROW(A501)),4)","v":{"$error":"#NUM!"}},{"$f":"INDEX(Tabela.abordagens[],SMALL(IF(Tabela.abordagens[Mês]=$L$2,ROW(Tabela.abordagens[Idade])-2),ROW(A501)),5)","v":{"$error":"#NUM!"}}]
[null,{"$f":"INDEX(Tabela.frequencia[],SMALL(IF(Tabela.frequencia[Mês]=$L$2,ROW(Tabela.frequencia[id])-1),ROW(A502)),1)","v":{"$error":"#NUM!"}},{"$f":"INDEX(Tabela.frequencia[],SMALL(IF(Tabela.frequencia[Mês]=$L$2,ROW(Tabela.frequencia[id])-1),ROW(A502)),4)","v":{"$error":"#NUM!"}},null,{"$f":"IFERROR(VLOOKUP(D549,Tabela.cadastro[[ID]:[Nome]],2,0),\"\")","v":""},{"$f":"IFERROR(VLOOKUP(D549,Tabela66[#All],2,0),\"\")","v":""},{"$f":"IFERROR(VLOOKUP(D549,Tabela.cadastro[[ID]:[CP ou M]],5,0),\"\")","v":""},{"$f":"IFERROR(VLOOKUP(D549,Cadastros!A:F,6,0),\"\")","v":""},{"$f":"IFERROR(VLOOKUP(D549,Cadastros!A:I,9,0),\"\")","v":""},{"$f":"IFERROR(VLOOKUP(D549,Cadastros!A:J,10,0),\"\")","v":""},{"$f":"IF(COUNTIF(Tabela66[id],D549)=0,\"\",COUNTIF(Tabela66[id],D549))","v":""},null,"",null,null,{"$f":"IFERROR(VLOOKUP(O549,Cadastros!A:B,2),\"\")","v":""},"",{"$f":"IFERROR(VLOOKUP(O549,Cadastros!A:E,5,0),\"\")","v":""},{"$f":"IFERROR(VLOOKUP(O549,Cadastros!A:F,6,0),\"\")","v":""},{"$f":"IFERROR(VLOOKUP(O549,Cadastros!A:I,9,0),\"\")","v":""},"","","",null,{"$f":"INDEX(Tabela.abordagens[],SMALL(IF(Tabela.abordagens[Mês]=$L$2,ROW(Tabela.abordagens[id])-2),ROW(A502)),1)","v":{"$error":"#NUM!"}},{"$f":"INDEX(Tabela.abordagens[],SMALL(IF(Tabela.abordagens[Mês]=$L$2,ROW(Tabela.abordagens[Idade])-2),ROW(A502)),6)","v":{"$error":"#NUM!"}},{"$f":"INDEX(Tabela.abordagens[],SMALL(IF(Tabela.abordagens[Mês]=$L$2,ROW(Tabela.abordagens[Idade])-2),ROW(A502)),4)","v":{"$error":"#NUM!"}},{"$f":"INDEX(Tabela.abordagens[],SMALL(IF(Tabela.abordagens[Mês]=$L$2,ROW(Tabela.abordagens[Idade])-2),ROW(A502)),5)","v":{"$error":"#NUM!"}}]
[null,{"$f":"INDEX(Tabela.frequencia[],SMALL(IF(Tabela.frequencia[Mês]=$L$2,ROW(Tabela.frequencia[id])-1),ROW(A503)),1)","v":{"$error":"#NUM!"}},{"$f":"INDEX(Tabela.frequencia[],SMALL(IF(Tabela.frequencia[Mês]=$L$2,ROW(Tabela.frequencia[id])-1),ROW(A503)),4)","v":{"$error":"#NUM!"}},null,{"$f":"IFERROR(VLOOKUP(D550,Tabela.cadastro[[ID]:[Nome]],2,0),\"\")","v":""},{"$f":"IFERROR(VLOOKUP(D550,Tabela66[#All],2,0),\"\")","v":""},{"$f":"IFERROR(VLOOKUP(D550,Tabela.cadastro[[ID]:[CP ou M]],5,0),\"\")","v":""},{"$f":"IFERROR(VLOOKUP(D550,Cadastros!A:F,6,0),\"\")","v":""},{"$f":"IFERROR(VLOOKUP(D550,Cadastros!A:I,9,0),\"\")","v":""},{"$f":"IFERROR(VLOOKUP(D550,Cadastros!A:J,10,0),\"\")","v":""},{"$f":"IF(COUNTIF(Tabela66[id],D550)=0,\"\",COUNTIF(Tabela66[id],D550))","v":""},null,"",null,null,{"$f":"IFERROR(VLOOKUP(O550,Cadastros!A:B,2),\"\")","v":""},"",{"$f":"IFERROR(VLOOKUP(O550,Cadastros!A:E,5,0),\"\")","v":""},{"$f":"IFERROR(VLOOKUP(O550,Cadastros!A:F,6,0),\"\")","v":""},{"$f":"IFERROR(VLOOKUP(O550,Cadastros!A:I,9,0),\"\")","v":""},"","","",null,{"$f":"INDEX(Tabela.abordagens[],SMALL(IF(Tabela.abordagens[Mês]=$L$2,ROW(Tabela.abordagens[id])-2),ROW(A503)),1)","v":{"$error":"#NUM!"}},{"$f":"INDEX(Tabela.abordagens[],SMALL(IF(Tabela.abordagens[Mês]=$L$2,ROW(Tabela.abordagens[Idade])-2),ROW(A503)),6)","v":{"$error":"#NUM!"}},{"$f":"INDEX(Tabela.abordagens[],SMALL(IF(Tabela.abordagens[Mês]=$L$2,ROW(Tabela.abordagens[Idade])-2),ROW(A503)),4)","v":{"$error":"#NUM!"}},{"$f":"INDEX(Tabela.abordagens[],SMALL(IF(Tabela.abordagens[Mês]=$L$2,ROW(Tabela.abordagens[Idade])-2),ROW(A503)),5)","v":{"$error":"#NUM!"}}]
[null,{"$f":"INDEX(Tabela.frequencia[],SMALL(IF(Tabela.frequencia[Mês]=$L$2,ROW(Tabela.frequencia[id])-1),ROW(A504)),1)","v":{"$error":"#NUM!"}},{"$f":"INDEX(Tabela.frequencia[],SMALL(IF(Tabela.frequencia[Mês]=$L$2,ROW(Tabela.frequencia[id])-1),ROW(A504)),4)","v":{"$error":"#NUM!"}},null,{"$f":"IFERROR(VLOOKUP(D551,Tabela.cadastro[[ID]:[Nome]],2,0),\"\")","v":""},{"$f":"IFERROR(VLOOKUP(D551,Tabela66[#All],2,0),\"\")","v":""},{"$f":"IFERROR(VLOOKUP(D551,Tabela.cadastro[[ID]:[CP ou M]],5,0),\"\")","v":""},{"$f":"IFERROR(VLOOKUP(D551,Cadastros!A:F,6,0),\"\")","v":""},{"$f":"IFERROR(VLOOKUP(D551,Cadastros!A:I,9,0),\"\")","v":""},{"$f":"IFERROR(VLOOKUP(D551,Cadastros!A:J,10,0),\"\")","v":""},{"$f":"IF(COUNTIF(Tabela66[id],D551)=0,\"\",COUNTIF(Tabela66[id],D551))","v":""},null,"",null,null,{"$f":"IFERROR(VLOOKUP(O551,Cadastros!A:B,2),\"\")","v":""},"",{"$f":"IFERROR(VLOOKUP(O551,Cadastros!A:E,5,0),\"\")","v":""},{"$f":"IFERROR(VLOOKUP(O551,Cadastros!A:F,6,0),\"\")","v":""},{"$f":"IFERROR(VLOOKUP(O551,Cadastros!A:I,9,0),\"\")","v":""},"","","",null,{"$f":"INDEX(Tabela.abordagens[],SMALL(IF(Tabela.abordagens[Mês]=$L$2,ROW(Tabela.abordagens[id])-2),ROW(A504)),1)","v":{"$error":"#NUM!"}},{"$f":"INDEX(Tabela.abordagens[],SMALL(IF(Tabela.abordagens[Mês]=$L$2,ROW(Tabela.abordagens[Idade])-2),ROW(A504)),6)","v":{"$error":"#NUM!"}},{"$f":"INDEX(Tabela.abordagens[],SMALL(IF(Tabela.abordagens[Mês]=$L$2,ROW(Tabela.abordagens[Idade])-2),ROW(A504)),4)","v":{"$error":"#NUM!"}},{"$f":"INDEX(Tabela.abordagens[],SMALL(IF(Tabela.abordagens[Mês]=$L$2,ROW(Tabela.abordagens[Idade])-2),ROW(A504)),5)","v":{"$error":"#NUM!"}}]
[null,{"$f":"INDEX(Tabela.frequencia[],SMALL(IF(Tabela.frequencia[Mês]=$L$2,ROW(Tabela.frequencia[id])-1),ROW(A505)),1)","v":{"$error":"#NUM!"}},{"$f":"INDEX(Tabela.frequencia[],SMALL(IF(Tabela.frequencia[Mês]=$L$2,ROW(Tabela.frequencia[id])-1),ROW(A505)),4)","v":{"$error":"#NUM!"}},null,{"$f":"IFERROR(VLOOKUP(D552,Tabela.cadastro[[ID]:[Nome]],2,0),\"\")","v":""},{"$f":"IFERROR(VLOOKUP(D552,Tabela66[#All],2,0),\"\")","v":""},{"$f":"IFERROR(VLOOKUP(D552,Tabela.cadastro[[ID]:[CP ou M]],5,0),\"\")","v":""},{"$f":"IFERROR(VLOOKUP(D552,Cadastros!A:F,6,0),\"\")","v":""},{"$f":"IFERROR(VLOOKUP(D552,Cadastros!A:I,9,0),\"\")","v":""},{"$f":"IFERROR(VLOOKUP(D552,Cadastros!A:J,10,0),\"\")","v":""},{"$f":"IF(COUNTIF(Tabela66[id],D552)=0,\"\",COUNTIF(Tabela66[id],D552))","v":""},null,"",null,null,{"$f":"IFERROR(VLOOKUP(O552,Cadastros!A:B,2),\"\")","v":""},"",{"$f":"IFERROR(VLOOKUP(O552,Cadastros!A:E,5,0),\"\")","v":""},{"$f":"IFERROR(VLOOKUP(O552,Cadastros!A:F,6,0),\"\")","v":""},{"$f":"IFERROR(VLOOKUP(O552,Cadastros!A:I,9,0),\"\")","v":""},"","","",null,{"$f":"INDEX(Tabela.abordagens[],SMALL(IF(Tabela.abordagens[Mês]=$L$2,ROW(Tabela.abordagens[id])-2),ROW(A505)),1)","v":{"$error":"#NUM!"}},{"$f":"INDEX(Tabela.abordagens[],SMALL(IF(Tabela.abordagens[Mês]=$L$2,ROW(Tabela.abordagens[Idade])-2),ROW(A505)),6)","v":{"$error":"#NUM!"}},{"$f":"INDEX(Tabela.abordagens[],SMALL(IF(Tabela.abordagens[Mês]=$L$2,ROW(Tabela.abordagens[Idade])-2),ROW(A505)),4)","v":{"$error":"#NUM!"}},{"$f":"INDEX(Tabela.abordagens[],SMALL(IF(Tabela.abordagens[Mês]=$L$2,ROW(Tabela.abordagens[Idade])-2),ROW(A505)),5)","v":{"$error":"#NUM!"}}]
[null,{"$f":"INDEX(Tabela.frequencia[],SMALL(IF(Tabela.frequencia[Mês]=$L$2,ROW(Tabela.frequencia[id])-1),ROW(A506)),1)","v":{"$error":"#NUM!"}},{"$f":"INDEX(Tabela.frequencia[],SMALL(IF(Tabela.frequencia[Mês]=$L$2,ROW(Tabela.frequencia[id])-1),ROW(A506)),4)","v":{"$error":"#NUM!"}},null,{"$f":"IFERROR(VLOOKUP(D553,Tabela.cadastro[[ID]:[Nome]],2,0),\"\")","v":""},{"$f":"IFERROR(VLOOKUP(D553,Tabela66[#All],2,0),\"\")","v":""},{"$f":"IFERROR(VLOOKUP(D553,Tabela.cadastro[[ID]:[CP ou M]],5,0),\"\")","v":""},{"$f":"IFERROR(VLOOKUP(D553,Cadastros!A:F,6,0),\"\")","v":""},{"$f":"IFERROR(VLOOKUP(D553,Cadastros!A:I,9,0),\"\")","v":""},{"$f":"IFERROR(VLOOKUP(D553,Cadastros!A:J,10,0),\"\")","v":""},{"$f":"IF(COUNTIF(Tabela66[id],D553)=0,\"\",COUNTIF(Tabela66[id],D553))","v":""},null,"",null,null,{"$f":"IFERROR(VLOOKUP(O553,Cadastros!A:B,2),\"\")","v":""},"",{"$f":"IFERROR(VLOOKUP(O553,Cadastros!A:E,5,0),\"\")","v":""},{"$f":"IFERROR(VLOOKUP(O553,Cadastros!A:F,6,0),\"\")","v":""},{"$f":"IFERROR(VLOOKUP(O553,Cadastros!A:I,9,0),\"\")","v":""},"","","",null,{"$f":"INDEX(Tabela.abordagens[],SMALL(IF(Tabela.abordagens[Mês]=$L$2,ROW(Tabela.abordagens[id])-2),ROW(A506)),1)","v":{"$error":"#NUM!"}},{"$f":"INDEX(Tabela.abordagens[],SMALL(IF(Tabela.abordagens[Mês]=$L$2,ROW(Tabela.abordagens[Idade])-2),ROW(A506)),6)","v":{"$error":"#NUM!"}},{"$f":"INDEX(Tabela.abordagens[],SMALL(IF(Tabela.abordagens[Mês]=$L$2,ROW(Tabela.abordagens[Idade])-2),ROW(A506)),4)","v":{"$error":"#NUM!"}},{"$f":"INDEX(Tabela.abordagens[],SMALL(IF(Tabela.abordagens[Mês]=$L$2,ROW(Tabela.abordagens[Idade])-2),ROW(A506)),5)","v":{"$error":"#NUM!"}}]
[null,{"$f":"INDEX(Tabela.frequencia[],SMALL(IF(Tabela.frequencia[Mês]=$L$2,ROW(Tabela.frequencia[id])-1),ROW(A507)),1)","v":{"$error":"#NUM!"}},{"$f":"INDEX(Tabela.frequencia[],SMALL(IF(Tabela.frequencia[Mês]=$L$2,ROW(Tabela.frequencia[id])-1),ROW(A507)),4)","v":{"$error":"#NUM!"}},null,{"$f":"IFERROR(VLOOKUP(D554,Tabela.cadastro[[ID]:[Nome]],2,0),\"\")","v":""},{"$f":"IFERROR(VLOOKUP(D554,Tabela66[#All],2,0),\"\")","v":""},{"$f":"IFERROR(VLOOKUP(D554,Tabela.cadastro[[ID]:[CP ou M]],5,0),\"\")","v":""},{"$f":"IFERROR(VLOOKUP(D554,Cadastros!A:F,6,0),\"\")","v":""},{"$f":"IFERROR(VLOOKUP(D554,Cadastros!A:I,9,0),\"\")","v":""},{"$f":"IFERROR(VLOOKUP(D554,Cadastros!A:J,10,0),\"\")","v":""},{"$f":"IF(COUNTIF(Tabela66[id],D554)=0,\"\",COUNTIF(Tabela66[id],D554))","v":""},null,{"$f":"IF(AND(K554:K1385>=5,L554:L1385=\"Não\"),\"*\",\"\")","v":""},null,null,{"$f":"IFERROR(VLOOKUP(O554,Cadastros!A:B,2),\"\")","v":""},"",{"$f":"IFERROR(VLOOKUP(O554,Cadastros!A:E,5,0),\"\")","v":""},{"$f":"IFERROR(VLOOKUP(O554,Cadastros!A:F,6,0),\"\")","v":""},{"$f":"IFERROR(VLOOKUP(O554,Cadastros!A:I,9,0),\"\")","v":""},"","","",null,{"$f":"INDEX(Tabela.abordagens[],SMALL(IF(Tabela.abordagens[Mês]=$L$2,ROW(Tabela.abordagens[id])-2),ROW(A507)),1)","v":{"$error":"#NUM!"}},{"$f":"INDEX(Tabela.abordagens[],SMALL(IF(Tabela.abordagens[Mês]=$L$2,ROW(Tabela.abordagens[Idade])-2),ROW(A507)),6)","v":{"$error":"#NUM!"}},{"$f":"INDEX(Tabela.abordagens[],SMALL(IF(Tabela.abordagens[Mês]=$L$2,ROW(Tabela.abordagens[Idade])-2),ROW(A507)),4)","v":{"$error":"#NUM!"}},{"$f":"INDEX(Tabela.abordagens[],SMALL(IF(Tabela.abordagens[Mês]=$L$2,ROW(Tabela.abordagens[Idade])-2),ROW(A507)),5)","v":{"$error":"#NUM!"}}]
[null,{"$f":"INDEX(Tabela.frequencia[],SMALL(IF(Tabela.frequencia[Mês]=$L$2,ROW(Tabela.frequencia[id])-1),ROW(A508)),1)","v":{"$error":"#NUM!"}},{"$f":"INDEX(Tabela.frequencia[],SMALL(IF(Tabela.frequencia[Mês]=$L$2,ROW(Tabela.frequencia[id])-1),ROW(A508)),4)","v":{"$error":"#NUM!"}},null,{"$f":"IFERROR(VLOOKUP(D555,Tabela.cadastro[[ID]:[Nome]],2,0),\"\")","v":""},{"$f":"IFERROR(VLOOKUP(D555,Tabela66[#All],2,0),\"\")","v":""},{"$f":"IFERROR(VLOOKUP(D555,Tabela.cadastro[[ID]:[CP ou M]],5,0),\"\")","v":""},{"$f":"IFERROR(VLOOKUP(D555,Cadastros!A:F,6,0),\"\")","v":""},{"$f":"IFERROR(VLOOKUP(D555,Cadastros!A:I,9,0),\"\")","v":""},{"$f":"IFERROR(VLOOKUP(D555,Cadastros!A:J,10,0),\"\")","v":""},{"$f":"IF(COUNTIF(Tabela66[id],D555)=0,\"\",COUNTIF(Tabela66[id],D555))","v":""},null,"",null,null,{"$f":"IFERROR(VLOOKUP(O555,Cadastros!A:B,2),\"\")","v":""},"",{"$f":"IFERROR(VLOOKUP(O555,Cadastros!A:E,5,0),\"\")","v":""},{"$f":"IFERROR(VLOOKUP(O555,Cadastros!A:F,6,0),\"\")","v":""},{"$f":"IFERROR(VLOOKUP(O555,Cadastros!A:I,9,0),\"\")","v":""},"","","",null,{"$f":"INDEX(Tabela.abordagens[],SMALL(IF(Tabela.abordagens[Mês]=$L$2,ROW(Tabela.abordagens[id])-2),ROW(A508)),1)","v":{"$error":"#NUM!"}},{"$f":"INDEX(Tabela.abordagens[],SMALL(IF(Tabela.abordagens[Mês]=$L$2,ROW(Tabela.abordagens[Idade])-2),ROW(A508)),6)","v":{"$error":"#NUM!"}},{"$f":"INDEX(Tabela.abordagens[],SMALL(IF(Tabela.abordagens[Mês]=$L$2,ROW(Tabela.abordagens[Idade])-2),ROW(A508)),4)","v":{"$error":"#NUM!"}},{"$f":"INDEX(Tabela.abordagens[],SMALL(IF(Tabela.abordagens[Mês]=$L$2,ROW(Tabela.abordagens[Idade])-2),ROW(A508)),5)","v":{"$error":"#NUM!"}}]
[null,{"$f":"INDEX(Tabela.frequencia[],SMALL(IF(Tabela.frequencia[Mês]=$L$2,ROW(Tabela.frequencia[id])-1),ROW(A509)),1)","v":{"$error":"#NUM!"}},{"$f":"INDEX(Tabela.frequencia[],SMALL(IF(Tabela.frequencia[Mês]=$L$2,ROW(Tabela.frequencia[id])-1),ROW(A509)),4)","v":{"$error":"#NUM!"}},null,{"$f":"IFERROR(VLOOKUP(D556,Tabela.cadastro[[ID]:[Nome]],2,0),\"\")","v":""},{"$f":"IFERROR(VLOOKUP(D556,Tabela66[#All],2,0),\"\")","v":""},{"$f":"IFERROR(VLOOKUP(D556,Tabela.cadastro[[ID]:[CP ou M]],5,0),\"\")","v":""},{"$f":"IFERROR(VLOOKUP(D556,Cadastros!A:F,6,0),\"\")","v":""},{"$f":"IFERROR(VLOOKUP(D556,Cadastros!A:I,9,0),\"\")","v":""},{"$f":"IFERROR(VLOOKUP(D556,Cadastros!A:J,10,0),\"\")","v":""},{"$f":"IF(COUNTIF(Tabela66[id],D556)=0,\"\",COUNTIF(Tabela66[id],D556))","v":""},null,"",null,null,{"$f":"IFERROR(VLOOKUP(O556,Cadastros!A:B,2),\"\")","v":""},"",{"$f":"IFERROR(VLOOKUP(O556,Cadastros!A:E,5,0),\"\")","v":""},{"$f":"IFERROR(VLOOKUP(O556,Cadastros!A:F,6,0),\"\")","v":""},{"$f":"IFERROR(VLOOKUP(O556,Cadastros!A:I,9,0),\"\")","v":""},"","","",null,{"$f":"INDEX(Tabela.abordagens[],SMALL(IF(Tabela.abordagens[Mês]=$L$2,ROW(Tabela.abordagens[id])-2),ROW(A509)),1)","v":{"$error":"#NUM!"}},{"$f":"INDEX(Tabela.abordagens[],SMALL(IF(Tabela.abordagens[Mês]=$L$2,ROW(Tabela.abordagens[Idade])-2),ROW(A509)),6)","v":{"$error":"#NUM!"}},{"$f":"INDEX(Tabela.abordagens[],SMALL(IF(Tabela.abordagens[Mês]=$L$2,ROW(Tabela.abordagens[Idade])-2),ROW(A509)),4)","v":{"$error":"#NUM!"}},{"$f":"INDEX(Tabela.abordagens[],SMALL(IF(Tabela.abordagens[Mês]=$L$2,ROW(Tabela.abordagens[Idade])-2),ROW(A509)),5)","v":{"$error":"#NUM!"}}]
[null,{"$f":"INDEX(Tabela.frequencia[],SMALL(IF(Tabela.frequencia[Mês]=$L$2,ROW(Tabela.frequencia[id])-1),ROW(A510)),1)","v":{"$error":"#NUM!"}},{"$f":"INDEX(Tabela.frequencia[],SMALL(IF(Tabela.frequencia[Mês]=$L$2,ROW(Tabela.frequencia[id])-1),ROW(A510)),4)","v":{"$error":"#NUM!"}},null,{"$f":"IFERROR(VLOOKUP(D557,Tabela.cadastro[[ID]:[Nome]],2,0),\"\")","v":""},{"$f":"IFERROR(VLOOKUP(D557,Tabela66[#All],2,0),\"\")","v":""},{"$f":"IFERROR(VLOOKUP(D557,Tabela.cadastro[[ID]:[CP ou M]],5,0),\"\")","v":""},{"$f":"IFERROR(VLOOKUP(D557,Cadastros!A:F,6,0),\"\")","v":""},{"$f":"IFERROR(VLOOKUP(D557,Cadastros!A:I,9,0),\"\")","v":""},{"$f":"IFERROR(VLOOKUP(D557,Cadastros!A:J,10,0),\"\")","v":""},{"$f":"IF(COUNTIF(Tabela66[id],D557)=0,\"\",COUNTIF(Tabela66[id],D557))","v":""},null,"",null,null,{"$f":"IFERROR(VLOOKUP(O557,Cadastros!A:B,2),\"\")","v":""},"",{"$f":"IFERROR(VLOOKUP(O557,Cadastros!A:E,5,0),\"\")","v":""},{"$f":"IFERROR(VLOOKUP(O557,Cadastros!A:F,6,0),\"\")","v":""},{"$f":"IFERROR(VLOOKUP(O557,Cadastros!A:I,9,0),\"\")","v":""},"","","",null,{"$f":"INDEX(Tabela.abordagens[],SMALL(IF(Tabela.abordagens[Mês]=$L$2,ROW(Tabela.abordagens[id])-2),ROW(A510)),1)","v":{"$error":"#NUM!"}},{"$f":"INDEX(Tabela.abordagens[],SMALL(IF(Tabela.abordagens[Mês]=$L$2,ROW(Tabela.abordagens[Idade])-2),ROW(A510)),6)","v":{"$error":"#NUM!"}},{"$f":"INDEX(Tabela.abordagens[],SMALL(IF(Tabela.abordagens[Mês]=$L$2,ROW(Tabela.abordagens[Idade])-2),ROW(A510)),4)","v":{"$error":"#NUM!"}},{"$f":"INDEX(Tabela.abordagens[],SMALL(IF(Tabela.abordagens[Mês]=$L$2,ROW(Tabela.abordagens[Idade])-2),ROW(A510)),5)","v":{"$error":"#NUM!"}}]
[null,{"$f":"INDEX(Tabela.frequencia[],SMALL(IF(Tabela.frequencia[Mês]=$L$2,ROW(Tabela.frequencia[id])-1),ROW(A511)),1)","v":{"$error":"#NUM!"}},{"$f":"INDEX(Tabela.frequencia[],SMALL(IF(Tabela.frequencia[Mês]=$L$2,ROW(Tabela.frequencia[id])-1),ROW(A511)),4)","v":{"$error":"#NUM!"}},null,{"$f":"IFERROR(VLOOKUP(D558,Tabela.cadastro[[ID]:[Nome]],2,0),\"\")","v":""},{"$f":"IFERROR(VLOOKUP(D558,Tabela66[#All],2,0),\"\")","v":""},{"$f":"IFERROR(VLOOKUP(D558,Tabela.cadastro[[ID]:[CP ou M]],5,0),\"\")","v":""},{"$f":"IFERROR(VLOOKUP(D558,Cadastros!A:F,6,0),\"\")","v":""},{"$f":"IFERROR(VLOOKUP(D558,Cadastros!A:I,9,0),\"\")","v":""},{"$f":"IFERROR(VLOOKUP(D558,Cadastros!A:J,10,0),\"\")","v":""},{"$f":"IF(COUNTIF(Tabela66[id],D558)=0,\"\",COUNTIF(Tabela66[id],D558))","v":""},null,"",null,null,{"$f":"IFERROR(VLOOKUP(O558,Cadastros!A:B,2),\"\")","v":""},"",{"$f":"IFERROR(VLOOKUP(O558,Cadastros!A:E,5,0),\"\")","v":""},{"$f":"IFERROR(VLOOKUP(O558,Cadastros!A:F,6,0),\"\")","v":""},{"$f":"IFERROR(VLOOKUP(O558,Cadastros!A:I,9,0),\"\")","v":""},"","","",null,{"$f":"INDEX(Tabela.abordagens[],SMALL(IF(Tabela.abordagens[Mês]=$L$2,ROW(Tabela.abordagens[id])-2),ROW(A511)),1)","v":{"$error":"#NUM!"}},{"$f":"INDEX(Tabela.abordagens[],SMALL(IF(Tabela.abordagens[Mês]=$L$2,ROW(Tabela.abordagens[Idade])-2),ROW(A511)),6)","v":{"$error":"#NUM!"}},{"$f":"INDEX(Tabela.abordagens[],SMALL(IF(Tabela.abordagens[Mês]=$L$2,ROW(Tabela.abordagens[Idade])-2),ROW(A511)),4)","v":{"$error":"#NUM!"}},{"$f":"INDEX(Tabela.abordagens[],SMALL(IF(Tabela.abordagens[Mês]=$L$2,ROW(Tabela.abordagens[Idade])-2),ROW(A511)),5)","v":{"$error":"#NUM!"}}]
[null,{"$f":"INDEX(Tabela.frequencia[],SMALL(IF(Tabela.frequencia[Mês]=$L$2,ROW(Tabela.frequencia[id])-1),ROW(A512)),1)","v":{"$error":"#NUM!"}},{"$f":"INDEX(Tabela.frequencia[],SMALL(IF(Tabela.frequencia[Mês]=$L$2,ROW(Tabela.frequencia[id])-1),ROW(A512)),4)","v":{"$error":"#NUM!"}},null,{"$f":"IFERROR(VLOOKUP(D559,Tabela.cadastro[[ID]:[Nome]],2,0),\"\")","v":""},{"$f":"IFERROR(VLOOKUP(D559,Tabela66[#All],2,0),\"\")","v":""},{"$f":"IFERROR(VLOOKUP(D559,Tabela.cadastro[[ID]:[CP ou M]],5,0),\"\")","v":""},{"$f":"IFERROR(VLOOKUP(D559,Cadastros!A:F,6,0),\"\")","v":""},{"$f":"IFERROR(VLOOKUP(D559,Cadastros!A:I,9,0),\"\")","v":""},{"$f":"IFERROR(VLOOKUP(D559,Cadastros!A:J,10,0),\"\")","v":""},{"$f":"IF(COUNTIF(Tabela66[id],D559)=0,\"\",COUNTIF(Tabela66[id],D559))","v":""},null,"",null,null,{"$f":"IFERROR(VLOOKUP(O559,Cadastros!A:B,2),\"\")","v":""},"",{"$f":"IFERROR(VLOOKUP(O559,Cadastros!A:E,5,0),\"\")","v":""},{"$f":"IFERROR(VLOOKUP(O559,Cadastros!A:F,6,0),\"\")","v":""},{"$f":"IFERROR(VLOOKUP(O559,Cadastros!A:I,9,0),\"\")","v":""},"","","",null,{"$f":"INDEX(Tabela.abordagens[],SMALL(IF(Tabela.abordagens[Mês]=$L$2,ROW(Tabela.abordagens[id])-2),ROW(A512)),1)","v":{"$error":"#NUM!"}},{"$f":"INDEX(Tabela.abordagens[],SMALL(IF(Tabela.abordagens[Mês]=$L$2,ROW(Tabela.abordagens[Idade])-2),ROW(A512)),6)","v":{"$error":"#NUM!"}},{"$f":"INDEX(Tabela.abordagens[],SMALL(IF(Tabela.abordagens[Mês]=$L$2,ROW(Tabela.abordagens[Idade])-2),ROW(A512)),4)","v":{"$error":"#NUM!"}},{"$f":"INDEX(Tabela.abordagens[],SMALL(IF(Tabela.abordagens[Mês]=$L$2,ROW(Tabela.abordagens[Idade])-2),ROW(A512)),5)","v":{"$error":"#NUM!"}}]
[null,{"$f":"INDEX(Tabela.frequencia[],SMALL(IF(Tabela.frequencia[Mês]=$L$2,ROW(Tabela.frequencia[id])-1),ROW(A513)),1)","v":{"$error":"#NUM!"}},{"$f":"INDEX(Tabela.frequencia[],SMALL(IF(Tabela.frequencia[Mês]=$L$2,ROW(Tabela.frequencia[id])-1),ROW(A513)),4)","v":{"$error":"#NUM!"}},null,{"$f":"IFERROR(VLOOKUP(D560,Tabela.cadastro[[ID]:[Nome]],2,0),\"\")","v":""},{"$f":"IFERROR(VLOOKUP(D560,Tabela66[#All],2,0),\"\")","v":""},{"$f":"IFERROR(VLOOKUP(D560,Tabela.cadastro[[ID]:[CP ou M]],5,0),\"\")","v":""},{"$f":"IFERROR(VLOOKUP(D560,Cadastros!A:F,6,0),\"\")","v":""},{"$f":"IFERROR(VLOOKUP(D560,Cadastros!A:I,9,0),\"\")","v":""},{"$f":"IFERROR(VLOOKUP(D560,Cadastros!A:J,10,0),\"\")","v":""},{"$f":"IF(COUNTIF(Tabela66[id],D560)=0,\"\",COUNTIF(Tabela66[id],D560))","v":""},null,"",null,null,{"$f":"IFERROR(VLOOKUP(O560,Cadastros!A:B,2),\"\")","v":""},"",{"$f":"IFERROR(VLOOKUP(O560,Cadastros!A:E,5,0),\"\")","v":""},{"$f":"IFERROR(VLOOKUP(O560,Cadastros!A:F,6,0),\"\")","v":""},{"$f":"IFERROR(VLOOKUP(O560,Cadastros!A:I,9,0),\"\")","v":""},"","","",null,{"$f":"INDEX(Tabela.abordagens[],SMALL(IF(Tabela.abordagens[Mês]=$L$2,ROW(Tabela.abordagens[id])-2),ROW(A513)),1)","v":{"$error":"#NUM!"}},{"$f":"INDEX(Tabela.abordagens[],SMALL(IF(Tabela.abordagens[Mês]=$L$2,ROW(Tabela.abordagens[Idade])-2),ROW(A513)),6)","v":{"$error":"#NUM!"}},{"$f":"INDEX(Tabela.abordagens[],SMALL(IF(Tabela.abordagens[Mês]=$L$2,ROW(Tabela.abordagens[Idade])-2),ROW(A513)),4)","v":{"$error":"#NUM!"}},{"$f":"INDEX(Tabela.abordagens[],SMALL(IF(Tabela.abordagens[Mês]=$L$2,ROW(Tabela.abordagens[Idade])-2),ROW(A513)),5)","v":{"$error":"#NUM!"}}]
[null,{"$f":"INDEX(Tabela.frequencia[],SMALL(IF(Tabela.frequencia[Mês]=$L$2,ROW(Tabela.frequencia[id])-1),ROW(A514)),1)","v":{"$error":"#NUM!"}},{"$f":"INDEX(Tabela.frequencia[],SMALL(IF(Tabela.frequencia[Mês]=$L$2,ROW(Tabela.frequencia[id])-1),ROW(A514)),4)","v":{"$error":"#NUM!"}},null,{"$f":"IFERROR(VLOOKUP(D561,Tabela.cadastro[[ID]:[Nome]],2,0),\"\")","v":""},{"$f":"IFERROR(VLOOKUP(D561,Tabela66[#All],2,0),\"\")","v":""},{"$f":"IFERROR(VLOOKUP(D561,Tabela.cadastro[[ID]:[CP ou M]],5,0),\"\")","v":""},{"$f":"IFERROR(VLOOKUP(D561,Cadastros!A:F,6,0),\"\")","v":""},{"$f":"IFERROR(VLOOKUP(D561,Cadastros!A:I,9,0),\"\")","v":""},{"$f":"IFERROR(VLOOKUP(D561,Cadastros!A:J,10,0),\"\")","v":""},{"$f":"IF(COUNTIF(Tabela66[id],D561)=0,\"\",COUNTIF(Tabela66[id],D561))","v":""},null,"",null,null,{"$f":"IFERROR(VLOOKUP(O561,Cadastros!A:B,2),\"\")","v":""},"",{"$f":"IFERROR(VLOOKUP(O561,Cadastros!A:E,5,0),\"\")","v":""},{"$f":"IFERROR(VLOOKUP(O561,Cadastros!A:F,6,0),\"\")","v":""},{"$f":"IFERROR(VLOOKUP(O561,Cadastros!A:I,9,0),\"\")","v":""},"","","",null,{"$f":"INDEX(Tabela.abordagens[],SMALL(IF(Tabela.abordagens[Mês]=$L$2,ROW(Tabela.abordagens[id])-2),ROW(A514)),1)","v":{"$error":"#NUM!"}},{"$f":"INDEX(Tabela.abordagens[],SMALL(IF(Tabela.abordagens[Mês]=$L$2,ROW(Tabela.abordagens[Idade])-2),ROW(A514)),6)","v":{"$error":"#NUM!"}},{"$f":"INDEX(Tabela.abordagens[],SMALL(IF(Tabela.abordagens[Mês]=$L$2,ROW(Tabela.abordagens[Idade])-2),ROW(A514)),4)","v":{"$error":"#NUM!"}},{"$f":"INDEX(Tabela.abordagens[],SMALL(IF(Tabela.abordagens[Mês]=$L$2,ROW(Tabela.abordagens[Idade])-2),ROW(A514)),5)","v":{"$error":"#NUM!"}}]
[null,{"$f":"INDEX(Tabela.frequencia[],SMALL(IF(Tabela.frequencia[Mês]=$L$2,ROW(Tabela.frequencia[id])-1),ROW(A515)),1)","v":{"$error":"#NUM!"}},{"$f":"INDEX(Tabela.frequencia[],SMALL(IF(Tabela.frequencia[Mês]=$L$2,ROW(Tabela.frequencia[id])-1),ROW(A515)),4)","v":{"$error":"#NUM!"}},null,{"$f":"IFERROR(VLOOKUP(D562,Tabela.cadastro[[ID]:[Nome]],2,0),\"\")","v":""},{"$f":"IFERROR(VLOOKUP(D562,Tabela66[#All],2,0),\"\")","v":""},{"$f":"IFERROR(VLOOKUP(D562,Tabela.cadastro[[ID]:[CP ou M]],5,0),\"\")","v":""},{"$f":"IFERROR(VLOOKUP(D562,Cadastros!A:F,6,0),\"\")","v":""},{"$f":"IFERROR(VLOOKUP(D562,Cadastros!A:I,9,0),\"\")","v":""},{"$f":"IFERROR(VLOOKUP(D562,Cadastros!A:J,10,0),\"\")","v":""},{"$f":"IF(COUNTIF(Tabela66[id],D562)=0,\"\",COUNTIF(Tabela66[id],D562))","v":""},null,"",null,null,{"$f":"IFERROR(VLOOKUP(O562,Cadastros!A:B,2),\"\")","v":""},"",{"$f":"IFERROR(VLOOKUP(O562,Cadastros!A:E,5,0),\"\")","v":""},{"$f":"IFERROR(VLOOKUP(O562,Cadastros!A:F,6,0),\"\")","v":""},{"$f":"IFERROR(VLOOKUP(O562,Cadastros!A:I,9,0),\"\")","v":""},"","","",null,{"$f":"INDEX(Tabela.abordagens[],SMALL(IF(Tabela.abordagens[Mês]=$L$2,ROW(Tabela.abordagens[id])-2),ROW(A515)),1)","v":{"$error":"#NUM!"}},{"$f":"INDEX(Tabela.abordagens[],SMALL(IF(Tabela.abordagens[Mês]=$L$2,ROW(Tabela.abordagens[Idade])-2),ROW(A515)),6)","v":{"$error":"#NUM!"}},{"$f":"INDEX(Tabela.abordagens[],SMALL(IF(Tabela.abordagens[Mês]=$L$2,ROW(Tabela.abordagens[Idade])-2),ROW(A515)),4)","v":{"$error":"#NUM!"}},{"$f":"INDEX(Tabela.abordagens[],SMALL(IF(Tabela.abordagens[Mês]=$L$2,ROW(Tabela.abordagens[Idade])-2),ROW(A515)),5)","v":{"$error":"#NUM!"}}]
[null,{"$f":"INDEX(Tabela.frequencia[],SMALL(IF(Tabela.frequencia[Mês]=$L$2,ROW(Tabela.frequencia[id])-1),ROW(A516)),1)","v":{"$error":"#NUM!"}},{"$f":"INDEX(Tabela.frequencia[],SMALL(IF(Tabela.frequencia[Mês]=$L$2,ROW(Tabela.frequencia[id])-1),ROW(A516)),4)","v":{"$error":"#NUM!"}},null,{"$f":"IFERROR(VLOOKUP(D563,Tabela.cadastro[[ID]:[Nome]],2,0),\"\")","v":""},{"$f":"IFERROR(VLOOKUP(D563,Tabela66[#All],2,0),\"\")","v":""},{"$f":"IFERROR(VLOOKUP(D563,Tabela.cadastro[[ID]:[CP ou M]],5,0),\"\")","v":""},{"$f":"IFERROR(VLOOKUP(D563,Cadastros!A:F,6,0),\"\")","v":""},{"$f":"IFERROR(VLOOKUP(D563,Cadastros!A:I,9,0),\"\")","v":""},{"$f":"IFERROR(VLOOKUP(D563,Cadastros!A:J,10,0),\"\")","v":""},{"$f":"IF(COUNTIF(Tabela66[id],D563)=0,\"\",COUNTIF(Tabela66[id],D563))","v":""},null,"",null,null,{"$f":"IFERROR(VLOOKUP(O563,Cadastros!A:B,2),\"\")","v":""},"",{"$f":"IFERROR(VLOOKUP(O563,Cadastros!A:E,5,0),\"\")","v":""},{"$f":"IFERROR(VLOOKUP(O563,Cadastros!A:F,6,0),\"\")","v":""},{"$f":"IFERROR(VLOOKUP(O563,Cadastros!A:I,9,0),\"\")","v":""},"","","",null,{"$f":"INDEX(Tabela.abordagens[],SMALL(IF(Tabela.abordagens[Mês]=$L$2,ROW(Tabela.abordagens[id])-2),ROW(A516)),1)","v":{"$error":"#NUM!"}},{"$f":"INDEX(Tabela.abordagens[],SMALL(IF(Tabela.abordagens[Mês]=$L$2,ROW(Tabela.abordagens[Idade])-2),ROW(A516)),6)","v":{"$error":"#NUM!"}},{"$f":"INDEX(Tabela.abordagens[],SMALL(IF(Tabela.abordagens[Mês]=$L$2,ROW(Tabela.abordagens[Idade])-2),ROW(A516)),4)","v":{"$error":"#NUM!"}},{"$f":"INDEX(Tabela.abordagens[],SMALL(IF(Tabela.abordagens[Mês]=$L$2,ROW(Tabela.abordagens[Idade])-2),ROW(A516)),5)","v":{"$error":"#NUM!"}}]
[null,{"$f":"INDEX(Tabela.frequencia[],SMALL(IF(Tabela.frequencia[Mês]=$L$2,ROW(Tabela.frequencia[id])-1),ROW(A517)),1)","v":{"$error":"#NUM!"}},{"$f":"INDEX(Tabela.frequencia[],SMALL(IF(Tabela.frequencia[Mês]=$L$2,ROW(Tabela.frequencia[id])-1),ROW(A517)),4)","v":{"$error":"#NUM!"}},null,{"$f":"IFERROR(VLOOKUP(D564,Tabela.cadastro[[ID]:[Nome]],2,0),\"\")","v":""},{"$f":"IFERROR(VLOOKUP(D564,Tabela66[#All],2,0),\"\")","v":""},{"$f":"IFERROR(VLOOKUP(D564,Tabela.cadastro[[ID]:[CP ou M]],5,0),\"\")","v":""},{"$f":"IFERROR(VLOOKUP(D564,Cadastros!A:F,6,0),\"\")","v":""},{"$f":"IFERROR(VLOOKUP(D564,Cadastros!A:I,9,0),\"\")","v":""},{"$f":"IFERROR(VLOOKUP(D564,Cadastros!A:J,10,0),\"\")","v":""},{"$f":"IF(COUNTIF(Tabela66[id],D564)=0,\"\",COUNTIF(Tabela66[id],D564))","v":""},null,"",null,null,{"$f":"IFERROR(VLOOKUP(O564,Cadastros!A:B,2),\"\")","v":""},"",{"$f":"IFERROR(VLOOKUP(O564,Cadastros!A:E,5,0),\"\")","v":""},{"$f":"IFERROR(VLOOKUP(O564,Cadastros!A:F,6,0),\"\")","v":""},{"$f":"IFERROR(VLOOKUP(O564,Cadastros!A:I,9,0),\"\")","v":""},"","","",null,{"$f":"INDEX(Tabela.abordagens[],SMALL(IF(Tabela.abordagens[Mês]=$L$2,ROW(Tabela.abordagens[id])-2),ROW(A517)),1)","v":{"$error":"#NUM!"}},{"$f":"INDEX(Tabela.abordagens[],SMALL(IF(Tabela.abordagens[Mês]=$L$2,ROW(Tabela.abordagens[Idade])-2),ROW(A517)),6)","v":{"$error":"#NUM!"}},{"$f":"INDEX(Tabela.abordagens[],SMALL(IF(Tabela.abordagens[Mês]=$L$2,ROW(Tabela.abordagens[Idade])-2),ROW(A517)),4)","v":{"$error":"#NUM!"}},{"$f":"INDEX(Tabela.abordagens[],SMALL(IF(Tabela.abordagens[Mês]=$L$2,ROW(Tabela.abordagens[Idade])-2),ROW(A517)),5)","v":{"$error":"#NUM!"}}]
[null,{"$f":"INDEX(Tabela.frequencia[],SMALL(IF(Tabela.frequencia[Mês]=$L$2,ROW(Tabela.frequencia[id])-1),ROW(A518)),1)","v":{"$error":"#NUM!"}},{"$f":"INDEX(Tabela.frequencia[],SMALL(IF(Tabela.frequencia[Mês]=$L$2,ROW(Tabela.frequencia[id])-1),ROW(A518)),4)","v":{"$error":"#NUM!"}},null,{"$f":"IFERROR(VLOOKUP(D565,Tabela.cadastro[[ID]:[Nome]],2,0),\"\")","v":""},{"$f":"IFERROR(VLOOKUP(D565,Tabela66[#All],2,0),\"\")","v":""},{"$f":"IFERROR(VLOOKUP(D565,Tabela.cadastro[[ID]:[CP ou M]],5,0),\"\")","v":""},{"$f":"IFERROR(VLOOKUP(D565,Cadastros!A:F,6,0),\"\")","v":""},{"$f":"IFERROR(VLOOKUP(D565,Cadastros!A:I,9,0),\"\")","v":""},{"$f":"IFERROR(VLOOKUP(D565,Cadastros!A:J,10,0),\"\")","v":""},{"$f":"IF(COUNTIF(Tabela66[id],D565)=0,\"\",COUNTIF(Tabela66[id],D565))","v":""},null,"",null,null,{"$f":"IFERROR(VLOOKUP(O565,Cadastros!A:B,2),\"\")","v":""},"",{"$f":"IFERROR(VLOOKUP(O565,Cadastros!A:E,5,0),\"\")","v":""},{"$f":"IFERROR(VLOOKUP(O565,Cadastros!A:F,6,0),\"\")","v":""},{"$f":"IFERROR(VLOOKUP(O565,Cadastros!A:I,9,0),\"\")","v":""},"","","",null,{"$f":"INDEX(Tabela.abordagens[],SMALL(IF(Tabela.abordagens[Mês]=$L$2,ROW(Tabela.abordagens[id])-2),ROW(A518)),1)","v":{"$error":"#NUM!"}},{"$f":"INDEX(Tabela.abordagens[],SMALL(IF(Tabela.abordagens[Mês]=$L$2,ROW(Tabela.abordagens[Idade])-2),ROW(A518)),6)","v":{"$error":"#NUM!"}},{"$f":"INDEX(Tabela.abordagens[],SMALL(IF(Tabela.abordagens[Mês]=$L$2,ROW(Tabela.abordagens[Idade])-2),ROW(A518)),4)","v":{"$error":"#NUM!"}},{"$f":"INDEX(Tabela.abordagens[],SMALL(IF(Tabela.abordagens[Mês]=$L$2,ROW(Tabela.abordagens[Idade])-2),ROW(A518)),5)","v":{"$error":"#NUM!"}}]
[null,{"$f":"INDEX(Tabela.frequencia[],SMALL(IF(Tabela.frequencia[Mês]=$L$2,ROW(Tabela.frequencia[id])-1),ROW(A519)),1)","v":{"$error":"#NUM!"}},{"$f":"INDEX(Tabela.frequencia[],SMALL(IF(Tabela.frequencia[Mês]=$L$2,ROW(Tabela.frequencia[id])-1),ROW(A519)),4)","v":{"$error":"#NUM!"}},null,{"$f":"IFERROR(VLOOKUP(D566,Tabela.cadastro[[ID]:[Nome]],2,0),\"\")","v":""},{"$f":"IFERROR(VLOOKUP(D566,Tabela66[#All],2,0),\"\")","v":""},{"$f":"IFERROR(VLOOKUP(D566,Tabela.cadastro[[ID]:[CP ou M]],5,0),\"\")","v":""},{"$f":"IFERROR(VLOOKUP(D566,Cadastros!A:F,6,0),\"\")","v":""},{"$f":"IFERROR(VLOOKUP(D566,Cadastros!A:I,9,0),\"\")","v":""},{"$f":"IFERROR(VLOOKUP(D566,Cadastros!A:J,10,0),\"\")","v":""},{"$f":"IF(COUNTIF(Tabela66[id],D566)=0,\"\",COUNTIF(Tabela66[id],D566))","v":""},null,"",null,null,{"$f":"IFERROR(VLOOKUP(O566,Cadastros!A:B,2),\"\")","v":""},"",{"$f":"IFERROR(VLOOKUP(O566,Cadastros!A:E,5,0),\"\")","v":""},{"$f":"IFERROR(VLOOKUP(O566,Cadastros!A:F,6,0),\"\")","v":""},{"$f":"IFERROR(VLOOKUP(O566,Cadastros!A:I,9,0),\"\")","v":""},"","","",null,{"$f":"INDEX(Tabela.abordagens[],SMALL(IF(Tabela.abordagens[Mês]=$L$2,ROW(Tabela.abordagens[id])-2),ROW(A519)),1)","v":{"$error":"#NUM!"}},{"$f":"INDEX(Tabela.abordagens[],SMALL(IF(Tabela.abordagens[Mês]=$L$2,ROW(Tabela.abordagens[Idade])-2),ROW(A519)),6)","v":{"$error":"#NUM!"}},{"$f":"INDEX(Tabela.abordagens[],SMALL(IF(Tabela.abordagens[Mês]=$L$2,ROW(Tabela.abordagens[Idade])-2),ROW(A519)),4)","v":{"$error":"#NUM!"}},{"$f":"INDEX(Tabela.abordagens[],SMALL(IF(Tabela.abordagens[Mês]=$L$2,ROW(Tabela.abordagens[Idade])-2),ROW(A519)),5)","v":{"$error":"#NUM!"}}]
[null,{"$f":"INDEX(Tabela.frequencia[],SMALL(IF(Tabela.frequencia[Mês]=$L$2,ROW(Tabela.frequencia[id])-1),ROW(A520)),1)","v":{"$error":"#NUM!"}},{"$f":"INDEX(Tabela.frequencia[],SMALL(IF(Tabela.frequencia[Mês]=$L$2,ROW(Tabela.frequencia[id])-1),ROW(A520)),4)","v":{"$error":"#NUM!"}},null,{"$f":"IFERROR(VLOOKUP(D567,Tabela.cadastro[[ID]:[Nome]],2,0),\"\")","v":""},{"$f":"IFERROR(VLOOKUP(D567,Tabela66[#All],2,0),\"\")","v":""},{"$f":"IFERROR(VLOOKUP(D567,Tabela.cadastro[[ID]:[CP ou M]],5,0),\"\")","v":""},{"$f":"IFERROR(VLOOKUP(D567,Cadastros!A:F,6,0),\"\")","v":""},{"$f":"IFERROR(VLOOKUP(D567,Cadastros!A:I,9,0),\"\")","v":""},{"$f":"IFERROR(VLOOKUP(D567,Cadastros!A:J,10,0),\"\")","v":""},{"$f":"IF(COUNTIF(Tabela66[id],D567)=0,\"\",COUNTIF(Tabela66[id],D567))","v":""},null,"",null,null,{"$f":"IFERROR(VLOOKUP(O567,Cadastros!A:B,2),\"\")","v":""},"",{"$f":"IFERROR(VLOOKUP(O567,Cadastros!A:E,5,0),\"\")","v":""},{"$f":"IFERROR(VLOOKUP(O567,Cadastros!A:F,6,0),\"\")","v":""},{"$f":"IFERROR(VLOOKUP(O567,Cadastros!A:I,9,0),\"\")","v":""},"","","",null,{"$f":"INDEX(Tabela.abordagens[],SMALL(IF(Tabela.abordagens[Mês]=$L$2,ROW(Tabela.abordagens[id])-2),ROW(A520)),1)","v":{"$error":"#NUM!"}},{"$f":"INDEX(Tabela.abordagens[],SMALL(IF(Tabela.abordagens[Mês]=$L$2,ROW(Tabela.abordagens[Idade])-2),ROW(A520)),6)","v":{"$error":"#NUM!"}},{"$f":"INDEX(Tabela.abordagens[],SMALL(IF(Tabela.abordagens[Mês]=$L$2,ROW(Tabela.abordagens[Idade])-2),ROW(A520)),4)","v":{"$error":"#NUM!"}},{"$f":"INDEX(Tabela.abordagens[],SMALL(IF(Tabela.abordagens[Mês]=$L$2,ROW(Tabela.abordagens[Idade])-2),ROW(A520)),5)","v":{"$error":"#NUM!"}}]
[null,{"$f":"INDEX(Tabela.frequencia[],SMALL(IF(Tabela.frequencia[Mês]=$L$2,ROW(Tabela.frequencia[id])-1),ROW(A521)),1)","v":{"$error":"#NUM!"}},{"$f":"INDEX(Tabela.frequencia[],SMALL(IF(Tabela.frequencia[Mês]=$L$2,ROW(Tabela.frequencia[id])-1),ROW(A521)),4)","v":{"$error":"#NUM!"}},null,{"$f":"IFERROR(VLOOKUP(D568,Tabela.cadastro[[ID]:[Nome]],2,0),\"\")","v":""},{"$f":"IFERROR(VLOOKUP(D568,Tabela66[#All],2,0),\"\")","v":""},{"$f":"IFERROR(VLOOKUP(D568,Tabela.cadastro[[ID]:[CP ou M]],5,0),\"\")","v":""},{"$f":"IFERROR(VLOOKUP(D568,Cadastros!A:F,6,0),\"\")","v":""},{"$f":"IFERROR(VLOOKUP(D568,Cadastros!A:I,9,0),\"\")","v":""},{"$f":"IFERROR(VLOOKUP(D568,Cadastros!A:J,10,0),\"\")","v":""},{"$f":"IF(COUNTIF(Tabela66[id],D568)=0,\"\",COUNTIF(Tabela66[id],D568))","v":""},null,"",null,null,{"$f":"IFERROR(VLOOKUP(O568,Cadastros!A:B,2),\"\")","v":""},"",{"$f":"IFERROR(VLOOKUP(O568,Cadastros!A:E,5,0),\"\")","v":""},{"$f":"IFERROR(VLOOKUP(O568,Cadastros!A:F,6,0),\"\")","v":""},{"$f":"IFERROR(VLOOKUP(O568,Cadastros!A:I,9,0),\"\")","v":""},"","","",null,{"$f":"INDEX(Tabela.abordagens[],SMALL(IF(Tabela.abordagens[Mês]=$L$2,ROW(Tabela.abordagens[id])-2),ROW(A521)),1)","v":{"$error":"#NUM!"}},{"$f":"INDEX(Tabela.abordagens[],SMALL(IF(Tabela.abordagens[Mês]=$L$2,ROW(Tabela.abordagens[Idade])-2),ROW(A521)),6)","v":{"$error":"#NUM!"}},{"$f":"INDEX(Tabela.abordagens[],SMALL(IF(Tabela.abordagens[Mês]=$L$2,ROW(Tabela.abordagens[Idade])-2),ROW(A521)),4)","v":{"$error":"#NUM!"}},{"$f":"INDEX(Tabela.abordagens[],SMALL(IF(Tabela.abordagens[Mês]=$L$2,ROW(Tabela.abordagens[Idade])-2),ROW(A521)),5)","v":{"$error":"#NUM!"}}]
[null,{"$f":"INDEX(Tabela.frequencia[],SMALL(IF(Tabela.frequencia[Mês]=$L$2,ROW(Tabela.frequencia[id])-1),ROW(A522)),1)","v":{"$error":"#NUM!"}},{"$f":"INDEX(Tabela.frequencia[],SMALL(IF(Tabela.frequencia[Mês]=$L$2,ROW(Tabela.frequencia[id])-1),ROW(A522)),4)","v":{"$error":"#NUM!"}},null,{"$f":"IFERROR(VLOOKUP(D569,Tabela.cadastro[[ID]:[Nome]],2,0),\"\")","v":""},{"$f":"IFERROR(VLOOKUP(D569,Tabela66[#All],2,0),\"\")","v":""},{"$f":"IFERROR(VLOOKUP(D569,Tabela.cadastro[[ID]:[CP ou M]],5,0),\"\")","v":""},{"$f":"IFERROR(VLOOKUP(D569,Cadastros!A:F,6,0),\"\")","v":""},{"$f":"IFERROR(VLOOKUP(D569,Cadastros!A:I,9,0),\"\")","v":""},{"$f":"IFERROR(VLOOKUP(D569,Cadastros!A:J,10,0),\"\")","v":""},{"$f":"IF(COUNTIF(Tabela66[id],D569)=0,\"\",COUNTIF(Tabela66[id],D569))","v":""},null,"",null,null,{"$f":"IFERROR(VLOOKUP(O569,Cadastros!A:B,2),\"\")","v":""},"",{"$f":"IFERROR(VLOOKUP(O569,Cadastros!A:E,5,0),\"\")","v":""},{"$f":"IFERROR(VLOOKUP(O569,Cadastros!A:F,6,0),\"\")","v":""},{"$f":"IFERROR(VLOOKUP(O569,Cadastros!A:I,9,0),\"\")","v":""},"","","",null,{"$f":"INDEX(Tabela.abordagens[],SMALL(IF(Tabela.abordagens[Mês]=$L$2,ROW(Tabela.abordagens[id])-2),ROW(A522)),1)","v":{"$error":"#NUM!"}},{"$f":"INDEX(Tabela.abordagens[],SMALL(IF(Tabela.abordagens[Mês]=$L$2,ROW(Tabela.abordagens[Idade])-2),ROW(A522)),6)","v":{"$error":"#NUM!"}},{"$f":"INDEX(Tabela.abordagens[],SMALL(IF(Tabela.abordagens[Mês]=$L$2,ROW(Tabela.abordagens[Idade])-2),ROW(A522)),4)","v":{"$error":"#NUM!"}},{"$f":"INDEX(Tabela.abordagens[],SMALL(IF(Tabela.abordagens[Mês]=$L$2,ROW(Tabela.abordagens[Idade])-2),ROW(A522)),5)","v":{"$error":"#NUM!"}}]
[null,{"$f":"INDEX(Tabela.frequencia[],SMALL(IF(Tabela.frequencia[Mês]=$L$2,ROW(Tabela.frequencia[id])-1),ROW(A523)),1)","v":{"$error":"#NUM!"}},{"$f":"INDEX(Tabela.frequencia[],SMALL(IF(Tabela.frequencia[Mês]=$L$2,ROW(Tabela.frequencia[id])-1),ROW(A523)),4)","v":{"$error":"#NUM!"}},null,{"$f":"IFERROR(VLOOKUP(D570,Tabela.cadastro[[ID]:[Nome]],2,0),\"\")","v":""},{"$f":"IFERROR(VLOOKUP(D570,Tabela66[#All],2,0),\"\")","v":""},{"$f":"IFERROR(VLOOKUP(D570,Tabela.cadastro[[ID]:[CP ou M]],5,0),\"\")","v":""},{"$f":"IFERROR(VLOOKUP(D570,Cadastros!A:F,6,0),\"\")","v":""},{"$f":"IFERROR(VLOOKUP(D570,Cadastros!A:I,9,0),\"\")","v":""},{"$f":"IFERROR(VLOOKUP(D570,Cadastros!A:J,10,0),\"\")","v":""},{"$f":"IF(COUNTIF(Tabela66[id],D570)=0,\"\",COUNTIF(Tabela66[id],D570))","v":""},null,"",null,null,{"$f":"IFERROR(VLOOKUP(O570,Cadastros!A:B,2),\"\")","v":""},"",{"$f":"IFERROR(VLOOKUP(O570,Cadastros!A:E,5,0),\"\")","v":""},{"$f":"IFERROR(VLOOKUP(O570,Cadastros!A:F,6,0),\"\")","v":""},{"$f":"IFERROR(VLOOKUP(O570,Cadastros!A:I,9,0),\"\")","v":""},"","","",null,{"$f":"INDEX(Tabela.abordagens[],SMALL(IF(Tabela.abordagens[Mês]=$L$2,ROW(Tabela.abordagens[id])-2),ROW(A523)),1)","v":{"$error":"#NUM!"}},{"$f":"INDEX(Tabela.abordagens[],SMALL(IF(Tabela.abordagens[Mês]=$L$2,ROW(Tabela.abordagens[Idade])-2),ROW(A523)),6)","v":{"$error":"#NUM!"}},{"$f":"INDEX(Tabela.abordagens[],SMALL(IF(Tabela.abordagens[Mês]=$L$2,ROW(Tabela.abordagens[Idade])-2),ROW(A523)),4)","v":{"$error":"#NUM!"}},{"$f":"INDEX(Tabela.abordagens[],SMALL(IF(Tabela.abordagens[Mês]=$L$2,ROW(Tabela.abordagens[Idade])-2),ROW(A523)),5)","v":{"$error":"#NUM!"}}]
[null,{"$f":"INDEX(Tabela.frequencia[],SMALL(IF(Tabela.frequencia[Mês]=$L$2,ROW(Tabela.frequencia[id])-1),ROW(A524)),1)","v":{"$error":"#NUM!"}},{"$f":"INDEX(Tabela.frequencia[],SMALL(IF(Tabela.frequencia[Mês]=$L$2,ROW(Tabela.frequencia[id])-1),ROW(A524)),4)","v":{"$error":"#NUM!"}},null,{"$f":"IFERROR(VLOOKUP(D571,Tabela.cadastro[[ID]:[Nome]],2,0),\"\")","v":""},{"$f":"IFERROR(VLOOKUP(D571,Tabela66[#All],2,0),\"\")","v":""},{"$f":"IFERROR(VLOOKUP(D571,Tabela.cadastro[[ID]:[CP ou M]],5,0),\"\")","v":""},{"$f":"IFERROR(VLOOKUP(D571,Cadastros!A:F,6,0),\"\")","v":""},{"$f":"IFERROR(VLOOKUP(D571,Cadastros!A:I,9,0),\"\")","v":""},{"$f":"IFERROR(VLOOKUP(D571,Cadastros!A:J,10,0),\"\")","v":""},{"$f":"IF(COUNTIF(Tabela66[id],D571)=0,\"\",COUNTIF(Tabela66[id],D571))","v":""},null,"",null,null,{"$f":"IFERROR(VLOOKUP(O571,Cadastros!A:B,2),\"\")","v":""},"",{"$f":"IFERROR(VLOOKUP(O571,Cadastros!A:E,5,0),\"\")","v":""},{"$f":"IFERROR(VLOOKUP(O571,Cadastros!A:F,6,0),\"\")","v":""},{"$f":"IFERROR(VLOOKUP(O571,Cadastros!A:I,9,0),\"\")","v":""},"","","",null,{"$f":"INDEX(Tabela.abordagens[],SMALL(IF(Tabela.abordagens[Mês]=$L$2,ROW(Tabela.abordagens[id])-2),ROW(A524)),1)","v":{"$error":"#NUM!"}},{"$f":"INDEX(Tabela.abordagens[],SMALL(IF(Tabela.abordagens[Mês]=$L$2,ROW(Tabela.abordagens[Idade])-2),ROW(A524)),6)","v":{"$error":"#NUM!"}},{"$f":"INDEX(Tabela.abordagens[],SMALL(IF(Tabela.abordagens[Mês]=$L$2,ROW(Tabela.abordagens[Idade])-2),ROW(A524)),4)","v":{"$error":"#NUM!"}},{"$f":"INDEX(Tabela.abordagens[],SMALL(IF(Tabela.abordagens[Mês]=$L$2,ROW(Tabela.abordagens[Idade])-2),ROW(A524)),5)","v":{"$error":"#NUM!"}}]
[null,{"$f":"INDEX(Tabela.frequencia[],SMALL(IF(Tabela.frequencia[Mês]=$L$2,ROW(Tabela.frequencia[id])-1),ROW(A525)),1)","v":{"$error":"#NUM!"}},{"$f":"INDEX(Tabela.frequencia[],SMALL(IF(Tabela.frequencia[Mês]=$L$2,ROW(Tabela.frequencia[id])-1),ROW(A525)),4)","v":{"$error":"#NUM!"}},null,{"$f":"IFERROR(VLOOKUP(D572,Tabela.cadastro[[ID]:[Nome]],2,0),\"\")","v":""},{"$f":"IFERROR(VLOOKUP(D572,Tabela66[#All],2,0),\"\")","v":""},{"$f":"IFERROR(VLOOKUP(D572,Tabela.cadastro[[ID]:[CP ou M]],5,0),\"\")","v":""},{"$f":"IFERROR(VLOOKUP(D572,Cadastros!A:F,6,0),\"\")","v":""},{"$f":"IFERROR(VLOOKUP(D572,Cadastros!A:I,9,0),\"\")","v":""},{"$f":"IFERROR(VLOOKUP(D572,Cadastros!A:J,10,0),\"\")","v":""},{"$f":"IF(COUNTIF(Tabela66[id],D572)=0,\"\",COUNTIF(Tabela66[id],D572))","v":""},null,"",null,null,{"$f":"IFERROR(VLOOKUP(O572,Cadastros!A:B,2),\"\")","v":""},"",{"$f":"IFERROR(VLOOKUP(O572,Cadastros!A:E,5,0),\"\")","v":""},{"$f":"IFERROR(VLOOKUP(O572,Cadastros!A:F,6,0),\"\")","v":""},{"$f":"IFERROR(VLOOKUP(O572,Cadastros!A:I,9,0),\"\")","v":""},"","","",null,{"$f":"INDEX(Tabela.abordagens[],SMALL(IF(Tabela.abordagens[Mês]=$L$2,ROW(Tabela.abordagens[id])-2),ROW(A525)),1)","v":{"$error":"#NUM!"}},{"$f":"INDEX(Tabela.abordagens[],SMALL(IF(Tabela.abordagens[Mês]=$L$2,ROW(Tabela.abordagens[Idade])-2),ROW(A525)),6)","v":{"$error":"#NUM!"}},{"$f":"INDEX(Tabela.abordagens[],SMALL(IF(Tabela.abordagens[Mês]=$L$2,ROW(Tabela.abordagens[Idade])-2),ROW(A525)),4)","v":{"$error":"#NUM!"}},{"$f":"INDEX(Tabela.abordagens[],SMALL(IF(Tabela.abordagens[Mês]=$L$2,ROW(Tabela.abordagens[Idade])-2),ROW(A525)),5)","v":{"$error":"#NUM!"}}]
[null,{"$f":"INDEX(Tabela.frequencia[],SMALL(IF(Tabela.frequencia[Mês]=$L$2,ROW(Tabela.frequencia[id])-1),ROW(A526)),1)","v":{"$error":"#NUM!"}},{"$f":"INDEX(Tabela.frequencia[],SMALL(IF(Tabela.frequencia[Mês]=$L$2,ROW(Tabela.frequencia[id])-1),ROW(A526)),4)","v":{"$error":"#NUM!"}},null,{"$f":"IFERROR(VLOOKUP(D573,Tabela.cadastro[[ID]:[Nome]],2,0),\"\")","v":""},{"$f":"IFERROR(VLOOKUP(D573,Tabela66[#All],2,0),\"\")","v":""},{"$f":"IFERROR(VLOOKUP(D573,Tabela.cadastro[[ID]:[CP ou M]],5,0),\"\")","v":""},{"$f":"IFERROR(VLOOKUP(D573,Cadastros!A:F,6,0),\"\")","v":""},{"$f":"IFERROR(VLOOKUP(D573,Cadastros!A:I,9,0),\"\")","v":""},{"$f":"IFERROR(VLOOKUP(D573,Cadastros!A:J,10,0),\"\")","v":""},{"$f":"IF(COUNTIF(Tabela66[id],D573)=0,\"\",COUNTIF(Tabela66[id],D573))","v":""},null,"",null,null,{"$f":"IFERROR(VLOOKUP(O573,Cadastros!A:B,2),\"\")","v":""},"",{"$f":"IFERROR(VLOOKUP(O573,Cadastros!A:E,5,0),\"\")","v":""},{"$f":"IFERROR(VLOOKUP(O573,Cadastros!A:F,6,0),\"\")","v":""},{"$f":"IFERROR(VLOOKUP(O573,Cadastros!A:I,9,0),\"\")","v":""},"","","",null,{"$f":"INDEX(Tabela.abordagens[],SMALL(IF(Tabela.abordagens[Mês]=$L$2,ROW(Tabela.abordagens[id])-2),ROW(A526)),1)","v":{"$error":"#NUM!"}},{"$f":"INDEX(Tabela.abordagens[],SMALL(IF(Tabela.abordagens[Mês]=$L$2,ROW(Tabela.abordagens[Idade])-2),ROW(A526)),6)","v":{"$error":"#NUM!"}},{"$f":"INDEX(Tabela.abordagens[],SMALL(IF(Tabela.abordagens[Mês]=$L$2,ROW(Tabela.abordagens[Idade])-2),ROW(A526)),4)","v":{"$error":"#NUM!"}},{"$f":"INDEX(Tabela.abordagens[],SMALL(IF(Tabela.abordagens[Mês]=$L$2,ROW(Tabela.abordagens[Idade])-2),ROW(A526)),5)","v":{"$error":"#NUM!"}}]
[null,{"$f":"INDEX(Tabela.frequencia[],SMALL(IF(Tabela.frequencia[Mês]=$L$2,ROW(Tabela.frequencia[id])-1),ROW(A527)),1)","v":{"$error":"#NUM!"}},{"$f":"INDEX(Tabela.frequencia[],SMALL(IF(Tabela.frequencia[Mês]=$L$2,ROW(Tabela.frequencia[id])-1),ROW(A527)),4)","v":{"$error":"#NUM!"}},null,{"$f":"IFERROR(VLOOKUP(D574,Tabela.cadastro[[ID]:[Nome]],2,0),\"\")","v":""},{"$f":"IFERROR(VLOOKUP(D574,Tabela66[#All],2,0),\"\")","v":""},{"$f":"IFERROR(VLOOKUP(D574,Tabela.cadastro[[ID]:[CP ou M]],5,0),\"\")","v":""},{"$f":"IFERROR(VLOOKUP(D574,Cadastros!A:F,6,0),\"\")","v":""},{"$f":"IFERROR(VLOOKUP(D574,Cadastros!A:I,9,0),\"\")","v":""},{"$f":"IFERROR(VLOOKUP(D574,Cadastros!A:J,10,0),\"\")","v":""},{"$f":"IF(COUNTIF(Tabela66[id],D574)=0,\"\",COUNTIF(Tabela66[id],D574))","v":""},null,"",null,null,{"$f":"IFERROR(VLOOKUP(O574,Cadastros!A:B,2),\"\")","v":""},"",{"$f":"IFERROR(VLOOKUP(O574,Cadastros!A:E,5,0),\"\")","v":""},{"$f":"IFERROR(VLOOKUP(O574,Cadastros!A:F,6,0),\"\")","v":""},{"$f":"IFERROR(VLOOKUP(O574,Cadastros!A:I,9,0),\"\")","v":""},"","","",null,{"$f":"INDEX(Tabela.abordagens[],SMALL(IF(Tabela.abordagens[Mês]=$L$2,ROW(Tabela.abordagens[id])-2),ROW(A527)),1)","v":{"$error":"#NUM!"}},{"$f":"INDEX(Tabela.abordagens[],SMALL(IF(Tabela.abordagens[Mês]=$L$2,ROW(Tabela.abordagens[Idade])-2),ROW(A527)),6)","v":{"$error":"#NUM!"}},{"$f":"INDEX(Tabela.abordagens[],SMALL(IF(Tabela.abordagens[Mês]=$L$2,ROW(Tabela.abordagens[Idade])-2),ROW(A527)),4)","v":{"$error":"#NUM!"}},{"$f":"INDEX(Tabela.abordagens[],SMALL(IF(Tabela.abordagens[Mês]=$L$2,ROW(Tabela.abordagens[Idade])-2),ROW(A527)),5)","v":{"$error":"#NUM!"}}]
[null,{"$f":"INDEX(Tabela.frequencia[],SMALL(IF(Tabela.frequencia[Mês]=$L$2,ROW(Tabela.frequencia[id])-1),ROW(A528)),1)","v":{"$error":"#NUM!"}},{"$f":"INDEX(Tabela.frequencia[],SMALL(IF(Tabela.frequencia[Mês]=$L$2,ROW(Tabela.frequencia[id])-1),ROW(A528)),4)","v":{"$error":"#NUM!"}},null,{"$f":"IFERROR(VLOOKUP(D575,Tabela.cadastro[[ID]:[Nome]],2,0),\"\")","v":""},{"$f":"IFERROR(VLOOKUP(D575,Tabela66[#All],2,0),\"\")","v":""},{"$f":"IFERROR(VLOOKUP(D575,Tabela.cadastro[[ID]:[CP ou M]],5,0),\"\")","v":""},{"$f":"IFERROR(VLOOKUP(D575,Cadastros!A:F,6,0),\"\")","v":""},{"$f":"IFERROR(VLOOKUP(D575,Cadastros!A:I,9,0),\"\")","v":""},{"$f":"IFERROR(VLOOKUP(D575,Cadastros!A:J,10,0),\"\")","v":""},{"$f":"IF(COUNTIF(Tabela66[id],D575)=0,\"\",COUNTIF(Tabela66[id],D575))","v":""},null,"",null,null,{"$f":"IFERROR(VLOOKUP(O575,Cadastros!A:B,2),\"\")","v":""},"",{"$f":"IFERROR(VLOOKUP(O575,Cadastros!A:E,5,0),\"\")","v":""},{"$f":"IFERROR(VLOOKUP(O575,Cadastros!A:F,6,0),\"\")","v":""},{"$f":"IFERROR(VLOOKUP(O575,Cadastros!A:I,9,0),\"\")","v":""},"","","",null,{"$f":"INDEX(Tabela.abordagens[],SMALL(IF(Tabela.abordagens[Mês]=$L$2,ROW(Tabela.abordagens[id])-2),ROW(A528)),1)","v":{"$error":"#NUM!"}},{"$f":"INDEX(Tabela.abordagens[],SMALL(IF(Tabela.abordagens[Mês]=$L$2,ROW(Tabela.abordagens[Idade])-2),ROW(A528)),6)","v":{"$error":"#NUM!"}},{"$f":"INDEX(Tabela.abordagens[],SMALL(IF(Tabela.abordagens[Mês]=$L$2,ROW(Tabela.abordagens[Idade])-2),ROW(A528)),4)","v":{"$error":"#NUM!"}},{"$f":"INDEX(Tabela.abordagens[],SMALL(IF(Tabela.abordagens[Mês]=$L$2,ROW(Tabela.abordagens[Idade])-2),ROW(A528)),5)","v":{"$error":"#NUM!"}}]
[null,{"$f":"INDEX(Tabela.frequencia[],SMALL(IF(Tabela.frequencia[Mês]=$L$2,ROW(Tabela.frequencia[id])-1),ROW(A529)),1)","v":{"$error":"#NUM!"}},{"$f":"INDEX(Tabela.frequencia[],SMALL(IF(Tabela.frequencia[Mês]=$L$2,ROW(Tabela.frequencia[id])-1),ROW(A529)),4)","v":{"$error":"#NUM!"}},null,{"$f":"IFERROR(VLOOKUP(D576,Tabela.cadastro[[ID]:[Nome]],2,0),\"\")","v":""},{"$f":"IFERROR(VLOOKUP(D576,Tabela66[#All],2,0),\"\")","v":""},{"$f":"IFERROR(VLOOKUP(D576,Tabela.cadastro[[ID]:[CP ou M]],5,0),\"\")","v":""},{"$f":"IFERROR(VLOOKUP(D576,Cadastros!A:F,6,0),\"\")","v":""},{"$f":"IFERROR(VLOOKUP(D576,Cadastros!A:I,9,0),\"\")","v":""},{"$f":"IFERROR(VLOOKUP(D576,Cadastros!A:J,10,0),\"\")","v":""},{"$f":"IF(COUNTIF(Tabela66[id],D576)=0,\"\",COUNTIF(Tabela66[id],D576))","v":""},null,"",null,null,{"$f":"IFERROR(VLOOKUP(O576,Cadastros!A:B,2),\"\")","v":""},"",{"$f":"IFERROR(VLOOKUP(O576,Cadastros!A:E,5,0),\"\")","v":""},{"$f":"IFERROR(VLOOKUP(O576,Cadastros!A:F,6,0),\"\")","v":""},{"$f":"IFERROR(VLOOKUP(O576,Cadastros!A:I,9,0),\"\")","v":""},"","","",null,{"$f":"INDEX(Tabela.abordagens[],SMALL(IF(Tabela.abordagens[Mês]=$L$2,ROW(Tabela.abordagens[id])-2),ROW(A529)),1)","v":{"$error":"#NUM!"}},{"$f":"INDEX(Tabela.abordagens[],SMALL(IF(Tabela.abordagens[Mês]=$L$2,ROW(Tabela.abordagens[Idade])-2),ROW(A529)),6)","v":{"$error":"#NUM!"}},{"$f":"INDEX(Tabela.abordagens[],SMALL(IF(Tabela.abordagens[Mês]=$L$2,ROW(Tabela.abordagens[Idade])-2),ROW(A529)),4)","v":{"$error":"#NUM!"}},{"$f":"INDEX(Tabela.abordagens[],SMALL(IF(Tabela.abordagens[Mês]=$L$2,ROW(Tabela.abordagens[Idade])-2),ROW(A529)),5)","v":{"$error":"#NUM!"}}]
[null,{"$f":"INDEX(Tabela.frequencia[],SMALL(IF(Tabela.frequencia[Mês]=$L$2,ROW(Tabela.frequencia[id])-1),ROW(A530)),1)","v":{"$error":"#NUM!"}},{"$f":"INDEX(Tabela.frequencia[],SMALL(IF(Tabela.frequencia[Mês]=$L$2,ROW(Tabela.frequencia[id])-1),ROW(A530)),4)","v":{"$error":"#NUM!"}},null,{"$f":"IFERROR(VLOOKUP(D577,Tabela.cadastro[[ID]:[Nome]],2,0),\"\")","v":""},{"$f":"IFERROR(VLOOKUP(D577,Tabela66[#All],2,0),\"\")","v":""},{"$f":"IFERROR(VLOOKUP(D577,Tabela.cadastro[[ID]:[CP ou M]],5,0),\"\")","v":""},{"$f":"IFERROR(VLOOKUP(D577,Cadastros!A:F,6,0),\"\")","v":""},{"$f":"IFERROR(VLOOKUP(D577,Cadastros!A:I,9,0),\"\")","v":""},{"$f":"IFERROR(VLOOKUP(D577,Cadastros!A:J,10,0),\"\")","v":""},{"$f":"IF(COUNTIF(Tabela66[id],D577)=0,\"\",COUNTIF(Tabela66[id],D577))","v":""},null,"",null,null,{"$f":"IFERROR(VLOOKUP(O577,Cadastros!A:B,2),\"\")","v":""},"",{"$f":"IFERROR(VLOOKUP(O577,Cadastros!A:E,5,0),\"\")","v":""},{"$f":"IFERROR(VLOOKUP(O577,Cadastros!A:F,6,0),\"\")","v":""},{"$f":"IFERROR(VLOOKUP(O577,Cadastros!A:I,9,0),\"\")","v":""},"","","",null,{"$f":"INDEX(Tabela.abordagens[],SMALL(IF(Tabela.abordagens[Mês]=$L$2,ROW(Tabela.abordagens[id])-2),ROW(A530)),1)","v":{"$error":"#NUM!"}},{"$f":"INDEX(Tabela.abordagens[],SMALL(IF(Tabela.abordagens[Mês]=$L$2,ROW(Tabela.abordagens[Idade])-2),ROW(A530)),6)","v":{"$error":"#NUM!"}},{"$f":"INDEX(Tabela.abordagens[],SMALL(IF(Tabela.abordagens[Mês]=$L$2,ROW(Tabela.abordagens[Idade])-2),ROW(A530)),4)","v":{"$error":"#NUM!"}},{"$f":"INDEX(Tabela.abordagens[],SMALL(IF(Tabela.abordagens[Mês]=$L$2,ROW(Tabela.abordagens[Idade])-2),ROW(A530)),5)","v":{"$error":"#NUM!"}}]
[null,{"$f":"INDEX(Tabela.frequencia[],SMALL(IF(Tabela.frequencia[Mês]=$L$2,ROW(Tabela.frequencia[id])-1),ROW(A531)),1)","v":{"$error":"#NUM!"}},{"$f":"INDEX(Tabela.frequencia[],SMALL(IF(Tabela.frequencia[Mês]=$L$2,ROW(Tabela.frequencia[id])-1),ROW(A531)),4)","v":{"$error":"#NUM!"}},null,{"$f":"IFERROR(VLOOKUP(D578,Tabela.cadastro[[ID]:[Nome]],2,0),\"\")","v":""},{"$f":"IFERROR(VLOOKUP(D578,Tabela66[#All],2,0),\"\")","v":""},{"$f":"IFERROR(VLOOKUP(D578,Tabela.cadastro[[ID]:[CP ou M]],5,0),\"\")","v":""},{"$f":"IFERROR(VLOOKUP(D578,Cadastros!A:F,6,0),\"\")","v":""},{"$f":"IFERROR(VLOOKUP(D578,Cadastros!A:I,9,0),\"\")","v":""},{"$f":"IFERROR(VLOOKUP(D578,Cadastros!A:J,10,0),\"\")","v":""},{"$f":"IF(COUNTIF(Tabela66[id],D578)=0,\"\",COUNTIF(Tabela66[id],D578))","v":""},null,"",null,null,{"$f":"IFERROR(VLOOKUP(O578,Cadastros!A:B,2),\"\")","v":""},"",{"$f":"IFERROR(VLOOKUP(O578,Cadastros!A:E,5,0),\"\")","v":""},{"$f":"IFERROR(VLOOKUP(O578,Cadastros!A:F,6,0),\"\")","v":""},{"$f":"IFERROR(VLOOKUP(O578,Cadastros!A:I,9,0),\"\")","v":""},"","","",null,{"$f":"INDEX(Tabela.abordagens[],SMALL(IF(Tabela.abordagens[Mês]=$L$2,ROW(Tabela.abordagens[id])-2),ROW(A531)),1)","v":{"$error":"#NUM!"}},{"$f":"INDEX(Tabela.abordagens[],SMALL(IF(Tabela.abordagens[Mês]=$L$2,ROW(Tabela.abordagens[Idade])-2),ROW(A531)),6)","v":{"$error":"#NUM!"}},{"$f":"INDEX(Tabela.abordagens[],SMALL(IF(Tabela.abordagens[Mês]=$L$2,ROW(Tabela.abordagens[Idade])-2),ROW(A531)),4)","v":{"$error":"#NUM!"}},{"$f":"INDEX(Tabela.abordagens[],SMALL(IF(Tabela.abordagens[Mês]=$L$2,ROW(Tabela.abordagens[Idade])-2),ROW(A531)),5)","v":{"$error":"#NUM!"}}]
[null,{"$f":"INDEX(Tabela.frequencia[],SMALL(IF(Tabela.frequencia[Mês]=$L$2,ROW(Tabela.frequencia[id])-1),ROW(A532)),1)","v":{"$error":"#NUM!"}},{"$f":"INDEX(Tabela.frequencia[],SMALL(IF(Tabela.frequencia[Mês]=$L$2,ROW(Tabela.frequencia[id])-1),ROW(A532)),4)","v":{"$error":"#NUM!"}},null,{"$f":"IFERROR(VLOOKUP(D579,Tabela.cadastro[[ID]:[Nome]],2,0),\"\")","v":""},{"$f":"IFERROR(VLOOKUP(D579,Tabela66[#All],2,0),\"\")","v":""},{"$f":"IFERROR(VLOOKUP(D579,Tabela.cadastro[[ID]:[CP ou M]],5,0),\"\")","v":""},{"$f":"IFERROR(VLOOKUP(D579,Cadastros!A:F,6,0),\"\")","v":""},{"$f":"IFERROR(VLOOKUP(D579,Cadastros!A:I,9,0),\"\")","v":""},{"$f":"IFERROR(VLOOKUP(D579,Cadastros!A:J,10,0),\"\")","v":""},{"$f":"IF(COUNTIF(Tabela66[id],D579)=0,\"\",COUNTIF(Tabela66[id],D579))","v":""},null,"",null,null,{"$f":"IFERROR(VLOOKUP(O579,Cadastros!A:B,2),\"\")","v":""},"",{"$f":"IFERROR(VLOOKUP(O579,Cadastros!A:E,5,0),\"\")","v":""},{"$f":"IFERROR(VLOOKUP(O579,Cadastros!A:F,6,0),\"\")","v":""},{"$f":"IFERROR(VLOOKUP(O579,Cadastros!A:I,9,0),\"\")","v":""},"","","",null,{"$f":"INDEX(Tabela.abordagens[],SMALL(IF(Tabela.abordagens[Mês]=$L$2,ROW(Tabela.abordagens[id])-2),ROW(A532)),1)","v":{"$error":"#NUM!"}},{"$f":"INDEX(Tabela.abordagens[],SMALL(IF(Tabela.abordagens[Mês]=$L$2,ROW(Tabela.abordagens[Idade])-2),ROW(A532)),6)","v":{"$error":"#NUM!"}},{"$f":"INDEX(Tabela.abordagens[],SMALL(IF(Tabela.abordagens[Mês]=$L$2,ROW(Tabela.abordagens[Idade])-2),ROW(A532)),4)","v":{"$error":"#NUM!"}},{"$f":"INDEX(Tabela.abordagens[],SMALL(IF(Tabela.abordagens[Mês]=$L$2,ROW(Tabela.abordagens[Idade])-2),ROW(A532)),5)","v":{"$error":"#NUM!"}}]
[null,{"$f":"INDEX(Tabela.frequencia[],SMALL(IF(Tabela.frequencia[Mês]=$L$2,ROW(Tabela.frequencia[id])-1),ROW(A533)),1)","v":{"$error":"#NUM!"}},{"$f":"INDEX(Tabela.frequencia[],SMALL(IF(Tabela.frequencia[Mês]=$L$2,ROW(Tabela.frequencia[id])-1),ROW(A533)),4)","v":{"$error":"#NUM!"}},null,{"$f":"IFERROR(VLOOKUP(D580,Tabela.cadastro[[ID]:[Nome]],2,0),\"\")","v":""},{"$f":"IFERROR(VLOOKUP(D580,Tabela66[#All],2,0),\"\")","v":""},{"$f":"IFERROR(VLOOKUP(D580,Tabela.cadastro[[ID]:[CP ou M]],5,0),\"\")","v":""},{"$f":"IFERROR(VLOOKUP(D580,Cadastros!A:F,6,0),\"\")","v":""},{"$f":"IFERROR(VLOOKUP(D580,Cadastros!A:I,9,0),\"\")","v":""},{"$f":"IFERROR(VLOOKUP(D580,Cadastros!A:J,10,0),\"\")","v":""},{"$f":"IF(COUNTIF(Tabela66[id],D580)=0,\"\",COUNTIF(Tabela66[id],D580))","v":""},null,"",null,null,{"$f":"IFERROR(VLOOKUP(O580,Cadastros!A:B,2),\"\")","v":""},"",{"$f":"IFERROR(VLOOKUP(O580,Cadastros!A:E,5,0),\"\")","v":""},{"$f":"IFERROR(VLOOKUP(O580,Cadastros!A:F,6,0),\"\")","v":""},{"$f":"IFERROR(VLOOKUP(O580,Cadastros!A:I,9,0),\"\")","v":""},"","","",null,{"$f":"INDEX(Tabela.abordagens[],SMALL(IF(Tabela.abordagens[Mês]=$L$2,ROW(Tabela.abordagens[id])-2),ROW(A533)),1)","v":{"$error":"#NUM!"}},{"$f":"INDEX(Tabela.abordagens[],SMALL(IF(Tabela.abordagens[Mês]=$L$2,ROW(Tabela.abordagens[Idade])-2),ROW(A533)),6)","v":{"$error":"#NUM!"}},{"$f":"INDEX(Tabela.abordagens[],SMALL(IF(Tabela.abordagens[Mês]=$L$2,ROW(Tabela.abordagens[Idade])-2),ROW(A533)),4)","v":{"$error":"#NUM!"}},{"$f":"INDEX(Tabela.abordagens[],SMALL(IF(Tabela.abordagens[Mês]=$L$2,ROW(Tabela.abordagens[Idade])-2),ROW(A533)),5)","v":{"$error":"#NUM!"}}]
[null,{"$f":"INDEX(Tabela.frequencia[],SMALL(IF(Tabela.frequencia[Mês]=$L$2,ROW(Tabela.frequencia[id])-1),ROW(A534)),1)","v":{"$error":"#NUM!"}},{"$f":"INDEX(Tabela.frequencia[],SMALL(IF(Tabela.frequencia[Mês]=$L$2,ROW(Tabela.frequencia[id])-1),ROW(A534)),4)","v":{"$error":"#NUM!"}},null,{"$f":"IFERROR(VLOOKUP(D581,Tabela.cadastro[[ID]:[Nome]],2,0),\"\")","v":""},{"$f":"IFERROR(VLOOKUP(D581,Tabela66[#All],2,0),\"\")","v":""},{"$f":"IFERROR(VLOOKUP(D581,Tabela.cadastro[[ID]:[CP ou M]],5,0),\"\")","v":""},{"$f":"IFERROR(VLOOKUP(D581,Cadastros!A:F,6,0),\"\")","v":""},{"$f":"IFERROR(VLOOKUP(D581,Cadastros!A:I,9,0),\"\")","v":""},{"$f":"IFERROR(VLOOKUP(D581,Cadastros!A:J,10,0),\"\")","v":""},{"$f":"IF(COUNTIF(Tabela66[id],D581)=0,\"\",COUNTIF(Tabela66[id],D581))","v":""},null,"",null,null,{"$f":"IFERROR(VLOOKUP(O581,Cadastros!A:B,2),\"\")","v":""},"",{"$f":"IFERROR(VLOOKUP(O581,Cadastros!A:E,5,0),\"\")","v":""},{"$f":"IFERROR(VLOOKUP(O581,Cadastros!A:F,6,0),\"\")","v":""},{"$f":"IFERROR(VLOOKUP(O581,Cadastros!A:I,9,0),\"\")","v":""},"","","",null,{"$f":"INDEX(Tabela.abordagens[],SMALL(IF(Tabela.abordagens[Mês]=$L$2,ROW(Tabela.abordagens[id])-2),ROW(A534)),1)","v":{"$error":"#NUM!"}},{"$f":"INDEX(Tabela.abordagens[],SMALL(IF(Tabela.abordagens[Mês]=$L$2,ROW(Tabela.abordagens[Idade])-2),ROW(A534)),6)","v":{"$error":"#NUM!"}},{"$f":"INDEX(Tabela.abordagens[],SMALL(IF(Tabela.abordagens[Mês]=$L$2,ROW(Tabela.abordagens[Idade])-2),ROW(A534)),4)","v":{"$error":"#NUM!"}},{"$f":"INDEX(Tabela.abordagens[],SMALL(IF(Tabela.abordagens[Mês]=$L$2,ROW(Tabela.abordagens[Idade])-2),ROW(A534)),5)","v":{"$error":"#NUM!"}}]
[null,{"$f":"INDEX(Tabela.frequencia[],SMALL(IF(Tabela.frequencia[Mês]=$L$2,ROW(Tabela.frequencia[id])-1),ROW(A535)),1)","v":{"$error":"#NUM!"}},{"$f":"INDEX(Tabela.frequencia[],SMALL(IF(Tabela.frequencia[Mês]=$L$2,ROW(Tabela.frequencia[id])-1),ROW(A535)),4)","v":{"$error":"#NUM!"}},null,{"$f":"IFERROR(VLOOKUP(D582,Tabela.cadastro[[ID]:[Nome]],2,0),\"\")","v":""},{"$f":"IFERROR(VLOOKUP(D582,Tabela66[#All],2,0),\"\")","v":""},{"$f":"IFERROR(VLOOKUP(D582,Tabela.cadastro[[ID]:[CP ou M]],5,0),\"\")","v":""},{"$f":"IFERROR(VLOOKUP(D582,Cadastros!A:F,6,0),\"\")","v":""},{"$f":"IFERROR(VLOOKUP(D582,Cadastros!A:I,9,0),\"\")","v":""},{"$f":"IFERROR(VLOOKUP(D582,Cadastros!A:J,10,0),\"\")","v":""},{"$f":"IF(COUNTIF(Tabela66[id],D582)=0,\"\",COUNTIF(Tabela66[id],D582))","v":""},null,"",null,null,{"$f":"IFERROR(VLOOKUP(O582,Cadastros!A:B,2),\"\")","v":""},"",{"$f":"IFERROR(VLOOKUP(O582,Cadastros!A:E,5,0),\"\")","v":""},{"$f":"IFERROR(VLOOKUP(O582,Cadastros!A:F,6,0),\"\")","v":""},{"$f":"IFERROR(VLOOKUP(O582,Cadastros!A:I,9,0),\"\")","v":""},"","","",null,{"$f":"INDEX(Tabela.abordagens[],SMALL(IF(Tabela.abordagens[Mês]=$L$2,ROW(Tabela.abordagens[id])-2),ROW(A535)),1)","v":{"$error":"#NUM!"}},{"$f":"INDEX(Tabela.abordagens[],SMALL(IF(Tabela.abordagens[Mês]=$L$2,ROW(Tabela.abordagens[Idade])-2),ROW(A535)),6)","v":{"$error":"#NUM!"}},{"$f":"INDEX(Tabela.abordagens[],SMALL(IF(Tabela.abordagens[Mês]=$L$2,ROW(Tabela.abordagens[Idade])-2),ROW(A535)),4)","v":{"$error":"#NUM!"}},{"$f":"INDEX(Tabela.abordagens[],SMALL(IF(Tabela.abordagens[Mês]=$L$2,ROW(Tabela.abordagens[Idade])-2),ROW(A535)),5)","v":{"$error":"#NUM!"}}]
[null,{"$f":"INDEX(Tabela.frequencia[],SMALL(IF(Tabela.frequencia[Mês]=$L$2,ROW(Tabela.frequencia[id])-1),ROW(A536)),1)","v":{"$error":"#NUM!"}},{"$f":"INDEX(Tabela.frequencia[],SMALL(IF(Tabela.frequencia[Mês]=$L$2,ROW(Tabela.frequencia[id])-1),ROW(A536)),4)","v":{"$error":"#NUM!"}},null,{"$f":"IFERROR(VLOOKUP(D583,Tabela.cadastro[[ID]:[Nome]],2,0),\"\")","v":""},{"$f":"IFERROR(VLOOKUP(D583,Tabela66[#All],2,0),\"\")","v":""},{"$f":"IFERROR(VLOOKUP(D583,Tabela.cadastro[[ID]:[CP ou M]],5,0),\"\")","v":""},{"$f":"IFERROR(VLOOKUP(D583,Cadastros!A:F,6,0),\"\")","v":""},{"$f":"IFERROR(VLOOKUP(D583,Cadastros!A:I,9,0),\"\")","v":""},{"$f":"IFERROR(VLOOKUP(D583,Cadastros!A:J,10,0),\"\")","v":""},{"$f":"IF(COUNTIF(Tabela66[id],D583)=0,\"\",COUNTIF(Tabela66[id],D583))","v":""},null,"",null,null,{"$f":"IFERROR(VLOOKUP(O583,Cadastros!A:B,2),\"\")","v":""},"",{"$f":"IFERROR(VLOOKUP(O583,Cadastros!A:E,5,0),\"\")","v":""},{"$f":"IFERROR(VLOOKUP(O583,Cadastros!A:F,6,0),\"\")","v":""},{"$f":"IFERROR(VLOOKUP(O583,Cadastros!A:I,9,0),\"\")","v":""},"","","",null,{"$f":"INDEX(Tabela.abordagens[],SMALL(IF(Tabela.abordagens[Mês]=$L$2,ROW(Tabela.abordagens[id])-2),ROW(A536)),1)","v":{"$error":"#NUM!"}},{"$f":"INDEX(Tabela.abordagens[],SMALL(IF(Tabela.abordagens[Mês]=$L$2,ROW(Tabela.abordagens[Idade])-2),ROW(A536)),6)","v":{"$error":"#NUM!"}},{"$f":"INDEX(Tabela.abordagens[],SMALL(IF(Tabela.abordagens[Mês]=$L$2,ROW(Tabela.abordagens[Idade])-2),ROW(A536)),4)","v":{"$error":"#NUM!"}},{"$f":"INDEX(Tabela.abordagens[],SMALL(IF(Tabela.abordagens[Mês]=$L$2,ROW(Tabela.abordagens[Idade])-2),ROW(A536)),5)","v":{"$error":"#NUM!"}}]
[null,{"$f":"INDEX(Tabela.frequencia[],SMALL(IF(Tabela.frequencia[Mês]=$L$2,ROW(Tabela.frequencia[id])-1),ROW(A537)),1)","v":{"$error":"#NUM!"}},{"$f":"INDEX(Tabela.frequencia[],SMALL(IF(Tabela.frequencia[Mês]=$L$2,ROW(Tabela.frequencia[id])-1),ROW(A537)),4)","v":{"$error":"#NUM!"}},null,{"$f":"IFERROR(VLOOKUP(D584,Tabela.cadastro[[ID]:[Nome]],2,0),\"\")","v":""},{"$f":"IFERROR(VLOOKUP(D584,Tabela66[#All],2,0),\"\")","v":""},{"$f":"IFERROR(VLOOKUP(D584,Tabela.cadastro[[ID]:[CP ou M]],5,0),\"\")","v":""},{"$f":"IFERROR(VLOOKUP(D584,Cadastros!A:F,6,0),\"\")","v":""},{"$f":"IFERROR(VLOOKUP(D584,Cadastros!A:I,9,0),\"\")","v":""},{"$f":"IFERROR(VLOOKUP(D584,Cadastros!A:J,10,0),\"\")","v":""},{"$f":"IF(COUNTIF(Tabela66[id],D584)=0,\"\",COUNTIF(Tabela66[id],D584))","v":""},null,"",null,null,{"$f":"IFERROR(VLOOKUP(O584,Cadastros!A:B,2),\"\")","v":""},"",{"$f":"IFERROR(VLOOKUP(O584,Cadastros!A:E,5,0),\"\")","v":""},{"$f":"IFERROR(VLOOKUP(O584,Cadastros!A:F,6,0),\"\")","v":""},{"$f":"IFERROR(VLOOKUP(O584,Cadastros!A:I,9,0),\"\")","v":""},"","","",null,{"$f":"INDEX(Tabela.abordagens[],SMALL(IF(Tabela.abordagens[Mês]=$L$2,ROW(Tabela.abordagens[id])-2),ROW(A537)),1)","v":{"$error":"#NUM!"}},{"$f":"INDEX(Tabela.abordagens[],SMALL(IF(Tabela.abordagens[Mês]=$L$2,ROW(Tabela.abordagens[Idade])-2),ROW(A537)),6)","v":{"$error":"#NUM!"}},{"$f":"INDEX(Tabela.abordagens[],SMALL(IF(Tabela.abordagens[Mês]=$L$2,ROW(Tabela.abordagens[Idade])-2),ROW(A537)),4)","v":{"$error":"#NUM!"}},{"$f":"INDEX(Tabela.abordagens[],SMALL(IF(Tabela.abordagens[Mês]=$L$2,ROW(Tabela.abordagens[Idade])-2),ROW(A537)),5)","v":{"$error":"#NUM!"}}]
[null,{"$f":"INDEX(Tabela.frequencia[],SMALL(IF(Tabela.frequencia[Mês]=$L$2,ROW(Tabela.frequencia[id])-1),ROW(A538)),1)","v":{"$error":"#NUM!"}},{"$f":"INDEX(Tabela.frequencia[],SMALL(IF(Tabela.frequencia[Mês]=$L$2,ROW(Tabela.frequencia[id])-1),ROW(A538)),4)","v":{"$error":"#NUM!"}},null,{"$f":"IFERROR(VLOOKUP(D585,Tabela.cadastro[[ID]:[Nome]],2,0),\"\")","v":""},{"$f":"IFERROR(VLOOKUP(D585,Tabela66[#All],2,0),\"\")","v":""},{"$f":"IFERROR(VLOOKUP(D585,Tabela.cadastro[[ID]:[CP ou M]],5,0),\"\")","v":""},{"$f":"IFERROR(VLOOKUP(D585,Cadastros!A:F,6,0),\"\")","v":""},{"$f":"IFERROR(VLOOKUP(D585,Cadastros!A:I,9,0),\"\")","v":""},{"$f":"IFERROR(VLOOKUP(D585,Cadastros!A:J,10,0),\"\")","v":""},{"$f":"IF(COUNTIF(Tabela66[id],D585)=0,\"\",COUNTIF(Tabela66[id],D585))","v":""},null,"",null,null,{"$f":"IFERROR(VLOOKUP(O585,Cadastros!A:B,2),\"\")","v":""},"",{"$f":"IFERROR(VLOOKUP(O585,Cadastros!A:E,5,0),\"\")","v":""},{"$f":"IFERROR(VLOOKUP(O585,Cadastros!A:F,6,0),\"\")","v":""},{"$f":"IFERROR(VLOOKUP(O585,Cadastros!A:I,9,0),\"\")","v":""},"","","",null,{"$f":"INDEX(Tabela.abordagens[],SMALL(IF(Tabela.abordagens[Mês]=$L$2,ROW(Tabela.abordagens[id])-2),ROW(A538)),1)","v":{"$error":"#NUM!"}},{"$f":"INDEX(Tabela.abordagens[],SMALL(IF(Tabela.abordagens[Mês]=$L$2,ROW(Tabela.abordagens[Idade])-2),ROW(A538)),6)","v":{"$error":"#NUM!"}},{"$f":"INDEX(Tabela.abordagens[],SMALL(IF(Tabela.abordagens[Mês]=$L$2,ROW(Tabela.abordagens[Idade])-2),ROW(A538)),4)","v":{"$error":"#NUM!"}},{"$f":"INDEX(Tabela.abordagens[],SMALL(IF(Tabela.abordagens[Mês]=$L$2,ROW(Tabela.abordagens[Idade])-2),ROW(A538)),5)","v":{"$error":"#NUM!"}}]
[null,{"$f":"INDEX(Tabela.frequencia[],SMALL(IF(Tabela.frequencia[Mês]=$L$2,ROW(Tabela.frequencia[id])-1),ROW(A539)),1)","v":{"$error":"#NUM!"}},{"$f":"INDEX(Tabela.frequencia[],SMALL(IF(Tabela.frequencia[Mês]=$L$2,ROW(Tabela.frequencia[id])-1),ROW(A539)),4)","v":{"$error":"#NUM!"}},null,{"$f":"IFERROR(VLOOKUP(D586,Tabela.cadastro[[ID]:[Nome]],2,0),\"\")","v":""},{"$f":"IFERROR(VLOOKUP(D586,Tabela66[#All],2,0),\"\")","v":""},{"$f":"IFERROR(VLOOKUP(D586,Tabela.cadastro[[ID]:[CP ou M]],5,0),\"\")","v":""},{"$f":"IFERROR(VLOOKUP(D586,Cadastros!A:F,6,0),\"\")","v":""},{"$f":"IFERROR(VLOOKUP(D586,Cadastros!A:I,9,0),\"\")","v":""},{"$f":"IFERROR(VLOOKUP(D586,Cadastros!A:J,10,0),\"\")","v":""},{"$f":"IF(COUNTIF(Tabela66[id],D586)=0,\"\",COUNTIF(Tabela66[id],D586))","v":""},null,"",null,null,{"$f":"IFERROR(VLOOKUP(O586,Cadastros!A:B,2),\"\")","v":""},"",{"$f":"IFERROR(VLOOKUP(O586,Cadastros!A:E,5,0),\"\")","v":""},{"$f":"IFERROR(VLOOKUP(O586,Cadastros!A:F,6,0),\"\")","v":""},{"$f":"IFERROR(VLOOKUP(O586,Cadastros!A:I,9,0),\"\")","v":""},"","","",null,{"$f":"INDEX(Tabela.abordagens[],SMALL(IF(Tabela.abordagens[Mês]=$L$2,ROW(Tabela.abordagens[id])-2),ROW(A539)),1)","v":{"$error":"#NUM!"}},{"$f":"INDEX(Tabela.abordagens[],SMALL(IF(Tabela.abordagens[Mês]=$L$2,ROW(Tabela.abordagens[Idade])-2),ROW(A539)),6)","v":{"$error":"#NUM!"}},{"$f":"INDEX(Tabela.abordagens[],SMALL(IF(Tabela.abordagens[Mês]=$L$2,ROW(Tabela.abordagens[Idade])-2),ROW(A539)),4)","v":{"$error":"#NUM!"}},{"$f":"INDEX(Tabela.abordagens[],SMALL(IF(Tabela.abordagens[Mês]=$L$2,ROW(Tabela.abordagens[Idade])-2),ROW(A539)),5)","v":{"$error":"#NUM!"}}]
[null,{"$f":"INDEX(Tabela.frequencia[],SMALL(IF(Tabela.frequencia[Mês]=$L$2,ROW(Tabela.frequencia[id])-1),ROW(A540)),1)","v":{"$error":"#NUM!"}},{"$f":"INDEX(Tabela.frequencia[],SMALL(IF(Tabela.frequencia[Mês]=$L$2,ROW(Tabela.frequencia[id])-1),ROW(A540)),4)","v":{"$error":"#NUM!"}},null,{"$f":"IFERROR(VLOOKUP(D587,Tabela.cadastro[[ID]:[Nome]],2,0),\"\")","v":""},{"$f":"IFERROR(VLOOKUP(D587,Tabela66[#All],2,0),\"\")","v":""},{"$f":"IFERROR(VLOOKUP(D587,Tabela.cadastro[[ID]:[CP ou M]],5,0),\"\")","v":""},{"$f":"IFERROR(VLOOKUP(D587,Cadastros!A:F,6,0),\"\")","v":""},{"$f":"IFERROR(VLOOKUP(D587,Cadastros!A:I,9,0),\"\")","v":""},{"$f":"IFERROR(VLOOKUP(D587,Cadastros!A:J,10,0),\"\")","v":""},{"$f":"IF(COUNTIF(Tabela66[id],D587)=0,\"\",COUNTIF(Tabela66[id],D587))","v":""},null,"",null,null,{"$f":"IFERROR(VLOOKUP(O587,Cadastros!A:B,2),\"\")","v":""},"",{"$f":"IFERROR(VLOOKUP(O587,Cadastros!A:E,5,0),\"\")","v":""},{"$f":"IFERROR(VLOOKUP(O587,Cadastros!A:F,6,0),\"\")","v":""},{"$f":"IFERROR(VLOOKUP(O587,Cadastros!A:I,9,0),\"\")","v":""},"","","",null,{"$f":"INDEX(Tabela.abordagens[],SMALL(IF(Tabela.abordagens[Mês]=$L$2,ROW(Tabela.abordagens[id])-2),ROW(A540)),1)","v":{"$error":"#NUM!"}},{"$f":"INDEX(Tabela.abordagens[],SMALL(IF(Tabela.abordagens[Mês]=$L$2,ROW(Tabela.abordagens[Idade])-2),ROW(A540)),6)","v":{"$error":"#NUM!"}},{"$f":"INDEX(Tabela.abordagens[],SMALL(IF(Tabela.abordagens[Mês]=$L$2,ROW(Tabela.abordagens[Idade])-2),ROW(A540)),4)","v":{"$error":"#NUM!"}},{"$f":"INDEX(Tabela.abordagens[],SMALL(IF(Tabela.abordagens[Mês]=$L$2,ROW(Tabela.abordagens[Idade])-2),ROW(A540)),5)","v":{"$error":"#NUM!"}}]
[null,{"$f":"INDEX(Tabela.frequencia[],SMALL(IF(Tabela.frequencia[Mês]=$L$2,ROW(Tabela.frequencia[id])-1),ROW(A541)),1)","v":{"$error":"#NUM!"}},{"$f":"INDEX(Tabela.frequencia[],SMALL(IF(Tabela.frequencia[Mês]=$L$2,ROW(Tabela.frequencia[id])-1),ROW(A541)),4)","v":{"$error":"#NUM!"}},null,{"$f":"IFERROR(VLOOKUP(D588,Tabela.cadastro[[ID]:[Nome]],2,0),\"\")","v":""},{"$f":"IFERROR(VLOOKUP(D588,Tabela66[#All],2,0),\"\")","v":""},{"$f":"IFERROR(VLOOKUP(D588,Tabela.cadastro[[ID]:[CP ou M]],5,0),\"\")","v":""},{"$f":"IFERROR(VLOOKUP(D588,Cadastros!A:F,6,0),\"\")","v":""},{"$f":"IFERROR(VLOOKUP(D588,Cadastros!A:I,9,0),\"\")","v":""},{"$f":"IFERROR(VLOOKUP(D588,Cadastros!A:J,10,0),\"\")","v":""},{"$f":"IF(COUNTIF(Tabela66[id],D588)=0,\"\",COUNTIF(Tabela66[id],D588))","v":""},null,"",null,null,{"$f":"IFERROR(VLOOKUP(O588,Cadastros!A:B,2),\"\")","v":""},"",{"$f":"IFERROR(VLOOKUP(O588,Cadastros!A:E,5,0),\"\")","v":""},{"$f":"IFERROR(VLOOKUP(O588,Cadastros!A:F,6,0),\"\")","v":""},{"$f":"IFERROR(VLOOKUP(O588,Cadastros!A:I,9,0),\"\")","v":""},"","","",null,{"$f":"INDEX(Tabela.abordagens[],SMALL(IF(Tabela.abordagens[Mês]=$L$2,ROW(Tabela.abordagens[id])-2),ROW(A541)),1)","v":{"$error":"#NUM!"}},{"$f":"INDEX(Tabela.abordagens[],SMALL(IF(Tabela.abordagens[Mês]=$L$2,ROW(Tabela.abordagens[Idade])-2),ROW(A541)),6)","v":{"$error":"#NUM!"}},{"$f":"INDEX(Tabela.abordagens[],SMALL(IF(Tabela.abordagens[Mês]=$L$2,ROW(Tabela.abordagens[Idade])-2),ROW(A541)),4)","v":{"$error":"#NUM!"}},{"$f":"INDEX(Tabela.abordagens[],SMALL(IF(Tabela.abordagens[Mês]=$L$2,ROW(Tabela.abordagens[Idade])-2),ROW(A541)),5)","v":{"$error":"#NUM!"}}]
[null,{"$f":"INDEX(Tabela.frequencia[],SMALL(IF(Tabela.frequencia[Mês]=$L$2,ROW(Tabela.frequencia[id])-1),ROW(A542)),1)","v":{"$error":"#NUM!"}},{"$f":"INDEX(Tabela.frequencia[],SMALL(IF(Tabela.frequencia[Mês]=$L$2,ROW(Tabela.frequencia[id])-1),ROW(A542)),4)","v":{"$error":"#NUM!"}},null,{"$f":"IFERROR(VLOOKUP(D589,Tabela.cadastro[[ID]:[Nome]],2,0),\"\")","v":""},{"$f":"IFERROR(VLOOKUP(D589,Tabela66[#All],2,0),\"\")","v":""},{"$f":"IFERROR(VLOOKUP(D589,Tabela.cadastro[[ID]:[CP ou M]],5,0),\"\")","v":""},{"$f":"IFERROR(VLOOKUP(D589,Cadastros!A:F,6,0),\"\")","v":""},{"$f":"IFERROR(VLOOKUP(D589,Cadastros!A:I,9,0),\"\")","v":""},{"$f":"IFERROR(VLOOKUP(D589,Cadastros!A:J,10,0),\"\")","v":""},{"$f":"IF(COUNTIF(Tabela66[id],D589)=0,\"\",COUNTIF(Tabela66[id],D589))","v":""},null,"",null,null,{"$f":"IFERROR(VLOOKUP(O589,Cadastros!A:B,2),\"\")","v":""},"",{"$f":"IFERROR(VLOOKUP(O589,Cadastros!A:E,5,0),\"\")","v":""},{"$f":"IFERROR(VLOOKUP(O589,Cadastros!A:F,6,0),\"\")","v":""},{"$f":"IFERROR(VLOOKUP(O589,Cadastros!A:I,9,0),\"\")","v":""},"","","",null,{"$f":"INDEX(Tabela.abordagens[],SMALL(IF(Tabela.abordagens[Mês]=$L$2,ROW(Tabela.abordagens[id])-2),ROW(A542)),1)","v":{"$error":"#NUM!"}},{"$f":"INDEX(Tabela.abordagens[],SMALL(IF(Tabela.abordagens[Mês]=$L$2,ROW(Tabela.abordagens[Idade])-2),ROW(A542)),6)","v":{"$error":"#NUM!"}},{"$f":"INDEX(Tabela.abordagens[],SMALL(IF(Tabela.abordagens[Mês]=$L$2,ROW(Tabela.abordagens[Idade])-2),ROW(A542)),4)","v":{"$error":"#NUM!"}},{"$f":"INDEX(Tabela.abordagens[],SMALL(IF(Tabela.abordagens[Mês]=$L$2,ROW(Tabela.abordagens[Idade])-2),ROW(A542)),5)","v":{"$error":"#NUM!"}}]
[null,{"$f":"INDEX(Tabela.frequencia[],SMALL(IF(Tabela.frequencia[Mês]=$L$2,ROW(Tabela.frequencia[id])-1),ROW(A543)),1)","v":{"$error":"#NUM!"}},{"$f":"INDEX(Tabela.frequencia[],SMALL(IF(Tabela.frequencia[Mês]=$L$2,ROW(Tabela.frequencia[id])-1),ROW(A543)),4)","v":{"$error":"#NUM!"}},null,{"$f":"IFERROR(VLOOKUP(D590,Tabela.cadastro[[ID]:[Nome]],2,0),\"\")","v":""},{"$f":"IFERROR(VLOOKUP(D590,Tabela66[#All],2,0),\"\")","v":""},{"$f":"IFERROR(VLOOKUP(D590,Tabela.cadastro[[ID]:[CP ou M]],5,0),\"\")","v":""},{"$f":"IFERROR(VLOOKUP(D590,Cadastros!A:F,6,0),\"\")","v":""},{"$f":"IFERROR(VLOOKUP(D590,Cadastros!A:I,9,0),\"\")","v":""},{"$f":"IFERROR(VLOOKUP(D590,Cadastros!A:J,10,0),\"\")","v":""},{"$f":"IF(COUNTIF(Tabela66[id],D590)=0,\"\",COUNTIF(Tabela66[id],D590))","v":""},null,"",null,null,{"$f":"IFERROR(VLOOKUP(O590,Cadastros!A:B,2),\"\")","v":""},"",{"$f":"IFERROR(VLOOKUP(O590,Cadastros!A:E,5,0),\"\")","v":""},{"$f":"IFERROR(VLOOKUP(O590,Cadastros!A:F,6,0),\"\")","v":""},{"$f":"IFERROR(VLOOKUP(O590,Cadastros!A:I,9,0),\"\")","v":""},"","","",null,{"$f":"INDEX(Tabela.abordagens[],SMALL(IF(Tabela.abordagens[Mês]=$L$2,ROW(Tabela.abordagens[id])-2),ROW(A543)),1)","v":{"$error":"#NUM!"}},{"$f":"INDEX(Tabela.abordagens[],SMALL(IF(Tabela.abordagens[Mês]=$L$2,ROW(Tabela.abordagens[Idade])-2),ROW(A543)),6)","v":{"$error":"#NUM!"}},{"$f":"INDEX(Tabela.abordagens[],SMALL(IF(Tabela.abordagens[Mês]=$L$2,ROW(Tabela.abordagens[Idade])-2),ROW(A543)),4)","v":{"$error":"#NUM!"}},{"$f":"INDEX(Tabela.abordagens[],SMALL(IF(Tabela.abordagens[Mês]=$L$2,ROW(Tabela.abordagens[Idade])-2),ROW(A543)),5)","v":{"$error":"#NUM!"}}]
[null,{"$f":"INDEX(Tabela.frequencia[],SMALL(IF(Tabela.frequencia[Mês]=$L$2,ROW(Tabela.frequencia[id])-1),ROW(A544)),1)","v":{"$error":"#NUM!"}},{"$f":"INDEX(Tabela.frequencia[],SMALL(IF(Tabela.frequencia[Mês]=$L$2,ROW(Tabela.frequencia[id])-1),ROW(A544)),4)","v":{"$error":"#NUM!"}},null,{"$f":"IFERROR(VLOOKUP(D591,Tabela.cadastro[[ID]:[Nome]],2,0),\"\")","v":""},{"$f":"IFERROR(VLOOKUP(D591,Tabela66[#All],2,0),\"\")","v":""},{"$f":"IFERROR(VLOOKUP(D591,Tabela.cadastro[[ID]:[CP ou M]],5,0),\"\")","v":""},{"$f":"IFERROR(VLOOKUP(D591,Cadastros!A:F,6,0),\"\")","v":""},{"$f":"IFERROR(VLOOKUP(D591,Cadastros!A:I,9,0),\"\")","v":""},{"$f":"IFERROR(VLOOKUP(D591,Cadastros!A:J,10,0),\"\")","v":""},{"$f":"IF(COUNTIF(Tabela66[id],D591)=0,\"\",COUNTIF(Tabela66[id],D591))","v":""},null,"",null,null,{"$f":"IFERROR(VLOOKUP(O591,Cadastros!A:B,2),\"\")","v":""},"",{"$f":"IFERROR(VLOOKUP(O591,Cadastros!A:E,5,0),\"\")","v":""},{"$f":"IFERROR(VLOOKUP(O591,Cadastros!A:F,6,0),\"\")","v":""},{"$f":"IFERROR(VLOOKUP(O591,Cadastros!A:I,9,0),\"\")","v":""},"","","",null,{"$f":"INDEX(Tabela.abordagens[],SMALL(IF(Tabela.abordagens[Mês]=$L$2,ROW(Tabela.abordagens[id])-2),ROW(A544)),1)","v":{"$error":"#NUM!"}},{"$f":"INDEX(Tabela.abordagens[],SMALL(IF(Tabela.abordagens[Mês]=$L$2,ROW(Tabela.abordagens[Idade])-2),ROW(A544)),6)","v":{"$error":"#NUM!"}},{"$f":"INDEX(Tabela.abordagens[],SMALL(IF(Tabela.abordagens[Mês]=$L$2,ROW(Tabela.abordagens[Idade])-2),ROW(A544)),4)","v":{"$error":"#NUM!"}},{"$f":"INDEX(Tabela.abordagens[],SMALL(IF(Tabela.abordagens[Mês]=$L$2,ROW(Tabela.abordagens[Idade])-2),ROW(A544)),5)","v":{"$error":"#NUM!"}}]
[null,{"$f":"INDEX(Tabela.frequencia[],SMALL(IF(Tabela.frequencia[Mês]=$L$2,ROW(Tabela.frequencia[id])-1),ROW(A545)),1)","v":{"$error":"#NUM!"}},{"$f":"INDEX(Tabela.frequencia[],SMALL(IF(Tabela.frequencia[Mês]=$L$2,ROW(Tabela.frequencia[id])-1),ROW(A545)),4)","v":{"$error":"#NUM!"}},null,{"$f":"IFERROR(VLOOKUP(D592,Tabela.cadastro[[ID]:[Nome]],2,0),\"\")","v":""},{"$f":"IFERROR(VLOOKUP(D592,Tabela66[#All],2,0),\"\")","v":""},{"$f":"IFERROR(VLOOKUP(D592,Tabela.cadastro[[ID]:[CP ou M]],5,0),\"\")","v":""},{"$f":"IFERROR(VLOOKUP(D592,Cadastros!A:F,6,0),\"\")","v":""},{"$f":"IFERROR(VLOOKUP(D592,Cadastros!A:I,9,0),\"\")","v":""},{"$f":"IFERROR(VLOOKUP(D592,Cadastros!A:J,10,0),\"\")","v":""},{"$f":"IF(COUNTIF(Tabela66[id],D592)=0,\"\",COUNTIF(Tabela66[id],D592))","v":""},null,"",null,null,{"$f":"IFERROR(VLOOKUP(O592,Cadastros!A:B,2),\"\")","v":""},"",{"$f":"IFERROR(VLOOKUP(O592,Cadastros!A:E,5,0),\"\")","v":""},{"$f":"IFERROR(VLOOKUP(O592,Cadastros!A:F,6,0),\"\")","v":""},{"$f":"IFERROR(VLOOKUP(O592,Cadastros!A:I,9,0),\"\")","v":""},"","","",null,{"$f":"INDEX(Tabela.abordagens[],SMALL(IF(Tabela.abordagens[Mês]=$L$2,ROW(Tabela.abordagens[id])-2),ROW(A545)),1)","v":{"$error":"#NUM!"}},{"$f":"INDEX(Tabela.abordagens[],SMALL(IF(Tabela.abordagens[Mês]=$L$2,ROW(Tabela.abordagens[Idade])-2),ROW(A545)),6)","v":{"$error":"#NUM!"}},{"$f":"INDEX(Tabela.abordagens[],SMALL(IF(Tabela.abordagens[Mês]=$L$2,ROW(Tabela.abordagens[Idade])-2),ROW(A545)),4)","v":{"$error":"#NUM!"}},{"$f":"INDEX(Tabela.abordagens[],SMALL(IF(Tabela.abordagens[Mês]=$L$2,ROW(Tabela.abordagens[Idade])-2),ROW(A545)),5)","v":{"$error":"#NUM!"}}]
[null,{"$f":"INDEX(Tabela.frequencia[],SMALL(IF(Tabela.frequencia[Mês]=$L$2,ROW(Tabela.frequencia[id])-1),ROW(A546)),1)","v":{"$error":"#NUM!"}},{"$f":"INDEX(Tabela.frequencia[],SMALL(IF(Tabela.frequencia[Mês]=$L$2,ROW(Tabela.frequencia[id])-1),ROW(A546)),4)","v":{"$error":"#NUM!"}},null,{"$f":"IFERROR(VLOOKUP(D593,Tabela.cadastro[[ID]:[Nome]],2,0),\"\")","v":""},{"$f":"IFERROR(VLOOKUP(D593,Tabela66[#All],2,0),\"\")","v":""},{"$f":"IFERROR(VLOOKUP(D593,Tabela.cadastro[[ID]:[CP ou M]],5,0),\"\")","v":""},{"$f":"IFERROR(VLOOKUP(D593,Cadastros!A:F,6,0),\"\")","v":""},{"$f":"IFERROR(VLOOKUP(D593,Cadastros!A:I,9,0),\"\")","v":""},{"$f":"IFERROR(VLOOKUP(D593,Cadastros!A:J,10,0),\"\")","v":""},{"$f":"IF(COUNTIF(Tabela66[id],D593)=0,\"\",COUNTIF(Tabela66[id],D593))","v":""},null,"",null,null,{"$f":"IFERROR(VLOOKUP(O593,Cadastros!A:B,2),\"\")","v":""},"",{"$f":"IFERROR(VLOOKUP(O593,Cadastros!A:E,5,0),\"\")","v":""},{"$f":"IFERROR(VLOOKUP(O593,Cadastros!A:F,6,0),\"\")","v":""},{"$f":"IFERROR(VLOOKUP(O593,Cadastros!A:I,9,0),\"\")","v":""},"","","",null,{"$f":"INDEX(Tabela.abordagens[],SMALL(IF(Tabela.abordagens[Mês]=$L$2,ROW(Tabela.abordagens[id])-2),ROW(A546)),1)","v":{"$error":"#NUM!"}},{"$f":"INDEX(Tabela.abordagens[],SMALL(IF(Tabela.abordagens[Mês]=$L$2,ROW(Tabela.abordagens[Idade])-2),ROW(A546)),6)","v":{"$error":"#NUM!"}},{"$f":"INDEX(Tabela.abordagens[],SMALL(IF(Tabela.abordagens[Mês]=$L$2,ROW(Tabela.abordagens[Idade])-2),ROW(A546)),4)","v":{"$error":"#NUM!"}},{"$f":"INDEX(Tabela.abordagens[],SMALL(IF(Tabela.abordagens[Mês]=$L$2,ROW(Tabela.abordagens[Idade])-2),ROW(A546)),5)","v":{"$error":"#NUM!"}}]
[null,{"$f":"INDEX(Tabela.frequencia[],SMALL(IF(Tabela.frequencia[Mês]=$L$2,ROW(Tabela.frequencia[id])-1),ROW(A547)),1)","v":{"$error":"#NUM!"}},{"$f":"INDEX(Tabela.frequencia[],SMALL(IF(Tabela.frequencia[Mês]=$L$2,ROW(Tabela.frequencia[id])-1),ROW(A547)),4)","v":{"$error":"#NUM!"}},null,{"$f":"IFERROR(VLOOKUP(D594,Tabela.cadastro[[ID]:[Nome]],2,0),\"\")","v":""},{"$f":"IFERROR(VLOOKUP(D594,Tabela66[#All],2,0),\"\")","v":""},{"$f":"IFERROR(VLOOKUP(D594,Tabela.cadastro[[ID]:[CP ou M]],5,0),\"\")","v":""},{"$f":"IFERROR(VLOOKUP(D594,Cadastros!A:F,6,0),\"\")","v":""},{"$f":"IFERROR(VLOOKUP(D594,Cadastros!A:I,9,0),\"\")","v":""},{"$f":"IFERROR(VLOOKUP(D594,Cadastros!A:J,10,0),\"\")","v":""},{"$f":"IF(COUNTIF(Tabela66[id],D594)=0,\"\",COUNTIF(Tabela66[id],D594))","v":""},null,"",null,null,{"$f":"IFERROR(VLOOKUP(O594,Cadastros!A:B,2),\"\")","v":""},"",{"$f":"IFERROR(VLOOKUP(O594,Cadastros!A:E,5,0),\"\")","v":""},{"$f":"IFERROR(VLOOKUP(O594,Cadastros!A:F,6,0),\"\")","v":""},{"$f":"IFERROR(VLOOKUP(O594,Cadastros!A:I,9,0),\"\")","v":""},"","","",null,{"$f":"INDEX(Tabela.abordagens[],SMALL(IF(Tabela.abordagens[Mês]=$L$2,ROW(Tabela.abordagens[id])-2),ROW(A547)),1)","v":{"$error":"#NUM!"}},{"$f":"INDEX(Tabela.abordagens[],SMALL(IF(Tabela.abordagens[Mês]=$L$2,ROW(Tabela.abordagens[Idade])-2),ROW(A547)),6)","v":{"$error":"#NUM!"}},{"$f":"INDEX(Tabela.abordagens[],SMALL(IF(Tabela.abordagens[Mês]=$L$2,ROW(Tabela.abordagens[Idade])-2),ROW(A547)),4)","v":{"$error":"#NUM!"}},{"$f":"INDEX(Tabela.abordagens[],SMALL(IF(Tabela.abordagens[Mês]=$L$2,ROW(Tabela.abordagens[Idade])-2),ROW(A547)),5)","v":{"$error":"#NUM!"}}]
[null,{"$f":"INDEX(Tabela.frequencia[],SMALL(IF(Tabela.frequencia[Mês]=$L$2,ROW(Tabela.frequencia[id])-1),ROW(A548)),1)","v":{"$error":"#NUM!"}},{"$f":"INDEX(Tabela.frequencia[],SMALL(IF(Tabela.frequencia[Mês]=$L$2,ROW(Tabela.frequencia[id])-1),ROW(A548)),4)","v":{"$error":"#NUM!"}},null,{"$f":"IFERROR(VLOOKUP(D595,Tabela.cadastro[[ID]:[Nome]],2,0),\"\")","v":""},{"$f":"IFERROR(VLOOKUP(D595,Tabela66[#All],2,0),\"\")","v":""},{"$f":"IFERROR(VLOOKUP(D595,Tabela.cadastro[[ID]:[CP ou M]],5,0),\"\")","v":""},{"$f":"IFERROR(VLOOKUP(D595,Cadastros!A:F,6,0),\"\")","v":""},{"$f":"IFERROR(VLOOKUP(D595,Cadastros!A:I,9,0),\"\")","v":""},{"$f":"IFERROR(VLOOKUP(D595,Cadastros!A:J,10,0),\"\")","v":""},{"$f":"IF(COUNTIF(Tabela66[id],D595)=0,\"\",COUNTIF(Tabela66[id],D595))","v":""},null,"",null,null,{"$f":"IFERROR(VLOOKUP(O595,Cadastros!A:B,2),\"\")","v":""},"",{"$f":"IFERROR(VLOOKUP(O595,Cadastros!A:E,5,0),\"\")","v":""},{"$f":"IFERROR(VLOOKUP(O595,Cadastros!A:F,6,0),\"\")","v":""},{"$f":"IFERROR(VLOOKUP(O595,Cadastros!A:I,9,0),\"\")","v":""},"","","",null,{"$f":"INDEX(Tabela.abordagens[],SMALL(IF(Tabela.abordagens[Mês]=$L$2,ROW(Tabela.abordagens[id])-2),ROW(A548)),1)","v":{"$error":"#NUM!"}},{"$f":"INDEX(Tabela.abordagens[],SMALL(IF(Tabela.abordagens[Mês]=$L$2,ROW(Tabela.abordagens[Idade])-2),ROW(A548)),6)","v":{"$error":"#NUM!"}},{"$f":"INDEX(Tabela.abordagens[],SMALL(IF(Tabela.abordagens[Mês]=$L$2,ROW(Tabela.abordagens[Idade])-2),ROW(A548)),4)","v":{"$error":"#NUM!"}},{"$f":"INDEX(Tabela.abordagens[],SMALL(IF(Tabela.abordagens[Mês]=$L$2,ROW(Tabela.abordagens[Idade])-2),ROW(A548)),5)","v":{"$error":"#NUM!"}}]
[null,{"$f":"INDEX(Tabela.frequencia[],SMALL(IF(Tabela.frequencia[Mês]=$L$2,ROW(Tabela.frequencia[id])-1),ROW(A549)),1)","v":{"$error":"#NUM!"}},{"$f":"INDEX(Tabela.frequencia[],SMALL(IF(Tabela.frequencia[Mês]=$L$2,ROW(Tabela.frequencia[id])-1),ROW(A549)),4)","v":{"$error":"#NUM!"}},null,{"$f":"IFERROR(VLOOKUP(D596,Tabela.cadastro[[ID]:[Nome]],2,0),\"\")","v":""},{"$f":"IFERROR(VLOOKUP(D596,Tabela66[#All],2,0),\"\")","v":""},{"$f":"IFERROR(VLOOKUP(D596,Tabela.cadastro[[ID]:[CP ou M]],5,0),\"\")","v":""},{"$f":"IFERROR(VLOOKUP(D596,Cadastros!A:F,6,0),\"\")","v":""},{"$f":"IFERROR(VLOOKUP(D596,Cadastros!A:I,9,0),\"\")","v":""},{"$f":"IFERROR(VLOOKUP(D596,Cadastros!A:J,10,0),\"\")","v":""},{"$f":"IF(COUNTIF(Tabela66[id],D596)=0,\"\",COUNTIF(Tabela66[id],D596))","v":""},null,"",null,null,{"$f":"IFERROR(VLOOKUP(O596,Cadastros!A:B,2),\"\")","v":""},"",{"$f":"IFERROR(VLOOKUP(O596,Cadastros!A:E,5,0),\"\")","v":""},{"$f":"IFERROR(VLOOKUP(O596,Cadastros!A:F,6,0),\"\")","v":""},{"$f":"IFERROR(VLOOKUP(O596,Cadastros!A:I,9,0),\"\")","v":""},"","","",null,{"$f":"INDEX(Tabela.abordagens[],SMALL(IF(Tabela.abordagens[Mês]=$L$2,ROW(Tabela.abordagens[id])-2),ROW(A549)),1)","v":{"$error":"#NUM!"}},{"$f":"INDEX(Tabela.abordagens[],SMALL(IF(Tabela.abordagens[Mês]=$L$2,ROW(Tabela.abordagens[Idade])-2),ROW(A549)),6)","v":{"$error":"#NUM!"}},{"$f":"INDEX(Tabela.abordagens[],SMALL(IF(Tabela.abordagens[Mês]=$L$2,ROW(Tabela.abordagens[Idade])-2),ROW(A549)),4)","v":{"$error":"#NUM!"}},{"$f":"INDEX(Tabela.abordagens[],SMALL(IF(Tabela.abordagens[Mês]=$L$2,ROW(Tabela.abordagens[Idade])-2),ROW(A549)),5)","v":{"$error":"#NUM!"}}]
[null,{"$f":"INDEX(Tabela.frequencia[],SMALL(IF(Tabela.frequencia[Mês]=$L$2,ROW(Tabela.frequencia[id])-1),ROW(A550)),1)","v":{"$error":"#NUM!"}},{"$f":"INDEX(Tabela.frequencia[],SMALL(IF(Tabela.frequencia[Mês]=$L$2,ROW(Tabela.frequencia[id])-1),ROW(A550)),4)","v":{"$error":"#NUM!"}},null,{"$f":"IFERROR(VLOOKUP(D597,Tabela.cadastro[[ID]:[Nome]],2,0),\"\")","v":""},{"$f":"IFERROR(VLOOKUP(D597,Tabela66[#All],2,0),\"\")","v":""},{"$f":"IFERROR(VLOOKUP(D597,Tabela.cadastro[[ID]:[CP ou M]],5,0),\"\")","v":""},{"$f":"IFERROR(VLOOKUP(D597,Cadastros!A:F,6,0),\"\")","v":""},{"$f":"IFERROR(VLOOKUP(D597,Cadastros!A:I,9,0),\"\")","v":""},{"$f":"IFERROR(VLOOKUP(D597,Cadastros!A:J,10,0),\"\")","v":""},{"$f":"IF(COUNTIF(Tabela66[id],D597)=0,\"\",COUNTIF(Tabela66[id],D597))","v":""},null,"",null,null,{"$f":"IFERROR(VLOOKUP(O597,Cadastros!A:B,2),\"\")","v":""},"",{"$f":"IFERROR(VLOOKUP(O597,Cadastros!A:E,5,0),\"\")","v":""},{"$f":"IFERROR(VLOOKUP(O597,Cadastros!A:F,6,0),\"\")","v":""},{"$f":"IFERROR(VLOOKUP(O597,Cadastros!A:I,9,0),\"\")","v":""},"","","",null,{"$f":"INDEX(Tabela.abordagens[],SMALL(IF(Tabela.abordagens[Mês]=$L$2,ROW(Tabela.abordagens[id])-2),ROW(A550)),1)","v":{"$error":"#NUM!"}},{"$f":"INDEX(Tabela.abordagens[],SMALL(IF(Tabela.abordagens[Mês]=$L$2,ROW(Tabela.abordagens[Idade])-2),ROW(A550)),6)","v":{"$error":"#NUM!"}},{"$f":"INDEX(Tabela.abordagens[],SMALL(IF(Tabela.abordagens[Mês]=$L$2,ROW(Tabela.abordagens[Idade])-2),ROW(A550)),4)","v":{"$error":"#NUM!"}},{"$f":"INDEX(Tabela.abordagens[],SMALL(IF(Tabela.abordagens[Mês]=$L$2,ROW(Tabela.abordagens[Idade])-2),ROW(A550)),5)","v":{"$error":"#NUM!"}}]
[null,{"$f":"INDEX(Tabela.frequencia[],SMALL(IF(Tabela.frequencia[Mês]=$L$2,ROW(Tabela.frequencia[id])-1),ROW(A551)),1)","v":{"$error":"#NUM!"}},{"$f":"INDEX(Tabela.frequencia[],SMALL(IF(Tabela.frequencia[Mês]=$L$2,ROW(Tabela.frequencia[id])-1),ROW(A551)),4)","v":{"$error":"#NUM!"}},null,{"$f":"IFERROR(VLOOKUP(D598,Tabela.cadastro[[ID]:[Nome]],2,0),\"\")","v":""},{"$f":"IFERROR(VLOOKUP(D598,Tabela66[#All],2,0),\"\")","v":""},{"$f":"IFERROR(VLOOKUP(D598,Tabela.cadastro[[ID]:[CP ou M]],5,0),\"\")","v":""},{"$f":"IFERROR(VLOOKUP(D598,Cadastros!A:F,6,0),\"\")","v":""},{"$f":"IFERROR(VLOOKUP(D598,Cadastros!A:I,9,0),\"\")","v":""},{"$f":"IFERROR(VLOOKUP(D598,Cadastros!A:J,10,0),\"\")","v":""},{"$f":"IF(COUNTIF(Tabela66[id],D598)=0,\"\",COUNTIF(Tabela66[id],D598))","v":""},null,"",null,null,{"$f":"IFERROR(VLOOKUP(O598,Cadastros!A:B,2),\"\")","v":""},"",{"$f":"IFERROR(VLOOKUP(O598,Cadastros!A:E,5,0),\"\")","v":""},{"$f":"IFERROR(VLOOKUP(O598,Cadastros!A:F,6,0),\"\")","v":""},{"$f":"IFERROR(VLOOKUP(O598,Cadastros!A:I,9,0),\"\")","v":""},"","","",null,{"$f":"INDEX(Tabela.abordagens[],SMALL(IF(Tabela.abordagens[Mês]=$L$2,ROW(Tabela.abordagens[id])-2),ROW(A551)),1)","v":{"$error":"#NUM!"}},{"$f":"INDEX(Tabela.abordagens[],SMALL(IF(Tabela.abordagens[Mês]=$L$2,ROW(Tabela.abordagens[Idade])-2),ROW(A551)),6)","v":{"$error":"#NUM!"}},{"$f":"INDEX(Tabela.abordagens[],SMALL(IF(Tabela.abordagens[Mês]=$L$2,ROW(Tabela.abordagens[Idade])-2),ROW(A551)),4)","v":{"$error":"#NUM!"}},{"$f":"INDEX(Tabela.abordagens[],SMALL(IF(Tabela.abordagens[Mês]=$L$2,ROW(Tabela.abordagens[Idade])-2),ROW(A551)),5)","v":{"$error":"#NUM!"}}]
[null,{"$f":"INDEX(Tabela.frequencia[],SMALL(IF(Tabela.frequencia[Mês]=$L$2,ROW(Tabela.frequencia[id])-1),ROW(A552)),1)","v":{"$error":"#NUM!"}},{"$f":"INDEX(Tabela.frequencia[],SMALL(IF(Tabela.frequencia[Mês]=$L$2,ROW(Tabela.frequencia[id])-1),ROW(A552)),4)","v":{"$error":"#NUM!"}},null,{"$f":"IFERROR(VLOOKUP(D599,Tabela.cadastro[[ID]:[Nome]],2,0),\"\")","v":""},{"$f":"IFERROR(VLOOKUP(D599,Tabela66[#All],2,0),\"\")","v":""},{"$f":"IFERROR(VLOOKUP(D599,Tabela.cadastro[[ID]:[CP ou M]],5,0),\"\")","v":""},{"$f":"IFERROR(VLOOKUP(D599,Cadastros!A:F,6,0),\"\")","v":""},{"$f":"IFERROR(VLOOKUP(D599,Cadastros!A:I,9,0),\"\")","v":""},{"$f":"IFERROR(VLOOKUP(D599,Cadastros!A:J,10,0),\"\")","v":""},{"$f":"IF(COUNTIF(Tabela66[id],D599)=0,\"\",COUNTIF(Tabela66[id],D599))","v":""},null,"",null,null,{"$f":"IFERROR(VLOOKUP(O599,Cadastros!A:B,2),\"\")","v":""},"",{"$f":"IFERROR(VLOOKUP(O599,Cadastros!A:E,5,0),\"\")","v":""},{"$f":"IFERROR(VLOOKUP(O599,Cadastros!A:F,6,0),\"\")","v":""},{"$f":"IFERROR(VLOOKUP(O599,Cadastros!A:I,9,0),\"\")","v":""},"","","",null,{"$f":"INDEX(Tabela.abordagens[],SMALL(IF(Tabela.abordagens[Mês]=$L$2,ROW(Tabela.abordagens[id])-2),ROW(A552)),1)","v":{"$error":"#NUM!"}},{"$f":"INDEX(Tabela.abordagens[],SMALL(IF(Tabela.abordagens[Mês]=$L$2,ROW(Tabela.abordagens[Idade])-2),ROW(A552)),6)","v":{"$error":"#NUM!"}},{"$f":"INDEX(Tabela.abordagens[],SMALL(IF(Tabela.abordagens[Mês]=$L$2,ROW(Tabela.abordagens[Idade])-2),ROW(A552)),4)","v":{"$error":"#NUM!"}},{"$f":"INDEX(Tabela.abordagens[],SMALL(IF(Tabela.abordagens[Mês]=$L$2,ROW(Tabela.abordagens[Idade])-2),ROW(A552)),5)","v":{"$error":"#NUM!"}}]
[null,{"$f":"INDEX(Tabela.frequencia[],SMALL(IF(Tabela.frequencia[Mês]=$L$2,ROW(Tabela.frequencia[id])-1),ROW(A553)),1)","v":{"$error":"#NUM!"}},{"$f":"INDEX(Tabela.frequencia[],SMALL(IF(Tabela.frequencia[Mês]=$L$2,ROW(Tabela.frequencia[id])-1),ROW(A553)),4)","v":{"$error":"#NUM!"}},null,{"$f":"IFERROR(VLOOKUP(D600,Tabela.cadastro[[ID]:[Nome]],2,0),\"\")","v":""},{"$f":"IFERROR(VLOOKUP(D600,Tabela66[#All],2,0),\"\")","v":""},{"$f":"IFERROR(VLOOKUP(D600,Tabela.cadastro[[ID]:[CP ou M]],5,0),\"\")","v":""},{"$f":"IFERROR(VLOOKUP(D600,Cadastros!A:F,6,0),\"\")","v":""},{"$f":"IFERROR(VLOOKUP(D600,Cadastros!A:I,9,0),\"\")","v":""},{"$f":"IFERROR(VLOOKUP(D600,Cadastros!A:J,10,0),\"\")","v":""},{"$f":"IF(COUNTIF(Tabela66[id],D600)=0,\"\",COUNTIF(Tabela66[id],D600))","v":""},null,"",null,null,{"$f":"IFERROR(VLOOKUP(O600,Cadastros!A:B,2),\"\")","v":""},"",{"$f":"IFERROR(VLOOKUP(O600,Cadastros!A:E,5,0),\"\")","v":""},{"$f":"IFERROR(VLOOKUP(O600,Cadastros!A:F,6,0),\"\")","v":""},{"$f":"IFERROR(VLOOKUP(O600,Cadastros!A:I,9,0),\"\")","v":""},"","","",null,{"$f":"INDEX(Tabela.abordagens[],SMALL(IF(Tabela.abordagens[Mês]=$L$2,ROW(Tabela.abordagens[id])-2),ROW(A553)),1)","v":{"$error":"#NUM!"}},{"$f":"INDEX(Tabela.abordagens[],SMALL(IF(Tabela.abordagens[Mês]=$L$2,ROW(Tabela.abordagens[Idade])-2),ROW(A553)),6)","v":{"$error":"#NUM!"}},{"$f":"INDEX(Tabela.abordagens[],SMALL(IF(Tabela.abordagens[Mês]=$L$2,ROW(Tabela.abordagens[Idade])-2),ROW(A553)),4)","v":{"$error":"#NUM!"}},{"$f":"INDEX(Tabela.abordagens[],SMALL(IF(Tabela.abordagens[Mês]=$L$2,ROW(Tabela.abordagens[Idade])-2),ROW(A553)),5)","v":{"$error":"#NUM!"}}]
[null,{"$f":"INDEX(Tabela.frequencia[],SMALL(IF(Tabela.frequencia[Mês]=$L$2,ROW(Tabela.frequencia[id])-1),ROW(A554)),1)","v":{"$error":"#NUM!"}},{"$f":"INDEX(Tabela.frequencia[],SMALL(IF(Tabela.frequencia[Mês]=$L$2,ROW(Tabela.frequencia[id])-1),ROW(A554)),4)","v":{"$error":"#NUM!"}},null,{"$f":"IFERROR(VLOOKUP(D601,Tabela.cadastro[[ID]:[Nome]],2,0),\"\")","v":""},{"$f":"IFERROR(VLOOKUP(D601,Tabela66[#All],2,0),\"\")","v":""},{"$f":"IFERROR(VLOOKUP(D601,Tabela.cadastro[[ID]:[CP ou M]],5,0),\"\")","v":""},{"$f":"IFERROR(VLOOKUP(D601,Cadastros!A:F,6,0),\"\")","v":""},{"$f":"IFERROR(VLOOKUP(D601,Cadastros!A:I,9,0),\"\")","v":""},{"$f":"IFERROR(VLOOKUP(D601,Cadastros!A:J,10,0),\"\")","v":""},{"$f":"IF(COUNTIF(Tabela66[id],D601)=0,\"\",COUNTIF(Tabela66[id],D601))","v":""},null,"",null,null,{"$f":"IFERROR(VLOOKUP(O601,Cadastros!A:B,2),\"\")","v":""},"",{"$f":"IFERROR(VLOOKUP(O601,Cadastros!A:E,5,0),\"\")","v":""},{"$f":"IFERROR(VLOOKUP(O601,Cadastros!A:F,6,0),\"\")","v":""},{"$f":"IFERROR(VLOOKUP(O601,Cadastros!A:I,9,0),\"\")","v":""},"","","",null,{"$f":"INDEX(Tabela.abordagens[],SMALL(IF(Tabela.abordagens[Mês]=$L$2,ROW(Tabela.abordagens[id])-2),ROW(A554)),1)","v":{"$error":"#NUM!"}},{"$f":"INDEX(Tabela.abordagens[],SMALL(IF(Tabela.abordagens[Mês]=$L$2,ROW(Tabela.abordagens[Idade])-2),ROW(A554)),6)","v":{"$error":"#NUM!"}},{"$f":"INDEX(Tabela.abordagens[],SMALL(IF(Tabela.abordagens[Mês]=$L$2,ROW(Tabela.abordagens[Idade])-2),ROW(A554)),4)","v":{"$error":"#NUM!"}},{"$f":"INDEX(Tabela.abordagens[],SMALL(IF(Tabela.abordagens[Mês]=$L$2,ROW(Tabela.abordagens[Idade])-2),ROW(A554)),5)","v":{"$error":"#NUM!"}}]
[null,{"$f":"INDEX(Tabela.frequencia[],SMALL(IF(Tabela.frequencia[Mês]=$L$2,ROW(Tabela.frequencia[id])-1),ROW(A555)),1)","v":{"$error":"#NUM!"}},{"$f":"INDEX(Tabela.frequencia[],SMALL(IF(Tabela.frequencia[Mês]=$L$2,ROW(Tabela.frequencia[id])-1),ROW(A555)),4)","v":{"$error":"#NUM!"}},null,{"$f":"IFERROR(VLOOKUP(D602,Tabela.cadastro[[ID]:[Nome]],2,0),\"\")","v":""},{"$f":"IFERROR(VLOOKUP(D602,Tabela66[#All],2,0),\"\")","v":""},{"$f":"IFERROR(VLOOKUP(D602,Tabela.cadastro[[ID]:[CP ou M]],5,0),\"\")","v":""},{"$f":"IFERROR(VLOOKUP(D602,Cadastros!A:F,6,0),\"\")","v":""},{"$f":"IFERROR(VLOOKUP(D602,Cadastros!A:I,9,0),\"\")","v":""},{"$f":"IFERROR(VLOOKUP(D602,Cadastros!A:J,10,0),\"\")","v":""},{"$f":"IF(COUNTIF(Tabela66[id],D602)=0,\"\",COUNTIF(Tabela66[id],D602))","v":""},null,"",null,null,{"$f":"IFERROR(VLOOKUP(O602,Cadastros!A:B,2),\"\")","v":""},"",{"$f":"IFERROR(VLOOKUP(O602,Cadastros!A:E,5,0),\"\")","v":""},{"$f":"IFERROR(VLOOKUP(O602,Cadastros!A:F,6,0),\"\")","v":""},{"$f":"IFERROR(VLOOKUP(O602,Cadastros!A:I,9,0),\"\")","v":""},"","","",null,{"$f":"INDEX(Tabela.abordagens[],SMALL(IF(Tabela.abordagens[Mês]=$L$2,ROW(Tabela.abordagens[id])-2),ROW(A555)),1)","v":{"$error":"#NUM!"}},{"$f":"INDEX(Tabela.abordagens[],SMALL(IF(Tabela.abordagens[Mês]=$L$2,ROW(Tabela.abordagens[Idade])-2),ROW(A555)),6)","v":{"$error":"#NUM!"}},{"$f":"INDEX(Tabela.abordagens[],SMALL(IF(Tabela.abordagens[Mês]=$L$2,ROW(Tabela.abordagens[Idade])-2),ROW(A555)),4)","v":{"$error":"#NUM!"}},{"$f":"INDEX(Tabela.abordagens[],SMALL(IF(Tabela.abordagens[Mês]=$L$2,ROW(Tabela.abordagens[Idade])-2),ROW(A555)),5)","v":{"$error":"#NUM!"}}]
[null,{"$f":"INDEX(Tabela.frequencia[],SMALL(IF(Tabela.frequencia[Mês]=$L$2,ROW(Tabela.frequencia[id])-1),ROW(A556)),1)","v":{"$error":"#NUM!"}},{"$f":"INDEX(Tabela.frequencia[],SMALL(IF(Tabela.frequencia[Mês]=$L$2,ROW(Tabela.frequencia[id])-1),ROW(A556)),4)","v":{"$error":"#NUM!"}},null,{"$f":"IFERROR(VLOOKUP(D603,Tabela.cadastro[[ID]:[Nome]],2,0),\"\")","v":""},{"$f":"IFERROR(VLOOKUP(D603,Tabela66[#All],2,0),\"\")","v":""},{"$f":"IFERROR(VLOOKUP(D603,Tabela.cadastro[[ID]:[CP ou M]],5,0),\"\")","v":""},{"$f":"IFERROR(VLOOKUP(D603,Cadastros!A:F,6,0),\"\")","v":""},{"$f":"IFERROR(VLOOKUP(D603,Cadastros!A:I,9,0),\"\")","v":""},{"$f":"IFERROR(VLOOKUP(D603,Cadastros!A:J,10,0),\"\")","v":""},{"$f":"IF(COUNTIF(Tabela66[id],D603)=0,\"\",COUNTIF(Tabela66[id],D603))","v":""},null,"",null,null,{"$f":"IFERROR(VLOOKUP(O603,Cadastros!A:B,2),\"\")","v":""},"",{"$f":"IFERROR(VLOOKUP(O603,Cadastros!A:E,5,0),\"\")","v":""},{"$f":"IFERROR(VLOOKUP(O603,Cadastros!A:F,6,0),\"\")","v":""},{"$f":"IFERROR(VLOOKUP(O603,Cadastros!A:I,9,0),\"\")","v":""},"","","",null,{"$f":"INDEX(Tabela.abordagens[],SMALL(IF(Tabela.abordagens[Mês]=$L$2,ROW(Tabela.abordagens[id])-2),ROW(A556)),1)","v":{"$error":"#NUM!"}},{"$f":"INDEX(Tabela.abordagens[],SMALL(IF(Tabela.abordagens[Mês]=$L$2,ROW(Tabela.abordagens[Idade])-2),ROW(A556)),6)","v":{"$error":"#NUM!"}},{"$f":"INDEX(Tabela.abordagens[],SMALL(IF(Tabela.abordagens[Mês]=$L$2,ROW(Tabela.abordagens[Idade])-2),ROW(A556)),4)","v":{"$error":"#NUM!"}},{"$f":"INDEX(Tabela.abordagens[],SMALL(IF(Tabela.abordagens[Mês]=$L$2,ROW(Tabela.abordagens[Idade])-2),ROW(A556)),5)","v":{"$error":"#NUM!"}}]
[null,{"$f":"INDEX(Tabela.frequencia[],SMALL(IF(Tabela.frequencia[Mês]=$L$2,ROW(Tabela.frequencia[id])-1),ROW(A557)),1)","v":{"$error":"#NUM!"}},{"$f":"INDEX(Tabela.frequencia[],SMALL(IF(Tabela.frequencia[Mês]=$L$2,ROW(Tabela.frequencia[id])-1),ROW(A557)),4)","v":{"$error":"#NUM!"}},null,{"$f":"IFERROR(VLOOKUP(D604,Tabela.cadastro[[ID]:[Nome]],2,0),\"\")","v":""},{"$f":"IFERROR(VLOOKUP(D604,Tabela66[#All],2,0),\"\")","v":""},{"$f":"IFERROR(VLOOKUP(D604,Tabela.cadastro[[ID]:[CP ou M]],5,0),\"\")","v":""},{"$f":"IFERROR(VLOOKUP(D604,Cadastros!A:F,6,0),\"\")","v":""},{"$f":"IFERROR(VLOOKUP(D604,Cadastros!A:I,9,0),\"\")","v":""},{"$f":"IFERROR(VLOOKUP(D604,Cadastros!A:J,10,0),\"\")","v":""},{"$f":"IF(COUNTIF(Tabela66[id],D604)=0,\"\",COUNTIF(Tabela66[id],D604))","v":""},null,"",null,null,{"$f":"IFERROR(VLOOKUP(O604,Cadastros!A:B,2),\"\")","v":""},"",{"$f":"IFERROR(VLOOKUP(O604,Cadastros!A:E,5,0),\"\")","v":""},{"$f":"IFERROR(VLOOKUP(O604,Cadastros!A:F,6,0),\"\")","v":""},{"$f":"IFERROR(VLOOKUP(O604,Cadastros!A:I,9,0),\"\")","v":""},"","","",null,{"$f":"INDEX(Tabela.abordagens[],SMALL(IF(Tabela.abordagens[Mês]=$L$2,ROW(Tabela.abordagens[id])-2),ROW(A557)),1)","v":{"$error":"#NUM!"}},{"$f":"INDEX(Tabela.abordagens[],SMALL(IF(Tabela.abordagens[Mês]=$L$2,ROW(Tabela.abordagens[Idade])-2),ROW(A557)),6)","v":{"$error":"#NUM!"}},{"$f":"INDEX(Tabela.abordagens[],SMALL(IF(Tabela.abordagens[Mês]=$L$2,ROW(Tabela.abordagens[Idade])-2),ROW(A557)),4)","v":{"$error":"#NUM!"}},{"$f":"INDEX(Tabela.abordagens[],SMALL(IF(Tabela.abordagens[Mês]=$L$2,ROW(Tabela.abordagens[Idade])-2),ROW(A557)),5)","v":{"$error":"#NUM!"}}]
[null,{"$f":"INDEX(Tabela.frequencia[],SMALL(IF(Tabela.frequencia[Mês]=$L$2,ROW(Tabela.frequencia[id])-1),ROW(A558)),1)","v":{"$error":"#NUM!"}},{"$f":"INDEX(Tabela.frequencia[],SMALL(IF(Tabela.frequencia[Mês]=$L$2,ROW(Tabela.frequencia[id])-1),ROW(A558)),4)","v":{"$error":"#NUM!"}},null,{"$f":"IFERROR(VLOOKUP(D605,Tabela.cadastro[[ID]:[Nome]],2,0),\"\")","v":""},{"$f":"IFERROR(VLOOKUP(D605,Tabela66[#All],2,0),\"\")","v":""},{"$f":"IFERROR(VLOOKUP(D605,Tabela.cadastro[[ID]:[CP ou M]],5,0),\"\")","v":""},{"$f":"IFERROR(VLOOKUP(D605,Cadastros!A:F,6,0),\"\")","v":""},{"$f":"IFERROR(VLOOKUP(D605,Cadastros!A:I,9,0),\"\")","v":""},{"$f":"IFERROR(VLOOKUP(D605,Cadastros!A:J,10,0),\"\")","v":""},{"$f":"IF(COUNTIF(Tabela66[id],D605)=0,\"\",COUNTIF(Tabela66[id],D605))","v":""},null,"",null,null,{"$f":"IFERROR(VLOOKUP(O605,Cadastros!A:B,2),\"\")","v":""},"",{"$f":"IFERROR(VLOOKUP(O605,Cadastros!A:E,5,0),\"\")","v":""},{"$f":"IFERROR(VLOOKUP(O605,Cadastros!A:F,6,0),\"\")","v":""},{"$f":"IFERROR(VLOOKUP(O605,Cadastros!A:I,9,0),\"\")","v":""},"","","",null,{"$f":"INDEX(Tabela.abordagens[],SMALL(IF(Tabela.abordagens[Mês]=$L$2,ROW(Tabela.abordagens[id])-2),ROW(A558)),1)","v":{"$error":"#NUM!"}},{"$f":"INDEX(Tabela.abordagens[],SMALL(IF(Tabela.abordagens[Mês]=$L$2,ROW(Tabela.abordagens[Idade])-2),ROW(A558)),6)","v":{"$error":"#NUM!"}},{"$f":"INDEX(Tabela.abordagens[],SMALL(IF(Tabela.abordagens[Mês]=$L$2,ROW(Tabela.abordagens[Idade])-2),ROW(A558)),4)","v":{"$error":"#NUM!"}},{"$f":"INDEX(Tabela.abordagens[],SMALL(IF(Tabela.abordagens[Mês]=$L$2,ROW(Tabela.abordagens[Idade])-2),ROW(A558)),5)","v":{"$error":"#NUM!"}}]
[null,{"$f":"INDEX(Tabela.frequencia[],SMALL(IF(Tabela.frequencia[Mês]=$L$2,ROW(Tabela.frequencia[id])-1),ROW(A559)),1)","v":{"$error":"#NUM!"}},{"$f":"INDEX(Tabela.frequencia[],SMALL(IF(Tabela.frequencia[Mês]=$L$2,ROW(Tabela.frequencia[id])-1),ROW(A559)),4)","v":{"$error":"#NUM!"}},null,{"$f":"IFERROR(VLOOKUP(D606,Tabela.cadastro[[ID]:[Nome]],2,0),\"\")","v":""},{"$f":"IFERROR(VLOOKUP(D606,Tabela66[#All],2,0),\"\")","v":""},{"$f":"IFERROR(VLOOKUP(D606,Tabela.cadastro[[ID]:[CP ou M]],5,0),\"\")","v":""},{"$f":"IFERROR(VLOOKUP(D606,Cadastros!A:F,6,0),\"\")","v":""},{"$f":"IFERROR(VLOOKUP(D606,Cadastros!A:I,9,0),\"\")","v":""},{"$f":"IFERROR(VLOOKUP(D606,Cadastros!A:J,10,0),\"\")","v":""},{"$f":"IF(COUNTIF(Tabela66[id],D606)=0,\"\",COUNTIF(Tabela66[id],D606))","v":""},null,"",null,null,{"$f":"IFERROR(VLOOKUP(O606,Cadastros!A:B,2),\"\")","v":""},"",{"$f":"IFERROR(VLOOKUP(O606,Cadastros!A:E,5,0),\"\")","v":""},{"$f":"IFERROR(VLOOKUP(O606,Cadastros!A:F,6,0),\"\")","v":""},{"$f":"IFERROR(VLOOKUP(O606,Cadastros!A:I,9,0),\"\")","v":""},"","","",null,{"$f":"INDEX(Tabela.abordagens[],SMALL(IF(Tabela.abordagens[Mês]=$L$2,ROW(Tabela.abordagens[id])-2),ROW(A559)),1)","v":{"$error":"#NUM!"}},{"$f":"INDEX(Tabela.abordagens[],SMALL(IF(Tabela.abordagens[Mês]=$L$2,ROW(Tabela.abordagens[Idade])-2),ROW(A559)),6)","v":{"$error":"#NUM!"}},{"$f":"INDEX(Tabela.abordagens[],SMALL(IF(Tabela.abordagens[Mês]=$L$2,ROW(Tabela.abordagens[Idade])-2),ROW(A559)),4)","v":{"$error":"#NUM!"}},{"$f":"INDEX(Tabela.abordagens[],SMALL(IF(Tabela.abordagens[Mês]=$L$2,ROW(Tabela.abordagens[Idade])-2),ROW(A559)),5)","v":{"$error":"#NUM!"}}]
[null,{"$f":"INDEX(Tabela.frequencia[],SMALL(IF(Tabela.frequencia[Mês]=$L$2,ROW(Tabela.frequencia[id])-1),ROW(A560)),1)","v":{"$error":"#NUM!"}},{"$f":"INDEX(Tabela.frequencia[],SMALL(IF(Tabela.frequencia[Mês]=$L$2,ROW(Tabela.frequencia[id])-1),ROW(A560)),4)","v":{"$error":"#NUM!"}},null,{"$f":"IFERROR(VLOOKUP(D607,Tabela.cadastro[[ID]:[Nome]],2,0),\"\")","v":""},{"$f":"IFERROR(VLOOKUP(D607,Tabela66[#All],2,0),\"\")","v":""},{"$f":"IFERROR(VLOOKUP(D607,Tabela.cadastro[[ID]:[CP ou M]],5,0),\"\")","v":""},{"$f":"IFERROR(VLOOKUP(D607,Cadastros!A:F,6,0),\"\")","v":""},{"$f":"IFERROR(VLOOKUP(D607,Cadastros!A:I,9,0),\"\")","v":""},{"$f":"IFERROR(VLOOKUP(D607,Cadastros!A:J,10,0),\"\")","v":""},{"$f":"IF(COUNTIF(Tabela66[id],D607)=0,\"\",COUNTIF(Tabela66[id],D607))","v":""},null,"",null,null,{"$f":"IFERROR(VLOOKUP(O607,Cadastros!A:B,2),\"\")","v":""},"",{"$f":"IFERROR(VLOOKUP(O607,Cadastros!A:E,5,0),\"\")","v":""},{"$f":"IFERROR(VLOOKUP(O607,Cadastros!A:F,6,0),\"\")","v":""},{"$f":"IFERROR(VLOOKUP(O607,Cadastros!A:I,9,0),\"\")","v":""},"","","",null,{"$f":"INDEX(Tabela.abordagens[],SMALL(IF(Tabela.abordagens[Mês]=$L$2,ROW(Tabela.abordagens[id])-2),ROW(A560)),1)","v":{"$error":"#NUM!"}},{"$f":"INDEX(Tabela.abordagens[],SMALL(IF(Tabela.abordagens[Mês]=$L$2,ROW(Tabela.abordagens[Idade])-2),ROW(A560)),6)","v":{"$error":"#NUM!"}},{"$f":"INDEX(Tabela.abordagens[],SMALL(IF(Tabela.abordagens[Mês]=$L$2,ROW(Tabela.abordagens[Idade])-2),ROW(A560)),4)","v":{"$error":"#NUM!"}},{"$f":"INDEX(Tabela.abordagens[],SMALL(IF(Tabela.abordagens[Mês]=$L$2,ROW(Tabela.abordagens[Idade])-2),ROW(A560)),5)","v":{"$error":"#NUM!"}}]
[null,{"$f":"INDEX(Tabela.frequencia[],SMALL(IF(Tabela.frequencia[Mês]=$L$2,ROW(Tabela.frequencia[id])-1),ROW(A561)),1)","v":{"$error":"#NUM!"}},{"$f":"INDEX(Tabela.frequencia[],SMALL(IF(Tabela.frequencia[Mês]=$L$2,ROW(Tabela.frequencia[id])-1),ROW(A561)),4)","v":{"$error":"#NUM!"}},null,{"$f":"IFERROR(VLOOKUP(D608,Tabela.cadastro[[ID]:[Nome]],2,0),\"\")","v":""},{"$f":"IFERROR(VLOOKUP(D608,Tabela66[#All],2,0),\"\")","v":""},{"$f":"IFERROR(VLOOKUP(D608,Tabela.cadastro[[ID]:[CP ou M]],5,0),\"\")","v":""},{"$f":"IFERROR(VLOOKUP(D608,Cadastros!A:F,6,0),\"\")","v":""},{"$f":"IFERROR(VLOOKUP(D608,Cadastros!A:I,9,0),\"\")","v":""},{"$f":"IFERROR(VLOOKUP(D608,Cadastros!A:J,10,0),\"\")","v":""},{"$f":"IF(COUNTIF(Tabela66[id],D608)=0,\"\",COUNTIF(Tabela66[id],D608))","v":""},null,"",null,null,{"$f":"IFERROR(VLOOKUP(O608,Cadastros!A:B,2),\"\")","v":""},"",{"$f":"IFERROR(VLOOKUP(O608,Cadastros!A:E,5,0),\"\")","v":""},{"$f":"IFERROR(VLOOKUP(O608,Cadastros!A:F,6,0),\"\")","v":""},{"$f":"IFERROR(VLOOKUP(O608,Cadastros!A:I,9,0),\"\")","v":""},"","","",null,{"$f":"INDEX(Tabela.abordagens[],SMALL(IF(Tabela.abordagens[Mês]=$L$2,ROW(Tabela.abordagens[id])-2),ROW(A561)),1)","v":{"$error":"#NUM!"}},{"$f":"INDEX(Tabela.abordagens[],SMALL(IF(Tabela.abordagens[Mês]=$L$2,ROW(Tabela.abordagens[Idade])-2),ROW(A561)),6)","v":{"$error":"#NUM!"}},{"$f":"INDEX(Tabela.abordagens[],SMALL(IF(Tabela.abordagens[Mês]=$L$2,ROW(Tabela.abordagens[Idade])-2),ROW(A561)),4)","v":{"$error":"#NUM!"}},{"$f":"INDEX(Tabela.abordagens[],SMALL(IF(Tabela.abordagens[Mês]=$L$2,ROW(Tabela.abordagens[Idade])-2),ROW(A561)),5)","v":{"$error":"#NUM!"}}]
[null,{"$f":"INDEX(Tabela.frequencia[],SMALL(IF(Tabela.frequencia[Mês]=$L$2,ROW(Tabela.frequencia[id])-1),ROW(A562)),1)","v":{"$error":"#NUM!"}},{"$f":"INDEX(Tabela.frequencia[],SMALL(IF(Tabela.frequencia[Mês]=$L$2,ROW(Tabela.frequencia[id])-1),ROW(A562)),4)","v":{"$error":"#NUM!"}},null,{"$f":"IFERROR(VLOOKUP(D609,Tabela.cadastro[[ID]:[Nome]],2,0),\"\")","v":""},{"$f":"IFERROR(VLOOKUP(D609,Tabela66[#All],2,0),\"\")","v":""},{"$f":"IFERROR(VLOOKUP(D609,Tabela.cadastro[[ID]:[CP ou M]],5,0),\"\")","v":""},{"$f":"IFERROR(VLOOKUP(D609,Cadastros!A:F,6,0),\"\")","v":""},{"$f":"IFERROR(VLOOKUP(D609,Cadastros!A:I,9,0),\"\")","v":""},{"$f":"IFERROR(VLOOKUP(D609,Cadastros!A:J,10,0),\"\")","v":""},{"$f":"IF(COUNTIF(Tabela66[id],D609)=0,\"\",COUNTIF(Tabela66[id],D609))","v":""},null,"",null,null,{"$f":"IFERROR(VLOOKUP(O609,Cadastros!A:B,2),\"\")","v":""},"",{"$f":"IFERROR(VLOOKUP(O609,Cadastros!A:E,5,0),\"\")","v":""},{"$f":"IFERROR(VLOOKUP(O609,Cadastros!A:F,6,0),\"\")","v":""},{"$f":"IFERROR(VLOOKUP(O609,Cadastros!A:I,9,0),\"\")","v":""},"","","",null,{"$f":"INDEX(Tabela.abordagens[],SMALL(IF(Tabela.abordagens[Mês]=$L$2,ROW(Tabela.abordagens[id])-2),ROW(A562)),1)","v":{"$error":"#NUM!"}},{"$f":"INDEX(Tabela.abordagens[],SMALL(IF(Tabela.abordagens[Mês]=$L$2,ROW(Tabela.abordagens[Idade])-2),ROW(A562)),6)","v":{"$error":"#NUM!"}},{"$f":"INDEX(Tabela.abordagens[],SMALL(IF(Tabela.abordagens[Mês]=$L$2,ROW(Tabela.abordagens[Idade])-2),ROW(A562)),4)","v":{"$error":"#NUM!"}},{"$f":"INDEX(Tabela.abordagens[],SMALL(IF(Tabela.abordagens[Mês]=$L$2,ROW(Tabela.abordagens[Idade])-2),ROW(A562)),5)","v":{"$error":"#NUM!"}}]
[null,{"$f":"INDEX(Tabela.frequencia[],SMALL(IF(Tabela.frequencia[Mês]=$L$2,ROW(Tabela.frequencia[id])-1),ROW(A563)),1)","v":{"$error":"#NUM!"}},{"$f":"INDEX(Tabela.frequencia[],SMALL(IF(Tabela.frequencia[Mês]=$L$2,ROW(Tabela.frequencia[id])-1),ROW(A563)),4)","v":{"$error":"#NUM!"}},null,{"$f":"IFERROR(VLOOKUP(D610,Tabela.cadastro[[ID]:[Nome]],2,0),\"\")","v":""},{"$f":"IFERROR(VLOOKUP(D610,Tabela66[#All],2,0),\"\")","v":""},{"$f":"IFERROR(VLOOKUP(D610,Tabela.cadastro[[ID]:[CP ou M]],5,0),\"\")","v":""},{"$f":"IFERROR(VLOOKUP(D610,Cadastros!A:F,6,0),\"\")","v":""},{"$f":"IFERROR(VLOOKUP(D610,Cadastros!A:I,9,0),\"\")","v":""},{"$f":"IFERROR(VLOOKUP(D610,Cadastros!A:J,10,0),\"\")","v":""},{"$f":"IF(COUNTIF(Tabela66[id],D610)=0,\"\",COUNTIF(Tabela66[id],D610))","v":""},null,"",null,null,{"$f":"IFERROR(VLOOKUP(O610,Cadastros!A:B,2),\"\")","v":""},{"$f":"IFERROR(VLOOKUP(O610,$Y$33:$Z$866,2,0),\"\")","v":""},{"$f":"IFERROR(VLOOKUP(O610,Cadastros!A:E,5,0),\"\")","v":""},{"$f":"IFERROR(VLOOKUP(O610,Cadastros!A:F,6,0),\"\")","v":""},{"$f":"IFERROR(VLOOKUP(O610,Cadastros!A:I,9,0),\"\")","v":""},{"$f":"IFERROR(VLOOKUP(O610,Y$33:AB$866,3,0),\"\")","v":""},{"$f":"IFERROR(VLOOKUP(O610,Y$33:AB$866,4,0),\"\")","v":""},{"$f":"IF(COUNTIF(Y$33:Y$866,O610)=0,\"\",COUNTIF(Y$33:Y$866,O610))","v":""},null,{"$f":"INDEX(Tabela.abordagens[],SMALL(IF(Tabela.abordagens[Mês]=$L$2,ROW(Tabela.abordagens[id])-2),ROW(A563)),1)","v":{"$error":"#NUM!"}},{"$f":"INDEX(Tabela.abordagens[],SMALL(IF(Tabela.abordagens[Mês]=$L$2,ROW(Tabela.abordagens[Idade])-2),ROW(A563)),6)","v":{"$error":"#NUM!"}},{"$f":"INDEX(Tabela.abordagens[],SMALL(IF(Tabela.abordagens[Mês]=$L$2,ROW(Tabela.abordagens[Idade])-2),ROW(A563)),4)","v":{"$error":"#NUM!"}},{"$f":"INDEX(Tabela.abordagens[],SMALL(IF(Tabela.abordagens[Mês]=$L$2,ROW(Tabela.abordagens[Idade])-2),ROW(A563)),5)","v":{"$error":"#NUM!"}}]
[null,{"$f":"INDEX(Tabela.frequencia[],SMALL(IF(Tabela.frequencia[Mês]=$L$2,ROW(Tabela.frequencia[id])-1),ROW(A564)),1)","v":{"$error":"#NUM!"}},{"$f":"INDEX(Tabela.frequencia[],SMALL(IF(Tabela.frequencia[Mês]=$L$2,ROW(Tabela.frequencia[id])-1),ROW(A564)),4)","v":{"$error":"#NUM!"}},null,{"$f":"IFERROR(VLOOKUP(D611,Tabela.cadastro[[ID]:[Nome]],2,0),\"\")","v":""},{"$f":"IFERROR(VLOOKUP(D611,Tabela66[#All],2,0),\"\")","v":""},{"$f":"IFERROR(VLOOKUP(D611,Tabela.cadastro[[ID]:[CP ou M]],5,0),\"\")","v":""},{"$f":"IFERROR(VLOOKUP(D611,Cadastros!A:F,6,0),\"\")","v":""},{"$f":"IFERROR(VLOOKUP(D611,Cadastros!A:I,9,0),\"\")","v":""},{"$f":"IFERROR(VLOOKUP(D611,Cadastros!A:J,10,0),\"\")","v":""},{"$f":"IF(COUNTIF(Tabela66[id],D611)=0,\"\",COUNTIF(Tabela66[id],D611))","v":""},null,"",null,null,{"$f":"IFERROR(VLOOKUP(O611,Cadastros!A:B,2),\"\")","v":""},"",{"$f":"IFERROR(VLOOKUP(O611,Cadastros!A:E,5,0),\"\")","v":""},{"$f":"IFERROR(VLOOKUP(O611,Cadastros!A:F,6,0),\"\")","v":""},{"$f":"IFERROR(VLOOKUP(O611,Cadastros!A:I,9,0),\"\")","v":""},"","","",null,{"$f":"INDEX(Tabela.abordagens[],SMALL(IF(Tabela.abordagens[Mês]=$L$2,ROW(Tabela.abordagens[id])-2),ROW(A564)),1)","v":{"$error":"#NUM!"}},{"$f":"INDEX(Tabela.abordagens[],SMALL(IF(Tabela.abordagens[Mês]=$L$2,ROW(Tabela.abordagens[Idade])-2),ROW(A564)),6)","v":{"$error":"#NUM!"}},{"$f":"INDEX(Tabela.abordagens[],SMALL(IF(Tabela.abordagens[Mês]=$L$2,ROW(Tabela.abordagens[Idade])-2),ROW(A564)),4)","v":{"$error":"#NUM!"}},{"$f":"INDEX(Tabela.abordagens[],SMALL(IF(Tabela.abordagens[Mês]=$L$2,ROW(Tabela.abordagens[Idade])-2),ROW(A564)),5)","v":{"$error":"#NUM!"}}]
[null,{"$f":"INDEX(Tabela.frequencia[],SMALL(IF(Tabela.frequencia[Mês]=$L$2,ROW(Tabela.frequencia[id])-1),ROW(A565)),1)","v":{"$error":"#NUM!"}},{"$f":"INDEX(Tabela.frequencia[],SMALL(IF(Tabela.frequencia[Mês]=$L$2,ROW(Tabela.frequencia[id])-1),ROW(A565)),4)","v":{"$error":"#NUM!"}},null,{"$f":"IFERROR(VLOOKUP(D612,Tabela.cadastro[[ID]:[Nome]],2,0),\"\")","v":""},{"$f":"IFERROR(VLOOKUP(D612,Tabela66[#All],2,0),\"\")","v":""},{"$f":"IFERROR(VLOOKUP(D612,Tabela.cadastro[[ID]:[CP ou M]],5,0),\"\")","v":""},{"$f":"IFERROR(VLOOKUP(D612,Cadastros!A:F,6,0),\"\")","v":""},{"$f":"IFERROR(VLOOKUP(D612,Cadastros!A:I,9,0),\"\")","v":""},{"$f":"IFERROR(VLOOKUP(D612,Cadastros!A:J,10,0),\"\")","v":""},{"$f":"IF(COUNTIF(Tabela66[id],D612)=0,\"\",COUNTIF(Tabela66[id],D612))","v":""},null,"",null,null,{"$f":"IFERROR(VLOOKUP(O612,Cadastros!A:B,2),\"\")","v":""},"",{"$f":"IFERROR(VLOOKUP(O612,Cadastros!A:E,5,0),\"\")","v":""},{"$f":"IFERROR(VLOOKUP(O612,Cadastros!A:F,6,0),\"\")","v":""},{"$f":"IFERROR(VLOOKUP(O612,Cadastros!A:I,9,0),\"\")","v":""},"","","",null,{"$f":"INDEX(Tabela.abordagens[],SMALL(IF(Tabela.abordagens[Mês]=$L$2,ROW(Tabela.abordagens[id])-2),ROW(A565)),1)","v":{"$error":"#NUM!"}},{"$f":"INDEX(Tabela.abordagens[],SMALL(IF(Tabela.abordagens[Mês]=$L$2,ROW(Tabela.abordagens[Idade])-2),ROW(A565)),6)","v":{"$error":"#NUM!"}},{"$f":"INDEX(Tabela.abordagens[],SMALL(IF(Tabela.abordagens[Mês]=$L$2,ROW(Tabela.abordagens[Idade])-2),ROW(A565)),4)","v":{"$error":"#NUM!"}},{"$f":"INDEX(Tabela.abordagens[],SMALL(IF(Tabela.abordagens[Mês]=$L$2,ROW(Tabela.abordagens[Idade])-2),ROW(A565)),5)","v":{"$error":"#NUM!"}}]
[null,{"$f":"INDEX(Tabela.frequencia[],SMALL(IF(Tabela.frequencia[Mês]=$L$2,ROW(Tabela.frequencia[id])-1),ROW(A566)),1)","v":{"$error":"#NUM!"}},{"$f":"INDEX(Tabela.frequencia[],SMALL(IF(Tabela.frequencia[Mês]=$L$2,ROW(Tabela.frequencia[id])-1),ROW(A566)),4)","v":{"$error":"#NUM!"}},null,{"$f":"IFERROR(VLOOKUP(D613,Tabela.cadastro[[ID]:[Nome]],2,0),\"\")","v":""},{"$f":"IFERROR(VLOOKUP(D613,Tabela66[#All],2,0),\"\")","v":""},{"$f":"IFERROR(VLOOKUP(D613,Tabela.cadastro[[ID]:[CP ou M]],5,0),\"\")","v":""},{"$f":"IFERROR(VLOOKUP(D613,Cadastros!A:F,6,0),\"\")","v":""},{"$f":"IFERROR(VLOOKUP(D613,Cadastros!A:I,9,0),\"\")","v":""},{"$f":"IFERROR(VLOOKUP(D613,Cadastros!A:J,10,0),\"\")","v":""},{"$f":"IF(COUNTIF(Tabela66[id],D613)=0,\"\",COUNTIF(Tabela66[id],D613))","v":""},null,"",null,null,{"$f":"IFERROR(VLOOKUP(O613,Cadastros!A:B,2),\"\")","v":""},"",{"$f":"IFERROR(VLOOKUP(O613,Cadastros!A:E,5,0),\"\")","v":""},{"$f":"IFERROR(VLOOKUP(O613,Cadastros!A:F,6,0),\"\")","v":""},{"$f":"IFERROR(VLOOKUP(O613,Cadastros!A:I,9,0),\"\")","v":""},"","","",null,{"$f":"INDEX(Tabela.abordagens[],SMALL(IF(Tabela.abordagens[Mês]=$L$2,ROW(Tabela.abordagens[id])-2),ROW(A566)),1)","v":{"$error":"#NUM!"}},{"$f":"INDEX(Tabela.abordagens[],SMALL(IF(Tabela.abordagens[Mês]=$L$2,ROW(Tabela.abordagens[Idade])-2),ROW(A566)),6)","v":{"$error":"#NUM!"}},{"$f":"INDEX(Tabela.abordagens[],SMALL(IF(Tabela.abordagens[Mês]=$L$2,ROW(Tabela.abordagens[Idade])-2),ROW(A566)),4)","v":{"$error":"#NUM!"}},{"$f":"INDEX(Tabela.abordagens[],SMALL(IF(Tabela.abordagens[Mês]=$L$2,ROW(Tabela.abordagens[Idade])-2),ROW(A566)),5)","v":{"$error":"#NUM!"}}]
[null,{"$f":"INDEX(Tabela.frequencia[],SMALL(IF(Tabela.frequencia[Mês]=$L$2,ROW(Tabela.frequencia[id])-1),ROW(A567)),1)","v":{"$error":"#NUM!"}},{"$f":"INDEX(Tabela.frequencia[],SMALL(IF(Tabela.frequencia[Mês]=$L$2,ROW(Tabela.frequencia[id])-1),ROW(A567)),4)","v":{"$error":"#NUM!"}},null,{"$f":"IFERROR(VLOOKUP(D614,Tabela.cadastro[[ID]:[Nome]],2,0),\"\")","v":""},{"$f":"IFERROR(VLOOKUP(D614,Tabela66[#All],2,0),\"\")","v":""},{"$f":"IFERROR(VLOOKUP(D614,Tabela.cadastro[[ID]:[CP ou M]],5,0),\"\")","v":""},{"$f":"IFERROR(VLOOKUP(D614,Cadastros!A:F,6,0),\"\")","v":""},{"$f":"IFERROR(VLOOKUP(D614,Cadastros!A:I,9,0),\"\")","v":""},{"$f":"IFERROR(VLOOKUP(D614,Cadastros!A:J,10,0),\"\")","v":""},{"$f":"IF(COUNTIF(Tabela66[id],D614)=0,\"\",COUNTIF(Tabela66[id],D614))","v":""},null,"",null,null,{"$f":"IFERROR(VLOOKUP(O614,Cadastros!A:B,2),\"\")","v":""},"",{"$f":"IFERROR(VLOOKUP(O614,Cadastros!A:E,5,0),\"\")","v":""},{"$f":"IFERROR(VLOOKUP(O614,Cadastros!A:F,6,0),\"\")","v":""},{"$f":"IFERROR(VLOOKUP(O614,Cadastros!A:I,9,0),\"\")","v":""},"","","",null,{"$f":"INDEX(Tabela.abordagens[],SMALL(IF(Tabela.abordagens[Mês]=$L$2,ROW(Tabela.abordagens[id])-2),ROW(A567)),1)","v":{"$error":"#NUM!"}},{"$f":"INDEX(Tabela.abordagens[],SMALL(IF(Tabela.abordagens[Mês]=$L$2,ROW(Tabela.abordagens[Idade])-2),ROW(A567)),6)","v":{"$error":"#NUM!"}},{"$f":"INDEX(Tabela.abordagens[],SMALL(IF(Tabela.abordagens[Mês]=$L$2,ROW(Tabela.abordagens[Idade])-2),ROW(A567)),4)","v":{"$error":"#NUM!"}},{"$f":"INDEX(Tabela.abordagens[],SMALL(IF(Tabela.abordagens[Mês]=$L$2,ROW(Tabela.abordagens[Idade])-2),ROW(A567)),5)","v":{"$error":"#NUM!"}}]
[null,{"$f":"INDEX(Tabela.frequencia[],SMALL(IF(Tabela.frequencia[Mês]=$L$2,ROW(Tabela.frequencia[id])-1),ROW(A568)),1)","v":{"$error":"#NUM!"}},{"$f":"INDEX(Tabela.frequencia[],SMALL(IF(Tabela.frequencia[Mês]=$L$2,ROW(Tabela.frequencia[id])-1),ROW(A568)),4)","v":{"$error":"#NUM!"}},null,{"$f":"IFERROR(VLOOKUP(D615,Tabela.cadastro[[ID]:[Nome]],2,0),\"\")","v":""},{"$f":"IFERROR(VLOOKUP(D615,Tabela66[#All],2,0),\"\")","v":""},{"$f":"IFERROR(VLOOKUP(D615,Tabela.cadastro[[ID]:[CP ou M]],5,0),\"\")","v":""},{"$f":"IFERROR(VLOOKUP(D615,Cadastros!A:F,6,0),\"\")","v":""},{"$f":"IFERROR(VLOOKUP(D615,Cadastros!A:I,9,0),\"\")","v":""},{"$f":"IFERROR(VLOOKUP(D615,Cadastros!A:J,10,0),\"\")","v":""},{"$f":"IF(COUNTIF(Tabela66[id],D615)=0,\"\",COUNTIF(Tabela66[id],D615))","v":""},null,"",null,null,{"$f":"IFERROR(VLOOKUP(O615,Cadastros!A:B,2),\"\")","v":""},"",{"$f":"IFERROR(VLOOKUP(O615,Cadastros!A:E,5,0),\"\")","v":""},{"$f":"IFERROR(VLOOKUP(O615,Cadastros!A:F,6,0),\"\")","v":""},{"$f":"IFERROR(VLOOKUP(O615,Cadastros!A:I,9,0),\"\")","v":""},"","","",null,{"$f":"INDEX(Tabela.abordagens[],SMALL(IF(Tabela.abordagens[Mês]=$L$2,ROW(Tabela.abordagens[id])-2),ROW(A568)),1)","v":{"$error":"#NUM!"}},{"$f":"INDEX(Tabela.abordagens[],SMALL(IF(Tabela.abordagens[Mês]=$L$2,ROW(Tabela.abordagens[Idade])-2),ROW(A568)),6)","v":{"$error":"#NUM!"}},{"$f":"INDEX(Tabela.abordagens[],SMALL(IF(Tabela.abordagens[Mês]=$L$2,ROW(Tabela.abordagens[Idade])-2),ROW(A568)),4)","v":{"$error":"#NUM!"}},{"$f":"INDEX(Tabela.abordagens[],SMALL(IF(Tabela.abordagens[Mês]=$L$2,ROW(Tabela.abordagens[Idade])-2),ROW(A568)),5)","v":{"$error":"#NUM!"}}]
[null,{"$f":"INDEX(Tabela.frequencia[],SMALL(IF(Tabela.frequencia[Mês]=$L$2,ROW(Tabela.frequencia[id])-1),ROW(A569)),1)","v":{"$error":"#NUM!"}},{"$f":"INDEX(Tabela.frequencia[],SMALL(IF(Tabela.frequencia[Mês]=$L$2,ROW(Tabela.frequencia[id])-1),ROW(A569)),4)","v":{"$error":"#NUM!"}},null,{"$f":"IFERROR(VLOOKUP(D616,Tabela.cadastro[[ID]:[Nome]],2,0),\"\")","v":""},{"$f":"IFERROR(VLOOKUP(D616,Tabela66[#All],2,0),\"\")","v":""},{"$f":"IFERROR(VLOOKUP(D616,Tabela.cadastro[[ID]:[CP ou M]],5,0),\"\")","v":""},{"$f":"IFERROR(VLOOKUP(D616,Cadastros!A:F,6,0),\"\")","v":""},{"$f":"IFERROR(VLOOKUP(D616,Cadastros!A:I,9,0),\"\")","v":""},{"$f":"IFERROR(VLOOKUP(D616,Cadastros!A:J,10,0),\"\")","v":""},{"$f":"IF(COUNTIF(Tabela66[id],D616)=0,\"\",COUNTIF(Tabela66[id],D616))","v":""},null,"",null,null,{"$f":"IFERROR(VLOOKUP(O616,Cadastros!A:B,2),\"\")","v":""},"",{"$f":"IFERROR(VLOOKUP(O616,Cadastros!A:E,5,0),\"\")","v":""},{"$f":"IFERROR(VLOOKUP(O616,Cadastros!A:F,6,0),\"\")","v":""},{"$f":"IFERROR(VLOOKUP(O616,Cadastros!A:I,9,0),\"\")","v":""},"","","",null,{"$f":"INDEX(Tabela.abordagens[],SMALL(IF(Tabela.abordagens[Mês]=$L$2,ROW(Tabela.abordagens[id])-2),ROW(A569)),1)","v":{"$error":"#NUM!"}},{"$f":"INDEX(Tabela.abordagens[],SMALL(IF(Tabela.abordagens[Mês]=$L$2,ROW(Tabela.abordagens[Idade])-2),ROW(A569)),6)","v":{"$error":"#NUM!"}},{"$f":"INDEX(Tabela.abordagens[],SMALL(IF(Tabela.abordagens[Mês]=$L$2,ROW(Tabela.abordagens[Idade])-2),ROW(A569)),4)","v":{"$error":"#NUM!"}},{"$f":"INDEX(Tabela.abordagens[],SMALL(IF(Tabela.abordagens[Mês]=$L$2,ROW(Tabela.abordagens[Idade])-2),ROW(A569)),5)","v":{"$error":"#NUM!"}}]
[null,{"$f":"INDEX(Tabela.frequencia[],SMALL(IF(Tabela.frequencia[Mês]=$L$2,ROW(Tabela.frequencia[id])-1),ROW(A570)),1)","v":{"$error":"#NUM!"}},{"$f":"INDEX(Tabela.frequencia[],SMALL(IF(Tabela.frequencia[Mês]=$L$2,ROW(Tabela.frequencia[id])-1),ROW(A570)),4)","v":{"$error":"#NUM!"}},null,{"$f":"IFERROR(VLOOKUP(D617,Tabela.cadastro[[ID]:[Nome]],2,0),\"\")","v":""},{"$f":"IFERROR(VLOOKUP(D617,Tabela66[#All],2,0),\"\")","v":""},{"$f":"IFERROR(VLOOKUP(D617,Tabela.cadastro[[ID]:[CP ou M]],5,0),\"\")","v":""},{"$f":"IFERROR(VLOOKUP(D617,Cadastros!A:F,6,0),\"\")","v":""},{"$f":"IFERROR(VLOOKUP(D617,Cadastros!A:I,9,0),\"\")","v":""},{"$f":"IFERROR(VLOOKUP(D617,Cadastros!A:J,10,0),\"\")","v":""},{"$f":"IF(COUNTIF(Tabela66[id],D617)=0,\"\",COUNTIF(Tabela66[id],D617))","v":""},null,"",null,null,{"$f":"IFERROR(VLOOKUP(O617,Cadastros!A:B,2),\"\")","v":""},"",{"$f":"IFERROR(VLOOKUP(O617,Cadastros!A:E,5,0),\"\")","v":""},{"$f":"IFERROR(VLOOKUP(O617,Cadastros!A:F,6,0),\"\")","v":""},{"$f":"IFERROR(VLOOKUP(O617,Cadastros!A:I,9,0),\"\")","v":""},"","","",null,{"$f":"INDEX(Tabela.abordagens[],SMALL(IF(Tabela.abordagens[Mês]=$L$2,ROW(Tabela.abordagens[id])-2),ROW(A570)),1)","v":{"$error":"#NUM!"}},{"$f":"INDEX(Tabela.abordagens[],SMALL(IF(Tabela.abordagens[Mês]=$L$2,ROW(Tabela.abordagens[Idade])-2),ROW(A570)),6)","v":{"$error":"#NUM!"}},{"$f":"INDEX(Tabela.abordagens[],SMALL(IF(Tabela.abordagens[Mês]=$L$2,ROW(Tabela.abordagens[Idade])-2),ROW(A570)),4)","v":{"$error":"#NUM!"}},{"$f":"INDEX(Tabela.abordagens[],SMALL(IF(Tabela.abordagens[Mês]=$L$2,ROW(Tabela.abordagens[Idade])-2),ROW(A570)),5)","v":{"$error":"#NUM!"}}]
[null,{"$f":"INDEX(Tabela.frequencia[],SMALL(IF(Tabela.frequencia[Mês]=$L$2,ROW(Tabela.frequencia[id])-1),ROW(A571)),1)","v":{"$error":"#NUM!"}},{"$f":"INDEX(Tabela.frequencia[],SMALL(IF(Tabela.frequencia[Mês]=$L$2,ROW(Tabela.frequencia[id])-1),ROW(A571)),4)","v":{"$error":"#NUM!"}},null,{"$f":"IFERROR(VLOOKUP(D618,Tabela.cadastro[[ID]:[Nome]],2,0),\"\")","v":""},{"$f":"IFERROR(VLOOKUP(D618,Tabela66[#All],2,0),\"\")","v":""},{"$f":"IFERROR(VLOOKUP(D618,Tabela.cadastro[[ID]:[CP ou M]],5,0),\"\")","v":""},{"$f":"IFERROR(VLOOKUP(D618,Cadastros!A:F,6,0),\"\")","v":""},{"$f":"IFERROR(VLOOKUP(D618,Cadastros!A:I,9,0),\"\")","v":""},{"$f":"IFERROR(VLOOKUP(D618,Cadastros!A:J,10,0),\"\")","v":""},{"$f":"IF(COUNTIF(Tabela66[id],D618)=0,\"\",COUNTIF(Tabela66[id],D618))","v":""},null,{"$f":"IF(AND(K618:K1449>=5,L618:L1449=\"Não\"),\"*\",\"\")","v":""},null,null,{"$f":"IFERROR(VLOOKUP(O618,Cadastros!A:B,2),\"\")","v":""},"",{"$f":"IFERROR(VLOOKUP(O618,Cadastros!A:E,5,0),\"\")","v":""},{"$f":"IFERROR(VLOOKUP(O618,Cadastros!A:F,6,0),\"\")","v":""},{"$f":"IFERROR(VLOOKUP(O618,Cadastros!A:I,9,0),\"\")","v":""},"","","",null,{"$f":"INDEX(Tabela.abordagens[],SMALL(IF(Tabela.abordagens[Mês]=$L$2,ROW(Tabela.abordagens[id])-2),ROW(A571)),1)","v":{"$error":"#NUM!"}},{"$f":"INDEX(Tabela.abordagens[],SMALL(IF(Tabela.abordagens[Mês]=$L$2,ROW(Tabela.abordagens[Idade])-2),ROW(A571)),6)","v":{"$error":"#NUM!"}},{"$f":"INDEX(Tabela.abordagens[],SMALL(IF(Tabela.abordagens[Mês]=$L$2,ROW(Tabela.abordagens[Idade])-2),ROW(A571)),4)","v":{"$error":"#NUM!"}},{"$f":"INDEX(Tabela.abordagens[],SMALL(IF(Tabela.abordagens[Mês]=$L$2,ROW(Tabela.abordagens[Idade])-2),ROW(A571)),5)","v":{"$error":"#NUM!"}}]
[null,{"$f":"INDEX(Tabela.frequencia[],SMALL(IF(Tabela.frequencia[Mês]=$L$2,ROW(Tabela.frequencia[id])-1),ROW(A572)),1)","v":{"$error":"#NUM!"}},{"$f":"INDEX(Tabela.frequencia[],SMALL(IF(Tabela.frequencia[Mês]=$L$2,ROW(Tabela.frequencia[id])-1),ROW(A572)),4)","v":{"$error":"#NUM!"}},null,{"$f":"IFERROR(VLOOKUP(D619,Tabela.cadastro[[ID]:[Nome]],2,0),\"\")","v":""},{"$f":"IFERROR(VLOOKUP(D619,Tabela66[#All],2,0),\"\")","v":""},{"$f":"IFERROR(VLOOKUP(D619,Tabela.cadastro[[ID]:[CP ou M]],5,0),\"\")","v":""},{"$f":"IFERROR(VLOOKUP(D619,Cadastros!A:F,6,0),\"\")","v":""},{"$f":"IFERROR(VLOOKUP(D619,Cadastros!A:I,9,0),\"\")","v":""},{"$f":"IFERROR(VLOOKUP(D619,Cadastros!A:J,10,0),\"\")","v":""},{"$f":"IF(COUNTIF(Tabela66[id],D619)=0,\"\",COUNTIF(Tabela66[id],D619))","v":""},null,"",null,null,{"$f":"IFERROR(VLOOKUP(O619,Cadastros!A:B,2),\"\")","v":""},"",{"$f":"IFERROR(VLOOKUP(O619,Cadastros!A:E,5,0),\"\")","v":""},{"$f":"IFERROR(VLOOKUP(O619,Cadastros!A:F,6,0),\"\")","v":""},{"$f":"IFERROR(VLOOKUP(O619,Cadastros!A:I,9,0),\"\")","v":""},"","","",null,{"$f":"INDEX(Tabela.abordagens[],SMALL(IF(Tabela.abordagens[Mês]=$L$2,ROW(Tabela.abordagens[id])-2),ROW(A572)),1)","v":{"$error":"#NUM!"}},{"$f":"INDEX(Tabela.abordagens[],SMALL(IF(Tabela.abordagens[Mês]=$L$2,ROW(Tabela.abordagens[Idade])-2),ROW(A572)),6)","v":{"$error":"#NUM!"}},{"$f":"INDEX(Tabela.abordagens[],SMALL(IF(Tabela.abordagens[Mês]=$L$2,ROW(Tabela.abordagens[Idade])-2),ROW(A572)),4)","v":{"$error":"#NUM!"}},{"$f":"INDEX(Tabela.abordagens[],SMALL(IF(Tabela.abordagens[Mês]=$L$2,ROW(Tabela.abordagens[Idade])-2),ROW(A572)),5)","v":{"$error":"#NUM!"}}]
[null,{"$f":"INDEX(Tabela.frequencia[],SMALL(IF(Tabela.frequencia[Mês]=$L$2,ROW(Tabela.frequencia[id])-1),ROW(A573)),1)","v":{"$error":"#NUM!"}},{"$f":"INDEX(Tabela.frequencia[],SMALL(IF(Tabela.frequencia[Mês]=$L$2,ROW(Tabela.frequencia[id])-1),ROW(A573)),4)","v":{"$error":"#NUM!"}},null,{"$f":"IFERROR(VLOOKUP(D620,Tabela.cadastro[[ID]:[Nome]],2,0),\"\")","v":""},{"$f":"IFERROR(VLOOKUP(D620,Tabela66[#All],2,0),\"\")","v":""},{"$f":"IFERROR(VLOOKUP(D620,Tabela.cadastro[[ID]:[CP ou M]],5,0),\"\")","v":""},{"$f":"IFERROR(VLOOKUP(D620,Cadastros!A:F,6,0),\"\")","v":""},{"$f":"IFERROR(VLOOKUP(D620,Cadastros!A:I,9,0),\"\")","v":""},{"$f":"IFERROR(VLOOKUP(D620,Cadastros!A:J,10,0),\"\")","v":""},{"$f":"IF(COUNTIF(Tabela66[id],D620)=0,\"\",COUNTIF(Tabela66[id],D620))","v":""},null,"",null,null,{"$f":"IFERROR(VLOOKUP(O620,Cadastros!A:B,2),\"\")","v":""},"",{"$f":"IFERROR(VLOOKUP(O620,Cadastros!A:E,5,0),\"\")","v":""},{"$f":"IFERROR(VLOOKUP(O620,Cadastros!A:F,6,0),\"\")","v":""},{"$f":"IFERROR(VLOOKUP(O620,Cadastros!A:I,9,0),\"\")","v":""},"","","",null,{"$f":"INDEX(Tabela.abordagens[],SMALL(IF(Tabela.abordagens[Mês]=$L$2,ROW(Tabela.abordagens[id])-2),ROW(A573)),1)","v":{"$error":"#NUM!"}},{"$f":"INDEX(Tabela.abordagens[],SMALL(IF(Tabela.abordagens[Mês]=$L$2,ROW(Tabela.abordagens[Idade])-2),ROW(A573)),6)","v":{"$error":"#NUM!"}},{"$f":"INDEX(Tabela.abordagens[],SMALL(IF(Tabela.abordagens[Mês]=$L$2,ROW(Tabela.abordagens[Idade])-2),ROW(A573)),4)","v":{"$error":"#NUM!"}},{"$f":"INDEX(Tabela.abordagens[],SMALL(IF(Tabela.abordagens[Mês]=$L$2,ROW(Tabela.abordagens[Idade])-2),ROW(A573)),5)","v":{"$error":"#NUM!"}}]
[null,{"$f":"INDEX(Tabela.frequencia[],SMALL(IF(Tabela.frequencia[Mês]=$L$2,ROW(Tabela.frequencia[id])-1),ROW(A574)),1)","v":{"$error":"#NUM!"}},{"$f":"INDEX(Tabela.frequencia[],SMALL(IF(Tabela.frequencia[Mês]=$L$2,ROW(Tabela.frequencia[id])-1),ROW(A574)),4)","v":{"$error":"#NUM!"}},null,{"$f":"IFERROR(VLOOKUP(D621,Tabela.cadastro[[ID]:[Nome]],2,0),\"\")","v":""},{"$f":"IFERROR(VLOOKUP(D621,Tabela66[#All],2,0),\"\")","v":""},{"$f":"IFERROR(VLOOKUP(D621,Tabela.cadastro[[ID]:[CP ou M]],5,0),\"\")","v":""},{"$f":"IFERROR(VLOOKUP(D621,Cadastros!A:F,6,0),\"\")","v":""},{"$f":"IFERROR(VLOOKUP(D621,Cadastros!A:I,9,0),\"\")","v":""},{"$f":"IFERROR(VLOOKUP(D621,Cadastros!A:J,10,0),\"\")","v":""},{"$f":"IF(COUNTIF(Tabela66[id],D621)=0,\"\",COUNTIF(Tabela66[id],D621))","v":""},null,"",null,null,{"$f":"IFERROR(VLOOKUP(O621,Cadastros!A:B,2),\"\")","v":""},"",{"$f":"IFERROR(VLOOKUP(O621,Cadastros!A:E,5,0),\"\")","v":""},{"$f":"IFERROR(VLOOKUP(O621,Cadastros!A:F,6,0),\"\")","v":""},{"$f":"IFERROR(VLOOKUP(O621,Cadastros!A:I,9,0),\"\")","v":""},"","","",null,{"$f":"INDEX(Tabela.abordagens[],SMALL(IF(Tabela.abordagens[Mês]=$L$2,ROW(Tabela.abordagens[id])-2),ROW(A574)),1)","v":{"$error":"#NUM!"}},{"$f":"INDEX(Tabela.abordagens[],SMALL(IF(Tabela.abordagens[Mês]=$L$2,ROW(Tabela.abordagens[Idade])-2),ROW(A574)),6)","v":{"$error":"#NUM!"}},{"$f":"INDEX(Tabela.abordagens[],SMALL(IF(Tabela.abordagens[Mês]=$L$2,ROW(Tabela.abordagens[Idade])-2),ROW(A574)),4)","v":{"$error":"#NUM!"}},{"$f":"INDEX(Tabela.abordagens[],SMALL(IF(Tabela.abordagens[Mês]=$L$2,ROW(Tabela.abordagens[Idade])-2),ROW(A574)),5)","v":{"$error":"#NUM!"}}]
[null,{"$f":"INDEX(Tabela.frequencia[],SMALL(IF(Tabela.frequencia[Mês]=$L$2,ROW(Tabela.frequencia[id])-1),ROW(A575)),1)","v":{"$error":"#NUM!"}},{"$f":"INDEX(Tabela.frequencia[],SMALL(IF(Tabela.frequencia[Mês]=$L$2,ROW(Tabela.frequencia[id])-1),ROW(A575)),4)","v":{"$error":"#NUM!"}},null,{"$f":"IFERROR(VLOOKUP(D622,Tabela.cadastro[[ID]:[Nome]],2,0),\"\")","v":""},{"$f":"IFERROR(VLOOKUP(D622,Tabela66[#All],2,0),\"\")","v":""},{"$f":"IFERROR(VLOOKUP(D622,Tabela.cadastro[[ID]:[CP ou M]],5,0),\"\")","v":""},{"$f":"IFERROR(VLOOKUP(D622,Cadastros!A:F,6,0),\"\")","v":""},{"$f":"IFERROR(VLOOKUP(D622,Cadastros!A:I,9,0),\"\")","v":""},{"$f":"IFERROR(VLOOKUP(D622,Cadastros!A:J,10,0),\"\")","v":""},{"$f":"IF(COUNTIF(Tabela66[id],D622)=0,\"\",COUNTIF(Tabela66[id],D622))","v":""},null,"",null,null,{"$f":"IFERROR(VLOOKUP(O622,Cadastros!A:B,2),\"\")","v":""},"",{"$f":"IFERROR(VLOOKUP(O622,Cadastros!A:E,5,0),\"\")","v":""},{"$f":"IFERROR(VLOOKUP(O622,Cadastros!A:F,6,0),\"\")","v":""},{"$f":"IFERROR(VLOOKUP(O622,Cadastros!A:I,9,0),\"\")","v":""},"","","",null,{"$f":"INDEX(Tabela.abordagens[],SMALL(IF(Tabela.abordagens[Mês]=$L$2,ROW(Tabela.abordagens[id])-2),ROW(A575)),1)","v":{"$error":"#NUM!"}},{"$f":"INDEX(Tabela.abordagens[],SMALL(IF(Tabela.abordagens[Mês]=$L$2,ROW(Tabela.abordagens[Idade])-2),ROW(A575)),6)","v":{"$error":"#NUM!"}},{"$f":"INDEX(Tabela.abordagens[],SMALL(IF(Tabela.abordagens[Mês]=$L$2,ROW(Tabela.abordagens[Idade])-2),ROW(A575)),4)","v":{"$error":"#NUM!"}},{"$f":"INDEX(Tabela.abordagens[],SMALL(IF(Tabela.abordagens[Mês]=$L$2,ROW(Tabela.abordagens[Idade])-2),ROW(A575)),5)","v":{"$error":"#NUM!"}}]
[null,{"$f":"INDEX(Tabela.frequencia[],SMALL(IF(Tabela.frequencia[Mês]=$L$2,ROW(Tabela.frequencia[id])-1),ROW(A576)),1)","v":{"$error":"#NUM!"}},{"$f":"INDEX(Tabela.frequencia[],SMALL(IF(Tabela.frequencia[Mês]=$L$2,ROW(Tabela.frequencia[id])-1),ROW(A576)),4)","v":{"$error":"#NUM!"}},null,{"$f":"IFERROR(VLOOKUP(D623,Tabela.cadastro[[ID]:[Nome]],2,0),\"\")","v":""},{"$f":"IFERROR(VLOOKUP(D623,Tabela66[#All],2,0),\"\")","v":""},{"$f":"IFERROR(VLOOKUP(D623,Tabela.cadastro[[ID]:[CP ou M]],5,0),\"\")","v":""},{"$f":"IFERROR(VLOOKUP(D623,Cadastros!A:F,6,0),\"\")","v":""},{"$f":"IFERROR(VLOOKUP(D623,Cadastros!A:I,9,0),\"\")","v":""},{"$f":"IFERROR(VLOOKUP(D623,Cadastros!A:J,10,0),\"\")","v":""},{"$f":"IF(COUNTIF(Tabela66[id],D623)=0,\"\",COUNTIF(Tabela66[id],D623))","v":""},null,"",null,null,{"$f":"IFERROR(VLOOKUP(O623,Cadastros!A:B,2),\"\")","v":""},"",{"$f":"IFERROR(VLOOKUP(O623,Cadastros!A:E,5,0),\"\")","v":""},{"$f":"IFERROR(VLOOKUP(O623,Cadastros!A:F,6,0),\"\")","v":""},{"$f":"IFERROR(VLOOKUP(O623,Cadastros!A:I,9,0),\"\")","v":""},"","","",null,{"$f":"INDEX(Tabela.abordagens[],SMALL(IF(Tabela.abordagens[Mês]=$L$2,ROW(Tabela.abordagens[id])-2),ROW(A576)),1)","v":{"$error":"#NUM!"}},{"$f":"INDEX(Tabela.abordagens[],SMALL(IF(Tabela.abordagens[Mês]=$L$2,ROW(Tabela.abordagens[Idade])-2),ROW(A576)),6)","v":{"$error":"#NUM!"}},{"$f":"INDEX(Tabela.abordagens[],SMALL(IF(Tabela.abordagens[Mês]=$L$2,ROW(Tabela.abordagens[Idade])-2),ROW(A576)),4)","v":{"$error":"#NUM!"}},{"$f":"INDEX(Tabela.abordagens[],SMALL(IF(Tabela.abordagens[Mês]=$L$2,ROW(Tabela.abordagens[Idade])-2),ROW(A576)),5)","v":{"$error":"#NUM!"}}]
[null,{"$f":"INDEX(Tabela.frequencia[],SMALL(IF(Tabela.frequencia[Mês]=$L$2,ROW(Tabela.frequencia[id])-1),ROW(A577)),1)","v":{"$error":"#NUM!"}},{"$f":"INDEX(Tabela.frequencia[],SMALL(IF(Tabela.frequencia[Mês]=$L$2,ROW(Tabela.frequencia[id])-1),ROW(A577)),4)","v":{"$error":"#NUM!"}},null,{"$f":"IFERROR(VLOOKUP(D624,Tabela.cadastro[[ID]:[Nome]],2,0),\"\")","v":""},{"$f":"IFERROR(VLOOKUP(D624,Tabela66[#All],2,0),\"\")","v":""},{"$f":"IFERROR(VLOOKUP(D624,Tabela.cadastro[[ID]:[CP ou M]],5,0),\"\")","v":""},{"$f":"IFERROR(VLOOKUP(D624,Cadastros!A:F,6,0),\"\")","v":""},{"$f":"IFERROR(VLOOKUP(D624,Cadastros!A:I,9,0),\"\")","v":""},{"$f":"IFERROR(VLOOKUP(D624,Cadastros!A:J,10,0),\"\")","v":""},{"$f":"IF(COUNTIF(Tabela66[id],D624)=0,\"\",COUNTIF(Tabela66[id],D624))","v":""},null,"",null,null,{"$f":"IFERROR(VLOOKUP(O624,Cadastros!A:B,2),\"\")","v":""},"",{"$f":"IFERROR(VLOOKUP(O624,Cadastros!A:E,5,0),\"\")","v":""},{"$f":"IFERROR(VLOOKUP(O624,Cadastros!A:F,6,0),\"\")","v":""},{"$f":"IFERROR(VLOOKUP(O624,Cadastros!A:I,9,0),\"\")","v":""},"","","",null,{"$f":"INDEX(Tabela.abordagens[],SMALL(IF(Tabela.abordagens[Mês]=$L$2,ROW(Tabela.abordagens[id])-2),ROW(A577)),1)","v":{"$error":"#NUM!"}},{"$f":"INDEX(Tabela.abordagens[],SMALL(IF(Tabela.abordagens[Mês]=$L$2,ROW(Tabela.abordagens[Idade])-2),ROW(A577)),6)","v":{"$error":"#NUM!"}},{"$f":"INDEX(Tabela.abordagens[],SMALL(IF(Tabela.abordagens[Mês]=$L$2,ROW(Tabela.abordagens[Idade])-2),ROW(A577)),4)","v":{"$error":"#NUM!"}},{"$f":"INDEX(Tabela.abordagens[],SMALL(IF(Tabela.abordagens[Mês]=$L$2,ROW(Tabela.abordagens[Idade])-2),ROW(A577)),5)","v":{"$error":"#NUM!"}}]
[null,{"$f":"INDEX(Tabela.frequencia[],SMALL(IF(Tabela.frequencia[Mês]=$L$2,ROW(Tabela.frequencia[id])-1),ROW(A578)),1)","v":{"$error":"#NUM!"}},{"$f":"INDEX(Tabela.frequencia[],SMALL(IF(Tabela.frequencia[Mês]=$L$2,ROW(Tabela.frequencia[id])-1),ROW(A578)),4)","v":{"$error":"#NUM!"}},null,{"$f":"IFERROR(VLOOKUP(D625,Tabela.cadastro[[ID]:[Nome]],2,0),\"\")","v":""},{"$f":"IFERROR(VLOOKUP(D625,Tabela66[#All],2,0),\"\")","v":""},{"$f":"IFERROR(VLOOKUP(D625,Tabela.cadastro[[ID]:[CP ou M]],5,0),\"\")","v":""},{"$f":"IFERROR(VLOOKUP(D625,Cadastros!A:F,6,0),\"\")","v":""},{"$f":"IFERROR(VLOOKUP(D625,Cadastros!A:I,9,0),\"\")","v":""},{"$f":"IFERROR(VLOOKUP(D625,Cadastros!A:J,10,0),\"\")","v":""},{"$f":"IF(COUNTIF(Tabela66[id],D625)=0,\"\",COUNTIF(Tabela66[id],D625))","v":""},null,"",null,null,{"$f":"IFERROR(VLOOKUP(O625,Cadastros!A:B,2),\"\")","v":""},"",{"$f":"IFERROR(VLOOKUP(O625,Cadastros!A:E,5,0),\"\")","v":""},{"$f":"IFERROR(VLOOKUP(O625,Cadastros!A:F,6,0),\"\")","v":""},{"$f":"IFERROR(VLOOKUP(O625,Cadastros!A:I,9,0),\"\")","v":""},"","","",null,{"$f":"INDEX(Tabela.abordagens[],SMALL(IF(Tabela.abordagens[Mês]=$L$2,ROW(Tabela.abordagens[id])-2),ROW(A578)),1)","v":{"$error":"#NUM!"}},{"$f":"INDEX(Tabela.abordagens[],SMALL(IF(Tabela.abordagens[Mês]=$L$2,ROW(Tabela.abordagens[Idade])-2),ROW(A578)),6)","v":{"$error":"#NUM!"}},{"$f":"INDEX(Tabela.abordagens[],SMALL(IF(Tabela.abordagens[Mês]=$L$2,ROW(Tabela.abordagens[Idade])-2),ROW(A578)),4)","v":{"$error":"#NUM!"}},{"$f":"INDEX(Tabela.abordagens[],SMALL(IF(Tabela.abordagens[Mês]=$L$2,ROW(Tabela.abordagens[Idade])-2),ROW(A578)),5)","v":{"$error":"#NUM!"}}]
[null,{"$f":"INDEX(Tabela.frequencia[],SMALL(IF(Tabela.frequencia[Mês]=$L$2,ROW(Tabela.frequencia[id])-1),ROW(A579)),1)","v":{"$error":"#NUM!"}},{"$f":"INDEX(Tabela.frequencia[],SMALL(IF(Tabela.frequencia[Mês]=$L$2,ROW(Tabela.frequencia[id])-1),ROW(A579)),4)","v":{"$error":"#NUM!"}},null,{"$f":"IFERROR(VLOOKUP(D626,Tabela.cadastro[[ID]:[Nome]],2,0),\"\")","v":""},{"$f":"IFERROR(VLOOKUP(D626,Tabela66[#All],2,0),\"\")","v":""},{"$f":"IFERROR(VLOOKUP(D626,Tabela.cadastro[[ID]:[CP ou M]],5,0),\"\")","v":""},{"$f":"IFERROR(VLOOKUP(D626,Cadastros!A:F,6,0),\"\")","v":""},{"$f":"IFERROR(VLOOKUP(D626,Cadastros!A:I,9,0),\"\")","v":""},{"$f":"IFERROR(VLOOKUP(D626,Cadastros!A:J,10,0),\"\")","v":""},{"$f":"IF(COUNTIF(Tabela66[id],D626)=0,\"\",COUNTIF(Tabela66[id],D626))","v":""},null,"",null,null,{"$f":"IFERROR(VLOOKUP(O626,Cadastros!A:B,2),\"\")","v":""},"",{"$f":"IFERROR(VLOOKUP(O626,Cadastros!A:E,5,0),\"\")","v":""},{"$f":"IFERROR(VLOOKUP(O626,Cadastros!A:F,6,0),\"\")","v":""},{"$f":"IFERROR(VLOOKUP(O626,Cadastros!A:I,9,0),\"\")","v":""},"","","",null,{"$f":"INDEX(Tabela.abordagens[],SMALL(IF(Tabela.abordagens[Mês]=$L$2,ROW(Tabela.abordagens[id])-2),ROW(A579)),1)","v":{"$error":"#NUM!"}},{"$f":"INDEX(Tabela.abordagens[],SMALL(IF(Tabela.abordagens[Mês]=$L$2,ROW(Tabela.abordagens[Idade])-2),ROW(A579)),6)","v":{"$error":"#NUM!"}},{"$f":"INDEX(Tabela.abordagens[],SMALL(IF(Tabela.abordagens[Mês]=$L$2,ROW(Tabela.abordagens[Idade])-2),ROW(A579)),4)","v":{"$error":"#NUM!"}},{"$f":"INDEX(Tabela.abordagens[],SMALL(IF(Tabela.abordagens[Mês]=$L$2,ROW(Tabela.abordagens[Idade])-2),ROW(A579)),5)","v":{"$error":"#NUM!"}}]
[null,{"$f":"INDEX(Tabela.frequencia[],SMALL(IF(Tabela.frequencia[Mês]=$L$2,ROW(Tabela.frequencia[id])-1),ROW(A580)),1)","v":{"$error":"#NUM!"}},{"$f":"INDEX(Tabela.frequencia[],SMALL(IF(Tabela.frequencia[Mês]=$L$2,ROW(Tabela.frequencia[id])-1),ROW(A580)),4)","v":{"$error":"#NUM!"}},null,{"$f":"IFERROR(VLOOKUP(D627,Tabela.cadastro[[ID]:[Nome]],2,0),\"\")","v":""},{"$f":"IFERROR(VLOOKUP(D627,Tabela66[#All],2,0),\"\")","v":""},{"$f":"IFERROR(VLOOKUP(D627,Tabela.cadastro[[ID]:[CP ou M]],5,0),\"\")","v":""},{"$f":"IFERROR(VLOOKUP(D627,Cadastros!A:F,6,0),\"\")","v":""},{"$f":"IFERROR(VLOOKUP(D627,Cadastros!A:I,9,0),\"\")","v":""},{"$f":"IFERROR(VLOOKUP(D627,Cadastros!A:J,10,0),\"\")","v":""},{"$f":"IF(COUNTIF(Tabela66[id],D627)=0,\"\",COUNTIF(Tabela66[id],D627))","v":""},null,"",null,null,{"$f":"IFERROR(VLOOKUP(O627,Cadastros!A:B,2),\"\")","v":""},"",{"$f":"IFERROR(VLOOKUP(O627,Cadastros!A:E,5,0),\"\")","v":""},{"$f":"IFERROR(VLOOKUP(O627,Cadastros!A:F,6,0),\"\")","v":""},{"$f":"IFERROR(VLOOKUP(O627,Cadastros!A:I,9,0),\"\")","v":""},"","","",null,{"$f":"INDEX(Tabela.abordagens[],SMALL(IF(Tabela.abordagens[Mês]=$L$2,ROW(Tabela.abordagens[id])-2),ROW(A580)),1)","v":{"$error":"#NUM!"}},{"$f":"INDEX(Tabela.abordagens[],SMALL(IF(Tabela.abordagens[Mês]=$L$2,ROW(Tabela.abordagens[Idade])-2),ROW(A580)),6)","v":{"$error":"#NUM!"}},{"$f":"INDEX(Tabela.abordagens[],SMALL(IF(Tabela.abordagens[Mês]=$L$2,ROW(Tabela.abordagens[Idade])-2),ROW(A580)),4)","v":{"$error":"#NUM!"}},{"$f":"INDEX(Tabela.abordagens[],SMALL(IF(Tabela.abordagens[Mês]=$L$2,ROW(Tabela.abordagens[Idade])-2),ROW(A580)),5)","v":{"$error":"#NUM!"}}]
[null,{"$f":"INDEX(Tabela.frequencia[],SMALL(IF(Tabela.frequencia[Mês]=$L$2,ROW(Tabela.frequencia[id])-1),ROW(A581)),1)","v":{"$error":"#NUM!"}},{"$f":"INDEX(Tabela.frequencia[],SMALL(IF(Tabela.frequencia[Mês]=$L$2,ROW(Tabela.frequencia[id])-1),ROW(A581)),4)","v":{"$error":"#NUM!"}},null,{"$f":"IFERROR(VLOOKUP(D628,Tabela.cadastro[[ID]:[Nome]],2,0),\"\")","v":""},{"$f":"IFERROR(VLOOKUP(D628,Tabela66[#All],2,0),\"\")","v":""},{"$f":"IFERROR(VLOOKUP(D628,Tabela.cadastro[[ID]:[CP ou M]],5,0),\"\")","v":""},{"$f":"IFERROR(VLOOKUP(D628,Cadastros!A:F,6,0),\"\")","v":""},{"$f":"IFERROR(VLOOKUP(D628,Cadastros!A:I,9,0),\"\")","v":""},{"$f":"IFERROR(VLOOKUP(D628,Cadastros!A:J,10,0),\"\")","v":""},{"$f":"IF(COUNTIF(Tabela66[id],D628)=0,\"\",COUNTIF(Tabela66[id],D628))","v":""},null,"",null,null,{"$f":"IFERROR(VLOOKUP(O628,Cadastros!A:B,2),\"\")","v":""},"",{"$f":"IFERROR(VLOOKUP(O628,Cadastros!A:E,5,0),\"\")","v":""},{"$f":"IFERROR(VLOOKUP(O628,Cadastros!A:F,6,0),\"\")","v":""},{"$f":"IFERROR(VLOOKUP(O628,Cadastros!A:I,9,0),\"\")","v":""},"","","",null,{"$f":"INDEX(Tabela.abordagens[],SMALL(IF(Tabela.abordagens[Mês]=$L$2,ROW(Tabela.abordagens[id])-2),ROW(A581)),1)","v":{"$error":"#NUM!"}},{"$f":"INDEX(Tabela.abordagens[],SMALL(IF(Tabela.abordagens[Mês]=$L$2,ROW(Tabela.abordagens[Idade])-2),ROW(A581)),6)","v":{"$error":"#NUM!"}},{"$f":"INDEX(Tabela.abordagens[],SMALL(IF(Tabela.abordagens[Mês]=$L$2,ROW(Tabela.abordagens[Idade])-2),ROW(A581)),4)","v":{"$error":"#NUM!"}},{"$f":"INDEX(Tabela.abordagens[],SMALL(IF(Tabela.abordagens[Mês]=$L$2,ROW(Tabela.abordagens[Idade])-2),ROW(A581)),5)","v":{"$error":"#NUM!"}}]
[null,{"$f":"INDEX(Tabela.frequencia[],SMALL(IF(Tabela.frequencia[Mês]=$L$2,ROW(Tabela.frequencia[id])-1),ROW(A582)),1)","v":{"$error":"#NUM!"}},{"$f":"INDEX(Tabela.frequencia[],SMALL(IF(Tabela.frequencia[Mês]=$L$2,ROW(Tabela.frequencia[id])-1),ROW(A582)),4)","v":{"$error":"#NUM!"}},null,{"$f":"IFERROR(VLOOKUP(D629,Tabela.cadastro[[ID]:[Nome]],2,0),\"\")","v":""},{"$f":"IFERROR(VLOOKUP(D629,Tabela66[#All],2,0),\"\")","v":""},{"$f":"IFERROR(VLOOKUP(D629,Tabela.cadastro[[ID]:[CP ou M]],5,0),\"\")","v":""},{"$f":"IFERROR(VLOOKUP(D629,Cadastros!A:F,6,0),\"\")","v":""},{"$f":"IFERROR(VLOOKUP(D629,Cadastros!A:I,9,0),\"\")","v":""},{"$f":"IFERROR(VLOOKUP(D629,Cadastros!A:J,10,0),\"\")","v":""},{"$f":"IF(COUNTIF(Tabela66[id],D629)=0,\"\",COUNTIF(Tabela66[id],D629))","v":""},null,"",null,null,{"$f":"IFERROR(VLOOKUP(O629,Cadastros!A:B,2),\"\")","v":""},"",{"$f":"IFERROR(VLOOKUP(O629,Cadastros!A:E,5,0),\"\")","v":""},{"$f":"IFERROR(VLOOKUP(O629,Cadastros!A:F,6,0),\"\")","v":""},{"$f":"IFERROR(VLOOKUP(O629,Cadastros!A:I,9,0),\"\")","v":""},"","","",null,{"$f":"INDEX(Tabela.abordagens[],SMALL(IF(Tabela.abordagens[Mês]=$L$2,ROW(Tabela.abordagens[id])-2),ROW(A582)),1)","v":{"$error":"#NUM!"}},{"$f":"INDEX(Tabela.abordagens[],SMALL(IF(Tabela.abordagens[Mês]=$L$2,ROW(Tabela.abordagens[Idade])-2),ROW(A582)),6)","v":{"$error":"#NUM!"}},{"$f":"INDEX(Tabela.abordagens[],SMALL(IF(Tabela.abordagens[Mês]=$L$2,ROW(Tabela.abordagens[Idade])-2),ROW(A582)),4)","v":{"$error":"#NUM!"}},{"$f":"INDEX(Tabela.abordagens[],SMALL(IF(Tabela.abordagens[Mês]=$L$2,ROW(Tabela.abordagens[Idade])-2),ROW(A582)),5)","v":{"$error":"#NUM!"}}]
[null,{"$f":"INDEX(Tabela.frequencia[],SMALL(IF(Tabela.frequencia[Mês]=$L$2,ROW(Tabela.frequencia[id])-1),ROW(A583)),1)","v":{"$error":"#NUM!"}},{"$f":"INDEX(Tabela.frequencia[],SMALL(IF(Tabela.frequencia[Mês]=$L$2,ROW(Tabela.frequencia[id])-1),ROW(A583)),4)","v":{"$error":"#NUM!"}},null,{"$f":"IFERROR(VLOOKUP(D630,Tabela.cadastro[[ID]:[Nome]],2,0),\"\")","v":""},{"$f":"IFERROR(VLOOKUP(D630,Tabela66[#All],2,0),\"\")","v":""},{"$f":"IFERROR(VLOOKUP(D630,Tabela.cadastro[[ID]:[CP ou M]],5,0),\"\")","v":""},{"$f":"IFERROR(VLOOKUP(D630,Cadastros!A:F,6,0),\"\")","v":""},{"$f":"IFERROR(VLOOKUP(D630,Cadastros!A:I,9,0),\"\")","v":""},{"$f":"IFERROR(VLOOKUP(D630,Cadastros!A:J,10,0),\"\")","v":""},{"$f":"IF(COUNTIF(Tabela66[id],D630)=0,\"\",COUNTIF(Tabela66[id],D630))","v":""},null,"",null,null,{"$f":"IFERROR(VLOOKUP(O630,Cadastros!A:B,2),\"\")","v":""},"",{"$f":"IFERROR(VLOOKUP(O630,Cadastros!A:E,5,0),\"\")","v":""},{"$f":"IFERROR(VLOOKUP(O630,Cadastros!A:F,6,0),\"\")","v":""},{"$f":"IFERROR(VLOOKUP(O630,Cadastros!A:I,9,0),\"\")","v":""},"","","",null,{"$f":"INDEX(Tabela.abordagens[],SMALL(IF(Tabela.abordagens[Mês]=$L$2,ROW(Tabela.abordagens[id])-2),ROW(A583)),1)","v":{"$error":"#NUM!"}},{"$f":"INDEX(Tabela.abordagens[],SMALL(IF(Tabela.abordagens[Mês]=$L$2,ROW(Tabela.abordagens[Idade])-2),ROW(A583)),6)","v":{"$error":"#NUM!"}},{"$f":"INDEX(Tabela.abordagens[],SMALL(IF(Tabela.abordagens[Mês]=$L$2,ROW(Tabela.abordagens[Idade])-2),ROW(A583)),4)","v":{"$error":"#NUM!"}},{"$f":"INDEX(Tabela.abordagens[],SMALL(IF(Tabela.abordagens[Mês]=$L$2,ROW(Tabela.abordagens[Idade])-2),ROW(A583)),5)","v":{"$error":"#NUM!"}}]
[null,{"$f":"INDEX(Tabela.frequencia[],SMALL(IF(Tabela.frequencia[Mês]=$L$2,ROW(Tabela.frequencia[id])-1),ROW(A584)),1)","v":{"$error":"#NUM!"}},{"$f":"INDEX(Tabela.frequencia[],SMALL(IF(Tabela.frequencia[Mês]=$L$2,ROW(Tabela.frequencia[id])-1),ROW(A584)),4)","v":{"$error":"#NUM!"}},null,{"$f":"IFERROR(VLOOKUP(D631,Tabela.cadastro[[ID]:[Nome]],2,0),\"\")","v":""},{"$f":"IFERROR(VLOOKUP(D631,Tabela66[#All],2,0),\"\")","v":""},{"$f":"IFERROR(VLOOKUP(D631,Tabela.cadastro[[ID]:[CP ou M]],5,0),\"\")","v":""},{"$f":"IFERROR(VLOOKUP(D631,Cadastros!A:F,6,0),\"\")","v":""},{"$f":"IFERROR(VLOOKUP(D631,Cadastros!A:I,9,0),\"\")","v":""},{"$f":"IFERROR(VLOOKUP(D631,Cadastros!A:J,10,0),\"\")","v":""},{"$f":"IF(COUNTIF(Tabela66[id],D631)=0,\"\",COUNTIF(Tabela66[id],D631))","v":""},null,"",null,null,{"$f":"IFERROR(VLOOKUP(O631,Cadastros!A:B,2),\"\")","v":""},"",{"$f":"IFERROR(VLOOKUP(O631,Cadastros!A:E,5,0),\"\")","v":""},{"$f":"IFERROR(VLOOKUP(O631,Cadastros!A:F,6,0),\"\")","v":""},{"$f":"IFERROR(VLOOKUP(O631,Cadastros!A:I,9,0),\"\")","v":""},"","","",null,{"$f":"INDEX(Tabela.abordagens[],SMALL(IF(Tabela.abordagens[Mês]=$L$2,ROW(Tabela.abordagens[id])-2),ROW(A584)),1)","v":{"$error":"#NUM!"}},{"$f":"INDEX(Tabela.abordagens[],SMALL(IF(Tabela.abordagens[Mês]=$L$2,ROW(Tabela.abordagens[Idade])-2),ROW(A584)),6)","v":{"$error":"#NUM!"}},{"$f":"INDEX(Tabela.abordagens[],SMALL(IF(Tabela.abordagens[Mês]=$L$2,ROW(Tabela.abordagens[Idade])-2),ROW(A584)),4)","v":{"$error":"#NUM!"}},{"$f":"INDEX(Tabela.abordagens[],SMALL(IF(Tabela.abordagens[Mês]=$L$2,ROW(Tabela.abordagens[Idade])-2),ROW(A584)),5)","v":{"$error":"#NUM!"}}]
[null,{"$f":"INDEX(Tabela.frequencia[],SMALL(IF(Tabela.frequencia[Mês]=$L$2,ROW(Tabela.frequencia[id])-1),ROW(A585)),1)","v":{"$error":"#NUM!"}},{"$f":"INDEX(Tabela.frequencia[],SMALL(IF(Tabela.frequencia[Mês]=$L$2,ROW(Tabela.frequencia[id])-1),ROW(A585)),4)","v":{"$error":"#NUM!"}},null,{"$f":"IFERROR(VLOOKUP(D632,Tabela.cadastro[[ID]:[Nome]],2,0),\"\")","v":""},{"$f":"IFERROR(VLOOKUP(D632,Tabela66[#All],2,0),\"\")","v":""},{"$f":"IFERROR(VLOOKUP(D632,Tabela.cadastro[[ID]:[CP ou M]],5,0),\"\")","v":""},{"$f":"IFERROR(VLOOKUP(D632,Cadastros!A:F,6,0),\"\")","v":""},{"$f":"IFERROR(VLOOKUP(D632,Cadastros!A:I,9,0),\"\")","v":""},{"$f":"IFERROR(VLOOKUP(D632,Cadastros!A:J,10,0),\"\")","v":""},{"$f":"IF(COUNTIF(Tabela66[id],D632)=0,\"\",COUNTIF(Tabela66[id],D632))","v":""},null,"",null,null,{"$f":"IFERROR(VLOOKUP(O632,Cadastros!A:B,2),\"\")","v":""},"",{"$f":"IFERROR(VLOOKUP(O632,Cadastros!A:E,5,0),\"\")","v":""},{"$f":"IFERROR(VLOOKUP(O632,Cadastros!A:F,6,0),\"\")","v":""},{"$f":"IFERROR(VLOOKUP(O632,Cadastros!A:I,9,0),\"\")","v":""},"","","",null,{"$f":"INDEX(Tabela.abordagens[],SMALL(IF(Tabela.abordagens[Mês]=$L$2,ROW(Tabela.abordagens[id])-2),ROW(A585)),1)","v":{"$error":"#NUM!"}},{"$f":"INDEX(Tabela.abordagens[],SMALL(IF(Tabela.abordagens[Mês]=$L$2,ROW(Tabela.abordagens[Idade])-2),ROW(A585)),6)","v":{"$error":"#NUM!"}},{"$f":"INDEX(Tabela.abordagens[],SMALL(IF(Tabela.abordagens[Mês]=$L$2,ROW(Tabela.abordagens[Idade])-2),ROW(A585)),4)","v":{"$error":"#NUM!"}},{"$f":"INDEX(Tabela.abordagens[],SMALL(IF(Tabela.abordagens[Mês]=$L$2,ROW(Tabela.abordagens[Idade])-2),ROW(A585)),5)","v":{"$error":"#NUM!"}}]
[null,{"$f":"INDEX(Tabela.frequencia[],SMALL(IF(Tabela.frequencia[Mês]=$L$2,ROW(Tabela.frequencia[id])-1),ROW(A586)),1)","v":{"$error":"#NUM!"}},{"$f":"INDEX(Tabela.frequencia[],SMALL(IF(Tabela.frequencia[Mês]=$L$2,ROW(Tabela.frequencia[id])-1),ROW(A586)),4)","v":{"$error":"#NUM!"}},null,{"$f":"IFERROR(VLOOKUP(D633,Tabela.cadastro[[ID]:[Nome]],2,0),\"\")","v":""},{"$f":"IFERROR(VLOOKUP(D633,Tabela66[#All],2,0),\"\")","v":""},{"$f":"IFERROR(VLOOKUP(D633,Tabela.cadastro[[ID]:[CP ou M]],5,0),\"\")","v":""},{"$f":"IFERROR(VLOOKUP(D633,Cadastros!A:F,6,0),\"\")","v":""},{"$f":"IFERROR(VLOOKUP(D633,Cadastros!A:I,9,0),\"\")","v":""},{"$f":"IFERROR(VLOOKUP(D633,Cadastros!A:J,10,0),\"\")","v":""},{"$f":"IF(COUNTIF(Tabela66[id],D633)=0,\"\",COUNTIF(Tabela66[id],D633))","v":""},null,"",null,null,{"$f":"IFERROR(VLOOKUP(O633,Cadastros!A:B,2),\"\")","v":""},"",{"$f":"IFERROR(VLOOKUP(O633,Cadastros!A:E,5,0),\"\")","v":""},{"$f":"IFERROR(VLOOKUP(O633,Cadastros!A:F,6,0),\"\")","v":""},{"$f":"IFERROR(VLOOKUP(O633,Cadastros!A:I,9,0),\"\")","v":""},"","","",null,{"$f":"INDEX(Tabela.abordagens[],SMALL(IF(Tabela.abordagens[Mês]=$L$2,ROW(Tabela.abordagens[id])-2),ROW(A586)),1)","v":{"$error":"#NUM!"}},{"$f":"INDEX(Tabela.abordagens[],SMALL(IF(Tabela.abordagens[Mês]=$L$2,ROW(Tabela.abordagens[Idade])-2),ROW(A586)),6)","v":{"$error":"#NUM!"}},{"$f":"INDEX(Tabela.abordagens[],SMALL(IF(Tabela.abordagens[Mês]=$L$2,ROW(Tabela.abordagens[Idade])-2),ROW(A586)),4)","v":{"$error":"#NUM!"}},{"$f":"INDEX(Tabela.abordagens[],SMALL(IF(Tabela.abordagens[Mês]=$L$2,ROW(Tabela.abordagens[Idade])-2),ROW(A586)),5)","v":{"$error":"#NUM!"}}]
[null,{"$f":"INDEX(Tabela.frequencia[],SMALL(IF(Tabela.frequencia[Mês]=$L$2,ROW(Tabela.frequencia[id])-1),ROW(A587)),1)","v":{"$error":"#NUM!"}},{"$f":"INDEX(Tabela.frequencia[],SMALL(IF(Tabela.frequencia[Mês]=$L$2,ROW(Tabela.frequencia[id])-1),ROW(A587)),4)","v":{"$error":"#NUM!"}},null,{"$f":"IFERROR(VLOOKUP(D634,Tabela.cadastro[[ID]:[Nome]],2,0),\"\")","v":""},{"$f":"IFERROR(VLOOKUP(D634,Tabela66[#All],2,0),\"\")","v":""},{"$f":"IFERROR(VLOOKUP(D634,Tabela.cadastro[[ID]:[CP ou M]],5,0),\"\")","v":""},{"$f":"IFERROR(VLOOKUP(D634,Cadastros!A:F,6,0),\"\")","v":""},{"$f":"IFERROR(VLOOKUP(D634,Cadastros!A:I,9,0),\"\")","v":""},{"$f":"IFERROR(VLOOKUP(D634,Cadastros!A:J,10,0),\"\")","v":""},{"$f":"IF(COUNTIF(Tabela66[id],D634)=0,\"\",COUNTIF(Tabela66[id],D634))","v":""},null,"",null,null,{"$f":"IFERROR(VLOOKUP(O634,Cadastros!A:B,2),\"\")","v":""},"",{"$f":"IFERROR(VLOOKUP(O634,Cadastros!A:E,5,0),\"\")","v":""},{"$f":"IFERROR(VLOOKUP(O634,Cadastros!A:F,6,0),\"\")","v":""},{"$f":"IFERROR(VLOOKUP(O634,Cadastros!A:I,9,0),\"\")","v":""},"","","",null,{"$f":"INDEX(Tabela.abordagens[],SMALL(IF(Tabela.abordagens[Mês]=$L$2,ROW(Tabela.abordagens[id])-2),ROW(A587)),1)","v":{"$error":"#NUM!"}},{"$f":"INDEX(Tabela.abordagens[],SMALL(IF(Tabela.abordagens[Mês]=$L$2,ROW(Tabela.abordagens[Idade])-2),ROW(A587)),6)","v":{"$error":"#NUM!"}},{"$f":"INDEX(Tabela.abordagens[],SMALL(IF(Tabela.abordagens[Mês]=$L$2,ROW(Tabela.abordagens[Idade])-2),ROW(A587)),4)","v":{"$error":"#NUM!"}},{"$f":"INDEX(Tabela.abordagens[],SMALL(IF(Tabela.abordagens[Mês]=$L$2,ROW(Tabela.abordagens[Idade])-2),ROW(A587)),5)","v":{"$error":"#NUM!"}}]
[null,{"$f":"INDEX(Tabela.frequencia[],SMALL(IF(Tabela.frequencia[Mês]=$L$2,ROW(Tabela.frequencia[id])-1),ROW(A588)),1)","v":{"$error":"#NUM!"}},{"$f":"INDEX(Tabela.frequencia[],SMALL(IF(Tabela.frequencia[Mês]=$L$2,ROW(Tabela.frequencia[id])-1),ROW(A588)),4)","v":{"$error":"#NUM!"}},null,{"$f":"IFERROR(VLOOKUP(D635,Tabela.cadastro[[ID]:[Nome]],2,0),\"\")","v":""},{"$f":"IFERROR(VLOOKUP(D635,Tabela66[#All],2,0),\"\")","v":""},{"$f":"IFERROR(VLOOKUP(D635,Tabela.cadastro[[ID]:[CP ou M]],5,0),\"\")","v":""},{"$f":"IFERROR(VLOOKUP(D635,Cadastros!A:F,6,0),\"\")","v":""},{"$f":"IFERROR(VLOOKUP(D635,Cadastros!A:I,9,0),\"\")","v":""},{"$f":"IFERROR(VLOOKUP(D635,Cadastros!A:J,10,0),\"\")","v":""},{"$f":"IF(COUNTIF(Tabela66[id],D635)=0,\"\",COUNTIF(Tabela66[id],D635))","v":""},null,"",null,null,{"$f":"IFERROR(VLOOKUP(O635,Cadastros!A:B,2),\"\")","v":""},"",{"$f":"IFERROR(VLOOKUP(O635,Cadastros!A:E,5,0),\"\")","v":""},{"$f":"IFERROR(VLOOKUP(O635,Cadastros!A:F,6,0),\"\")","v":""},{"$f":"IFERROR(VLOOKUP(O635,Cadastros!A:I,9,0),\"\")","v":""},"","","",null,{"$f":"INDEX(Tabela.abordagens[],SMALL(IF(Tabela.abordagens[Mês]=$L$2,ROW(Tabela.abordagens[id])-2),ROW(A588)),1)","v":{"$error":"#NUM!"}},{"$f":"INDEX(Tabela.abordagens[],SMALL(IF(Tabela.abordagens[Mês]=$L$2,ROW(Tabela.abordagens[Idade])-2),ROW(A588)),6)","v":{"$error":"#NUM!"}},{"$f":"INDEX(Tabela.abordagens[],SMALL(IF(Tabela.abordagens[Mês]=$L$2,ROW(Tabela.abordagens[Idade])-2),ROW(A588)),4)","v":{"$error":"#NUM!"}},{"$f":"INDEX(Tabela.abordagens[],SMALL(IF(Tabela.abordagens[Mês]=$L$2,ROW(Tabela.abordagens[Idade])-2),ROW(A588)),5)","v":{"$error":"#NUM!"}}]
[null,{"$f":"INDEX(Tabela.frequencia[],SMALL(IF(Tabela.frequencia[Mês]=$L$2,ROW(Tabela.frequencia[id])-1),ROW(A589)),1)","v":{"$error":"#NUM!"}},{"$f":"INDEX(Tabela.frequencia[],SMALL(IF(Tabela.frequencia[Mês]=$L$2,ROW(Tabela.frequencia[id])-1),ROW(A589)),4)","v":{"$error":"#NUM!"}},null,{"$f":"IFERROR(VLOOKUP(D636,Tabela.cadastro[[ID]:[Nome]],2,0),\"\")","v":""},{"$f":"IFERROR(VLOOKUP(D636,Tabela66[#All],2,0),\"\")","v":""},{"$f":"IFERROR(VLOOKUP(D636,Tabela.cadastro[[ID]:[CP ou M]],5,0),\"\")","v":""},{"$f":"IFERROR(VLOOKUP(D636,Cadastros!A:F,6,0),\"\")","v":""},{"$f":"IFERROR(VLOOKUP(D636,Cadastros!A:I,9,0),\"\")","v":""},{"$f":"IFERROR(VLOOKUP(D636,Cadastros!A:J,10,0),\"\")","v":""},{"$f":"IF(COUNTIF(Tabela66[id],D636)=0,\"\",COUNTIF(Tabela66[id],D636))","v":""},null,"",null,null,{"$f":"IFERROR(VLOOKUP(O636,Cadastros!A:B,2),\"\")","v":""},"",{"$f":"IFERROR(VLOOKUP(O636,Cadastros!A:E,5,0),\"\")","v":""},{"$f":"IFERROR(VLOOKUP(O636,Cadastros!A:F,6,0),\"\")","v":""},{"$f":"IFERROR(VLOOKUP(O636,Cadastros!A:I,9,0),\"\")","v":""},"","","",null,{"$f":"INDEX(Tabela.abordagens[],SMALL(IF(Tabela.abordagens[Mês]=$L$2,ROW(Tabela.abordagens[id])-2),ROW(A589)),1)","v":{"$error":"#NUM!"}},{"$f":"INDEX(Tabela.abordagens[],SMALL(IF(Tabela.abordagens[Mês]=$L$2,ROW(Tabela.abordagens[Idade])-2),ROW(A589)),6)","v":{"$error":"#NUM!"}},{"$f":"INDEX(Tabela.abordagens[],SMALL(IF(Tabela.abordagens[Mês]=$L$2,ROW(Tabela.abordagens[Idade])-2),ROW(A589)),4)","v":{"$error":"#NUM!"}},{"$f":"INDEX(Tabela.abordagens[],SMALL(IF(Tabela.abordagens[Mês]=$L$2,ROW(Tabela.abordagens[Idade])-2),ROW(A589)),5)","v":{"$error":"#NUM!"}}]
[null,{"$f":"INDEX(Tabela.frequencia[],SMALL(IF(Tabela.frequencia[Mês]=$L$2,ROW(Tabela.frequencia[id])-1),ROW(A590)),1)","v":{"$error":"#NUM!"}},{"$f":"INDEX(Tabela.frequencia[],SMALL(IF(Tabela.frequencia[Mês]=$L$2,ROW(Tabela.frequencia[id])-1),ROW(A590)),4)","v":{"$error":"#NUM!"}},null,{"$f":"IFERROR(VLOOKUP(D637,Tabela.cadastro[[ID]:[Nome]],2,0),\"\")","v":""},{"$f":"IFERROR(VLOOKUP(D637,Tabela66[#All],2,0),\"\")","v":""},{"$f":"IFERROR(VLOOKUP(D637,Tabela.cadastro[[ID]:[CP ou M]],5,0),\"\")","v":""},{"$f":"IFERROR(VLOOKUP(D637,Cadastros!A:F,6,0),\"\")","v":""},{"$f":"IFERROR(VLOOKUP(D637,Cadastros!A:I,9,0),\"\")","v":""},{"$f":"IFERROR(VLOOKUP(D637,Cadastros!A:J,10,0),\"\")","v":""},{"$f":"IF(COUNTIF(Tabela66[id],D637)=0,\"\",COUNTIF(Tabela66[id],D637))","v":""},null,"",null,null,{"$f":"IFERROR(VLOOKUP(O637,Cadastros!A:B,2),\"\")","v":""},"",{"$f":"IFERROR(VLOOKUP(O637,Cadastros!A:E,5,0),\"\")","v":""},{"$f":"IFERROR(VLOOKUP(O637,Cadastros!A:F,6,0),\"\")","v":""},{"$f":"IFERROR(VLOOKUP(O637,Cadastros!A:I,9,0),\"\")","v":""},"","","",null,{"$f":"INDEX(Tabela.abordagens[],SMALL(IF(Tabela.abordagens[Mês]=$L$2,ROW(Tabela.abordagens[id])-2),ROW(A590)),1)","v":{"$error":"#NUM!"}},{"$f":"INDEX(Tabela.abordagens[],SMALL(IF(Tabela.abordagens[Mês]=$L$2,ROW(Tabela.abordagens[Idade])-2),ROW(A590)),6)","v":{"$error":"#NUM!"}},{"$f":"INDEX(Tabela.abordagens[],SMALL(IF(Tabela.abordagens[Mês]=$L$2,ROW(Tabela.abordagens[Idade])-2),ROW(A590)),4)","v":{"$error":"#NUM!"}},{"$f":"INDEX(Tabela.abordagens[],SMALL(IF(Tabela.abordagens[Mês]=$L$2,ROW(Tabela.abordagens[Idade])-2),ROW(A590)),5)","v":{"$error":"#NUM!"}}]
[null,{"$f":"INDEX(Tabela.frequencia[],SMALL(IF(Tabela.frequencia[Mês]=$L$2,ROW(Tabela.frequencia[id])-1),ROW(A591)),1)","v":{"$error":"#NUM!"}},{"$f":"INDEX(Tabela.frequencia[],SMALL(IF(Tabela.frequencia[Mês]=$L$2,ROW(Tabela.frequencia[id])-1),ROW(A591)),4)","v":{"$error":"#NUM!"}},null,{"$f":"IFERROR(VLOOKUP(D638,Tabela.cadastro[[ID]:[Nome]],2,0),\"\")","v":""},{"$f":"IFERROR(VLOOKUP(D638,Tabela66[#All],2,0),\"\")","v":""},{"$f":"IFERROR(VLOOKUP(D638,Tabela.cadastro[[ID]:[CP ou M]],5,0),\"\")","v":""},{"$f":"IFERROR(VLOOKUP(D638,Cadastros!A:F,6,0),\"\")","v":""},{"$f":"IFERROR(VLOOKUP(D638,Cadastros!A:I,9,0),\"\")","v":""},{"$f":"IFERROR(VLOOKUP(D638,Cadastros!A:J,10,0),\"\")","v":""},{"$f":"IF(COUNTIF(Tabela66[id],D638)=0,\"\",COUNTIF(Tabela66[id],D638))","v":""},null,"",null,null,{"$f":"IFERROR(VLOOKUP(O638,Cadastros!A:B,2),\"\")","v":""},"",{"$f":"IFERROR(VLOOKUP(O638,Cadastros!A:E,5,0),\"\")","v":""},{"$f":"IFERROR(VLOOKUP(O638,Cadastros!A:F,6,0),\"\")","v":""},{"$f":"IFERROR(VLOOKUP(O638,Cadastros!A:I,9,0),\"\")","v":""},"","","",null,{"$f":"INDEX(Tabela.abordagens[],SMALL(IF(Tabela.abordagens[Mês]=$L$2,ROW(Tabela.abordagens[id])-2),ROW(A591)),1)","v":{"$error":"#NUM!"}},{"$f":"INDEX(Tabela.abordagens[],SMALL(IF(Tabela.abordagens[Mês]=$L$2,ROW(Tabela.abordagens[Idade])-2),ROW(A591)),6)","v":{"$error":"#NUM!"}},{"$f":"INDEX(Tabela.abordagens[],SMALL(IF(Tabela.abordagens[Mês]=$L$2,ROW(Tabela.abordagens[Idade])-2),ROW(A591)),4)","v":{"$error":"#NUM!"}},{"$f":"INDEX(Tabela.abordagens[],SMALL(IF(Tabela.abordagens[Mês]=$L$2,ROW(Tabela.abordagens[Idade])-2),ROW(A591)),5)","v":{"$error":"#NUM!"}}]
[null,{"$f":"INDEX(Tabela.frequencia[],SMALL(IF(Tabela.frequencia[Mês]=$L$2,ROW(Tabela.frequencia[id])-1),ROW(A592)),1)","v":{"$error":"#NUM!"}},{"$f":"INDEX(Tabela.frequencia[],SMALL(IF(Tabela.frequencia[Mês]=$L$2,ROW(Tabela.frequencia[id])-1),ROW(A592)),4)","v":{"$error":"#NUM!"}},null,{"$f":"IFERROR(VLOOKUP(D639,Tabela.cadastro[[ID]:[Nome]],2,0),\"\")","v":""},{"$f":"IFERROR(VLOOKUP(D639,Tabela66[#All],2,0),\"\")","v":""},{"$f":"IFERROR(VLOOKUP(D639,Tabela.cadastro[[ID]:[CP ou M]],5,0),\"\")","v":""},{"$f":"IFERROR(VLOOKUP(D639,Cadastros!A:F,6,0),\"\")","v":""},{"$f":"IFERROR(VLOOKUP(D639,Cadastros!A:I,9,0),\"\")","v":""},{"$f":"IFERROR(VLOOKUP(D639,Cadastros!A:J,10,0),\"\")","v":""},{"$f":"IF(COUNTIF(Tabela66[id],D639)=0,\"\",COUNTIF(Tabela66[id],D639))","v":""},null,"",null,null,{"$f":"IFERROR(VLOOKUP(O639,Cadastros!A:B,2),\"\")","v":""},"",{"$f":"IFERROR(VLOOKUP(O639,Cadastros!A:E,5,0),\"\")","v":""},{"$f":"IFERROR(VLOOKUP(O639,Cadastros!A:F,6,0),\"\")","v":""},{"$f":"IFERROR(VLOOKUP(O639,Cadastros!A:I,9,0),\"\")","v":""},"","","",null,{"$f":"INDEX(Tabela.abordagens[],SMALL(IF(Tabela.abordagens[Mês]=$L$2,ROW(Tabela.abordagens[id])-2),ROW(A592)),1)","v":{"$error":"#NUM!"}},{"$f":"INDEX(Tabela.abordagens[],SMALL(IF(Tabela.abordagens[Mês]=$L$2,ROW(Tabela.abordagens[Idade])-2),ROW(A592)),6)","v":{"$error":"#NUM!"}},{"$f":"INDEX(Tabela.abordagens[],SMALL(IF(Tabela.abordagens[Mês]=$L$2,ROW(Tabela.abordagens[Idade])-2),ROW(A592)),4)","v":{"$error":"#NUM!"}},{"$f":"INDEX(Tabela.abordagens[],SMALL(IF(Tabela.abordagens[Mês]=$L$2,ROW(Tabela.abordagens[Idade])-2),ROW(A592)),5)","v":{"$error":"#NUM!"}}]
[null,{"$f":"INDEX(Tabela.frequencia[],SMALL(IF(Tabela.frequencia[Mês]=$L$2,ROW(Tabela.frequencia[id])-1),ROW(A593)),1)","v":{"$error":"#NUM!"}},{"$f":"INDEX(Tabela.frequencia[],SMALL(IF(Tabela.frequencia[Mês]=$L$2,ROW(Tabela.frequencia[id])-1),ROW(A593)),4)","v":{"$error":"#NUM!"}},null,{"$f":"IFERROR(VLOOKUP(D640,Tabela.cadastro[[ID]:[Nome]],2,0),\"\")","v":""},{"$f":"IFERROR(VLOOKUP(D640,Tabela66[#All],2,0),\"\")","v":""},{"$f":"IFERROR(VLOOKUP(D640,Tabela.cadastro[[ID]:[CP ou M]],5,0),\"\")","v":""},{"$f":"IFERROR(VLOOKUP(D640,Cadastros!A:F,6,0),\"\")","v":""},{"$f":"IFERROR(VLOOKUP(D640,Cadastros!A:I,9,0),\"\")","v":""},{"$f":"IFERROR(VLOOKUP(D640,Cadastros!A:J,10,0),\"\")","v":""},{"$f":"IF(COUNTIF(Tabela66[id],D640)=0,\"\",COUNTIF(Tabela66[id],D640))","v":""},null,"",null,null,{"$f":"IFERROR(VLOOKUP(O640,Cadastros!A:B,2),\"\")","v":""},"",{"$f":"IFERROR(VLOOKUP(O640,Cadastros!A:E,5,0),\"\")","v":""},{"$f":"IFERROR(VLOOKUP(O640,Cadastros!A:F,6,0),\"\")","v":""},{"$f":"IFERROR(VLOOKUP(O640,Cadastros!A:I,9,0),\"\")","v":""},"","","",null,{"$f":"INDEX(Tabela.abordagens[],SMALL(IF(Tabela.abordagens[Mês]=$L$2,ROW(Tabela.abordagens[id])-2),ROW(A593)),1)","v":{"$error":"#NUM!"}},{"$f":"INDEX(Tabela.abordagens[],SMALL(IF(Tabela.abordagens[Mês]=$L$2,ROW(Tabela.abordagens[Idade])-2),ROW(A593)),6)","v":{"$error":"#NUM!"}},{"$f":"INDEX(Tabela.abordagens[],SMALL(IF(Tabela.abordagens[Mês]=$L$2,ROW(Tabela.abordagens[Idade])-2),ROW(A593)),4)","v":{"$error":"#NUM!"}},{"$f":"INDEX(Tabela.abordagens[],SMALL(IF(Tabela.abordagens[Mês]=$L$2,ROW(Tabela.abordagens[Idade])-2),ROW(A593)),5)","v":{"$error":"#NUM!"}}]
[null,{"$f":"INDEX(Tabela.frequencia[],SMALL(IF(Tabela.frequencia[Mês]=$L$2,ROW(Tabela.frequencia[id])-1),ROW(A594)),1)","v":{"$error":"#NUM!"}},{"$f":"INDEX(Tabela.frequencia[],SMALL(IF(Tabela.frequencia[Mês]=$L$2,ROW(Tabela.frequencia[id])-1),ROW(A594)),4)","v":{"$error":"#NUM!"}},null,{"$f":"IFERROR(VLOOKUP(D641,Tabela.cadastro[[ID]:[Nome]],2,0),\"\")","v":""},{"$f":"IFERROR(VLOOKUP(D641,Tabela66[#All],2,0),\"\")","v":""},{"$f":"IFERROR(VLOOKUP(D641,Tabela.cadastro[[ID]:[CP ou M]],5,0),\"\")","v":""},{"$f":"IFERROR(VLOOKUP(D641,Cadastros!A:F,6,0),\"\")","v":""},{"$f":"IFERROR(VLOOKUP(D641,Cadastros!A:I,9,0),\"\")","v":""},{"$f":"IFERROR(VLOOKUP(D641,Cadastros!A:J,10,0),\"\")","v":""},{"$f":"IF(COUNTIF(Tabela66[id],D641)=0,\"\",COUNTIF(Tabela66[id],D641))","v":""},null,"",null,null,{"$f":"IFERROR(VLOOKUP(O641,Cadastros!A:B,2),\"\")","v":""},"",{"$f":"IFERROR(VLOOKUP(O641,Cadastros!A:E,5,0),\"\")","v":""},{"$f":"IFERROR(VLOOKUP(O641,Cadastros!A:F,6,0),\"\")","v":""},{"$f":"IFERROR(VLOOKUP(O641,Cadastros!A:I,9,0),\"\")","v":""},"","","",null,{"$f":"INDEX(Tabela.abordagens[],SMALL(IF(Tabela.abordagens[Mês]=$L$2,ROW(Tabela.abordagens[id])-2),ROW(A594)),1)","v":{"$error":"#NUM!"}},{"$f":"INDEX(Tabela.abordagens[],SMALL(IF(Tabela.abordagens[Mês]=$L$2,ROW(Tabela.abordagens[Idade])-2),ROW(A594)),6)","v":{"$error":"#NUM!"}},{"$f":"INDEX(Tabela.abordagens[],SMALL(IF(Tabela.abordagens[Mês]=$L$2,ROW(Tabela.abordagens[Idade])-2),ROW(A594)),4)","v":{"$error":"#NUM!"}},{"$f":"INDEX(Tabela.abordagens[],SMALL(IF(Tabela.abordagens[Mês]=$L$2,ROW(Tabela.abordagens[Idade])-2),ROW(A594)),5)","v":{"$error":"#NUM!"}}]
[null,{"$f":"INDEX(Tabela.frequencia[],SMALL(IF(Tabela.frequencia[Mês]=$L$2,ROW(Tabela.frequencia[id])-1),ROW(A595)),1)","v":{"$error":"#NUM!"}},{"$f":"INDEX(Tabela.frequencia[],SMALL(IF(Tabela.frequencia[Mês]=$L$2,ROW(Tabela.frequencia[id])-1),ROW(A595)),4)","v":{"$error":"#NUM!"}},null,{"$f":"IFERROR(VLOOKUP(D642,Tabela.cadastro[[ID]:[Nome]],2,0),\"\")","v":""},{"$f":"IFERROR(VLOOKUP(D642,Tabela66[#All],2,0),\"\")","v":""},{"$f":"IFERROR(VLOOKUP(D642,Tabela.cadastro[[ID]:[CP ou M]],5,0),\"\")","v":""},{"$f":"IFERROR(VLOOKUP(D642,Cadastros!A:F,6,0),\"\")","v":""},{"$f":"IFERROR(VLOOKUP(D642,Cadastros!A:I,9,0),\"\")","v":""},{"$f":"IFERROR(VLOOKUP(D642,Cadastros!A:J,10,0),\"\")","v":""},{"$f":"IF(COUNTIF(Tabela66[id],D642)=0,\"\",COUNTIF(Tabela66[id],D642))","v":""},null,"",null,null,{"$f":"IFERROR(VLOOKUP(O642,Cadastros!A:B,2),\"\")","v":""},"",{"$f":"IFERROR(VLOOKUP(O642,Cadastros!A:E,5,0),\"\")","v":""},{"$f":"IFERROR(VLOOKUP(O642,Cadastros!A:F,6,0),\"\")","v":""},{"$f":"IFERROR(VLOOKUP(O642,Cadastros!A:I,9,0),\"\")","v":""},"","","",null,{"$f":"INDEX(Tabela.abordagens[],SMALL(IF(Tabela.abordagens[Mês]=$L$2,ROW(Tabela.abordagens[id])-2),ROW(A595)),1)","v":{"$error":"#NUM!"}},{"$f":"INDEX(Tabela.abordagens[],SMALL(IF(Tabela.abordagens[Mês]=$L$2,ROW(Tabela.abordagens[Idade])-2),ROW(A595)),6)","v":{"$error":"#NUM!"}},{"$f":"INDEX(Tabela.abordagens[],SMALL(IF(Tabela.abordagens[Mês]=$L$2,ROW(Tabela.abordagens[Idade])-2),ROW(A595)),4)","v":{"$error":"#NUM!"}},{"$f":"INDEX(Tabela.abordagens[],SMALL(IF(Tabela.abordagens[Mês]=$L$2,ROW(Tabela.abordagens[Idade])-2),ROW(A595)),5)","v":{"$error":"#NUM!"}}]
[null,{"$f":"INDEX(Tabela.frequencia[],SMALL(IF(Tabela.frequencia[Mês]=$L$2,ROW(Tabela.frequencia[id])-1),ROW(A596)),1)","v":{"$error":"#NUM!"}},{"$f":"INDEX(Tabela.frequencia[],SMALL(IF(Tabela.frequencia[Mês]=$L$2,ROW(Tabela.frequencia[id])-1),ROW(A596)),4)","v":{"$error":"#NUM!"}},null,{"$f":"IFERROR(VLOOKUP(D643,Tabela.cadastro[[ID]:[Nome]],2,0),\"\")","v":""},{"$f":"IFERROR(VLOOKUP(D643,Tabela66[#All],2,0),\"\")","v":""},{"$f":"IFERROR(VLOOKUP(D643,Tabela.cadastro[[ID]:[CP ou M]],5,0),\"\")","v":""},{"$f":"IFERROR(VLOOKUP(D643,Cadastros!A:F,6,0),\"\")","v":""},{"$f":"IFERROR(VLOOKUP(D643,Cadastros!A:I,9,0),\"\")","v":""},{"$f":"IFERROR(VLOOKUP(D643,Cadastros!A:J,10,0),\"\")","v":""},{"$f":"IF(COUNTIF(Tabela66[id],D643)=0,\"\",COUNTIF(Tabela66[id],D643))","v":""},null,"",null,null,{"$f":"IFERROR(VLOOKUP(O643,Cadastros!A:B,2),\"\")","v":""},"",{"$f":"IFERROR(VLOOKUP(O643,Cadastros!A:E,5,0),\"\")","v":""},{"$f":"IFERROR(VLOOKUP(O643,Cadastros!A:F,6,0),\"\")","v":""},{"$f":"IFERROR(VLOOKUP(O643,Cadastros!A:I,9,0),\"\")","v":""},"","","",null,{"$f":"INDEX(Tabela.abordagens[],SMALL(IF(Tabela.abordagens[Mês]=$L$2,ROW(Tabela.abordagens[id])-2),ROW(A596)),1)","v":{"$error":"#NUM!"}},{"$f":"INDEX(Tabela.abordagens[],SMALL(IF(Tabela.abordagens[Mês]=$L$2,ROW(Tabela.abordagens[Idade])-2),ROW(A596)),6)","v":{"$error":"#NUM!"}},{"$f":"INDEX(Tabela.abordagens[],SMALL(IF(Tabela.abordagens[Mês]=$L$2,ROW(Tabela.abordagens[Idade])-2),ROW(A596)),4)","v":{"$error":"#NUM!"}},{"$f":"INDEX(Tabela.abordagens[],SMALL(IF(Tabela.abordagens[Mês]=$L$2,ROW(Tabela.abordagens[Idade])-2),ROW(A596)),5)","v":{"$error":"#NUM!"}}]
[null,{"$f":"INDEX(Tabela.frequencia[],SMALL(IF(Tabela.frequencia[Mês]=$L$2,ROW(Tabela.frequencia[id])-1),ROW(A597)),1)","v":{"$error":"#NUM!"}},{"$f":"INDEX(Tabela.frequencia[],SMALL(IF(Tabela.frequencia[Mês]=$L$2,ROW(Tabela.frequencia[id])-1),ROW(A597)),4)","v":{"$error":"#NUM!"}},null,{"$f":"IFERROR(VLOOKUP(D644,Tabela.cadastro[[ID]:[Nome]],2,0),\"\")","v":""},{"$f":"IFERROR(VLOOKUP(D644,Tabela66[#All],2,0),\"\")","v":""},{"$f":"IFERROR(VLOOKUP(D644,Tabela.cadastro[[ID]:[CP ou M]],5,0),\"\")","v":""},{"$f":"IFERROR(VLOOKUP(D644,Cadastros!A:F,6,0),\"\")","v":""},{"$f":"IFERROR(VLOOKUP(D644,Cadastros!A:I,9,0),\"\")","v":""},{"$f":"IFERROR(VLOOKUP(D644,Cadastros!A:J,10,0),\"\")","v":""},{"$f":"IF(COUNTIF(Tabela66[id],D644)=0,\"\",COUNTIF(Tabela66[id],D644))","v":""},null,"",null,null,{"$f":"IFERROR(VLOOKUP(O644,Cadastros!A:B,2),\"\")","v":""},"",{"$f":"IFERROR(VLOOKUP(O644,Cadastros!A:E,5,0),\"\")","v":""},{"$f":"IFERROR(VLOOKUP(O644,Cadastros!A:F,6,0),\"\")","v":""},{"$f":"IFERROR(VLOOKUP(O644,Cadastros!A:I,9,0),\"\")","v":""},"","","",null,{"$f":"INDEX(Tabela.abordagens[],SMALL(IF(Tabela.abordagens[Mês]=$L$2,ROW(Tabela.abordagens[id])-2),ROW(A597)),1)","v":{"$error":"#NUM!"}},{"$f":"INDEX(Tabela.abordagens[],SMALL(IF(Tabela.abordagens[Mês]=$L$2,ROW(Tabela.abordagens[Idade])-2),ROW(A597)),6)","v":{"$error":"#NUM!"}},{"$f":"INDEX(Tabela.abordagens[],SMALL(IF(Tabela.abordagens[Mês]=$L$2,ROW(Tabela.abordagens[Idade])-2),ROW(A597)),4)","v":{"$error":"#NUM!"}},{"$f":"INDEX(Tabela.abordagens[],SMALL(IF(Tabela.abordagens[Mês]=$L$2,ROW(Tabela.abordagens[Idade])-2),ROW(A597)),5)","v":{"$error":"#NUM!"}}]
[null,{"$f":"INDEX(Tabela.frequencia[],SMALL(IF(Tabela.frequencia[Mês]=$L$2,ROW(Tabela.frequencia[id])-1),ROW(A598)),1)","v":{"$error":"#NUM!"}},{"$f":"INDEX(Tabela.frequencia[],SMALL(IF(Tabela.frequencia[Mês]=$L$2,ROW(Tabela.frequencia[id])-1),ROW(A598)),4)","v":{"$error":"#NUM!"}},null,{"$f":"IFERROR(VLOOKUP(D645,Tabela.cadastro[[ID]:[Nome]],2,0),\"\")","v":""},{"$f":"IFERROR(VLOOKUP(D645,Tabela66[#All],2,0),\"\")","v":""},{"$f":"IFERROR(VLOOKUP(D645,Tabela.cadastro[[ID]:[CP ou M]],5,0),\"\")","v":""},{"$f":"IFERROR(VLOOKUP(D645,Cadastros!A:F,6,0),\"\")","v":""},{"$f":"IFERROR(VLOOKUP(D645,Cadastros!A:I,9,0),\"\")","v":""},{"$f":"IFERROR(VLOOKUP(D645,Cadastros!A:J,10,0),\"\")","v":""},{"$f":"IF(COUNTIF(Tabela66[id],D645)=0,\"\",COUNTIF(Tabela66[id],D645))","v":""},null,"",null,null,{"$f":"IFERROR(VLOOKUP(O645,Cadastros!A:B,2),\"\")","v":""},"",{"$f":"IFERROR(VLOOKUP(O645,Cadastros!A:E,5,0),\"\")","v":""},{"$f":"IFERROR(VLOOKUP(O645,Cadastros!A:F,6,0),\"\")","v":""},{"$f":"IFERROR(VLOOKUP(O645,Cadastros!A:I,9,0),\"\")","v":""},"","","",null,{"$f":"INDEX(Tabela.abordagens[],SMALL(IF(Tabela.abordagens[Mês]=$L$2,ROW(Tabela.abordagens[id])-2),ROW(A598)),1)","v":{"$error":"#NUM!"}},{"$f":"INDEX(Tabela.abordagens[],SMALL(IF(Tabela.abordagens[Mês]=$L$2,ROW(Tabela.abordagens[Idade])-2),ROW(A598)),6)","v":{"$error":"#NUM!"}},{"$f":"INDEX(Tabela.abordagens[],SMALL(IF(Tabela.abordagens[Mês]=$L$2,ROW(Tabela.abordagens[Idade])-2),ROW(A598)),4)","v":{"$error":"#NUM!"}},{"$f":"INDEX(Tabela.abordagens[],SMALL(IF(Tabela.abordagens[Mês]=$L$2,ROW(Tabela.abordagens[Idade])-2),ROW(A598)),5)","v":{"$error":"#NUM!"}}]
[null,{"$f":"INDEX(Tabela.frequencia[],SMALL(IF(Tabela.frequencia[Mês]=$L$2,ROW(Tabela.frequencia[id])-1),ROW(A599)),1)","v":{"$error":"#NUM!"}},{"$f":"INDEX(Tabela.frequencia[],SMALL(IF(Tabela.frequencia[Mês]=$L$2,ROW(Tabela.frequencia[id])-1),ROW(A599)),4)","v":{"$error":"#NUM!"}},null,{"$f":"IFERROR(VLOOKUP(D646,Tabela.cadastro[[ID]:[Nome]],2,0),\"\")","v":""},{"$f":"IFERROR(VLOOKUP(D646,Tabela66[#All],2,0),\"\")","v":""},{"$f":"IFERROR(VLOOKUP(D646,Tabela.cadastro[[ID]:[CP ou M]],5,0),\"\")","v":""},{"$f":"IFERROR(VLOOKUP(D646,Cadastros!A:F,6,0),\"\")","v":""},{"$f":"IFERROR(VLOOKUP(D646,Cadastros!A:I,9,0),\"\")","v":""},{"$f":"IFERROR(VLOOKUP(D646,Cadastros!A:J,10,0),\"\")","v":""},{"$f":"IF(COUNTIF(Tabela66[id],D646)=0,\"\",COUNTIF(Tabela66[id],D646))","v":""},null,"",null,null,{"$f":"IFERROR(VLOOKUP(O646,Cadastros!A:B,2),\"\")","v":""},"",{"$f":"IFERROR(VLOOKUP(O646,Cadastros!A:E,5,0),\"\")","v":""},{"$f":"IFERROR(VLOOKUP(O646,Cadastros!A:F,6,0),\"\")","v":""},{"$f":"IFERROR(VLOOKUP(O646,Cadastros!A:I,9,0),\"\")","v":""},"","","",null,{"$f":"INDEX(Tabela.abordagens[],SMALL(IF(Tabela.abordagens[Mês]=$L$2,ROW(Tabela.abordagens[id])-2),ROW(A599)),1)","v":{"$error":"#NUM!"}},{"$f":"INDEX(Tabela.abordagens[],SMALL(IF(Tabela.abordagens[Mês]=$L$2,ROW(Tabela.abordagens[Idade])-2),ROW(A599)),6)","v":{"$error":"#NUM!"}},{"$f":"INDEX(Tabela.abordagens[],SMALL(IF(Tabela.abordagens[Mês]=$L$2,ROW(Tabela.abordagens[Idade])-2),ROW(A599)),4)","v":{"$error":"#NUM!"}},{"$f":"INDEX(Tabela.abordagens[],SMALL(IF(Tabela.abordagens[Mês]=$L$2,ROW(Tabela.abordagens[Idade])-2),ROW(A599)),5)","v":{"$error":"#NUM!"}}]
[null,{"$f":"INDEX(Tabela.frequencia[],SMALL(IF(Tabela.frequencia[Mês]=$L$2,ROW(Tabela.frequencia[id])-1),ROW(A600)),1)","v":{"$error":"#NUM!"}},{"$f":"INDEX(Tabela.frequencia[],SMALL(IF(Tabela.frequencia[Mês]=$L$2,ROW(Tabela.frequencia[id])-1),ROW(A600)),4)","v":{"$error":"#NUM!"}},null,{"$f":"IFERROR(VLOOKUP(D647,Tabela.cadastro[[ID]:[Nome]],2,0),\"\")","v":""},{"$f":"IFERROR(VLOOKUP(D647,Tabela66[#All],2,0),\"\")","v":""},{"$f":"IFERROR(VLOOKUP(D647,Tabela.cadastro[[ID]:[CP ou M]],5,0),\"\")","v":""},{"$f":"IFERROR(VLOOKUP(D647,Cadastros!A:F,6,0),\"\")","v":""},{"$f":"IFERROR(VLOOKUP(D647,Cadastros!A:I,9,0),\"\")","v":""},{"$f":"IFERROR(VLOOKUP(D647,Cadastros!A:J,10,0),\"\")","v":""},{"$f":"IF(COUNTIF(Tabela66[id],D647)=0,\"\",COUNTIF(Tabela66[id],D647))","v":""},null,"",null,null,{"$f":"IFERROR(VLOOKUP(O647,Cadastros!A:B,2),\"\")","v":""},"",{"$f":"IFERROR(VLOOKUP(O647,Cadastros!A:E,5,0),\"\")","v":""},{"$f":"IFERROR(VLOOKUP(O647,Cadastros!A:F,6,0),\"\")","v":""},{"$f":"IFERROR(VLOOKUP(O647,Cadastros!A:I,9,0),\"\")","v":""},"","","",null,{"$f":"INDEX(Tabela.abordagens[],SMALL(IF(Tabela.abordagens[Mês]=$L$2,ROW(Tabela.abordagens[id])-2),ROW(A600)),1)","v":{"$error":"#NUM!"}},{"$f":"INDEX(Tabela.abordagens[],SMALL(IF(Tabela.abordagens[Mês]=$L$2,ROW(Tabela.abordagens[Idade])-2),ROW(A600)),6)","v":{"$error":"#NUM!"}},{"$f":"INDEX(Tabela.abordagens[],SMALL(IF(Tabela.abordagens[Mês]=$L$2,ROW(Tabela.abordagens[Idade])-2),ROW(A600)),4)","v":{"$error":"#NUM!"}},{"$f":"INDEX(Tabela.abordagens[],SMALL(IF(Tabela.abordagens[Mês]=$L$2,ROW(Tabela.abordagens[Idade])-2),ROW(A600)),5)","v":{"$error":"#NUM!"}}]
[null,{"$f":"INDEX(Tabela.frequencia[],SMALL(IF(Tabela.frequencia[Mês]=$L$2,ROW(Tabela.frequencia[id])-1),ROW(A601)),1)","v":{"$error":"#NUM!"}},{"$f":"INDEX(Tabela.frequencia[],SMALL(IF(Tabela.frequencia[Mês]=$L$2,ROW(Tabela.frequencia[id])-1),ROW(A601)),4)","v":{"$error":"#NUM!"}},null,{"$f":"IFERROR(VLOOKUP(D648,Tabela.cadastro[[ID]:[Nome]],2,0),\"\")","v":""},{"$f":"IFERROR(VLOOKUP(D648,Tabela66[#All],2,0),\"\")","v":""},{"$f":"IFERROR(VLOOKUP(D648,Tabela.cadastro[[ID]:[CP ou M]],5,0),\"\")","v":""},{"$f":"IFERROR(VLOOKUP(D648,Cadastros!A:F,6,0),\"\")","v":""},{"$f":"IFERROR(VLOOKUP(D648,Cadastros!A:I,9,0),\"\")","v":""},{"$f":"IFERROR(VLOOKUP(D648,Cadastros!A:J,10,0),\"\")","v":""},{"$f":"IF(COUNTIF(Tabela66[id],D648)=0,\"\",COUNTIF(Tabela66[id],D648))","v":""},null,"",null,null,{"$f":"IFERROR(VLOOKUP(O648,Cadastros!A:B,2),\"\")","v":""},"",{"$f":"IFERROR(VLOOKUP(O648,Cadastros!A:E,5,0),\"\")","v":""},{"$f":"IFERROR(VLOOKUP(O648,Cadastros!A:F,6,0),\"\")","v":""},{"$f":"IFERROR(VLOOKUP(O648,Cadastros!A:I,9,0),\"\")","v":""},"","","",null,{"$f":"INDEX(Tabela.abordagens[],SMALL(IF(Tabela.abordagens[Mês]=$L$2,ROW(Tabela.abordagens[id])-2),ROW(A601)),1)","v":{"$error":"#NUM!"}},{"$f":"INDEX(Tabela.abordagens[],SMALL(IF(Tabela.abordagens[Mês]=$L$2,ROW(Tabela.abordagens[Idade])-2),ROW(A601)),6)","v":{"$error":"#NUM!"}},{"$f":"INDEX(Tabela.abordagens[],SMALL(IF(Tabela.abordagens[Mês]=$L$2,ROW(Tabela.abordagens[Idade])-2),ROW(A601)),4)","v":{"$error":"#NUM!"}},{"$f":"INDEX(Tabela.abordagens[],SMALL(IF(Tabela.abordagens[Mês]=$L$2,ROW(Tabela.abordagens[Idade])-2),ROW(A601)),5)","v":{"$error":"#NUM!"}}]
[null,{"$f":"INDEX(Tabela.frequencia[],SMALL(IF(Tabela.frequencia[Mês]=$L$2,ROW(Tabela.frequencia[id])-1),ROW(A602)),1)","v":{"$error":"#NUM!"}},{"$f":"INDEX(Tabela.frequencia[],SMALL(IF(Tabela.frequencia[Mês]=$L$2,ROW(Tabela.frequencia[id])-1),ROW(A602)),4)","v":{"$error":"#NUM!"}},null,{"$f":"IFERROR(VLOOKUP(D649,Tabela.cadastro[[ID]:[Nome]],2,0),\"\")","v":""},{"$f":"IFERROR(VLOOKUP(D649,Tabela66[#All],2,0),\"\")","v":""},{"$f":"IFERROR(VLOOKUP(D649,Tabela.cadastro[[ID]:[CP ou M]],5,0),\"\")","v":""},{"$f":"IFERROR(VLOOKUP(D649,Cadastros!A:F,6,0),\"\")","v":""},{"$f":"IFERROR(VLOOKUP(D649,Cadastros!A:I,9,0),\"\")","v":""},{"$f":"IFERROR(VLOOKUP(D649,Cadastros!A:J,10,0),\"\")","v":""},{"$f":"IF(COUNTIF(Tabela66[id],D649)=0,\"\",COUNTIF(Tabela66[id],D649))","v":""},null,"",null,null,{"$f":"IFERROR(VLOOKUP(O649,Cadastros!A:B,2),\"\")","v":""},"",{"$f":"IFERROR(VLOOKUP(O649,Cadastros!A:E,5,0),\"\")","v":""},{"$f":"IFERROR(VLOOKUP(O649,Cadastros!A:F,6,0),\"\")","v":""},{"$f":"IFERROR(VLOOKUP(O649,Cadastros!A:I,9,0),\"\")","v":""},"","","",null,{"$f":"INDEX(Tabela.abordagens[],SMALL(IF(Tabela.abordagens[Mês]=$L$2,ROW(Tabela.abordagens[id])-2),ROW(A602)),1)","v":{"$error":"#NUM!"}},{"$f":"INDEX(Tabela.abordagens[],SMALL(IF(Tabela.abordagens[Mês]=$L$2,ROW(Tabela.abordagens[Idade])-2),ROW(A602)),6)","v":{"$error":"#NUM!"}},{"$f":"INDEX(Tabela.abordagens[],SMALL(IF(Tabela.abordagens[Mês]=$L$2,ROW(Tabela.abordagens[Idade])-2),ROW(A602)),4)","v":{"$error":"#NUM!"}},{"$f":"INDEX(Tabela.abordagens[],SMALL(IF(Tabela.abordagens[Mês]=$L$2,ROW(Tabela.abordagens[Idade])-2),ROW(A602)),5)","v":{"$error":"#NUM!"}}]
[null,{"$f":"INDEX(Tabela.frequencia[],SMALL(IF(Tabela.frequencia[Mês]=$L$2,ROW(Tabela.frequencia[id])-1),ROW(A603)),1)","v":{"$error":"#NUM!"}},{"$f":"INDEX(Tabela.frequencia[],SMALL(IF(Tabela.frequencia[Mês]=$L$2,ROW(Tabela.frequencia[id])-1),ROW(A603)),4)","v":{"$error":"#NUM!"}},null,{"$f":"IFERROR(VLOOKUP(D650,Tabela.cadastro[[ID]:[Nome]],2,0),\"\")","v":""},{"$f":"IFERROR(VLOOKUP(D650,Tabela66[#All],2,0),\"\")","v":""},{"$f":"IFERROR(VLOOKUP(D650,Tabela.cadastro[[ID]:[CP ou M]],5,0),\"\")","v":""},{"$f":"IFERROR(VLOOKUP(D650,Cadastros!A:F,6,0),\"\")","v":""},{"$f":"IFERROR(VLOOKUP(D650,Cadastros!A:I,9,0),\"\")","v":""},{"$f":"IFERROR(VLOOKUP(D650,Cadastros!A:J,10,0),\"\")","v":""},{"$f":"IF(COUNTIF(Tabela66[id],D650)=0,\"\",COUNTIF(Tabela66[id],D650))","v":""},null,"",null,null,{"$f":"IFERROR(VLOOKUP(O650,Cadastros!A:B,2),\"\")","v":""},"",{"$f":"IFERROR(VLOOKUP(O650,Cadastros!A:E,5,0),\"\")","v":""},{"$f":"IFERROR(VLOOKUP(O650,Cadastros!A:F,6,0),\"\")","v":""},{"$f":"IFERROR(VLOOKUP(O650,Cadastros!A:I,9,0),\"\")","v":""},"","","",null,{"$f":"INDEX(Tabela.abordagens[],SMALL(IF(Tabela.abordagens[Mês]=$L$2,ROW(Tabela.abordagens[id])-2),ROW(A603)),1)","v":{"$error":"#NUM!"}},{"$f":"INDEX(Tabela.abordagens[],SMALL(IF(Tabela.abordagens[Mês]=$L$2,ROW(Tabela.abordagens[Idade])-2),ROW(A603)),6)","v":{"$error":"#NUM!"}},{"$f":"INDEX(Tabela.abordagens[],SMALL(IF(Tabela.abordagens[Mês]=$L$2,ROW(Tabela.abordagens[Idade])-2),ROW(A603)),4)","v":{"$error":"#NUM!"}},{"$f":"INDEX(Tabela.abordagens[],SMALL(IF(Tabela.abordagens[Mês]=$L$2,ROW(Tabela.abordagens[Idade])-2),ROW(A603)),5)","v":{"$error":"#NUM!"}}]
[null,{"$f":"INDEX(Tabela.frequencia[],SMALL(IF(Tabela.frequencia[Mês]=$L$2,ROW(Tabela.frequencia[id])-1),ROW(A604)),1)","v":{"$error":"#NUM!"}},{"$f":"INDEX(Tabela.frequencia[],SMALL(IF(Tabela.frequencia[Mês]=$L$2,ROW(Tabela.frequencia[id])-1),ROW(A604)),4)","v":{"$error":"#NUM!"}},null,{"$f":"IFERROR(VLOOKUP(D651,Tabela.cadastro[[ID]:[Nome]],2,0),\"\")","v":""},{"$f":"IFERROR(VLOOKUP(D651,Tabela66[#All],2,0),\"\")","v":""},{"$f":"IFERROR(VLOOKUP(D651,Tabela.cadastro[[ID]:[CP ou M]],5,0),\"\")","v":""},{"$f":"IFERROR(VLOOKUP(D651,Cadastros!A:F,6,0),\"\")","v":""},{"$f":"IFERROR(VLOOKUP(D651,Cadastros!A:I,9,0),\"\")","v":""},{"$f":"IFERROR(VLOOKUP(D651,Cadastros!A:J,10,0),\"\")","v":""},{"$f":"IF(COUNTIF(Tabela66[id],D651)=0,\"\",COUNTIF(Tabela66[id],D651))","v":""},null,"",null,null,{"$f":"IFERROR(VLOOKUP(O651,Cadastros!A:B,2),\"\")","v":""},"",{"$f":"IFERROR(VLOOKUP(O651,Cadastros!A:E,5,0),\"\")","v":""},{"$f":"IFERROR(VLOOKUP(O651,Cadastros!A:F,6,0),\"\")","v":""},{"$f":"IFERROR(VLOOKUP(O651,Cadastros!A:I,9,0),\"\")","v":""},"","","",null,{"$f":"INDEX(Tabela.abordagens[],SMALL(IF(Tabela.abordagens[Mês]=$L$2,ROW(Tabela.abordagens[id])-2),ROW(A604)),1)","v":{"$error":"#NUM!"}},{"$f":"INDEX(Tabela.abordagens[],SMALL(IF(Tabela.abordagens[Mês]=$L$2,ROW(Tabela.abordagens[Idade])-2),ROW(A604)),6)","v":{"$error":"#NUM!"}},{"$f":"INDEX(Tabela.abordagens[],SMALL(IF(Tabela.abordagens[Mês]=$L$2,ROW(Tabela.abordagens[Idade])-2),ROW(A604)),4)","v":{"$error":"#NUM!"}},{"$f":"INDEX(Tabela.abordagens[],SMALL(IF(Tabela.abordagens[Mês]=$L$2,ROW(Tabela.abordagens[Idade])-2),ROW(A604)),5)","v":{"$error":"#NUM!"}}]
[null,{"$f":"INDEX(Tabela.frequencia[],SMALL(IF(Tabela.frequencia[Mês]=$L$2,ROW(Tabela.frequencia[id])-1),ROW(A605)),1)","v":{"$error":"#NUM!"}},{"$f":"INDEX(Tabela.frequencia[],SMALL(IF(Tabela.frequencia[Mês]=$L$2,ROW(Tabela.frequencia[id])-1),ROW(A605)),4)","v":{"$error":"#NUM!"}},null,{"$f":"IFERROR(VLOOKUP(D652,Tabela.cadastro[[ID]:[Nome]],2,0),\"\")","v":""},{"$f":"IFERROR(VLOOKUP(D652,Tabela66[#All],2,0),\"\")","v":""},{"$f":"IFERROR(VLOOKUP(D652,Tabela.cadastro[[ID]:[CP ou M]],5,0),\"\")","v":""},{"$f":"IFERROR(VLOOKUP(D652,Cadastros!A:F,6,0),\"\")","v":""},{"$f":"IFERROR(VLOOKUP(D652,Cadastros!A:I,9,0),\"\")","v":""},{"$f":"IFERROR(VLOOKUP(D652,Cadastros!A:J,10,0),\"\")","v":""},{"$f":"IF(COUNTIF(Tabela66[id],D652)=0,\"\",COUNTIF(Tabela66[id],D652))","v":""},null,"",null,null,{"$f":"IFERROR(VLOOKUP(O652,Cadastros!A:B,2),\"\")","v":""},"",{"$f":"IFERROR(VLOOKUP(O652,Cadastros!A:E,5,0),\"\")","v":""},{"$f":"IFERROR(VLOOKUP(O652,Cadastros!A:F,6,0),\"\")","v":""},{"$f":"IFERROR(VLOOKUP(O652,Cadastros!A:I,9,0),\"\")","v":""},"","","",null,{"$f":"INDEX(Tabela.abordagens[],SMALL(IF(Tabela.abordagens[Mês]=$L$2,ROW(Tabela.abordagens[id])-2),ROW(A605)),1)","v":{"$error":"#NUM!"}},{"$f":"INDEX(Tabela.abordagens[],SMALL(IF(Tabela.abordagens[Mês]=$L$2,ROW(Tabela.abordagens[Idade])-2),ROW(A605)),6)","v":{"$error":"#NUM!"}},{"$f":"INDEX(Tabela.abordagens[],SMALL(IF(Tabela.abordagens[Mês]=$L$2,ROW(Tabela.abordagens[Idade])-2),ROW(A605)),4)","v":{"$error":"#NUM!"}},{"$f":"INDEX(Tabela.abordagens[],SMALL(IF(Tabela.abordagens[Mês]=$L$2,ROW(Tabela.abordagens[Idade])-2),ROW(A605)),5)","v":{"$error":"#NUM!"}}]
[null,{"$f":"INDEX(Tabela.frequencia[],SMALL(IF(Tabela.frequencia[Mês]=$L$2,ROW(Tabela.frequencia[id])-1),ROW(A606)),1)","v":{"$error":"#NUM!"}},{"$f":"INDEX(Tabela.frequencia[],SMALL(IF(Tabela.frequencia[Mês]=$L$2,ROW(Tabela.frequencia[id])-1),ROW(A606)),4)","v":{"$error":"#NUM!"}},null,{"$f":"IFERROR(VLOOKUP(D653,Tabela.cadastro[[ID]:[Nome]],2,0),\"\")","v":""},{"$f":"IFERROR(VLOOKUP(D653,Tabela66[#All],2,0),\"\")","v":""},{"$f":"IFERROR(VLOOKUP(D653,Tabela.cadastro[[ID]:[CP ou M]],5,0),\"\")","v":""},{"$f":"IFERROR(VLOOKUP(D653,Cadastros!A:F,6,0),\"\")","v":""},{"$f":"IFERROR(VLOOKUP(D653,Cadastros!A:I,9,0),\"\")","v":""},{"$f":"IFERROR(VLOOKUP(D653,Cadastros!A:J,10,0),\"\")","v":""},{"$f":"IF(COUNTIF(Tabela66[id],D653)=0,\"\",COUNTIF(Tabela66[id],D653))","v":""},null,"",null,null,{"$f":"IFERROR(VLOOKUP(O653,Cadastros!A:B,2),\"\")","v":""},"",{"$f":"IFERROR(VLOOKUP(O653,Cadastros!A:E,5,0),\"\")","v":""},{"$f":"IFERROR(VLOOKUP(O653,Cadastros!A:F,6,0),\"\")","v":""},{"$f":"IFERROR(VLOOKUP(O653,Cadastros!A:I,9,0),\"\")","v":""},"","","",null,{"$f":"INDEX(Tabela.abordagens[],SMALL(IF(Tabela.abordagens[Mês]=$L$2,ROW(Tabela.abordagens[id])-2),ROW(A606)),1)","v":{"$error":"#NUM!"}},{"$f":"INDEX(Tabela.abordagens[],SMALL(IF(Tabela.abordagens[Mês]=$L$2,ROW(Tabela.abordagens[Idade])-2),ROW(A606)),6)","v":{"$error":"#NUM!"}},{"$f":"INDEX(Tabela.abordagens[],SMALL(IF(Tabela.abordagens[Mês]=$L$2,ROW(Tabela.abordagens[Idade])-2),ROW(A606)),4)","v":{"$error":"#NUM!"}},{"$f":"INDEX(Tabela.abordagens[],SMALL(IF(Tabela.abordagens[Mês]=$L$2,ROW(Tabela.abordagens[Idade])-2),ROW(A606)),5)","v":{"$error":"#NUM!"}}]
[null,{"$f":"INDEX(Tabela.frequencia[],SMALL(IF(Tabela.frequencia[Mês]=$L$2,ROW(Tabela.frequencia[id])-1),ROW(A607)),1)","v":{"$error":"#NUM!"}},{"$f":"INDEX(Tabela.frequencia[],SMALL(IF(Tabela.frequencia[Mês]=$L$2,ROW(Tabela.frequencia[id])-1),ROW(A607)),4)","v":{"$error":"#NUM!"}},null,{"$f":"IFERROR(VLOOKUP(D654,Tabela.cadastro[[ID]:[Nome]],2,0),\"\")","v":""},{"$f":"IFERROR(VLOOKUP(D654,Tabela66[#All],2,0),\"\")","v":""},{"$f":"IFERROR(VLOOKUP(D654,Tabela.cadastro[[ID]:[CP ou M]],5,0),\"\")","v":""},{"$f":"IFERROR(VLOOKUP(D654,Cadastros!A:F,6,0),\"\")","v":""},{"$f":"IFERROR(VLOOKUP(D654,Cadastros!A:I,9,0),\"\")","v":""},{"$f":"IFERROR(VLOOKUP(D654,Cadastros!A:J,10,0),\"\")","v":""},{"$f":"IF(COUNTIF(Tabela66[id],D654)=0,\"\",COUNTIF(Tabela66[id],D654))","v":""},null,"",null,null,{"$f":"IFERROR(VLOOKUP(O654,Cadastros!A:B,2),\"\")","v":""},"",{"$f":"IFERROR(VLOOKUP(O654,Cadastros!A:E,5,0),\"\")","v":""},{"$f":"IFERROR(VLOOKUP(O654,Cadastros!A:F,6,0),\"\")","v":""},{"$f":"IFERROR(VLOOKUP(O654,Cadastros!A:I,9,0),\"\")","v":""},"","","",null,{"$f":"INDEX(Tabela.abordagens[],SMALL(IF(Tabela.abordagens[Mês]=$L$2,ROW(Tabela.abordagens[id])-2),ROW(A607)),1)","v":{"$error":"#NUM!"}},{"$f":"INDEX(Tabela.abordagens[],SMALL(IF(Tabela.abordagens[Mês]=$L$2,ROW(Tabela.abordagens[Idade])-2),ROW(A607)),6)","v":{"$error":"#NUM!"}},{"$f":"INDEX(Tabela.abordagens[],SMALL(IF(Tabela.abordagens[Mês]=$L$2,ROW(Tabela.abordagens[Idade])-2),ROW(A607)),4)","v":{"$error":"#NUM!"}},{"$f":"INDEX(Tabela.abordagens[],SMALL(IF(Tabela.abordagens[Mês]=$L$2,ROW(Tabela.abordagens[Idade])-2),ROW(A607)),5)","v":{"$error":"#NUM!"}}]
[null,{"$f":"INDEX(Tabela.frequencia[],SMALL(IF(Tabela.frequencia[Mês]=$L$2,ROW(Tabela.frequencia[id])-1),ROW(A608)),1)","v":{"$error":"#NUM!"}},{"$f":"INDEX(Tabela.frequencia[],SMALL(IF(Tabela.frequencia[Mês]=$L$2,ROW(Tabela.frequencia[id])-1),ROW(A608)),4)","v":{"$error":"#NUM!"}},null,{"$f":"IFERROR(VLOOKUP(D655,Tabela.cadastro[[ID]:[Nome]],2,0),\"\")","v":""},{"$f":"IFERROR(VLOOKUP(D655,Tabela66[#All],2,0),\"\")","v":""},{"$f":"IFERROR(VLOOKUP(D655,Tabela.cadastro[[ID]:[CP ou M]],5,0),\"\")","v":""},{"$f":"IFERROR(VLOOKUP(D655,Cadastros!A:F,6,0),\"\")","v":""},{"$f":"IFERROR(VLOOKUP(D655,Cadastros!A:I,9,0),\"\")","v":""},{"$f":"IFERROR(VLOOKUP(D655,Cadastros!A:J,10,0),\"\")","v":""},{"$f":"IF(COUNTIF(Tabela66[id],D655)=0,\"\",COUNTIF(Tabela66[id],D655))","v":""},null,"",null,null,{"$f":"IFERROR(VLOOKUP(O655,Cadastros!A:B,2),\"\")","v":""},"",{"$f":"IFERROR(VLOOKUP(O655,Cadastros!A:E,5,0),\"\")","v":""},{"$f":"IFERROR(VLOOKUP(O655,Cadastros!A:F,6,0),\"\")","v":""},{"$f":"IFERROR(VLOOKUP(O655,Cadastros!A:I,9,0),\"\")","v":""},"","","",null,{"$f":"INDEX(Tabela.abordagens[],SMALL(IF(Tabela.abordagens[Mês]=$L$2,ROW(Tabela.abordagens[id])-2),ROW(A608)),1)","v":{"$error":"#NUM!"}},{"$f":"INDEX(Tabela.abordagens[],SMALL(IF(Tabela.abordagens[Mês]=$L$2,ROW(Tabela.abordagens[Idade])-2),ROW(A608)),6)","v":{"$error":"#NUM!"}},{"$f":"INDEX(Tabela.abordagens[],SMALL(IF(Tabela.abordagens[Mês]=$L$2,ROW(Tabela.abordagens[Idade])-2),ROW(A608)),4)","v":{"$error":"#NUM!"}},{"$f":"INDEX(Tabela.abordagens[],SMALL(IF(Tabela.abordagens[Mês]=$L$2,ROW(Tabela.abordagens[Idade])-2),ROW(A608)),5)","v":{"$error":"#NUM!"}}]
[null,{"$f":"INDEX(Tabela.frequencia[],SMALL(IF(Tabela.frequencia[Mês]=$L$2,ROW(Tabela.frequencia[id])-1),ROW(A609)),1)","v":{"$error":"#NUM!"}},{"$f":"INDEX(Tabela.frequencia[],SMALL(IF(Tabela.frequencia[Mês]=$L$2,ROW(Tabela.frequencia[id])-1),ROW(A609)),4)","v":{"$error":"#NUM!"}},null,{"$f":"IFERROR(VLOOKUP(D656,Tabela.cadastro[[ID]:[Nome]],2,0),\"\")","v":""},{"$f":"IFERROR(VLOOKUP(D656,Tabela66[#All],2,0),\"\")","v":""},{"$f":"IFERROR(VLOOKUP(D656,Tabela.cadastro[[ID]:[CP ou M]],5,0),\"\")","v":""},{"$f":"IFERROR(VLOOKUP(D656,Cadastros!A:F,6,0),\"\")","v":""},{"$f":"IFERROR(VLOOKUP(D656,Cadastros!A:I,9,0),\"\")","v":""},{"$f":"IFERROR(VLOOKUP(D656,Cadastros!A:J,10,0),\"\")","v":""},{"$f":"IF(COUNTIF(Tabela66[id],D656)=0,\"\",COUNTIF(Tabela66[id],D656))","v":""},null,"",null,null,{"$f":"IFERROR(VLOOKUP(O656,Cadastros!A:B,2),\"\")","v":""},"",{"$f":"IFERROR(VLOOKUP(O656,Cadastros!A:E,5,0),\"\")","v":""},{"$f":"IFERROR(VLOOKUP(O656,Cadastros!A:F,6,0),\"\")","v":""},{"$f":"IFERROR(VLOOKUP(O656,Cadastros!A:I,9,0),\"\")","v":""},"","","",null,{"$f":"INDEX(Tabela.abordagens[],SMALL(IF(Tabela.abordagens[Mês]=$L$2,ROW(Tabela.abordagens[id])-2),ROW(A609)),1)","v":{"$error":"#NUM!"}},{"$f":"INDEX(Tabela.abordagens[],SMALL(IF(Tabela.abordagens[Mês]=$L$2,ROW(Tabela.abordagens[Idade])-2),ROW(A609)),6)","v":{"$error":"#NUM!"}},{"$f":"INDEX(Tabela.abordagens[],SMALL(IF(Tabela.abordagens[Mês]=$L$2,ROW(Tabela.abordagens[Idade])-2),ROW(A609)),4)","v":{"$error":"#NUM!"}},{"$f":"INDEX(Tabela.abordagens[],SMALL(IF(Tabela.abordagens[Mês]=$L$2,ROW(Tabela.abordagens[Idade])-2),ROW(A609)),5)","v":{"$error":"#NUM!"}}]
[null,{"$f":"INDEX(Tabela.frequencia[],SMALL(IF(Tabela.frequencia[Mês]=$L$2,ROW(Tabela.frequencia[id])-1),ROW(A610)),1)","v":{"$error":"#NUM!"}},{"$f":"INDEX(Tabela.frequencia[],SMALL(IF(Tabela.frequencia[Mês]=$L$2,ROW(Tabela.frequencia[id])-1),ROW(A610)),4)","v":{"$error":"#NUM!"}},null,{"$f":"IFERROR(VLOOKUP(D657,Tabela.cadastro[[ID]:[Nome]],2,0),\"\")","v":""},{"$f":"IFERROR(VLOOKUP(D657,Tabela66[#All],2,0),\"\")","v":""},{"$f":"IFERROR(VLOOKUP(D657,Tabela.cadastro[[ID]:[CP ou M]],5,0),\"\")","v":""},{"$f":"IFERROR(VLOOKUP(D657,Cadastros!A:F,6,0),\"\")","v":""},{"$f":"IFERROR(VLOOKUP(D657,Cadastros!A:I,9,0),\"\")","v":""},{"$f":"IFERROR(VLOOKUP(D657,Cadastros!A:J,10,0),\"\")","v":""},{"$f":"IF(COUNTIF(Tabela66[id],D657)=0,\"\",COUNTIF(Tabela66[id],D657))","v":""},null,"",null,null,{"$f":"IFERROR(VLOOKUP(O657,Cadastros!A:B,2),\"\")","v":""},"",{"$f":"IFERROR(VLOOKUP(O657,Cadastros!A:E,5,0),\"\")","v":""},{"$f":"IFERROR(VLOOKUP(O657,Cadastros!A:F,6,0),\"\")","v":""},{"$f":"IFERROR(VLOOKUP(O657,Cadastros!A:I,9,0),\"\")","v":""},"","","",null,{"$f":"INDEX(Tabela.abordagens[],SMALL(IF(Tabela.abordagens[Mês]=$L$2,ROW(Tabela.abordagens[id])-2),ROW(A610)),1)","v":{"$error":"#NUM!"}},{"$f":"INDEX(Tabela.abordagens[],SMALL(IF(Tabela.abordagens[Mês]=$L$2,ROW(Tabela.abordagens[Idade])-2),ROW(A610)),6)","v":{"$error":"#NUM!"}},{"$f":"INDEX(Tabela.abordagens[],SMALL(IF(Tabela.abordagens[Mês]=$L$2,ROW(Tabela.abordagens[Idade])-2),ROW(A610)),4)","v":{"$error":"#NUM!"}},{"$f":"INDEX(Tabela.abordagens[],SMALL(IF(Tabela.abordagens[Mês]=$L$2,ROW(Tabela.abordagens[Idade])-2),ROW(A610)),5)","v":{"$error":"#NUM!"}}]
[null,{"$f":"INDEX(Tabela.frequencia[],SMALL(IF(Tabela.frequencia[Mês]=$L$2,ROW(Tabela.frequencia[id])-1),ROW(A611)),1)","v":{"$error":"#NUM!"}},{"$f":"INDEX(Tabela.frequencia[],SMALL(IF(Tabela.frequencia[Mês]=$L$2,ROW(Tabela.frequencia[id])-1),ROW(A611)),4)","v":{"$error":"#NUM!"}},null,{"$f":"IFERROR(VLOOKUP(D658,Tabela.cadastro[[ID]:[Nome]],2,0),\"\")","v":""},{"$f":"IFERROR(VLOOKUP(D658,Tabela66[#All],2,0),\"\")","v":""},{"$f":"IFERROR(VLOOKUP(D658,Tabela.cadastro[[ID]:[CP ou M]],5,0),\"\")","v":""},{"$f":"IFERROR(VLOOKUP(D658,Cadastros!A:F,6,0),\"\")","v":""},{"$f":"IFERROR(VLOOKUP(D658,Cadastros!A:I,9,0),\"\")","v":""},{"$f":"IFERROR(VLOOKUP(D658,Cadastros!A:J,10,0),\"\")","v":""},{"$f":"IF(COUNTIF(Tabela66[id],D658)=0,\"\",COUNTIF(Tabela66[id],D658))","v":""},null,"",null,null,{"$f":"IFERROR(VLOOKUP(O658,Cadastros!A:B,2),\"\")","v":""},"",{"$f":"IFERROR(VLOOKUP(O658,Cadastros!A:E,5,0),\"\")","v":""},{"$f":"IFERROR(VLOOKUP(O658,Cadastros!A:F,6,0),\"\")","v":""},{"$f":"IFERROR(VLOOKUP(O658,Cadastros!A:I,9,0),\"\")","v":""},"","","",null,{"$f":"INDEX(Tabela.abordagens[],SMALL(IF(Tabela.abordagens[Mês]=$L$2,ROW(Tabela.abordagens[id])-2),ROW(A611)),1)","v":{"$error":"#NUM!"}},{"$f":"INDEX(Tabela.abordagens[],SMALL(IF(Tabela.abordagens[Mês]=$L$2,ROW(Tabela.abordagens[Idade])-2),ROW(A611)),6)","v":{"$error":"#NUM!"}},{"$f":"INDEX(Tabela.abordagens[],SMALL(IF(Tabela.abordagens[Mês]=$L$2,ROW(Tabela.abordagens[Idade])-2),ROW(A611)),4)","v":{"$error":"#NUM!"}},{"$f":"INDEX(Tabela.abordagens[],SMALL(IF(Tabela.abordagens[Mês]=$L$2,ROW(Tabela.abordagens[Idade])-2),ROW(A611)),5)","v":{"$error":"#NUM!"}}]
[null,{"$f":"INDEX(Tabela.frequencia[],SMALL(IF(Tabela.frequencia[Mês]=$L$2,ROW(Tabela.frequencia[id])-1),ROW(A612)),1)","v":{"$error":"#NUM!"}},{"$f":"INDEX(Tabela.frequencia[],SMALL(IF(Tabela.frequencia[Mês]=$L$2,ROW(Tabela.frequencia[id])-1),ROW(A612)),4)","v":{"$error":"#NUM!"}},null,{"$f":"IFERROR(VLOOKUP(D659,Tabela.cadastro[[ID]:[Nome]],2,0),\"\")","v":""},{"$f":"IFERROR(VLOOKUP(D659,Tabela66[#All],2,0),\"\")","v":""},{"$f":"IFERROR(VLOOKUP(D659,Tabela.cadastro[[ID]:[CP ou M]],5,0),\"\")","v":""},{"$f":"IFERROR(VLOOKUP(D659,Cadastros!A:F,6,0),\"\")","v":""},{"$f":"IFERROR(VLOOKUP(D659,Cadastros!A:I,9,0),\"\")","v":""},{"$f":"IFERROR(VLOOKUP(D659,Cadastros!A:J,10,0),\"\")","v":""},{"$f":"IF(COUNTIF(Tabela66[id],D659)=0,\"\",COUNTIF(Tabela66[id],D659))","v":""},null,"",null,null,{"$f":"IFERROR(VLOOKUP(O659,Cadastros!A:B,2),\"\")","v":""},"",{"$f":"IFERROR(VLOOKUP(O659,Cadastros!A:E,5,0),\"\")","v":""},{"$f":"IFERROR(VLOOKUP(O659,Cadastros!A:F,6,0),\"\")","v":""},{"$f":"IFERROR(VLOOKUP(O659,Cadastros!A:I,9,0),\"\")","v":""},"","","",null,{"$f":"INDEX(Tabela.abordagens[],SMALL(IF(Tabela.abordagens[Mês]=$L$2,ROW(Tabela.abordagens[id])-2),ROW(A612)),1)","v":{"$error":"#NUM!"}},{"$f":"INDEX(Tabela.abordagens[],SMALL(IF(Tabela.abordagens[Mês]=$L$2,ROW(Tabela.abordagens[Idade])-2),ROW(A612)),6)","v":{"$error":"#NUM!"}},{"$f":"INDEX(Tabela.abordagens[],SMALL(IF(Tabela.abordagens[Mês]=$L$2,ROW(Tabela.abordagens[Idade])-2),ROW(A612)),4)","v":{"$error":"#NUM!"}},{"$f":"INDEX(Tabela.abordagens[],SMALL(IF(Tabela.abordagens[Mês]=$L$2,ROW(Tabela.abordagens[Idade])-2),ROW(A612)),5)","v":{"$error":"#NUM!"}}]
[null,{"$f":"INDEX(Tabela.frequencia[],SMALL(IF(Tabela.frequencia[Mês]=$L$2,ROW(Tabela.frequencia[id])-1),ROW(A613)),1)","v":{"$error":"#NUM!"}},{"$f":"INDEX(Tabela.frequencia[],SMALL(IF(Tabela.frequencia[Mês]=$L$2,ROW(Tabela.frequencia[id])-1),ROW(A613)),4)","v":{"$error":"#NUM!"}},null,{"$f":"IFERROR(VLOOKUP(D660,Tabela.cadastro[[ID]:[Nome]],2,0),\"\")","v":""},{"$f":"IFERROR(VLOOKUP(D660,Tabela66[#All],2,0),\"\")","v":""},{"$f":"IFERROR(VLOOKUP(D660,Tabela.cadastro[[ID]:[CP ou M]],5,0),\"\")","v":""},{"$f":"IFERROR(VLOOKUP(D660,Cadastros!A:F,6,0),\"\")","v":""},{"$f":"IFERROR(VLOOKUP(D660,Cadastros!A:I,9,0),\"\")","v":""},{"$f":"IFERROR(VLOOKUP(D660,Cadastros!A:J,10,0),\"\")","v":""},{"$f":"IF(COUNTIF(Tabela66[id],D660)=0,\"\",COUNTIF(Tabela66[id],D660))","v":""},null,"",null,null,{"$f":"IFERROR(VLOOKUP(O660,Cadastros!A:B,2),\"\")","v":""},"",{"$f":"IFERROR(VLOOKUP(O660,Cadastros!A:E,5,0),\"\")","v":""},{"$f":"IFERROR(VLOOKUP(O660,Cadastros!A:F,6,0),\"\")","v":""},{"$f":"IFERROR(VLOOKUP(O660,Cadastros!A:I,9,0),\"\")","v":""},"","","",null,{"$f":"INDEX(Tabela.abordagens[],SMALL(IF(Tabela.abordagens[Mês]=$L$2,ROW(Tabela.abordagens[id])-2),ROW(A613)),1)","v":{"$error":"#NUM!"}},{"$f":"INDEX(Tabela.abordagens[],SMALL(IF(Tabela.abordagens[Mês]=$L$2,ROW(Tabela.abordagens[Idade])-2),ROW(A613)),6)","v":{"$error":"#NUM!"}},{"$f":"INDEX(Tabela.abordagens[],SMALL(IF(Tabela.abordagens[Mês]=$L$2,ROW(Tabela.abordagens[Idade])-2),ROW(A613)),4)","v":{"$error":"#NUM!"}},{"$f":"INDEX(Tabela.abordagens[],SMALL(IF(Tabela.abordagens[Mês]=$L$2,ROW(Tabela.abordagens[Idade])-2),ROW(A613)),5)","v":{"$error":"#NUM!"}}]
[null,{"$f":"INDEX(Tabela.frequencia[],SMALL(IF(Tabela.frequencia[Mês]=$L$2,ROW(Tabela.frequencia[id])-1),ROW(A614)),1)","v":{"$error":"#NUM!"}},{"$f":"INDEX(Tabela.frequencia[],SMALL(IF(Tabela.frequencia[Mês]=$L$2,ROW(Tabela.frequencia[id])-1),ROW(A614)),4)","v":{"$error":"#NUM!"}},null,{"$f":"IFERROR(VLOOKUP(D661,Tabela.cadastro[[ID]:[Nome]],2,0),\"\")","v":""},{"$f":"IFERROR(VLOOKUP(D661,Tabela66[#All],2,0),\"\")","v":""},{"$f":"IFERROR(VLOOKUP(D661,Tabela.cadastro[[ID]:[CP ou M]],5,0),\"\")","v":""},{"$f":"IFERROR(VLOOKUP(D661,Cadastros!A:F,6,0),\"\")","v":""},{"$f":"IFERROR(VLOOKUP(D661,Cadastros!A:I,9,0),\"\")","v":""},{"$f":"IFERROR(VLOOKUP(D661,Cadastros!A:J,10,0),\"\")","v":""},{"$f":"IF(COUNTIF(Tabela66[id],D661)=0,\"\",COUNTIF(Tabela66[id],D661))","v":""},null,"",null,null,{"$f":"IFERROR(VLOOKUP(O661,Cadastros!A:B,2),\"\")","v":""},"",{"$f":"IFERROR(VLOOKUP(O661,Cadastros!A:E,5,0),\"\")","v":""},{"$f":"IFERROR(VLOOKUP(O661,Cadastros!A:F,6,0),\"\")","v":""},{"$f":"IFERROR(VLOOKUP(O661,Cadastros!A:I,9,0),\"\")","v":""},"","","",null,{"$f":"INDEX(Tabela.abordagens[],SMALL(IF(Tabela.abordagens[Mês]=$L$2,ROW(Tabela.abordagens[id])-2),ROW(A614)),1)","v":{"$error":"#NUM!"}},{"$f":"INDEX(Tabela.abordagens[],SMALL(IF(Tabela.abordagens[Mês]=$L$2,ROW(Tabela.abordagens[Idade])-2),ROW(A614)),6)","v":{"$error":"#NUM!"}},{"$f":"INDEX(Tabela.abordagens[],SMALL(IF(Tabela.abordagens[Mês]=$L$2,ROW(Tabela.abordagens[Idade])-2),ROW(A614)),4)","v":{"$error":"#NUM!"}},{"$f":"INDEX(Tabela.abordagens[],SMALL(IF(Tabela.abordagens[Mês]=$L$2,ROW(Tabela.abordagens[Idade])-2),ROW(A614)),5)","v":{"$error":"#NUM!"}}]
[null,{"$f":"INDEX(Tabela.frequencia[],SMALL(IF(Tabela.frequencia[Mês]=$L$2,ROW(Tabela.frequencia[id])-1),ROW(A615)),1)","v":{"$error":"#NUM!"}},{"$f":"INDEX(Tabela.frequencia[],SMALL(IF(Tabela.frequencia[Mês]=$L$2,ROW(Tabela.frequencia[id])-1),ROW(A615)),4)","v":{"$error":"#NUM!"}},null,{"$f":"IFERROR(VLOOKUP(D662,Tabela.cadastro[[ID]:[Nome]],2,0),\"\")","v":""},{"$f":"IFERROR(VLOOKUP(D662,Tabela66[#All],2,0),\"\")","v":""},{"$f":"IFERROR(VLOOKUP(D662,Tabela.cadastro[[ID]:[CP ou M]],5,0),\"\")","v":""},{"$f":"IFERROR(VLOOKUP(D662,Cadastros!A:F,6,0),\"\")","v":""},{"$f":"IFERROR(VLOOKUP(D662,Cadastros!A:I,9,0),\"\")","v":""},{"$f":"IFERROR(VLOOKUP(D662,Cadastros!A:J,10,0),\"\")","v":""},{"$f":"IF(COUNTIF(Tabela66[id],D662)=0,\"\",COUNTIF(Tabela66[id],D662))","v":""},null,"",null,null,{"$f":"IFERROR(VLOOKUP(O662,Cadastros!A:B,2),\"\")","v":""},"",{"$f":"IFERROR(VLOOKUP(O662,Cadastros!A:E,5,0),\"\")","v":""},{"$f":"IFERROR(VLOOKUP(O662,Cadastros!A:F,6,0),\"\")","v":""},{"$f":"IFERROR(VLOOKUP(O662,Cadastros!A:I,9,0),\"\")","v":""},"","","",null,{"$f":"INDEX(Tabela.abordagens[],SMALL(IF(Tabela.abordagens[Mês]=$L$2,ROW(Tabela.abordagens[id])-2),ROW(A615)),1)","v":{"$error":"#NUM!"}},{"$f":"INDEX(Tabela.abordagens[],SMALL(IF(Tabela.abordagens[Mês]=$L$2,ROW(Tabela.abordagens[Idade])-2),ROW(A615)),6)","v":{"$error":"#NUM!"}},{"$f":"INDEX(Tabela.abordagens[],SMALL(IF(Tabela.abordagens[Mês]=$L$2,ROW(Tabela.abordagens[Idade])-2),ROW(A615)),4)","v":{"$error":"#NUM!"}},{"$f":"INDEX(Tabela.abordagens[],SMALL(IF(Tabela.abordagens[Mês]=$L$2,ROW(Tabela.abordagens[Idade])-2),ROW(A615)),5)","v":{"$error":"#NUM!"}}]
[null,{"$f":"INDEX(Tabela.frequencia[],SMALL(IF(Tabela.frequencia[Mês]=$L$2,ROW(Tabela.frequencia[id])-1),ROW(A616)),1)","v":{"$error":"#NUM!"}},{"$f":"INDEX(Tabela.frequencia[],SMALL(IF(Tabela.frequencia[Mês]=$L$2,ROW(Tabela.frequencia[id])-1),ROW(A616)),4)","v":{"$error":"#NUM!"}},null,{"$f":"IFERROR(VLOOKUP(D663,Tabela.cadastro[[ID]:[Nome]],2,0),\"\")","v":""},{"$f":"IFERROR(VLOOKUP(D663,Tabela66[#All],2,0),\"\")","v":""},{"$f":"IFERROR(VLOOKUP(D663,Tabela.cadastro[[ID]:[CP ou M]],5,0),\"\")","v":""},{"$f":"IFERROR(VLOOKUP(D663,Cadastros!A:F,6,0),\"\")","v":""},{"$f":"IFERROR(VLOOKUP(D663,Cadastros!A:I,9,0),\"\")","v":""},{"$f":"IFERROR(VLOOKUP(D663,Cadastros!A:J,10,0),\"\")","v":""},{"$f":"IF(COUNTIF(Tabela66[id],D663)=0,\"\",COUNTIF(Tabela66[id],D663))","v":""},null,"",null,null,{"$f":"IFERROR(VLOOKUP(O663,Cadastros!A:B,2),\"\")","v":""},"",{"$f":"IFERROR(VLOOKUP(O663,Cadastros!A:E,5,0),\"\")","v":""},{"$f":"IFERROR(VLOOKUP(O663,Cadastros!A:F,6,0),\"\")","v":""},{"$f":"IFERROR(VLOOKUP(O663,Cadastros!A:I,9,0),\"\")","v":""},"","","",null,{"$f":"INDEX(Tabela.abordagens[],SMALL(IF(Tabela.abordagens[Mês]=$L$2,ROW(Tabela.abordagens[id])-2),ROW(A616)),1)","v":{"$error":"#NUM!"}},{"$f":"INDEX(Tabela.abordagens[],SMALL(IF(Tabela.abordagens[Mês]=$L$2,ROW(Tabela.abordagens[Idade])-2),ROW(A616)),6)","v":{"$error":"#NUM!"}},{"$f":"INDEX(Tabela.abordagens[],SMALL(IF(Tabela.abordagens[Mês]=$L$2,ROW(Tabela.abordagens[Idade])-2),ROW(A616)),4)","v":{"$error":"#NUM!"}},{"$f":"INDEX(Tabela.abordagens[],SMALL(IF(Tabela.abordagens[Mês]=$L$2,ROW(Tabela.abordagens[Idade])-2),ROW(A616)),5)","v":{"$error":"#NUM!"}}]
[null,{"$f":"INDEX(Tabela.frequencia[],SMALL(IF(Tabela.frequencia[Mês]=$L$2,ROW(Tabela.frequencia[id])-1),ROW(A617)),1)","v":{"$error":"#NUM!"}},{"$f":"INDEX(Tabela.frequencia[],SMALL(IF(Tabela.frequencia[Mês]=$L$2,ROW(Tabela.frequencia[id])-1),ROW(A617)),4)","v":{"$error":"#NUM!"}},null,{"$f":"IFERROR(VLOOKUP(D664,Tabela.cadastro[[ID]:[Nome]],2,0),\"\")","v":""},{"$f":"IFERROR(VLOOKUP(D664,Tabela66[#All],2,0),\"\")","v":""},{"$f":"IFERROR(VLOOKUP(D664,Tabela.cadastro[[ID]:[CP ou M]],5,0),\"\")","v":""},{"$f":"IFERROR(VLOOKUP(D664,Cadastros!A:F,6,0),\"\")","v":""},{"$f":"IFERROR(VLOOKUP(D664,Cadastros!A:I,9,0),\"\")","v":""},{"$f":"IFERROR(VLOOKUP(D664,Cadastros!A:J,10,0),\"\")","v":""},{"$f":"IF(COUNTIF(Tabela66[id],D664)=0,\"\",COUNTIF(Tabela66[id],D664))","v":""},null,"",null,null,{"$f":"IFERROR(VLOOKUP(O664,Cadastros!A:B,2),\"\")","v":""},"",{"$f":"IFERROR(VLOOKUP(O664,Cadastros!A:E,5,0),\"\")","v":""},{"$f":"IFERROR(VLOOKUP(O664,Cadastros!A:F,6,0),\"\")","v":""},{"$f":"IFERROR(VLOOKUP(O664,Cadastros!A:I,9,0),\"\")","v":""},"","","",null,{"$f":"INDEX(Tabela.abordagens[],SMALL(IF(Tabela.abordagens[Mês]=$L$2,ROW(Tabela.abordagens[id])-2),ROW(A617)),1)","v":{"$error":"#NUM!"}},{"$f":"INDEX(Tabela.abordagens[],SMALL(IF(Tabela.abordagens[Mês]=$L$2,ROW(Tabela.abordagens[Idade])-2),ROW(A617)),6)","v":{"$error":"#NUM!"}},{"$f":"INDEX(Tabela.abordagens[],SMALL(IF(Tabela.abordagens[Mês]=$L$2,ROW(Tabela.abordagens[Idade])-2),ROW(A617)),4)","v":{"$error":"#NUM!"}},{"$f":"INDEX(Tabela.abordagens[],SMALL(IF(Tabela.abordagens[Mês]=$L$2,ROW(Tabela.abordagens[Idade])-2),ROW(A617)),5)","v":{"$error":"#NUM!"}}]
[null,{"$f":"INDEX(Tabela.frequencia[],SMALL(IF(Tabela.frequencia[Mês]=$L$2,ROW(Tabela.frequencia[id])-1),ROW(A618)),1)","v":{"$error":"#NUM!"}},{"$f":"INDEX(Tabela.frequencia[],SMALL(IF(Tabela.frequencia[Mês]=$L$2,ROW(Tabela.frequencia[id])-1),ROW(A618)),4)","v":{"$error":"#NUM!"}},null,{"$f":"IFERROR(VLOOKUP(D665,Tabela.cadastro[[ID]:[Nome]],2,0),\"\")","v":""},{"$f":"IFERROR(VLOOKUP(D665,Tabela66[#All],2,0),\"\")","v":""},{"$f":"IFERROR(VLOOKUP(D665,Tabela.cadastro[[ID]:[CP ou M]],5,0),\"\")","v":""},{"$f":"IFERROR(VLOOKUP(D665,Cadastros!A:F,6,0),\"\")","v":""},{"$f":"IFERROR(VLOOKUP(D665,Cadastros!A:I,9,0),\"\")","v":""},{"$f":"IFERROR(VLOOKUP(D665,Cadastros!A:J,10,0),\"\")","v":""},{"$f":"IF(COUNTIF(Tabela66[id],D665)=0,\"\",COUNTIF(Tabela66[id],D665))","v":""},null,"",null,null,{"$f":"IFERROR(VLOOKUP(O665,Cadastros!A:B,2),\"\")","v":""},"",{"$f":"IFERROR(VLOOKUP(O665,Cadastros!A:E,5,0),\"\")","v":""},{"$f":"IFERROR(VLOOKUP(O665,Cadastros!A:F,6,0),\"\")","v":""},{"$f":"IFERROR(VLOOKUP(O665,Cadastros!A:I,9,0),\"\")","v":""},"","","",null,{"$f":"INDEX(Tabela.abordagens[],SMALL(IF(Tabela.abordagens[Mês]=$L$2,ROW(Tabela.abordagens[id])-2),ROW(A618)),1)","v":{"$error":"#NUM!"}},{"$f":"INDEX(Tabela.abordagens[],SMALL(IF(Tabela.abordagens[Mês]=$L$2,ROW(Tabela.abordagens[Idade])-2),ROW(A618)),6)","v":{"$error":"#NUM!"}},{"$f":"INDEX(Tabela.abordagens[],SMALL(IF(Tabela.abordagens[Mês]=$L$2,ROW(Tabela.abordagens[Idade])-2),ROW(A618)),4)","v":{"$error":"#NUM!"}},{"$f":"INDEX(Tabela.abordagens[],SMALL(IF(Tabela.abordagens[Mês]=$L$2,ROW(Tabela.abordagens[Idade])-2),ROW(A618)),5)","v":{"$error":"#NUM!"}}]
[null,{"$f":"INDEX(Tabela.frequencia[],SMALL(IF(Tabela.frequencia[Mês]=$L$2,ROW(Tabela.frequencia[id])-1),ROW(A619)),1)","v":{"$error":"#NUM!"}},{"$f":"INDEX(Tabela.frequencia[],SMALL(IF(Tabela.frequencia[Mês]=$L$2,ROW(Tabela.frequencia[id])-1),ROW(A619)),4)","v":{"$error":"#NUM!"}},null,{"$f":"IFERROR(VLOOKUP(D666,Tabela.cadastro[[ID]:[Nome]],2,0),\"\")","v":""},{"$f":"IFERROR(VLOOKUP(D666,Tabela66[#All],2,0),\"\")","v":""},{"$f":"IFERROR(VLOOKUP(D666,Tabela.cadastro[[ID]:[CP ou M]],5,0),\"\")","v":""},{"$f":"IFERROR(VLOOKUP(D666,Cadastros!A:F,6,0),\"\")","v":""},{"$f":"IFERROR(VLOOKUP(D666,Cadastros!A:I,9,0),\"\")","v":""},{"$f":"IFERROR(VLOOKUP(D666,Cadastros!A:J,10,0),\"\")","v":""},{"$f":"IF(COUNTIF(Tabela66[id],D666)=0,\"\",COUNTIF(Tabela66[id],D666))","v":""},null,"",null,null,{"$f":"IFERROR(VLOOKUP(O666,Cadastros!A:B,2),\"\")","v":""},"",{"$f":"IFERROR(VLOOKUP(O666,Cadastros!A:E,5,0),\"\")","v":""},{"$f":"IFERROR(VLOOKUP(O666,Cadastros!A:F,6,0),\"\")","v":""},{"$f":"IFERROR(VLOOKUP(O666,Cadastros!A:I,9,0),\"\")","v":""},"","","",null,{"$f":"INDEX(Tabela.abordagens[],SMALL(IF(Tabela.abordagens[Mês]=$L$2,ROW(Tabela.abordagens[id])-2),ROW(A619)),1)","v":{"$error":"#NUM!"}},{"$f":"INDEX(Tabela.abordagens[],SMALL(IF(Tabela.abordagens[Mês]=$L$2,ROW(Tabela.abordagens[Idade])-2),ROW(A619)),6)","v":{"$error":"#NUM!"}},{"$f":"INDEX(Tabela.abordagens[],SMALL(IF(Tabela.abordagens[Mês]=$L$2,ROW(Tabela.abordagens[Idade])-2),ROW(A619)),4)","v":{"$error":"#NUM!"}},{"$f":"INDEX(Tabela.abordagens[],SMALL(IF(Tabela.abordagens[Mês]=$L$2,ROW(Tabela.abordagens[Idade])-2),ROW(A619)),5)","v":{"$error":"#NUM!"}}]
[null,{"$f":"INDEX(Tabela.frequencia[],SMALL(IF(Tabela.frequencia[Mês]=$L$2,ROW(Tabela.frequencia[id])-1),ROW(A620)),1)","v":{"$error":"#NUM!"}},{"$f":"INDEX(Tabela.frequencia[],SMALL(IF(Tabela.frequencia[Mês]=$L$2,ROW(Tabela.frequencia[id])-1),ROW(A620)),4)","v":{"$error":"#NUM!"}},null,{"$f":"IFERROR(VLOOKUP(D667,Tabela.cadastro[[ID]:[Nome]],2,0),\"\")","v":""},{"$f":"IFERROR(VLOOKUP(D667,Tabela66[#All],2,0),\"\")","v":""},{"$f":"IFERROR(VLOOKUP(D667,Tabela.cadastro[[ID]:[CP ou M]],5,0),\"\")","v":""},{"$f":"IFERROR(VLOOKUP(D667,Cadastros!A:F,6,0),\"\")","v":""},{"$f":"IFERROR(VLOOKUP(D667,Cadastros!A:I,9,0),\"\")","v":""},{"$f":"IFERROR(VLOOKUP(D667,Cadastros!A:J,10,0),\"\")","v":""},{"$f":"IF(COUNTIF(Tabela66[id],D667)=0,\"\",COUNTIF(Tabela66[id],D667))","v":""},null,"",null,null,{"$f":"IFERROR(VLOOKUP(O667,Cadastros!A:B,2),\"\")","v":""},"",{"$f":"IFERROR(VLOOKUP(O667,Cadastros!A:E,5,0),\"\")","v":""},{"$f":"IFERROR(VLOOKUP(O667,Cadastros!A:F,6,0),\"\")","v":""},{"$f":"IFERROR(VLOOKUP(O667,Cadastros!A:I,9,0),\"\")","v":""},"","","",null,{"$f":"INDEX(Tabela.abordagens[],SMALL(IF(Tabela.abordagens[Mês]=$L$2,ROW(Tabela.abordagens[id])-2),ROW(A620)),1)","v":{"$error":"#NUM!"}},{"$f":"INDEX(Tabela.abordagens[],SMALL(IF(Tabela.abordagens[Mês]=$L$2,ROW(Tabela.abordagens[Idade])-2),ROW(A620)),6)","v":{"$error":"#NUM!"}},{"$f":"INDEX(Tabela.abordagens[],SMALL(IF(Tabela.abordagens[Mês]=$L$2,ROW(Tabela.abordagens[Idade])-2),ROW(A620)),4)","v":{"$error":"#NUM!"}},{"$f":"INDEX(Tabela.abordagens[],SMALL(IF(Tabela.abordagens[Mês]=$L$2,ROW(Tabela.abordagens[Idade])-2),ROW(A620)),5)","v":{"$error":"#NUM!"}}]
[null,{"$f":"INDEX(Tabela.frequencia[],SMALL(IF(Tabela.frequencia[Mês]=$L$2,ROW(Tabela.frequencia[id])-1),ROW(A621)),1)","v":{"$error":"#NUM!"}},{"$f":"INDEX(Tabela.frequencia[],SMALL(IF(Tabela.frequencia[Mês]=$L$2,ROW(Tabela.frequencia[id])-1),ROW(A621)),4)","v":{"$error":"#NUM!"}},null,{"$f":"IFERROR(VLOOKUP(D668,Tabela.cadastro[[ID]:[Nome]],2,0),\"\")","v":""},{"$f":"IFERROR(VLOOKUP(D668,Tabela66[#All],2,0),\"\")","v":""},{"$f":"IFERROR(VLOOKUP(D668,Tabela.cadastro[[ID]:[CP ou M]],5,0),\"\")","v":""},{"$f":"IFERROR(VLOOKUP(D668,Cadastros!A:F,6,0),\"\")","v":""},{"$f":"IFERROR(VLOOKUP(D668,Cadastros!A:I,9,0),\"\")","v":""},{"$f":"IFERROR(VLOOKUP(D668,Cadastros!A:J,10,0),\"\")","v":""},{"$f":"IF(COUNTIF(Tabela66[id],D668)=0,\"\",COUNTIF(Tabela66[id],D668))","v":""},null,"",null,null,{"$f":"IFERROR(VLOOKUP(O668,Cadastros!A:B,2),\"\")","v":""},"",{"$f":"IFERROR(VLOOKUP(O668,Cadastros!A:E,5,0),\"\")","v":""},{"$f":"IFERROR(VLOOKUP(O668,Cadastros!A:F,6,0),\"\")","v":""},{"$f":"IFERROR(VLOOKUP(O668,Cadastros!A:I,9,0),\"\")","v":""},"","","",null,{"$f":"INDEX(Tabela.abordagens[],SMALL(IF(Tabela.abordagens[Mês]=$L$2,ROW(Tabela.abordagens[id])-2),ROW(A621)),1)","v":{"$error":"#NUM!"}},{"$f":"INDEX(Tabela.abordagens[],SMALL(IF(Tabela.abordagens[Mês]=$L$2,ROW(Tabela.abordagens[Idade])-2),ROW(A621)),6)","v":{"$error":"#NUM!"}},{"$f":"INDEX(Tabela.abordagens[],SMALL(IF(Tabela.abordagens[Mês]=$L$2,ROW(Tabela.abordagens[Idade])-2),ROW(A621)),4)","v":{"$error":"#NUM!"}},{"$f":"INDEX(Tabela.abordagens[],SMALL(IF(Tabela.abordagens[Mês]=$L$2,ROW(Tabela.abordagens[Idade])-2),ROW(A621)),5)","v":{"$error":"#NUM!"}}]
[null,{"$f":"INDEX(Tabela.frequencia[],SMALL(IF(Tabela.frequencia[Mês]=$L$2,ROW(Tabela.frequencia[id])-1),ROW(A622)),1)","v":{"$error":"#NUM!"}},{"$f":"INDEX(Tabela.frequencia[],SMALL(IF(Tabela.frequencia[Mês]=$L$2,ROW(Tabela.frequencia[id])-1),ROW(A622)),4)","v":{"$error":"#NUM!"}},null,{"$f":"IFERROR(VLOOKUP(D669,Tabela.cadastro[[ID]:[Nome]],2,0),\"\")","v":""},{"$f":"IFERROR(VLOOKUP(D669,Tabela66[#All],2,0),\"\")","v":""},{"$f":"IFERROR(VLOOKUP(D669,Tabela.cadastro[[ID]:[CP ou M]],5,0),\"\")","v":""},{"$f":"IFERROR(VLOOKUP(D669,Cadastros!A:F,6,0),\"\")","v":""},{"$f":"IFERROR(VLOOKUP(D669,Cadastros!A:I,9,0),\"\")","v":""},{"$f":"IFERROR(VLOOKUP(D669,Cadastros!A:J,10,0),\"\")","v":""},{"$f":"IF(COUNTIF(Tabela66[id],D669)=0,\"\",COUNTIF(Tabela66[id],D669))","v":""},null,"",null,null,{"$f":"IFERROR(VLOOKUP(O669,Cadastros!A:B,2),\"\")","v":""},"",{"$f":"IFERROR(VLOOKUP(O669,Cadastros!A:E,5,0),\"\")","v":""},{"$f":"IFERROR(VLOOKUP(O669,Cadastros!A:F,6,0),\"\")","v":""},{"$f":"IFERROR(VLOOKUP(O669,Cadastros!A:I,9,0),\"\")","v":""},"","","",null,{"$f":"INDEX(Tabela.abordagens[],SMALL(IF(Tabela.abordagens[Mês]=$L$2,ROW(Tabela.abordagens[id])-2),ROW(A622)),1)","v":{"$error":"#NUM!"}},{"$f":"INDEX(Tabela.abordagens[],SMALL(IF(Tabela.abordagens[Mês]=$L$2,ROW(Tabela.abordagens[Idade])-2),ROW(A622)),6)","v":{"$error":"#NUM!"}},{"$f":"INDEX(Tabela.abordagens[],SMALL(IF(Tabela.abordagens[Mês]=$L$2,ROW(Tabela.abordagens[Idade])-2),ROW(A622)),4)","v":{"$error":"#NUM!"}},{"$f":"INDEX(Tabela.abordagens[],SMALL(IF(Tabela.abordagens[Mês]=$L$2,ROW(Tabela.abordagens[Idade])-2),ROW(A622)),5)","v":{"$error":"#NUM!"}}]
[null,{"$f":"INDEX(Tabela.frequencia[],SMALL(IF(Tabela.frequencia[Mês]=$L$2,ROW(Tabela.frequencia[id])-1),ROW(A623)),1)","v":{"$error":"#NUM!"}},{"$f":"INDEX(Tabela.frequencia[],SMALL(IF(Tabela.frequencia[Mês]=$L$2,ROW(Tabela.frequencia[id])-1),ROW(A623)),4)","v":{"$error":"#NUM!"}},null,{"$f":"IFERROR(VLOOKUP(D670,Tabela.cadastro[[ID]:[Nome]],2,0),\"\")","v":""},{"$f":"IFERROR(VLOOKUP(D670,Tabela66[#All],2,0),\"\")","v":""},{"$f":"IFERROR(VLOOKUP(D670,Tabela.cadastro[[ID]:[CP ou M]],5,0),\"\")","v":""},{"$f":"IFERROR(VLOOKUP(D670,Cadastros!A:F,6,0),\"\")","v":""},{"$f":"IFERROR(VLOOKUP(D670,Cadastros!A:I,9,0),\"\")","v":""},{"$f":"IFERROR(VLOOKUP(D670,Cadastros!A:J,10,0),\"\")","v":""},{"$f":"IF(COUNTIF(Tabela66[id],D670)=0,\"\",COUNTIF(Tabela66[id],D670))","v":""},null,"",null,null,{"$f":"IFERROR(VLOOKUP(O670,Cadastros!A:B,2),\"\")","v":""},"",{"$f":"IFERROR(VLOOKUP(O670,Cadastros!A:E,5,0),\"\")","v":""},{"$f":"IFERROR(VLOOKUP(O670,Cadastros!A:F,6,0),\"\")","v":""},{"$f":"IFERROR(VLOOKUP(O670,Cadastros!A:I,9,0),\"\")","v":""},"","","",null,{"$f":"INDEX(Tabela.abordagens[],SMALL(IF(Tabela.abordagens[Mês]=$L$2,ROW(Tabela.abordagens[id])-2),ROW(A623)),1)","v":{"$error":"#NUM!"}},{"$f":"INDEX(Tabela.abordagens[],SMALL(IF(Tabela.abordagens[Mês]=$L$2,ROW(Tabela.abordagens[Idade])-2),ROW(A623)),6)","v":{"$error":"#NUM!"}},{"$f":"INDEX(Tabela.abordagens[],SMALL(IF(Tabela.abordagens[Mês]=$L$2,ROW(Tabela.abordagens[Idade])-2),ROW(A623)),4)","v":{"$error":"#NUM!"}},{"$f":"INDEX(Tabela.abordagens[],SMALL(IF(Tabela.abordagens[Mês]=$L$2,ROW(Tabela.abordagens[Idade])-2),ROW(A623)),5)","v":{"$error":"#NUM!"}}]
[null,{"$f":"INDEX(Tabela.frequencia[],SMALL(IF(Tabela.frequencia[Mês]=$L$2,ROW(Tabela.frequencia[id])-1),ROW(A624)),1)","v":{"$error":"#NUM!"}},{"$f":"INDEX(Tabela.frequencia[],SMALL(IF(Tabela.frequencia[Mês]=$L$2,ROW(Tabela.frequencia[id])-1),ROW(A624)),4)","v":{"$error":"#NUM!"}},null,{"$f":"IFERROR(VLOOKUP(D671,Tabela.cadastro[[ID]:[Nome]],2,0),\"\")","v":""},{"$f":"IFERROR(VLOOKUP(D671,Tabela66[#All],2,0),\"\")","v":""},{"$f":"IFERROR(VLOOKUP(D671,Tabela.cadastro[[ID]:[CP ou M]],5,0),\"\")","v":""},{"$f":"IFERROR(VLOOKUP(D671,Cadastros!A:F,6,0),\"\")","v":""},{"$f":"IFERROR(VLOOKUP(D671,Cadastros!A:I,9,0),\"\")","v":""},{"$f":"IFERROR(VLOOKUP(D671,Cadastros!A:J,10,0),\"\")","v":""},{"$f":"IF(COUNTIF(Tabela66[id],D671)=0,\"\",COUNTIF(Tabela66[id],D671))","v":""},null,"",null,null,{"$f":"IFERROR(VLOOKUP(O671,Cadastros!A:B,2),\"\")","v":""},"",{"$f":"IFERROR(VLOOKUP(O671,Cadastros!A:E,5,0),\"\")","v":""},{"$f":"IFERROR(VLOOKUP(O671,Cadastros!A:F,6,0),\"\")","v":""},{"$f":"IFERROR(VLOOKUP(O671,Cadastros!A:I,9,0),\"\")","v":""},"","","",null,{"$f":"INDEX(Tabela.abordagens[],SMALL(IF(Tabela.abordagens[Mês]=$L$2,ROW(Tabela.abordagens[id])-2),ROW(A624)),1)","v":{"$error":"#NUM!"}},{"$f":"INDEX(Tabela.abordagens[],SMALL(IF(Tabela.abordagens[Mês]=$L$2,ROW(Tabela.abordagens[Idade])-2),ROW(A624)),6)","v":{"$error":"#NUM!"}},{"$f":"INDEX(Tabela.abordagens[],SMALL(IF(Tabela.abordagens[Mês]=$L$2,ROW(Tabela.abordagens[Idade])-2),ROW(A624)),4)","v":{"$error":"#NUM!"}},{"$f":"INDEX(Tabela.abordagens[],SMALL(IF(Tabela.abordagens[Mês]=$L$2,ROW(Tabela.abordagens[Idade])-2),ROW(A624)),5)","v":{"$error":"#NUM!"}}]
[null,{"$f":"INDEX(Tabela.frequencia[],SMALL(IF(Tabela.frequencia[Mês]=$L$2,ROW(Tabela.frequencia[id])-1),ROW(A625)),1)","v":{"$error":"#NUM!"}},{"$f":"INDEX(Tabela.frequencia[],SMALL(IF(Tabela.frequencia[Mês]=$L$2,ROW(Tabela.frequencia[id])-1),ROW(A625)),4)","v":{"$error":"#NUM!"}},null,{"$f":"IFERROR(VLOOKUP(D672,Tabela.cadastro[[ID]:[Nome]],2,0),\"\")","v":""},{"$f":"IFERROR(VLOOKUP(D672,Tabela66[#All],2,0),\"\")","v":""},{"$f":"IFERROR(VLOOKUP(D672,Tabela.cadastro[[ID]:[CP ou M]],5,0),\"\")","v":""},{"$f":"IFERROR(VLOOKUP(D672,Cadastros!A:F,6,0),\"\")","v":""},{"$f":"IFERROR(VLOOKUP(D672,Cadastros!A:I,9,0),\"\")","v":""},{"$f":"IFERROR(VLOOKUP(D672,Cadastros!A:J,10,0),\"\")","v":""},{"$f":"IF(COUNTIF(Tabela66[id],D672)=0,\"\",COUNTIF(Tabela66[id],D672))","v":""},null,"",null,null,{"$f":"IFERROR(VLOOKUP(O672,Cadastros!A:B,2),\"\")","v":""},"",{"$f":"IFERROR(VLOOKUP(O672,Cadastros!A:E,5,0),\"\")","v":""},{"$f":"IFERROR(VLOOKUP(O672,Cadastros!A:F,6,0),\"\")","v":""},{"$f":"IFERROR(VLOOKUP(O672,Cadastros!A:I,9,0),\"\")","v":""},"","","",null,{"$f":"INDEX(Tabela.abordagens[],SMALL(IF(Tabela.abordagens[Mês]=$L$2,ROW(Tabela.abordagens[id])-2),ROW(A625)),1)","v":{"$error":"#NUM!"}},{"$f":"INDEX(Tabela.abordagens[],SMALL(IF(Tabela.abordagens[Mês]=$L$2,ROW(Tabela.abordagens[Idade])-2),ROW(A625)),6)","v":{"$error":"#NUM!"}},{"$f":"INDEX(Tabela.abordagens[],SMALL(IF(Tabela.abordagens[Mês]=$L$2,ROW(Tabela.abordagens[Idade])-2),ROW(A625)),4)","v":{"$error":"#NUM!"}},{"$f":"INDEX(Tabela.abordagens[],SMALL(IF(Tabela.abordagens[Mês]=$L$2,ROW(Tabela.abordagens[Idade])-2),ROW(A625)),5)","v":{"$error":"#NUM!"}}]
[null,{"$f":"INDEX(Tabela.frequencia[],SMALL(IF(Tabela.frequencia[Mês]=$L$2,ROW(Tabela.frequencia[id])-1),ROW(A626)),1)","v":{"$error":"#NUM!"}},{"$f":"INDEX(Tabela.frequencia[],SMALL(IF(Tabela.frequencia[Mês]=$L$2,ROW(Tabela.frequencia[id])-1),ROW(A626)),4)","v":{"$error":"#NUM!"}},null,{"$f":"IFERROR(VLOOKUP(D673,Tabela.cadastro[[ID]:[Nome]],2,0),\"\")","v":""},{"$f":"IFERROR(VLOOKUP(D673,Tabela66[#All],2,0),\"\")","v":""},{"$f":"IFERROR(VLOOKUP(D673,Tabela.cadastro[[ID]:[CP ou M]],5,0),\"\")","v":""},{"$f":"IFERROR(VLOOKUP(D673,Cadastros!A:F,6,0),\"\")","v":""},{"$f":"IFERROR(VLOOKUP(D673,Cadastros!A:I,9,0),\"\")","v":""},{"$f":"IFERROR(VLOOKUP(D673,Cadastros!A:J,10,0),\"\")","v":""},{"$f":"IF(COUNTIF(Tabela66[id],D673)=0,\"\",COUNTIF(Tabela66[id],D673))","v":""},null,"",null,null,{"$f":"IFERROR(VLOOKUP(O673,Cadastros!A:B,2),\"\")","v":""},"",{"$f":"IFERROR(VLOOKUP(O673,Cadastros!A:E,5,0),\"\")","v":""},{"$f":"IFERROR(VLOOKUP(O673,Cadastros!A:F,6,0),\"\")","v":""},{"$f":"IFERROR(VLOOKUP(O673,Cadastros!A:I,9,0),\"\")","v":""},"","","",null,{"$f":"INDEX(Tabela.abordagens[],SMALL(IF(Tabela.abordagens[Mês]=$L$2,ROW(Tabela.abordagens[id])-2),ROW(A626)),1)","v":{"$error":"#NUM!"}},{"$f":"INDEX(Tabela.abordagens[],SMALL(IF(Tabela.abordagens[Mês]=$L$2,ROW(Tabela.abordagens[Idade])-2),ROW(A626)),6)","v":{"$error":"#NUM!"}},{"$f":"INDEX(Tabela.abordagens[],SMALL(IF(Tabela.abordagens[Mês]=$L$2,ROW(Tabela.abordagens[Idade])-2),ROW(A626)),4)","v":{"$error":"#NUM!"}},{"$f":"INDEX(Tabela.abordagens[],SMALL(IF(Tabela.abordagens[Mês]=$L$2,ROW(Tabela.abordagens[Idade])-2),ROW(A626)),5)","v":{"$error":"#NUM!"}}]
[null,{"$f":"INDEX(Tabela.frequencia[],SMALL(IF(Tabela.frequencia[Mês]=$L$2,ROW(Tabela.frequencia[id])-1),ROW(A627)),1)","v":{"$error":"#NUM!"}},{"$f":"INDEX(Tabela.frequencia[],SMALL(IF(Tabela.frequencia[Mês]=$L$2,ROW(Tabela.frequencia[id])-1),ROW(A627)),4)","v":{"$error":"#NUM!"}},null,{"$f":"IFERROR(VLOOKUP(D674,Tabela.cadastro[[ID]:[Nome]],2,0),\"\")","v":""},{"$f":"IFERROR(VLOOKUP(D674,Tabela66[#All],2,0),\"\")","v":""},{"$f":"IFERROR(VLOOKUP(D674,Tabela.cadastro[[ID]:[CP ou M]],5,0),\"\")","v":""},{"$f":"IFERROR(VLOOKUP(D674,Cadastros!A:F,6,0),\"\")","v":""},{"$f":"IFERROR(VLOOKUP(D674,Cadastros!A:I,9,0),\"\")","v":""},{"$f":"IFERROR(VLOOKUP(D674,Cadastros!A:J,10,0),\"\")","v":""},{"$f":"IF(COUNTIF(Tabela66[id],D674)=0,\"\",COUNTIF(Tabela66[id],D674))","v":""},null,"",null,null,{"$f":"IFERROR(VLOOKUP(O674,Cadastros!A:B,2),\"\")","v":""},{"$f":"IFERROR(VLOOKUP(O674,$Y$33:$Z$866,2,0),\"\")","v":""},{"$f":"IFERROR(VLOOKUP(O674,Cadastros!A:E,5,0),\"\")","v":""},{"$f":"IFERROR(VLOOKUP(O674,Cadastros!A:F,6,0),\"\")","v":""},{"$f":"IFERROR(VLOOKUP(O674,Cadastros!A:I,9,0),\"\")","v":""},{"$f":"IFERROR(VLOOKUP(O674,Y$33:AB$866,3,0),\"\")","v":""},{"$f":"IFERROR(VLOOKUP(O674,Y$33:AB$866,4,0),\"\")","v":""},{"$f":"IF(COUNTIF(Y$33:Y$866,O674)=0,\"\",COUNTIF(Y$33:Y$866,O674))","v":""},null,{"$f":"INDEX(Tabela.abordagens[],SMALL(IF(Tabela.abordagens[Mês]=$L$2,ROW(Tabela.abordagens[id])-2),ROW(A627)),1)","v":{"$error":"#NUM!"}},{"$f":"INDEX(Tabela.abordagens[],SMALL(IF(Tabela.abordagens[Mês]=$L$2,ROW(Tabela.abordagens[Idade])-2),ROW(A627)),6)","v":{"$error":"#NUM!"}},{"$f":"INDEX(Tabela.abordagens[],SMALL(IF(Tabela.abordagens[Mês]=$L$2,ROW(Tabela.abordagens[Idade])-2),ROW(A627)),4)","v":{"$error":"#NUM!"}},{"$f":"INDEX(Tabela.abordagens[],SMALL(IF(Tabela.abordagens[Mês]=$L$2,ROW(Tabela.abordagens[Idade])-2),ROW(A627)),5)","v":{"$error":"#NUM!"}}]
[null,{"$f":"INDEX(Tabela.frequencia[],SMALL(IF(Tabela.frequencia[Mês]=$L$2,ROW(Tabela.frequencia[id])-1),ROW(A628)),1)","v":{"$error":"#NUM!"}},{"$f":"INDEX(Tabela.frequencia[],SMALL(IF(Tabela.frequencia[Mês]=$L$2,ROW(Tabela.frequencia[id])-1),ROW(A628)),4)","v":{"$error":"#NUM!"}},null,{"$f":"IFERROR(VLOOKUP(D675,Tabela.cadastro[[ID]:[Nome]],2,0),\"\")","v":""},{"$f":"IFERROR(VLOOKUP(D675,Tabela66[#All],2,0),\"\")","v":""},{"$f":"IFERROR(VLOOKUP(D675,Tabela.cadastro[[ID]:[CP ou M]],5,0),\"\")","v":""},{"$f":"IFERROR(VLOOKUP(D675,Cadastros!A:F,6,0),\"\")","v":""},{"$f":"IFERROR(VLOOKUP(D675,Cadastros!A:I,9,0),\"\")","v":""},{"$f":"IFERROR(VLOOKUP(D675,Cadastros!A:J,10,0),\"\")","v":""},{"$f":"IF(COUNTIF(Tabela66[id],D675)=0,\"\",COUNTIF(Tabela66[id],D675))","v":""},null,"",null,null,{"$f":"IFERROR(VLOOKUP(O675,Cadastros!A:B,2),\"\")","v":""},"",{"$f":"IFERROR(VLOOKUP(O675,Cadastros!A:E,5,0),\"\")","v":""},{"$f":"IFERROR(VLOOKUP(O675,Cadastros!A:F,6,0),\"\")","v":""},{"$f":"IFERROR(VLOOKUP(O675,Cadastros!A:I,9,0),\"\")","v":""},"","","",null,{"$f":"INDEX(Tabela.abordagens[],SMALL(IF(Tabela.abordagens[Mês]=$L$2,ROW(Tabela.abordagens[id])-2),ROW(A628)),1)","v":{"$error":"#NUM!"}},{"$f":"INDEX(Tabela.abordagens[],SMALL(IF(Tabela.abordagens[Mês]=$L$2,ROW(Tabela.abordagens[Idade])-2),ROW(A628)),6)","v":{"$error":"#NUM!"}},{"$f":"INDEX(Tabela.abordagens[],SMALL(IF(Tabela.abordagens[Mês]=$L$2,ROW(Tabela.abordagens[Idade])-2),ROW(A628)),4)","v":{"$error":"#NUM!"}},{"$f":"INDEX(Tabela.abordagens[],SMALL(IF(Tabela.abordagens[Mês]=$L$2,ROW(Tabela.abordagens[Idade])-2),ROW(A628)),5)","v":{"$error":"#NUM!"}}]
[null,{"$f":"INDEX(Tabela.frequencia[],SMALL(IF(Tabela.frequencia[Mês]=$L$2,ROW(Tabela.frequencia[id])-1),ROW(A629)),1)","v":{"$error":"#NUM!"}},{"$f":"INDEX(Tabela.frequencia[],SMALL(IF(Tabela.frequencia[Mês]=$L$2,ROW(Tabela.frequencia[id])-1),ROW(A629)),4)","v":{"$error":"#NUM!"}},null,{"$f":"IFERROR(VLOOKUP(D676,Tabela.cadastro[[ID]:[Nome]],2,0),\"\")","v":""},{"$f":"IFERROR(VLOOKUP(D676,Tabela66[#All],2,0),\"\")","v":""},{"$f":"IFERROR(VLOOKUP(D676,Tabela.cadastro[[ID]:[CP ou M]],5,0),\"\")","v":""},{"$f":"IFERROR(VLOOKUP(D676,Cadastros!A:F,6,0),\"\")","v":""},{"$f":"IFERROR(VLOOKUP(D676,Cadastros!A:I,9,0),\"\")","v":""},{"$f":"IFERROR(VLOOKUP(D676,Cadastros!A:J,10,0),\"\")","v":""},{"$f":"IF(COUNTIF(Tabela66[id],D676)=0,\"\",COUNTIF(Tabela66[id],D676))","v":""},null,"",null,null,{"$f":"IFERROR(VLOOKUP(O676,Cadastros!A:B,2),\"\")","v":""},"",{"$f":"IFERROR(VLOOKUP(O676,Cadastros!A:E,5,0),\"\")","v":""},{"$f":"IFERROR(VLOOKUP(O676,Cadastros!A:F,6,0),\"\")","v":""},{"$f":"IFERROR(VLOOKUP(O676,Cadastros!A:I,9,0),\"\")","v":""},"","","",null,{"$f":"INDEX(Tabela.abordagens[],SMALL(IF(Tabela.abordagens[Mês]=$L$2,ROW(Tabela.abordagens[id])-2),ROW(A629)),1)","v":{"$error":"#NUM!"}},{"$f":"INDEX(Tabela.abordagens[],SMALL(IF(Tabela.abordagens[Mês]=$L$2,ROW(Tabela.abordagens[Idade])-2),ROW(A629)),6)","v":{"$error":"#NUM!"}},{"$f":"INDEX(Tabela.abordagens[],SMALL(IF(Tabela.abordagens[Mês]=$L$2,ROW(Tabela.abordagens[Idade])-2),ROW(A629)),4)","v":{"$error":"#NUM!"}},{"$f":"INDEX(Tabela.abordagens[],SMALL(IF(Tabela.abordagens[Mês]=$L$2,ROW(Tabela.abordagens[Idade])-2),ROW(A629)),5)","v":{"$error":"#NUM!"}}]
[null,{"$f":"INDEX(Tabela.frequencia[],SMALL(IF(Tabela.frequencia[Mês]=$L$2,ROW(Tabela.frequencia[id])-1),ROW(A630)),1)","v":{"$error":"#NUM!"}},{"$f":"INDEX(Tabela.frequencia[],SMALL(IF(Tabela.frequencia[Mês]=$L$2,ROW(Tabela.frequencia[id])-1),ROW(A630)),4)","v":{"$error":"#NUM!"}},null,{"$f":"IFERROR(VLOOKUP(D677,Tabela.cadastro[[ID]:[Nome]],2,0),\"\")","v":""},{"$f":"IFERROR(VLOOKUP(D677,Tabela66[#All],2,0),\"\")","v":""},{"$f":"IFERROR(VLOOKUP(D677,Tabela.cadastro[[ID]:[CP ou M]],5,0),\"\")","v":""},{"$f":"IFERROR(VLOOKUP(D677,Cadastros!A:F,6,0),\"\")","v":""},{"$f":"IFERROR(VLOOKUP(D677,Cadastros!A:I,9,0),\"\")","v":""},{"$f":"IFERROR(VLOOKUP(D677,Cadastros!A:J,10,0),\"\")","v":""},{"$f":"IF(COUNTIF(Tabela66[id],D677)=0,\"\",COUNTIF(Tabela66[id],D677))","v":""},null,"",null,null,{"$f":"IFERROR(VLOOKUP(O677,Cadastros!A:B,2),\"\")","v":""},"",{"$f":"IFERROR(VLOOKUP(O677,Cadastros!A:E,5,0),\"\")","v":""},{"$f":"IFERROR(VLOOKUP(O677,Cadastros!A:F,6,0),\"\")","v":""},{"$f":"IFERROR(VLOOKUP(O677,Cadastros!A:I,9,0),\"\")","v":""},"","","",null,{"$f":"INDEX(Tabela.abordagens[],SMALL(IF(Tabela.abordagens[Mês]=$L$2,ROW(Tabela.abordagens[id])-2),ROW(A630)),1)","v":{"$error":"#NUM!"}},{"$f":"INDEX(Tabela.abordagens[],SMALL(IF(Tabela.abordagens[Mês]=$L$2,ROW(Tabela.abordagens[Idade])-2),ROW(A630)),6)","v":{"$error":"#NUM!"}},{"$f":"INDEX(Tabela.abordagens[],SMALL(IF(Tabela.abordagens[Mês]=$L$2,ROW(Tabela.abordagens[Idade])-2),ROW(A630)),4)","v":{"$error":"#NUM!"}},{"$f":"INDEX(Tabela.abordagens[],SMALL(IF(Tabela.abordagens[Mês]=$L$2,ROW(Tabela.abordagens[Idade])-2),ROW(A630)),5)","v":{"$error":"#NUM!"}}]
[null,{"$f":"INDEX(Tabela.frequencia[],SMALL(IF(Tabela.frequencia[Mês]=$L$2,ROW(Tabela.frequencia[id])-1),ROW(A631)),1)","v":{"$error":"#NUM!"}},{"$f":"INDEX(Tabela.frequencia[],SMALL(IF(Tabela.frequencia[Mês]=$L$2,ROW(Tabela.frequencia[id])-1),ROW(A631)),4)","v":{"$error":"#NUM!"}},null,{"$f":"IFERROR(VLOOKUP(D678,Tabela.cadastro[[ID]:[Nome]],2,0),\"\")","v":""},{"$f":"IFERROR(VLOOKUP(D678,Tabela66[#All],2,0),\"\")","v":""},{"$f":"IFERROR(VLOOKUP(D678,Tabela.cadastro[[ID]:[CP ou M]],5,0),\"\")","v":""},{"$f":"IFERROR(VLOOKUP(D678,Cadastros!A:F,6,0),\"\")","v":""},{"$f":"IFERROR(VLOOKUP(D678,Cadastros!A:I,9,0),\"\")","v":""},{"$f":"IFERROR(VLOOKUP(D678,Cadastros!A:J,10,0),\"\")","v":""},{"$f":"IF(COUNTIF(Tabela66[id],D678)=0,\"\",COUNTIF(Tabela66[id],D678))","v":""},null,"",null,null,{"$f":"IFERROR(VLOOKUP(O678,Cadastros!A:B,2),\"\")","v":""},"",{"$f":"IFERROR(VLOOKUP(O678,Cadastros!A:E,5,0),\"\")","v":""},{"$f":"IFERROR(VLOOKUP(O678,Cadastros!A:F,6,0),\"\")","v":""},{"$f":"IFERROR(VLOOKUP(O678,Cadastros!A:I,9,0),\"\")","v":""},"","","",null,{"$f":"INDEX(Tabela.abordagens[],SMALL(IF(Tabela.abordagens[Mês]=$L$2,ROW(Tabela.abordagens[id])-2),ROW(A631)),1)","v":{"$error":"#NUM!"}},{"$f":"INDEX(Tabela.abordagens[],SMALL(IF(Tabela.abordagens[Mês]=$L$2,ROW(Tabela.abordagens[Idade])-2),ROW(A631)),6)","v":{"$error":"#NUM!"}},{"$f":"INDEX(Tabela.abordagens[],SMALL(IF(Tabela.abordagens[Mês]=$L$2,ROW(Tabela.abordagens[Idade])-2),ROW(A631)),4)","v":{"$error":"#NUM!"}},{"$f":"INDEX(Tabela.abordagens[],SMALL(IF(Tabela.abordagens[Mês]=$L$2,ROW(Tabela.abordagens[Idade])-2),ROW(A631)),5)","v":{"$error":"#NUM!"}}]
[null,{"$f":"INDEX(Tabela.frequencia[],SMALL(IF(Tabela.frequencia[Mês]=$L$2,ROW(Tabela.frequencia[id])-1),ROW(A632)),1)","v":{"$error":"#NUM!"}},{"$f":"INDEX(Tabela.frequencia[],SMALL(IF(Tabela.frequencia[Mês]=$L$2,ROW(Tabela.frequencia[id])-1),ROW(A632)),4)","v":{"$error":"#NUM!"}},null,{"$f":"IFERROR(VLOOKUP(D679,Tabela.cadastro[[ID]:[Nome]],2,0),\"\")","v":""},{"$f":"IFERROR(VLOOKUP(D679,Tabela66[#All],2,0),\"\")","v":""},{"$f":"IFERROR(VLOOKUP(D679,Tabela.cadastro[[ID]:[CP ou M]],5,0),\"\")","v":""},{"$f":"IFERROR(VLOOKUP(D679,Cadastros!A:F,6,0),\"\")","v":""},{"$f":"IFERROR(VLOOKUP(D679,Cadastros!A:I,9,0),\"\")","v":""},{"$f":"IFERROR(VLOOKUP(D679,Cadastros!A:J,10,0),\"\")","v":""},{"$f":"IF(COUNTIF(Tabela66[id],D679)=0,\"\",COUNTIF(Tabela66[id],D679))","v":""},null,"",null,null,{"$f":"IFERROR(VLOOKUP(O679,Cadastros!A:B,2),\"\")","v":""},"",{"$f":"IFERROR(VLOOKUP(O679,Cadastros!A:E,5,0),\"\")","v":""},{"$f":"IFERROR(VLOOKUP(O679,Cadastros!A:F,6,0),\"\")","v":""},{"$f":"IFERROR(VLOOKUP(O679,Cadastros!A:I,9,0),\"\")","v":""},"","","",null,{"$f":"INDEX(Tabela.abordagens[],SMALL(IF(Tabela.abordagens[Mês]=$L$2,ROW(Tabela.abordagens[id])-2),ROW(A632)),1)","v":{"$error":"#NUM!"}},{"$f":"INDEX(Tabela.abordagens[],SMALL(IF(Tabela.abordagens[Mês]=$L$2,ROW(Tabela.abordagens[Idade])-2),ROW(A632)),6)","v":{"$error":"#NUM!"}},{"$f":"INDEX(Tabela.abordagens[],SMALL(IF(Tabela.abordagens[Mês]=$L$2,ROW(Tabela.abordagens[Idade])-2),ROW(A632)),4)","v":{"$error":"#NUM!"}},{"$f":"INDEX(Tabela.abordagens[],SMALL(IF(Tabela.abordagens[Mês]=$L$2,ROW(Tabela.abordagens[Idade])-2),ROW(A632)),5)","v":{"$error":"#NUM!"}}]
[null,{"$f":"INDEX(Tabela.frequencia[],SMALL(IF(Tabela.frequencia[Mês]=$L$2,ROW(Tabela.frequencia[id])-1),ROW(A633)),1)","v":{"$error":"#NUM!"}},{"$f":"INDEX(Tabela.frequencia[],SMALL(IF(Tabela.frequencia[Mês]=$L$2,ROW(Tabela.frequencia[id])-1),ROW(A633)),4)","v":{"$error":"#NUM!"}},null,{"$f":"IFERROR(VLOOKUP(D680,Tabela.cadastro[[ID]:[Nome]],2,0),\"\")","v":""},{"$f":"IFERROR(VLOOKUP(D680,Tabela66[#All],2,0),\"\")","v":""},{"$f":"IFERROR(VLOOKUP(D680,Tabela.cadastro[[ID]:[CP ou M]],5,0),\"\")","v":""},{"$f":"IFERROR(VLOOKUP(D680,Cadastros!A:F,6,0),\"\")","v":""},{"$f":"IFERROR(VLOOKUP(D680,Cadastros!A:I,9,0),\"\")","v":""},{"$f":"IFERROR(VLOOKUP(D680,Cadastros!A:J,10,0),\"\")","v":""},{"$f":"IF(COUNTIF(Tabela66[id],D680)=0,\"\",COUNTIF(Tabela66[id],D680))","v":""},null,"",null,null,{"$f":"IFERROR(VLOOKUP(O680,Cadastros!A:B,2),\"\")","v":""},"",{"$f":"IFERROR(VLOOKUP(O680,Cadastros!A:E,5,0),\"\")","v":""},{"$f":"IFERROR(VLOOKUP(O680,Cadastros!A:F,6,0),\"\")","v":""},{"$f":"IFERROR(VLOOKUP(O680,Cadastros!A:I,9,0),\"\")","v":""},"","","",null,{"$f":"INDEX(Tabela.abordagens[],SMALL(IF(Tabela.abordagens[Mês]=$L$2,ROW(Tabela.abordagens[id])-2),ROW(A633)),1)","v":{"$error":"#NUM!"}},{"$f":"INDEX(Tabela.abordagens[],SMALL(IF(Tabela.abordagens[Mês]=$L$2,ROW(Tabela.abordagens[Idade])-2),ROW(A633)),6)","v":{"$error":"#NUM!"}},{"$f":"INDEX(Tabela.abordagens[],SMALL(IF(Tabela.abordagens[Mês]=$L$2,ROW(Tabela.abordagens[Idade])-2),ROW(A633)),4)","v":{"$error":"#NUM!"}},{"$f":"INDEX(Tabela.abordagens[],SMALL(IF(Tabela.abordagens[Mês]=$L$2,ROW(Tabela.abordagens[Idade])-2),ROW(A633)),5)","v":{"$error":"#NUM!"}}]
[null,{"$f":"INDEX(Tabela.frequencia[],SMALL(IF(Tabela.frequencia[Mês]=$L$2,ROW(Tabela.frequencia[id])-1),ROW(A634)),1)","v":{"$error":"#NUM!"}},{"$f":"INDEX(Tabela.frequencia[],SMALL(IF(Tabela.frequencia[Mês]=$L$2,ROW(Tabela.frequencia[id])-1),ROW(A634)),4)","v":{"$error":"#NUM!"}},null,{"$f":"IFERROR(VLOOKUP(D681,Tabela.cadastro[[ID]:[Nome]],2,0),\"\")","v":""},{"$f":"IFERROR(VLOOKUP(D681,Tabela66[#All],2,0),\"\")","v":""},{"$f":"IFERROR(VLOOKUP(D681,Tabela.cadastro[[ID]:[CP ou M]],5,0),\"\")","v":""},{"$f":"IFERROR(VLOOKUP(D681,Cadastros!A:F,6,0),\"\")","v":""},{"$f":"IFERROR(VLOOKUP(D681,Cadastros!A:I,9,0),\"\")","v":""},{"$f":"IFERROR(VLOOKUP(D681,Cadastros!A:J,10,0),\"\")","v":""},{"$f":"IF(COUNTIF(Tabela66[id],D681)=0,\"\",COUNTIF(Tabela66[id],D681))","v":""},null,"",null,null,{"$f":"IFERROR(VLOOKUP(O681,Cadastros!A:B,2),\"\")","v":""},"",{"$f":"IFERROR(VLOOKUP(O681,Cadastros!A:E,5,0),\"\")","v":""},{"$f":"IFERROR(VLOOKUP(O681,Cadastros!A:F,6,0),\"\")","v":""},{"$f":"IFERROR(VLOOKUP(O681,Cadastros!A:I,9,0),\"\")","v":""},"","","",null,{"$f":"INDEX(Tabela.abordagens[],SMALL(IF(Tabela.abordagens[Mês]=$L$2,ROW(Tabela.abordagens[id])-2),ROW(A634)),1)","v":{"$error":"#NUM!"}},{"$f":"INDEX(Tabela.abordagens[],SMALL(IF(Tabela.abordagens[Mês]=$L$2,ROW(Tabela.abordagens[Idade])-2),ROW(A634)),6)","v":{"$error":"#NUM!"}},{"$f":"INDEX(Tabela.abordagens[],SMALL(IF(Tabela.abordagens[Mês]=$L$2,ROW(Tabela.abordagens[Idade])-2),ROW(A634)),4)","v":{"$error":"#NUM!"}},{"$f":"INDEX(Tabela.abordagens[],SMALL(IF(Tabela.abordagens[Mês]=$L$2,ROW(Tabela.abordagens[Idade])-2),ROW(A634)),5)","v":{"$error":"#NUM!"}}]
[null,{"$f":"INDEX(Tabela.frequencia[],SMALL(IF(Tabela.frequencia[Mês]=$L$2,ROW(Tabela.frequencia[id])-1),ROW(A635)),1)","v":{"$error":"#NUM!"}},{"$f":"INDEX(Tabela.frequencia[],SMALL(IF(Tabela.frequencia[Mês]=$L$2,ROW(Tabela.frequencia[id])-1),ROW(A635)),4)","v":{"$error":"#NUM!"}},null,{"$f":"IFERROR(VLOOKUP(D682,Tabela.cadastro[[ID]:[Nome]],2,0),\"\")","v":""},{"$f":"IFERROR(VLOOKUP(D682,Tabela66[#All],2,0),\"\")","v":""},{"$f":"IFERROR(VLOOKUP(D682,Tabela.cadastro[[ID]:[CP ou M]],5,0),\"\")","v":""},{"$f":"IFERROR(VLOOKUP(D682,Cadastros!A:F,6,0),\"\")","v":""},{"$f":"IFERROR(VLOOKUP(D682,Cadastros!A:I,9,0),\"\")","v":""},{"$f":"IFERROR(VLOOKUP(D682,Cadastros!A:J,10,0),\"\")","v":""},{"$f":"IF(COUNTIF(Tabela66[id],D682)=0,\"\",COUNTIF(Tabela66[id],D682))","v":""},null,{"$f":"IF(AND(K682:K1513>=5,L682:L1513=\"Não\"),\"*\",\"\")","v":""},null,null,{"$f":"IFERROR(VLOOKUP(O682,Cadastros!A:B,2),\"\")","v":""},"",{"$f":"IFERROR(VLOOKUP(O682,Cadastros!A:E,5,0),\"\")","v":""},{"$f":"IFERROR(VLOOKUP(O682,Cadastros!A:F,6,0),\"\")","v":""},{"$f":"IFERROR(VLOOKUP(O682,Cadastros!A:I,9,0),\"\")","v":""},"","","",null,{"$f":"INDEX(Tabela.abordagens[],SMALL(IF(Tabela.abordagens[Mês]=$L$2,ROW(Tabela.abordagens[id])-2),ROW(A635)),1)","v":{"$error":"#NUM!"}},{"$f":"INDEX(Tabela.abordagens[],SMALL(IF(Tabela.abordagens[Mês]=$L$2,ROW(Tabela.abordagens[Idade])-2),ROW(A635)),6)","v":{"$error":"#NUM!"}},{"$f":"INDEX(Tabela.abordagens[],SMALL(IF(Tabela.abordagens[Mês]=$L$2,ROW(Tabela.abordagens[Idade])-2),ROW(A635)),4)","v":{"$error":"#NUM!"}},{"$f":"INDEX(Tabela.abordagens[],SMALL(IF(Tabela.abordagens[Mês]=$L$2,ROW(Tabela.abordagens[Idade])-2),ROW(A635)),5)","v":{"$error":"#NUM!"}}]
[null,{"$f":"INDEX(Tabela.frequencia[],SMALL(IF(Tabela.frequencia[Mês]=$L$2,ROW(Tabela.frequencia[id])-1),ROW(A636)),1)","v":{"$error":"#NUM!"}},{"$f":"INDEX(Tabela.frequencia[],SMALL(IF(Tabela.frequencia[Mês]=$L$2,ROW(Tabela.frequencia[id])-1),ROW(A636)),4)","v":{"$error":"#NUM!"}},null,{"$f":"IFERROR(VLOOKUP(D683,Tabela.cadastro[[ID]:[Nome]],2,0),\"\")","v":""},{"$f":"IFERROR(VLOOKUP(D683,Tabela66[#All],2,0),\"\")","v":""},{"$f":"IFERROR(VLOOKUP(D683,Tabela.cadastro[[ID]:[CP ou M]],5,0),\"\")","v":""},{"$f":"IFERROR(VLOOKUP(D683,Cadastros!A:F,6,0),\"\")","v":""},{"$f":"IFERROR(VLOOKUP(D683,Cadastros!A:I,9,0),\"\")","v":""},{"$f":"IFERROR(VLOOKUP(D683,Cadastros!A:J,10,0),\"\")","v":""},{"$f":"IF(COUNTIF(Tabela66[id],D683)=0,\"\",COUNTIF(Tabela66[id],D683))","v":""},null,"",null,null,{"$f":"IFERROR(VLOOKUP(O683,Cadastros!A:B,2),\"\")","v":""},"",{"$f":"IFERROR(VLOOKUP(O683,Cadastros!A:E,5,0),\"\")","v":""},{"$f":"IFERROR(VLOOKUP(O683,Cadastros!A:F,6,0),\"\")","v":""},{"$f":"IFERROR(VLOOKUP(O683,Cadastros!A:I,9,0),\"\")","v":""},"","","",null,{"$f":"INDEX(Tabela.abordagens[],SMALL(IF(Tabela.abordagens[Mês]=$L$2,ROW(Tabela.abordagens[id])-2),ROW(A636)),1)","v":{"$error":"#NUM!"}},{"$f":"INDEX(Tabela.abordagens[],SMALL(IF(Tabela.abordagens[Mês]=$L$2,ROW(Tabela.abordagens[Idade])-2),ROW(A636)),6)","v":{"$error":"#NUM!"}},{"$f":"INDEX(Tabela.abordagens[],SMALL(IF(Tabela.abordagens[Mês]=$L$2,ROW(Tabela.abordagens[Idade])-2),ROW(A636)),4)","v":{"$error":"#NUM!"}},{"$f":"INDEX(Tabela.abordagens[],SMALL(IF(Tabela.abordagens[Mês]=$L$2,ROW(Tabela.abordagens[Idade])-2),ROW(A636)),5)","v":{"$error":"#NUM!"}}]
[null,{"$f":"INDEX(Tabela.frequencia[],SMALL(IF(Tabela.frequencia[Mês]=$L$2,ROW(Tabela.frequencia[id])-1),ROW(A637)),1)","v":{"$error":"#NUM!"}},{"$f":"INDEX(Tabela.frequencia[],SMALL(IF(Tabela.frequencia[Mês]=$L$2,ROW(Tabela.frequencia[id])-1),ROW(A637)),4)","v":{"$error":"#NUM!"}},null,{"$f":"IFERROR(VLOOKUP(D684,Tabela.cadastro[[ID]:[Nome]],2,0),\"\")","v":""},{"$f":"IFERROR(VLOOKUP(D684,Tabela66[#All],2,0),\"\")","v":""},{"$f":"IFERROR(VLOOKUP(D684,Tabela.cadastro[[ID]:[CP ou M]],5,0),\"\")","v":""},{"$f":"IFERROR(VLOOKUP(D684,Cadastros!A:F,6,0),\"\")","v":""},{"$f":"IFERROR(VLOOKUP(D684,Cadastros!A:I,9,0),\"\")","v":""},{"$f":"IFERROR(VLOOKUP(D684,Cadastros!A:J,10,0),\"\")","v":""},{"$f":"IF(COUNTIF(Tabela66[id],D684)=0,\"\",COUNTIF(Tabela66[id],D684))","v":""},null,"",null,null,{"$f":"IFERROR(VLOOKUP(O684,Cadastros!A:B,2),\"\")","v":""},"",{"$f":"IFERROR(VLOOKUP(O684,Cadastros!A:E,5,0),\"\")","v":""},{"$f":"IFERROR(VLOOKUP(O684,Cadastros!A:F,6,0),\"\")","v":""},{"$f":"IFERROR(VLOOKUP(O684,Cadastros!A:I,9,0),\"\")","v":""},"","","",null,{"$f":"INDEX(Tabela.abordagens[],SMALL(IF(Tabela.abordagens[Mês]=$L$2,ROW(Tabela.abordagens[id])-2),ROW(A637)),1)","v":{"$error":"#NUM!"}},{"$f":"INDEX(Tabela.abordagens[],SMALL(IF(Tabela.abordagens[Mês]=$L$2,ROW(Tabela.abordagens[Idade])-2),ROW(A637)),6)","v":{"$error":"#NUM!"}},{"$f":"INDEX(Tabela.abordagens[],SMALL(IF(Tabela.abordagens[Mês]=$L$2,ROW(Tabela.abordagens[Idade])-2),ROW(A637)),4)","v":{"$error":"#NUM!"}},{"$f":"INDEX(Tabela.abordagens[],SMALL(IF(Tabela.abordagens[Mês]=$L$2,ROW(Tabela.abordagens[Idade])-2),ROW(A637)),5)","v":{"$error":"#NUM!"}}]
[null,{"$f":"INDEX(Tabela.frequencia[],SMALL(IF(Tabela.frequencia[Mês]=$L$2,ROW(Tabela.frequencia[id])-1),ROW(A638)),1)","v":{"$error":"#NUM!"}},{"$f":"INDEX(Tabela.frequencia[],SMALL(IF(Tabela.frequencia[Mês]=$L$2,ROW(Tabela.frequencia[id])-1),ROW(A638)),4)","v":{"$error":"#NUM!"}},null,{"$f":"IFERROR(VLOOKUP(D685,Tabela.cadastro[[ID]:[Nome]],2,0),\"\")","v":""},{"$f":"IFERROR(VLOOKUP(D685,Tabela66[#All],2,0),\"\")","v":""},{"$f":"IFERROR(VLOOKUP(D685,Tabela.cadastro[[ID]:[CP ou M]],5,0),\"\")","v":""},{"$f":"IFERROR(VLOOKUP(D685,Cadastros!A:F,6,0),\"\")","v":""},{"$f":"IFERROR(VLOOKUP(D685,Cadastros!A:I,9,0),\"\")","v":""},{"$f":"IFERROR(VLOOKUP(D685,Cadastros!A:J,10,0),\"\")","v":""},{"$f":"IF(COUNTIF(Tabela66[id],D685)=0,\"\",COUNTIF(Tabela66[id],D685))","v":""},null,"",null,null,{"$f":"IFERROR(VLOOKUP(O685,Cadastros!A:B,2),\"\")","v":""},"",{"$f":"IFERROR(VLOOKUP(O685,Cadastros!A:E,5,0),\"\")","v":""},{"$f":"IFERROR(VLOOKUP(O685,Cadastros!A:F,6,0),\"\")","v":""},{"$f":"IFERROR(VLOOKUP(O685,Cadastros!A:I,9,0),\"\")","v":""},"","","",null,{"$f":"INDEX(Tabela.abordagens[],SMALL(IF(Tabela.abordagens[Mês]=$L$2,ROW(Tabela.abordagens[id])-2),ROW(A638)),1)","v":{"$error":"#NUM!"}},{"$f":"INDEX(Tabela.abordagens[],SMALL(IF(Tabela.abordagens[Mês]=$L$2,ROW(Tabela.abordagens[Idade])-2),ROW(A638)),6)","v":{"$error":"#NUM!"}},{"$f":"INDEX(Tabela.abordagens[],SMALL(IF(Tabela.abordagens[Mês]=$L$2,ROW(Tabela.abordagens[Idade])-2),ROW(A638)),4)","v":{"$error":"#NUM!"}},{"$f":"INDEX(Tabela.abordagens[],SMALL(IF(Tabela.abordagens[Mês]=$L$2,ROW(Tabela.abordagens[Idade])-2),ROW(A638)),5)","v":{"$error":"#NUM!"}}]
[null,{"$f":"INDEX(Tabela.frequencia[],SMALL(IF(Tabela.frequencia[Mês]=$L$2,ROW(Tabela.frequencia[id])-1),ROW(A639)),1)","v":{"$error":"#NUM!"}},{"$f":"INDEX(Tabela.frequencia[],SMALL(IF(Tabela.frequencia[Mês]=$L$2,ROW(Tabela.frequencia[id])-1),ROW(A639)),4)","v":{"$error":"#NUM!"}},null,{"$f":"IFERROR(VLOOKUP(D686,Tabela.cadastro[[ID]:[Nome]],2,0),\"\")","v":""},{"$f":"IFERROR(VLOOKUP(D686,Tabela66[#All],2,0),\"\")","v":""},{"$f":"IFERROR(VLOOKUP(D686,Tabela.cadastro[[ID]:[CP ou M]],5,0),\"\")","v":""},{"$f":"IFERROR(VLOOKUP(D686,Cadastros!A:F,6,0),\"\")","v":""},{"$f":"IFERROR(VLOOKUP(D686,Cadastros!A:I,9,0),\"\")","v":""},{"$f":"IFERROR(VLOOKUP(D686,Cadastros!A:J,10,0),\"\")","v":""},{"$f":"IF(COUNTIF(Tabela66[id],D686)=0,\"\",COUNTIF(Tabela66[id],D686))","v":""},null,"",null,null,{"$f":"IFERROR(VLOOKUP(O686,Cadastros!A:B,2),\"\")","v":""},"",{"$f":"IFERROR(VLOOKUP(O686,Cadastros!A:E,5,0),\"\")","v":""},{"$f":"IFERROR(VLOOKUP(O686,Cadastros!A:F,6,0),\"\")","v":""},{"$f":"IFERROR(VLOOKUP(O686,Cadastros!A:I,9,0),\"\")","v":""},"","","",null,{"$f":"INDEX(Tabela.abordagens[],SMALL(IF(Tabela.abordagens[Mês]=$L$2,ROW(Tabela.abordagens[id])-2),ROW(A639)),1)","v":{"$error":"#NUM!"}},{"$f":"INDEX(Tabela.abordagens[],SMALL(IF(Tabela.abordagens[Mês]=$L$2,ROW(Tabela.abordagens[Idade])-2),ROW(A639)),6)","v":{"$error":"#NUM!"}},{"$f":"INDEX(Tabela.abordagens[],SMALL(IF(Tabela.abordagens[Mês]=$L$2,ROW(Tabela.abordagens[Idade])-2),ROW(A639)),4)","v":{"$error":"#NUM!"}},{"$f":"INDEX(Tabela.abordagens[],SMALL(IF(Tabela.abordagens[Mês]=$L$2,ROW(Tabela.abordagens[Idade])-2),ROW(A639)),5)","v":{"$error":"#NUM!"}}]
[null,{"$f":"INDEX(Tabela.frequencia[],SMALL(IF(Tabela.frequencia[Mês]=$L$2,ROW(Tabela.frequencia[id])-1),ROW(A640)),1)","v":{"$error":"#NUM!"}},{"$f":"INDEX(Tabela.frequencia[],SMALL(IF(Tabela.frequencia[Mês]=$L$2,ROW(Tabela.frequencia[id])-1),ROW(A640)),4)","v":{"$error":"#NUM!"}},null,{"$f":"IFERROR(VLOOKUP(D687,Tabela.cadastro[[ID]:[Nome]],2,0),\"\")","v":""},{"$f":"IFERROR(VLOOKUP(D687,Tabela66[#All],2,0),\"\")","v":""},{"$f":"IFERROR(VLOOKUP(D687,Tabela.cadastro[[ID]:[CP ou M]],5,0),\"\")","v":""},{"$f":"IFERROR(VLOOKUP(D687,Cadastros!A:F,6,0),\"\")","v":""},{"$f":"IFERROR(VLOOKUP(D687,Cadastros!A:I,9,0),\"\")","v":""},{"$f":"IFERROR(VLOOKUP(D687,Cadastros!A:J,10,0),\"\")","v":""},{"$f":"IF(COUNTIF(Tabela66[id],D687)=0,\"\",COUNTIF(Tabela66[id],D687))","v":""},null,"",null,null,{"$f":"IFERROR(VLOOKUP(O687,Cadastros!A:B,2),\"\")","v":""},"",{"$f":"IFERROR(VLOOKUP(O687,Cadastros!A:E,5,0),\"\")","v":""},{"$f":"IFERROR(VLOOKUP(O687,Cadastros!A:F,6,0),\"\")","v":""},{"$f":"IFERROR(VLOOKUP(O687,Cadastros!A:I,9,0),\"\")","v":""},"","","",null,{"$f":"INDEX(Tabela.abordagens[],SMALL(IF(Tabela.abordagens[Mês]=$L$2,ROW(Tabela.abordagens[id])-2),ROW(A640)),1)","v":{"$error":"#NUM!"}},{"$f":"INDEX(Tabela.abordagens[],SMALL(IF(Tabela.abordagens[Mês]=$L$2,ROW(Tabela.abordagens[Idade])-2),ROW(A640)),6)","v":{"$error":"#NUM!"}},{"$f":"INDEX(Tabela.abordagens[],SMALL(IF(Tabela.abordagens[Mês]=$L$2,ROW(Tabela.abordagens[Idade])-2),ROW(A640)),4)","v":{"$error":"#NUM!"}},{"$f":"INDEX(Tabela.abordagens[],SMALL(IF(Tabela.abordagens[Mês]=$L$2,ROW(Tabela.abordagens[Idade])-2),ROW(A640)),5)","v":{"$error":"#NUM!"}}]
[null,{"$f":"INDEX(Tabela.frequencia[],SMALL(IF(Tabela.frequencia[Mês]=$L$2,ROW(Tabela.frequencia[id])-1),ROW(A641)),1)","v":{"$error":"#NUM!"}},{"$f":"INDEX(Tabela.frequencia[],SMALL(IF(Tabela.frequencia[Mês]=$L$2,ROW(Tabela.frequencia[id])-1),ROW(A641)),4)","v":{"$error":"#NUM!"}},null,{"$f":"IFERROR(VLOOKUP(D688,Tabela.cadastro[[ID]:[Nome]],2,0),\"\")","v":""},{"$f":"IFERROR(VLOOKUP(D688,Tabela66[#All],2,0),\"\")","v":""},{"$f":"IFERROR(VLOOKUP(D688,Tabela.cadastro[[ID]:[CP ou M]],5,0),\"\")","v":""},{"$f":"IFERROR(VLOOKUP(D688,Cadastros!A:F,6,0),\"\")","v":""},{"$f":"IFERROR(VLOOKUP(D688,Cadastros!A:I,9,0),\"\")","v":""},{"$f":"IFERROR(VLOOKUP(D688,Cadastros!A:J,10,0),\"\")","v":""},{"$f":"IF(COUNTIF(Tabela66[id],D688)=0,\"\",COUNTIF(Tabela66[id],D688))","v":""},null,"",null,null,{"$f":"IFERROR(VLOOKUP(O688,Cadastros!A:B,2),\"\")","v":""},"",{"$f":"IFERROR(VLOOKUP(O688,Cadastros!A:E,5,0),\"\")","v":""},{"$f":"IFERROR(VLOOKUP(O688,Cadastros!A:F,6,0),\"\")","v":""},{"$f":"IFERROR(VLOOKUP(O688,Cadastros!A:I,9,0),\"\")","v":""},"","","",null,{"$f":"INDEX(Tabela.abordagens[],SMALL(IF(Tabela.abordagens[Mês]=$L$2,ROW(Tabela.abordagens[id])-2),ROW(A641)),1)","v":{"$error":"#NUM!"}},{"$f":"INDEX(Tabela.abordagens[],SMALL(IF(Tabela.abordagens[Mês]=$L$2,ROW(Tabela.abordagens[Idade])-2),ROW(A641)),6)","v":{"$error":"#NUM!"}},{"$f":"INDEX(Tabela.abordagens[],SMALL(IF(Tabela.abordagens[Mês]=$L$2,ROW(Tabela.abordagens[Idade])-2),ROW(A641)),4)","v":{"$error":"#NUM!"}},{"$f":"INDEX(Tabela.abordagens[],SMALL(IF(Tabela.abordagens[Mês]=$L$2,ROW(Tabela.abordagens[Idade])-2),ROW(A641)),5)","v":{"$error":"#NUM!"}}]
[null,{"$f":"INDEX(Tabela.frequencia[],SMALL(IF(Tabela.frequencia[Mês]=$L$2,ROW(Tabela.frequencia[id])-1),ROW(A642)),1)","v":{"$error":"#NUM!"}},{"$f":"INDEX(Tabela.frequencia[],SMALL(IF(Tabela.frequencia[Mês]=$L$2,ROW(Tabela.frequencia[id])-1),ROW(A642)),4)","v":{"$error":"#NUM!"}},null,{"$f":"IFERROR(VLOOKUP(D689,Tabela.cadastro[[ID]:[Nome]],2,0),\"\")","v":""},{"$f":"IFERROR(VLOOKUP(D689,Tabela66[#All],2,0),\"\")","v":""},{"$f":"IFERROR(VLOOKUP(D689,Tabela.cadastro[[ID]:[CP ou M]],5,0),\"\")","v":""},{"$f":"IFERROR(VLOOKUP(D689,Cadastros!A:F,6,0),\"\")","v":""},{"$f":"IFERROR(VLOOKUP(D689,Cadastros!A:I,9,0),\"\")","v":""},{"$f":"IFERROR(VLOOKUP(D689,Cadastros!A:J,10,0),\"\")","v":""},{"$f":"IF(COUNTIF(Tabela66[id],D689)=0,\"\",COUNTIF(Tabela66[id],D689))","v":""},null,"",null,null,{"$f":"IFERROR(VLOOKUP(O689,Cadastros!A:B,2),\"\")","v":""},"",{"$f":"IFERROR(VLOOKUP(O689,Cadastros!A:E,5,0),\"\")","v":""},{"$f":"IFERROR(VLOOKUP(O689,Cadastros!A:F,6,0),\"\")","v":""},{"$f":"IFERROR(VLOOKUP(O689,Cadastros!A:I,9,0),\"\")","v":""},"","","",null,{"$f":"INDEX(Tabela.abordagens[],SMALL(IF(Tabela.abordagens[Mês]=$L$2,ROW(Tabela.abordagens[id])-2),ROW(A642)),1)","v":{"$error":"#NUM!"}},{"$f":"INDEX(Tabela.abordagens[],SMALL(IF(Tabela.abordagens[Mês]=$L$2,ROW(Tabela.abordagens[Idade])-2),ROW(A642)),6)","v":{"$error":"#NUM!"}},{"$f":"INDEX(Tabela.abordagens[],SMALL(IF(Tabela.abordagens[Mês]=$L$2,ROW(Tabela.abordagens[Idade])-2),ROW(A642)),4)","v":{"$error":"#NUM!"}},{"$f":"INDEX(Tabela.abordagens[],SMALL(IF(Tabela.abordagens[Mês]=$L$2,ROW(Tabela.abordagens[Idade])-2),ROW(A642)),5)","v":{"$error":"#NUM!"}}]
[null,{"$f":"INDEX(Tabela.frequencia[],SMALL(IF(Tabela.frequencia[Mês]=$L$2,ROW(Tabela.frequencia[id])-1),ROW(A643)),1)","v":{"$error":"#NUM!"}},{"$f":"INDEX(Tabela.frequencia[],SMALL(IF(Tabela.frequencia[Mês]=$L$2,ROW(Tabela.frequencia[id])-1),ROW(A643)),4)","v":{"$error":"#NUM!"}},null,{"$f":"IFERROR(VLOOKUP(D690,Tabela.cadastro[[ID]:[Nome]],2,0),\"\")","v":""},{"$f":"IFERROR(VLOOKUP(D690,Tabela66[#All],2,0),\"\")","v":""},{"$f":"IFERROR(VLOOKUP(D690,Tabela.cadastro[[ID]:[CP ou M]],5,0),\"\")","v":""},{"$f":"IFERROR(VLOOKUP(D690,Cadastros!A:F,6,0),\"\")","v":""},{"$f":"IFERROR(VLOOKUP(D690,Cadastros!A:I,9,0),\"\")","v":""},{"$f":"IFERROR(VLOOKUP(D690,Cadastros!A:J,10,0),\"\")","v":""},{"$f":"IF(COUNTIF(Tabela66[id],D690)=0,\"\",COUNTIF(Tabela66[id],D690))","v":""},null,"",null,null,{"$f":"IFERROR(VLOOKUP(O690,Cadastros!A:B,2),\"\")","v":""},"",{"$f":"IFERROR(VLOOKUP(O690,Cadastros!A:E,5,0),\"\")","v":""},{"$f":"IFERROR(VLOOKUP(O690,Cadastros!A:F,6,0),\"\")","v":""},{"$f":"IFERROR(VLOOKUP(O690,Cadastros!A:I,9,0),\"\")","v":""},"","","",null,{"$f":"INDEX(Tabela.abordagens[],SMALL(IF(Tabela.abordagens[Mês]=$L$2,ROW(Tabela.abordagens[id])-2),ROW(A643)),1)","v":{"$error":"#NUM!"}},{"$f":"INDEX(Tabela.abordagens[],SMALL(IF(Tabela.abordagens[Mês]=$L$2,ROW(Tabela.abordagens[Idade])-2),ROW(A643)),6)","v":{"$error":"#NUM!"}},{"$f":"INDEX(Tabela.abordagens[],SMALL(IF(Tabela.abordagens[Mês]=$L$2,ROW(Tabela.abordagens[Idade])-2),ROW(A643)),4)","v":{"$error":"#NUM!"}},{"$f":"INDEX(Tabela.abordagens[],SMALL(IF(Tabela.abordagens[Mês]=$L$2,ROW(Tabela.abordagens[Idade])-2),ROW(A643)),5)","v":{"$error":"#NUM!"}}]
[null,{"$f":"INDEX(Tabela.frequencia[],SMALL(IF(Tabela.frequencia[Mês]=$L$2,ROW(Tabela.frequencia[id])-1),ROW(A644)),1)","v":{"$error":"#NUM!"}},{"$f":"INDEX(Tabela.frequencia[],SMALL(IF(Tabela.frequencia[Mês]=$L$2,ROW(Tabela.frequencia[id])-1),ROW(A644)),4)","v":{"$error":"#NUM!"}},null,{"$f":"IFERROR(VLOOKUP(D691,Tabela.cadastro[[ID]:[Nome]],2,0),\"\")","v":""},{"$f":"IFERROR(VLOOKUP(D691,Tabela66[#All],2,0),\"\")","v":""},{"$f":"IFERROR(VLOOKUP(D691,Tabela.cadastro[[ID]:[CP ou M]],5,0),\"\")","v":""},{"$f":"IFERROR(VLOOKUP(D691,Cadastros!A:F,6,0),\"\")","v":""},{"$f":"IFERROR(VLOOKUP(D691,Cadastros!A:I,9,0),\"\")","v":""},{"$f":"IFERROR(VLOOKUP(D691,Cadastros!A:J,10,0),\"\")","v":""},{"$f":"IF(COUNTIF(Tabela66[id],D691)=0,\"\",COUNTIF(Tabela66[id],D691))","v":""},null,"",null,null,{"$f":"IFERROR(VLOOKUP(O691,Cadastros!A:B,2),\"\")","v":""},"",{"$f":"IFERROR(VLOOKUP(O691,Cadastros!A:E,5,0),\"\")","v":""},{"$f":"IFERROR(VLOOKUP(O691,Cadastros!A:F,6,0),\"\")","v":""},{"$f":"IFERROR(VLOOKUP(O691,Cadastros!A:I,9,0),\"\")","v":""},"","","",null,{"$f":"INDEX(Tabela.abordagens[],SMALL(IF(Tabela.abordagens[Mês]=$L$2,ROW(Tabela.abordagens[id])-2),ROW(A644)),1)","v":{"$error":"#NUM!"}},{"$f":"INDEX(Tabela.abordagens[],SMALL(IF(Tabela.abordagens[Mês]=$L$2,ROW(Tabela.abordagens[Idade])-2),ROW(A644)),6)","v":{"$error":"#NUM!"}},{"$f":"INDEX(Tabela.abordagens[],SMALL(IF(Tabela.abordagens[Mês]=$L$2,ROW(Tabela.abordagens[Idade])-2),ROW(A644)),4)","v":{"$error":"#NUM!"}},{"$f":"INDEX(Tabela.abordagens[],SMALL(IF(Tabela.abordagens[Mês]=$L$2,ROW(Tabela.abordagens[Idade])-2),ROW(A644)),5)","v":{"$error":"#NUM!"}}]
[null,{"$f":"INDEX(Tabela.frequencia[],SMALL(IF(Tabela.frequencia[Mês]=$L$2,ROW(Tabela.frequencia[id])-1),ROW(A645)),1)","v":{"$error":"#NUM!"}},{"$f":"INDEX(Tabela.frequencia[],SMALL(IF(Tabela.frequencia[Mês]=$L$2,ROW(Tabela.frequencia[id])-1),ROW(A645)),4)","v":{"$error":"#NUM!"}},null,{"$f":"IFERROR(VLOOKUP(D692,Tabela.cadastro[[ID]:[Nome]],2,0),\"\")","v":""},{"$f":"IFERROR(VLOOKUP(D692,Tabela66[#All],2,0),\"\")","v":""},{"$f":"IFERROR(VLOOKUP(D692,Tabela.cadastro[[ID]:[CP ou M]],5,0),\"\")","v":""},{"$f":"IFERROR(VLOOKUP(D692,Cadastros!A:F,6,0),\"\")","v":""},{"$f":"IFERROR(VLOOKUP(D692,Cadastros!A:I,9,0),\"\")","v":""},{"$f":"IFERROR(VLOOKUP(D692,Cadastros!A:J,10,0),\"\")","v":""},{"$f":"IF(COUNTIF(Tabela66[id],D692)=0,\"\",COUNTIF(Tabela66[id],D692))","v":""},null,"",null,null,{"$f":"IFERROR(VLOOKUP(O692,Cadastros!A:B,2),\"\")","v":""},"",{"$f":"IFERROR(VLOOKUP(O692,Cadastros!A:E,5,0),\"\")","v":""},{"$f":"IFERROR(VLOOKUP(O692,Cadastros!A:F,6,0),\"\")","v":""},{"$f":"IFERROR(VLOOKUP(O692,Cadastros!A:I,9,0),\"\")","v":""},"","","",null,{"$f":"INDEX(Tabela.abordagens[],SMALL(IF(Tabela.abordagens[Mês]=$L$2,ROW(Tabela.abordagens[id])-2),ROW(A645)),1)","v":{"$error":"#NUM!"}},{"$f":"INDEX(Tabela.abordagens[],SMALL(IF(Tabela.abordagens[Mês]=$L$2,ROW(Tabela.abordagens[Idade])-2),ROW(A645)),6)","v":{"$error":"#NUM!"}},{"$f":"INDEX(Tabela.abordagens[],SMALL(IF(Tabela.abordagens[Mês]=$L$2,ROW(Tabela.abordagens[Idade])-2),ROW(A645)),4)","v":{"$error":"#NUM!"}},{"$f":"INDEX(Tabela.abordagens[],SMALL(IF(Tabela.abordagens[Mês]=$L$2,ROW(Tabela.abordagens[Idade])-2),ROW(A645)),5)","v":{"$error":"#NUM!"}}]
[null,{"$f":"INDEX(Tabela.frequencia[],SMALL(IF(Tabela.frequencia[Mês]=$L$2,ROW(Tabela.frequencia[id])-1),ROW(A646)),1)","v":{"$error":"#NUM!"}},{"$f":"INDEX(Tabela.frequencia[],SMALL(IF(Tabela.frequencia[Mês]=$L$2,ROW(Tabela.frequencia[id])-1),ROW(A646)),4)","v":{"$error":"#NUM!"}},null,{"$f":"IFERROR(VLOOKUP(D693,Tabela.cadastro[[ID]:[Nome]],2,0),\"\")","v":""},{"$f":"IFERROR(VLOOKUP(D693,Tabela66[#All],2,0),\"\")","v":""},{"$f":"IFERROR(VLOOKUP(D693,Tabela.cadastro[[ID]:[CP ou M]],5,0),\"\")","v":""},{"$f":"IFERROR(VLOOKUP(D693,Cadastros!A:F,6,0),\"\")","v":""},{"$f":"IFERROR(VLOOKUP(D693,Cadastros!A:I,9,0),\"\")","v":""},{"$f":"IFERROR(VLOOKUP(D693,Cadastros!A:J,10,0),\"\")","v":""},{"$f":"IF(COUNTIF(Tabela66[id],D693)=0,\"\",COUNTIF(Tabela66[id],D693))","v":""},null,"",null,null,{"$f":"IFERROR(VLOOKUP(O693,Cadastros!A:B,2),\"\")","v":""},"",{"$f":"IFERROR(VLOOKUP(O693,Cadastros!A:E,5,0),\"\")","v":""},{"$f":"IFERROR(VLOOKUP(O693,Cadastros!A:F,6,0),\"\")","v":""},{"$f":"IFERROR(VLOOKUP(O693,Cadastros!A:I,9,0),\"\")","v":""},"","","",null,{"$f":"INDEX(Tabela.abordagens[],SMALL(IF(Tabela.abordagens[Mês]=$L$2,ROW(Tabela.abordagens[id])-2),ROW(A646)),1)","v":{"$error":"#NUM!"}},{"$f":"INDEX(Tabela.abordagens[],SMALL(IF(Tabela.abordagens[Mês]=$L$2,ROW(Tabela.abordagens[Idade])-2),ROW(A646)),6)","v":{"$error":"#NUM!"}},{"$f":"INDEX(Tabela.abordagens[],SMALL(IF(Tabela.abordagens[Mês]=$L$2,ROW(Tabela.abordagens[Idade])-2),ROW(A646)),4)","v":{"$error":"#NUM!"}},{"$f":"INDEX(Tabela.abordagens[],SMALL(IF(Tabela.abordagens[Mês]=$L$2,ROW(Tabela.abordagens[Idade])-2),ROW(A646)),5)","v":{"$error":"#NUM!"}}]
[null,{"$f":"INDEX(Tabela.frequencia[],SMALL(IF(Tabela.frequencia[Mês]=$L$2,ROW(Tabela.frequencia[id])-1),ROW(A647)),1)","v":{"$error":"#NUM!"}},{"$f":"INDEX(Tabela.frequencia[],SMALL(IF(Tabela.frequencia[Mês]=$L$2,ROW(Tabela.frequencia[id])-1),ROW(A647)),4)","v":{"$error":"#NUM!"}},null,{"$f":"IFERROR(VLOOKUP(D694,Tabela.cadastro[[ID]:[Nome]],2,0),\"\")","v":""},{"$f":"IFERROR(VLOOKUP(D694,Tabela66[#All],2,0),\"\")","v":""},{"$f":"IFERROR(VLOOKUP(D694,Tabela.cadastro[[ID]:[CP ou M]],5,0),\"\")","v":""},{"$f":"IFERROR(VLOOKUP(D694,Cadastros!A:F,6,0),\"\")","v":""},{"$f":"IFERROR(VLOOKUP(D694,Cadastros!A:I,9,0),\"\")","v":""},{"$f":"IFERROR(VLOOKUP(D694,Cadastros!A:J,10,0),\"\")","v":""},{"$f":"IF(COUNTIF(Tabela66[id],D694)=0,\"\",COUNTIF(Tabela66[id],D694))","v":""},null,"",null,null,{"$f":"IFERROR(VLOOKUP(O694,Cadastros!A:B,2),\"\")","v":""},"",{"$f":"IFERROR(VLOOKUP(O694,Cadastros!A:E,5,0),\"\")","v":""},{"$f":"IFERROR(VLOOKUP(O694,Cadastros!A:F,6,0),\"\")","v":""},{"$f":"IFERROR(VLOOKUP(O694,Cadastros!A:I,9,0),\"\")","v":""},"","","",null,{"$f":"INDEX(Tabela.abordagens[],SMALL(IF(Tabela.abordagens[Mês]=$L$2,ROW(Tabela.abordagens[id])-2),ROW(A647)),1)","v":{"$error":"#NUM!"}},{"$f":"INDEX(Tabela.abordagens[],SMALL(IF(Tabela.abordagens[Mês]=$L$2,ROW(Tabela.abordagens[Idade])-2),ROW(A647)),6)","v":{"$error":"#NUM!"}},{"$f":"INDEX(Tabela.abordagens[],SMALL(IF(Tabela.abordagens[Mês]=$L$2,ROW(Tabela.abordagens[Idade])-2),ROW(A647)),4)","v":{"$error":"#NUM!"}},{"$f":"INDEX(Tabela.abordagens[],SMALL(IF(Tabela.abordagens[Mês]=$L$2,ROW(Tabela.abordagens[Idade])-2),ROW(A647)),5)","v":{"$error":"#NUM!"}}]
[null,{"$f":"INDEX(Tabela.frequencia[],SMALL(IF(Tabela.frequencia[Mês]=$L$2,ROW(Tabela.frequencia[id])-1),ROW(A648)),1)","v":{"$error":"#NUM!"}},{"$f":"INDEX(Tabela.frequencia[],SMALL(IF(Tabela.frequencia[Mês]=$L$2,ROW(Tabela.frequencia[id])-1),ROW(A648)),4)","v":{"$error":"#NUM!"}},null,{"$f":"IFERROR(VLOOKUP(D695,Tabela.cadastro[[ID]:[Nome]],2,0),\"\")","v":""},{"$f":"IFERROR(VLOOKUP(D695,Tabela66[#All],2,0),\"\")","v":""},{"$f":"IFERROR(VLOOKUP(D695,Tabela.cadastro[[ID]:[CP ou M]],5,0),\"\")","v":""},{"$f":"IFERROR(VLOOKUP(D695,Cadastros!A:F,6,0),\"\")","v":""},{"$f":"IFERROR(VLOOKUP(D695,Cadastros!A:I,9,0),\"\")","v":""},{"$f":"IFERROR(VLOOKUP(D695,Cadastros!A:J,10,0),\"\")","v":""},{"$f":"IF(COUNTIF(Tabela66[id],D695)=0,\"\",COUNTIF(Tabela66[id],D695))","v":""},null,"",null,null,{"$f":"IFERROR(VLOOKUP(O695,Cadastros!A:B,2),\"\")","v":""},"",{"$f":"IFERROR(VLOOKUP(O695,Cadastros!A:E,5,0),\"\")","v":""},{"$f":"IFERROR(VLOOKUP(O695,Cadastros!A:F,6,0),\"\")","v":""},{"$f":"IFERROR(VLOOKUP(O695,Cadastros!A:I,9,0),\"\")","v":""},"","","",null,{"$f":"INDEX(Tabela.abordagens[],SMALL(IF(Tabela.abordagens[Mês]=$L$2,ROW(Tabela.abordagens[id])-2),ROW(A648)),1)","v":{"$error":"#NUM!"}},{"$f":"INDEX(Tabela.abordagens[],SMALL(IF(Tabela.abordagens[Mês]=$L$2,ROW(Tabela.abordagens[Idade])-2),ROW(A648)),6)","v":{"$error":"#NUM!"}},{"$f":"INDEX(Tabela.abordagens[],SMALL(IF(Tabela.abordagens[Mês]=$L$2,ROW(Tabela.abordagens[Idade])-2),ROW(A648)),4)","v":{"$error":"#NUM!"}},{"$f":"INDEX(Tabela.abordagens[],SMALL(IF(Tabela.abordagens[Mês]=$L$2,ROW(Tabela.abordagens[Idade])-2),ROW(A648)),5)","v":{"$error":"#NUM!"}}]
[null,{"$f":"INDEX(Tabela.frequencia[],SMALL(IF(Tabela.frequencia[Mês]=$L$2,ROW(Tabela.frequencia[id])-1),ROW(A649)),1)","v":{"$error":"#NUM!"}},{"$f":"INDEX(Tabela.frequencia[],SMALL(IF(Tabela.frequencia[Mês]=$L$2,ROW(Tabela.frequencia[id])-1),ROW(A649)),4)","v":{"$error":"#NUM!"}},null,{"$f":"IFERROR(VLOOKUP(D696,Tabela.cadastro[[ID]:[Nome]],2,0),\"\")","v":""},{"$f":"IFERROR(VLOOKUP(D696,Tabela66[#All],2,0),\"\")","v":""},{"$f":"IFERROR(VLOOKUP(D696,Tabela.cadastro[[ID]:[CP ou M]],5,0),\"\")","v":""},{"$f":"IFERROR(VLOOKUP(D696,Cadastros!A:F,6,0),\"\")","v":""},{"$f":"IFERROR(VLOOKUP(D696,Cadastros!A:I,9,0),\"\")","v":""},{"$f":"IFERROR(VLOOKUP(D696,Cadastros!A:J,10,0),\"\")","v":""},{"$f":"IF(COUNTIF(Tabela66[id],D696)=0,\"\",COUNTIF(Tabela66[id],D696))","v":""},null,"",null,null,{"$f":"IFERROR(VLOOKUP(O696,Cadastros!A:B,2),\"\")","v":""},"",{"$f":"IFERROR(VLOOKUP(O696,Cadastros!A:E,5,0),\"\")","v":""},{"$f":"IFERROR(VLOOKUP(O696,Cadastros!A:F,6,0),\"\")","v":""},{"$f":"IFERROR(VLOOKUP(O696,Cadastros!A:I,9,0),\"\")","v":""},"","","",null,{"$f":"INDEX(Tabela.abordagens[],SMALL(IF(Tabela.abordagens[Mês]=$L$2,ROW(Tabela.abordagens[id])-2),ROW(A649)),1)","v":{"$error":"#NUM!"}},{"$f":"INDEX(Tabela.abordagens[],SMALL(IF(Tabela.abordagens[Mês]=$L$2,ROW(Tabela.abordagens[Idade])-2),ROW(A649)),6)","v":{"$error":"#NUM!"}},{"$f":"INDEX(Tabela.abordagens[],SMALL(IF(Tabela.abordagens[Mês]=$L$2,ROW(Tabela.abordagens[Idade])-2),ROW(A649)),4)","v":{"$error":"#NUM!"}},{"$f":"INDEX(Tabela.abordagens[],SMALL(IF(Tabela.abordagens[Mês]=$L$2,ROW(Tabela.abordagens[Idade])-2),ROW(A649)),5)","v":{"$error":"#NUM!"}}]
[null,{"$f":"INDEX(Tabela.frequencia[],SMALL(IF(Tabela.frequencia[Mês]=$L$2,ROW(Tabela.frequencia[id])-1),ROW(A650)),1)","v":{"$error":"#NUM!"}},{"$f":"INDEX(Tabela.frequencia[],SMALL(IF(Tabela.frequencia[Mês]=$L$2,ROW(Tabela.frequencia[id])-1),ROW(A650)),4)","v":{"$error":"#NUM!"}},null,{"$f":"IFERROR(VLOOKUP(D697,Tabela.cadastro[[ID]:[Nome]],2,0),\"\")","v":""},{"$f":"IFERROR(VLOOKUP(D697,Tabela66[#All],2,0),\"\")","v":""},{"$f":"IFERROR(VLOOKUP(D697,Tabela.cadastro[[ID]:[CP ou M]],5,0),\"\")","v":""},{"$f":"IFERROR(VLOOKUP(D697,Cadastros!A:F,6,0),\"\")","v":""},{"$f":"IFERROR(VLOOKUP(D697,Cadastros!A:I,9,0),\"\")","v":""},{"$f":"IFERROR(VLOOKUP(D697,Cadastros!A:J,10,0),\"\")","v":""},{"$f":"IF(COUNTIF(Tabela66[id],D697)=0,\"\",COUNTIF(Tabela66[id],D697))","v":""},null,"",null,null,{"$f":"IFERROR(VLOOKUP(O697,Cadastros!A:B,2),\"\")","v":""},"",{"$f":"IFERROR(VLOOKUP(O697,Cadastros!A:E,5,0),\"\")","v":""},{"$f":"IFERROR(VLOOKUP(O697,Cadastros!A:F,6,0),\"\")","v":""},{"$f":"IFERROR(VLOOKUP(O697,Cadastros!A:I,9,0),\"\")","v":""},"","","",null,{"$f":"INDEX(Tabela.abordagens[],SMALL(IF(Tabela.abordagens[Mês]=$L$2,ROW(Tabela.abordagens[id])-2),ROW(A650)),1)","v":{"$error":"#NUM!"}},{"$f":"INDEX(Tabela.abordagens[],SMALL(IF(Tabela.abordagens[Mês]=$L$2,ROW(Tabela.abordagens[Idade])-2),ROW(A650)),6)","v":{"$error":"#NUM!"}},{"$f":"INDEX(Tabela.abordagens[],SMALL(IF(Tabela.abordagens[Mês]=$L$2,ROW(Tabela.abordagens[Idade])-2),ROW(A650)),4)","v":{"$error":"#NUM!"}},{"$f":"INDEX(Tabela.abordagens[],SMALL(IF(Tabela.abordagens[Mês]=$L$2,ROW(Tabela.abordagens[Idade])-2),ROW(A650)),5)","v":{"$error":"#NUM!"}}]
[null,{"$f":"INDEX(Tabela.frequencia[],SMALL(IF(Tabela.frequencia[Mês]=$L$2,ROW(Tabela.frequencia[id])-1),ROW(A651)),1)","v":{"$error":"#NUM!"}},{"$f":"INDEX(Tabela.frequencia[],SMALL(IF(Tabela.frequencia[Mês]=$L$2,ROW(Tabela.frequencia[id])-1),ROW(A651)),4)","v":{"$error":"#NUM!"}},null,{"$f":"IFERROR(VLOOKUP(D698,Tabela.cadastro[[ID]:[Nome]],2,0),\"\")","v":""},{"$f":"IFERROR(VLOOKUP(D698,Tabela66[#All],2,0),\"\")","v":""},{"$f":"IFERROR(VLOOKUP(D698,Tabela.cadastro[[ID]:[CP ou M]],5,0),\"\")","v":""},{"$f":"IFERROR(VLOOKUP(D698,Cadastros!A:F,6,0),\"\")","v":""},{"$f":"IFERROR(VLOOKUP(D698,Cadastros!A:I,9,0),\"\")","v":""},{"$f":"IFERROR(VLOOKUP(D698,Cadastros!A:J,10,0),\"\")","v":""},{"$f":"IF(COUNTIF(Tabela66[id],D698)=0,\"\",COUNTIF(Tabela66[id],D698))","v":""},null,"",null,null,{"$f":"IFERROR(VLOOKUP(O698,Cadastros!A:B,2),\"\")","v":""},"",{"$f":"IFERROR(VLOOKUP(O698,Cadastros!A:E,5,0),\"\")","v":""},{"$f":"IFERROR(VLOOKUP(O698,Cadastros!A:F,6,0),\"\")","v":""},{"$f":"IFERROR(VLOOKUP(O698,Cadastros!A:I,9,0),\"\")","v":""},"","","",null,{"$f":"INDEX(Tabela.abordagens[],SMALL(IF(Tabela.abordagens[Mês]=$L$2,ROW(Tabela.abordagens[id])-2),ROW(A651)),1)","v":{"$error":"#NUM!"}},{"$f":"INDEX(Tabela.abordagens[],SMALL(IF(Tabela.abordagens[Mês]=$L$2,ROW(Tabela.abordagens[Idade])-2),ROW(A651)),6)","v":{"$error":"#NUM!"}},{"$f":"INDEX(Tabela.abordagens[],SMALL(IF(Tabela.abordagens[Mês]=$L$2,ROW(Tabela.abordagens[Idade])-2),ROW(A651)),4)","v":{"$error":"#NUM!"}},{"$f":"INDEX(Tabela.abordagens[],SMALL(IF(Tabela.abordagens[Mês]=$L$2,ROW(Tabela.abordagens[Idade])-2),ROW(A651)),5)","v":{"$error":"#NUM!"}}]
[null,{"$f":"INDEX(Tabela.frequencia[],SMALL(IF(Tabela.frequencia[Mês]=$L$2,ROW(Tabela.frequencia[id])-1),ROW(A652)),1)","v":{"$error":"#NUM!"}},{"$f":"INDEX(Tabela.frequencia[],SMALL(IF(Tabela.frequencia[Mês]=$L$2,ROW(Tabela.frequencia[id])-1),ROW(A652)),4)","v":{"$error":"#NUM!"}},null,{"$f":"IFERROR(VLOOKUP(D699,Tabela.cadastro[[ID]:[Nome]],2,0),\"\")","v":""},{"$f":"IFERROR(VLOOKUP(D699,Tabela66[#All],2,0),\"\")","v":""},{"$f":"IFERROR(VLOOKUP(D699,Tabela.cadastro[[ID]:[CP ou M]],5,0),\"\")","v":""},{"$f":"IFERROR(VLOOKUP(D699,Cadastros!A:F,6,0),\"\")","v":""},{"$f":"IFERROR(VLOOKUP(D699,Cadastros!A:I,9,0),\"\")","v":""},{"$f":"IFERROR(VLOOKUP(D699,Cadastros!A:J,10,0),\"\")","v":""},{"$f":"IF(COUNTIF(Tabela66[id],D699)=0,\"\",COUNTIF(Tabela66[id],D699))","v":""},null,"",null,null,{"$f":"IFERROR(VLOOKUP(O699,Cadastros!A:B,2),\"\")","v":""},"",{"$f":"IFERROR(VLOOKUP(O699,Cadastros!A:E,5,0),\"\")","v":""},{"$f":"IFERROR(VLOOKUP(O699,Cadastros!A:F,6,0),\"\")","v":""},{"$f":"IFERROR(VLOOKUP(O699,Cadastros!A:I,9,0),\"\")","v":""},"","","",null,{"$f":"INDEX(Tabela.abordagens[],SMALL(IF(Tabela.abordagens[Mês]=$L$2,ROW(Tabela.abordagens[id])-2),ROW(A652)),1)","v":{"$error":"#NUM!"}},{"$f":"INDEX(Tabela.abordagens[],SMALL(IF(Tabela.abordagens[Mês]=$L$2,ROW(Tabela.abordagens[Idade])-2),ROW(A652)),6)","v":{"$error":"#NUM!"}},{"$f":"INDEX(Tabela.abordagens[],SMALL(IF(Tabela.abordagens[Mês]=$L$2,ROW(Tabela.abordagens[Idade])-2),ROW(A652)),4)","v":{"$error":"#NUM!"}},{"$f":"INDEX(Tabela.abordagens[],SMALL(IF(Tabela.abordagens[Mês]=$L$2,ROW(Tabela.abordagens[Idade])-2),ROW(A652)),5)","v":{"$error":"#NUM!"}}]
[null,{"$f":"INDEX(Tabela.frequencia[],SMALL(IF(Tabela.frequencia[Mês]=$L$2,ROW(Tabela.frequencia[id])-1),ROW(A653)),1)","v":{"$error":"#NUM!"}},{"$f":"INDEX(Tabela.frequencia[],SMALL(IF(Tabela.frequencia[Mês]=$L$2,ROW(Tabela.frequencia[id])-1),ROW(A653)),4)","v":{"$error":"#NUM!"}},null,{"$f":"IFERROR(VLOOKUP(D700,Tabela.cadastro[[ID]:[Nome]],2,0),\"\")","v":""},{"$f":"IFERROR(VLOOKUP(D700,Tabela66[#All],2,0),\"\")","v":""},{"$f":"IFERROR(VLOOKUP(D700,Tabela.cadastro[[ID]:[CP ou M]],5,0),\"\")","v":""},{"$f":"IFERROR(VLOOKUP(D700,Cadastros!A:F,6,0),\"\")","v":""},{"$f":"IFERROR(VLOOKUP(D700,Cadastros!A:I,9,0),\"\")","v":""},{"$f":"IFERROR(VLOOKUP(D700,Cadastros!A:J,10,0),\"\")","v":""},{"$f":"IF(COUNTIF(Tabela66[id],D700)=0,\"\",COUNTIF(Tabela66[id],D700))","v":""},null,"",null,null,{"$f":"IFERROR(VLOOKUP(O700,Cadastros!A:B,2),\"\")","v":""},"",{"$f":"IFERROR(VLOOKUP(O700,Cadastros!A:E,5,0),\"\")","v":""},{"$f":"IFERROR(VLOOKUP(O700,Cadastros!A:F,6,0),\"\")","v":""},{"$f":"IFERROR(VLOOKUP(O700,Cadastros!A:I,9,0),\"\")","v":""},"","","",null,{"$f":"INDEX(Tabela.abordagens[],SMALL(IF(Tabela.abordagens[Mês]=$L$2,ROW(Tabela.abordagens[id])-2),ROW(A653)),1)","v":{"$error":"#NUM!"}},{"$f":"INDEX(Tabela.abordagens[],SMALL(IF(Tabela.abordagens[Mês]=$L$2,ROW(Tabela.abordagens[Idade])-2),ROW(A653)),6)","v":{"$error":"#NUM!"}},{"$f":"INDEX(Tabela.abordagens[],SMALL(IF(Tabela.abordagens[Mês]=$L$2,ROW(Tabela.abordagens[Idade])-2),ROW(A653)),4)","v":{"$error":"#NUM!"}},{"$f":"INDEX(Tabela.abordagens[],SMALL(IF(Tabela.abordagens[Mês]=$L$2,ROW(Tabela.abordagens[Idade])-2),ROW(A653)),5)","v":{"$error":"#NUM!"}}]
[null,{"$f":"INDEX(Tabela.frequencia[],SMALL(IF(Tabela.frequencia[Mês]=$L$2,ROW(Tabela.frequencia[id])-1),ROW(A654)),1)","v":{"$error":"#NUM!"}},{"$f":"INDEX(Tabela.frequencia[],SMALL(IF(Tabela.frequencia[Mês]=$L$2,ROW(Tabela.frequencia[id])-1),ROW(A654)),4)","v":{"$error":"#NUM!"}},null,{"$f":"IFERROR(VLOOKUP(D701,Tabela.cadastro[[ID]:[Nome]],2,0),\"\")","v":""},{"$f":"IFERROR(VLOOKUP(D701,Tabela66[#All],2,0),\"\")","v":""},{"$f":"IFERROR(VLOOKUP(D701,Tabela.cadastro[[ID]:[CP ou M]],5,0),\"\")","v":""},{"$f":"IFERROR(VLOOKUP(D701,Cadastros!A:F,6,0),\"\")","v":""},{"$f":"IFERROR(VLOOKUP(D701,Cadastros!A:I,9,0),\"\")","v":""},{"$f":"IFERROR(VLOOKUP(D701,Cadastros!A:J,10,0),\"\")","v":""},{"$f":"IF(COUNTIF(Tabela66[id],D701)=0,\"\",COUNTIF(Tabela66[id],D701))","v":""},null,"",null,null,{"$f":"IFERROR(VLOOKUP(O701,Cadastros!A:B,2),\"\")","v":""},"",{"$f":"IFERROR(VLOOKUP(O701,Cadastros!A:E,5,0),\"\")","v":""},{"$f":"IFERROR(VLOOKUP(O701,Cadastros!A:F,6,0),\"\")","v":""},{"$f":"IFERROR(VLOOKUP(O701,Cadastros!A:I,9,0),\"\")","v":""},"","","",null,{"$f":"INDEX(Tabela.abordagens[],SMALL(IF(Tabela.abordagens[Mês]=$L$2,ROW(Tabela.abordagens[id])-2),ROW(A654)),1)","v":{"$error":"#NUM!"}},{"$f":"INDEX(Tabela.abordagens[],SMALL(IF(Tabela.abordagens[Mês]=$L$2,ROW(Tabela.abordagens[Idade])-2),ROW(A654)),6)","v":{"$error":"#NUM!"}},{"$f":"INDEX(Tabela.abordagens[],SMALL(IF(Tabela.abordagens[Mês]=$L$2,ROW(Tabela.abordagens[Idade])-2),ROW(A654)),4)","v":{"$error":"#NUM!"}},{"$f":"INDEX(Tabela.abordagens[],SMALL(IF(Tabela.abordagens[Mês]=$L$2,ROW(Tabela.abordagens[Idade])-2),ROW(A654)),5)","v":{"$error":"#NUM!"}}]
[null,{"$f":"INDEX(Tabela.frequencia[],SMALL(IF(Tabela.frequencia[Mês]=$L$2,ROW(Tabela.frequencia[id])-1),ROW(A655)),1)","v":{"$error":"#NUM!"}},{"$f":"INDEX(Tabela.frequencia[],SMALL(IF(Tabela.frequencia[Mês]=$L$2,ROW(Tabela.frequencia[id])-1),ROW(A655)),4)","v":{"$error":"#NUM!"}},null,{"$f":"IFERROR(VLOOKUP(D702,Tabela.cadastro[[ID]:[Nome]],2,0),\"\")","v":""},{"$f":"IFERROR(VLOOKUP(D702,Tabela66[#All],2,0),\"\")","v":""},{"$f":"IFERROR(VLOOKUP(D702,Tabela.cadastro[[ID]:[CP ou M]],5,0),\"\")","v":""},{"$f":"IFERROR(VLOOKUP(D702,Cadastros!A:F,6,0),\"\")","v":""},{"$f":"IFERROR(VLOOKUP(D702,Cadastros!A:I,9,0),\"\")","v":""},{"$f":"IFERROR(VLOOKUP(D702,Cadastros!A:J,10,0),\"\")","v":""},{"$f":"IF(COUNTIF(Tabela66[id],D702)=0,\"\",COUNTIF(Tabela66[id],D702))","v":""},null,"",null,null,{"$f":"IFERROR(VLOOKUP(O702,Cadastros!A:B,2),\"\")","v":""},"",{"$f":"IFERROR(VLOOKUP(O702,Cadastros!A:E,5,0),\"\")","v":""},{"$f":"IFERROR(VLOOKUP(O702,Cadastros!A:F,6,0),\"\")","v":""},{"$f":"IFERROR(VLOOKUP(O702,Cadastros!A:I,9,0),\"\")","v":""},"","","",null,{"$f":"INDEX(Tabela.abordagens[],SMALL(IF(Tabela.abordagens[Mês]=$L$2,ROW(Tabela.abordagens[id])-2),ROW(A655)),1)","v":{"$error":"#NUM!"}},{"$f":"INDEX(Tabela.abordagens[],SMALL(IF(Tabela.abordagens[Mês]=$L$2,ROW(Tabela.abordagens[Idade])-2),ROW(A655)),6)","v":{"$error":"#NUM!"}},{"$f":"INDEX(Tabela.abordagens[],SMALL(IF(Tabela.abordagens[Mês]=$L$2,ROW(Tabela.abordagens[Idade])-2),ROW(A655)),4)","v":{"$error":"#NUM!"}},{"$f":"INDEX(Tabela.abordagens[],SMALL(IF(Tabela.abordagens[Mês]=$L$2,ROW(Tabela.abordagens[Idade])-2),ROW(A655)),5)","v":{"$error":"#NUM!"}}]
[null,{"$f":"INDEX(Tabela.frequencia[],SMALL(IF(Tabela.frequencia[Mês]=$L$2,ROW(Tabela.frequencia[id])-1),ROW(A656)),1)","v":{"$error":"#NUM!"}},{"$f":"INDEX(Tabela.frequencia[],SMALL(IF(Tabela.frequencia[Mês]=$L$2,ROW(Tabela.frequencia[id])-1),ROW(A656)),4)","v":{"$error":"#NUM!"}},null,{"$f":"IFERROR(VLOOKUP(D703,Tabela.cadastro[[ID]:[Nome]],2,0),\"\")","v":""},{"$f":"IFERROR(VLOOKUP(D703,Tabela66[#All],2,0),\"\")","v":""},{"$f":"IFERROR(VLOOKUP(D703,Tabela.cadastro[[ID]:[CP ou M]],5,0),\"\")","v":""},{"$f":"IFERROR(VLOOKUP(D703,Cadastros!A:F,6,0),\"\")","v":""},{"$f":"IFERROR(VLOOKUP(D703,Cadastros!A:I,9,0),\"\")","v":""},{"$f":"IFERROR(VLOOKUP(D703,Cadastros!A:J,10,0),\"\")","v":""},{"$f":"IF(COUNTIF(Tabela66[id],D703)=0,\"\",COUNTIF(Tabela66[id],D703))","v":""},null,"",null,null,{"$f":"IFERROR(VLOOKUP(O703,Cadastros!A:B,2),\"\")","v":""},"",{"$f":"IFERROR(VLOOKUP(O703,Cadastros!A:E,5,0),\"\")","v":""},{"$f":"IFERROR(VLOOKUP(O703,Cadastros!A:F,6,0),\"\")","v":""},{"$f":"IFERROR(VLOOKUP(O703,Cadastros!A:I,9,0),\"\")","v":""},"","","",null,{"$f":"INDEX(Tabela.abordagens[],SMALL(IF(Tabela.abordagens[Mês]=$L$2,ROW(Tabela.abordagens[id])-2),ROW(A656)),1)","v":{"$error":"#NUM!"}},{"$f":"INDEX(Tabela.abordagens[],SMALL(IF(Tabela.abordagens[Mês]=$L$2,ROW(Tabela.abordagens[Idade])-2),ROW(A656)),6)","v":{"$error":"#NUM!"}},{"$f":"INDEX(Tabela.abordagens[],SMALL(IF(Tabela.abordagens[Mês]=$L$2,ROW(Tabela.abordagens[Idade])-2),ROW(A656)),4)","v":{"$error":"#NUM!"}},{"$f":"INDEX(Tabela.abordagens[],SMALL(IF(Tabela.abordagens[Mês]=$L$2,ROW(Tabela.abordagens[Idade])-2),ROW(A656)),5)","v":{"$error":"#NUM!"}}]
[null,{"$f":"INDEX(Tabela.frequencia[],SMALL(IF(Tabela.frequencia[Mês]=$L$2,ROW(Tabela.frequencia[id])-1),ROW(A657)),1)","v":{"$error":"#NUM!"}},{"$f":"INDEX(Tabela.frequencia[],SMALL(IF(Tabela.frequencia[Mês]=$L$2,ROW(Tabela.frequencia[id])-1),ROW(A657)),4)","v":{"$error":"#NUM!"}},null,{"$f":"IFERROR(VLOOKUP(D704,Tabela.cadastro[[ID]:[Nome]],2,0),\"\")","v":""},{"$f":"IFERROR(VLOOKUP(D704,Tabela66[#All],2,0),\"\")","v":""},{"$f":"IFERROR(VLOOKUP(D704,Tabela.cadastro[[ID]:[CP ou M]],5,0),\"\")","v":""},{"$f":"IFERROR(VLOOKUP(D704,Cadastros!A:F,6,0),\"\")","v":""},{"$f":"IFERROR(VLOOKUP(D704,Cadastros!A:I,9,0),\"\")","v":""},{"$f":"IFERROR(VLOOKUP(D704,Cadastros!A:J,10,0),\"\")","v":""},{"$f":"IF(COUNTIF(Tabela66[id],D704)=0,\"\",COUNTIF(Tabela66[id],D704))","v":""},null,"",null,null,{"$f":"IFERROR(VLOOKUP(O704,Cadastros!A:B,2),\"\")","v":""},"",{"$f":"IFERROR(VLOOKUP(O704,Cadastros!A:E,5,0),\"\")","v":""},{"$f":"IFERROR(VLOOKUP(O704,Cadastros!A:F,6,0),\"\")","v":""},{"$f":"IFERROR(VLOOKUP(O704,Cadastros!A:I,9,0),\"\")","v":""},"","","",null,{"$f":"INDEX(Tabela.abordagens[],SMALL(IF(Tabela.abordagens[Mês]=$L$2,ROW(Tabela.abordagens[id])-2),ROW(A657)),1)","v":{"$error":"#NUM!"}},{"$f":"INDEX(Tabela.abordagens[],SMALL(IF(Tabela.abordagens[Mês]=$L$2,ROW(Tabela.abordagens[Idade])-2),ROW(A657)),6)","v":{"$error":"#NUM!"}},{"$f":"INDEX(Tabela.abordagens[],SMALL(IF(Tabela.abordagens[Mês]=$L$2,ROW(Tabela.abordagens[Idade])-2),ROW(A657)),4)","v":{"$error":"#NUM!"}},{"$f":"INDEX(Tabela.abordagens[],SMALL(IF(Tabela.abordagens[Mês]=$L$2,ROW(Tabela.abordagens[Idade])-2),ROW(A657)),5)","v":{"$error":"#NUM!"}}]
[null,{"$f":"INDEX(Tabela.frequencia[],SMALL(IF(Tabela.frequencia[Mês]=$L$2,ROW(Tabela.frequencia[id])-1),ROW(A658)),1)","v":{"$error":"#NUM!"}},{"$f":"INDEX(Tabela.frequencia[],SMALL(IF(Tabela.frequencia[Mês]=$L$2,ROW(Tabela.frequencia[id])-1),ROW(A658)),4)","v":{"$error":"#NUM!"}},null,{"$f":"IFERROR(VLOOKUP(D705,Tabela.cadastro[[ID]:[Nome]],2,0),\"\")","v":""},{"$f":"IFERROR(VLOOKUP(D705,Tabela66[#All],2,0),\"\")","v":""},{"$f":"IFERROR(VLOOKUP(D705,Tabela.cadastro[[ID]:[CP ou M]],5,0),\"\")","v":""},{"$f":"IFERROR(VLOOKUP(D705,Cadastros!A:F,6,0),\"\")","v":""},{"$f":"IFERROR(VLOOKUP(D705,Cadastros!A:I,9,0),\"\")","v":""},{"$f":"IFERROR(VLOOKUP(D705,Cadastros!A:J,10,0),\"\")","v":""},{"$f":"IF(COUNTIF(Tabela66[id],D705)=0,\"\",COUNTIF(Tabela66[id],D705))","v":""},null,"",null,null,{"$f":"IFERROR(VLOOKUP(O705,Cadastros!A:B,2),\"\")","v":""},"",{"$f":"IFERROR(VLOOKUP(O705,Cadastros!A:E,5,0),\"\")","v":""},{"$f":"IFERROR(VLOOKUP(O705,Cadastros!A:F,6,0),\"\")","v":""},{"$f":"IFERROR(VLOOKUP(O705,Cadastros!A:I,9,0),\"\")","v":""},"","","",null,{"$f":"INDEX(Tabela.abordagens[],SMALL(IF(Tabela.abordagens[Mês]=$L$2,ROW(Tabela.abordagens[id])-2),ROW(A658)),1)","v":{"$error":"#NUM!"}},{"$f":"INDEX(Tabela.abordagens[],SMALL(IF(Tabela.abordagens[Mês]=$L$2,ROW(Tabela.abordagens[Idade])-2),ROW(A658)),6)","v":{"$error":"#NUM!"}},{"$f":"INDEX(Tabela.abordagens[],SMALL(IF(Tabela.abordagens[Mês]=$L$2,ROW(Tabela.abordagens[Idade])-2),ROW(A658)),4)","v":{"$error":"#NUM!"}},{"$f":"INDEX(Tabela.abordagens[],SMALL(IF(Tabela.abordagens[Mês]=$L$2,ROW(Tabela.abordagens[Idade])-2),ROW(A658)),5)","v":{"$error":"#NUM!"}}]
[null,{"$f":"INDEX(Tabela.frequencia[],SMALL(IF(Tabela.frequencia[Mês]=$L$2,ROW(Tabela.frequencia[id])-1),ROW(A659)),1)","v":{"$error":"#NUM!"}},{"$f":"INDEX(Tabela.frequencia[],SMALL(IF(Tabela.frequencia[Mês]=$L$2,ROW(Tabela.frequencia[id])-1),ROW(A659)),4)","v":{"$error":"#NUM!"}},null,{"$f":"IFERROR(VLOOKUP(D706,Tabela.cadastro[[ID]:[Nome]],2,0),\"\")","v":""},{"$f":"IFERROR(VLOOKUP(D706,Tabela66[#All],2,0),\"\")","v":""},{"$f":"IFERROR(VLOOKUP(D706,Tabela.cadastro[[ID]:[CP ou M]],5,0),\"\")","v":""},{"$f":"IFERROR(VLOOKUP(D706,Cadastros!A:F,6,0),\"\")","v":""},{"$f":"IFERROR(VLOOKUP(D706,Cadastros!A:I,9,0),\"\")","v":""},{"$f":"IFERROR(VLOOKUP(D706,Cadastros!A:J,10,0),\"\")","v":""},{"$f":"IF(COUNTIF(Tabela66[id],D706)=0,\"\",COUNTIF(Tabela66[id],D706))","v":""},null,"",null,null,{"$f":"IFERROR(VLOOKUP(O706,Cadastros!A:B,2),\"\")","v":""},"",{"$f":"IFERROR(VLOOKUP(O706,Cadastros!A:E,5,0),\"\")","v":""},{"$f":"IFERROR(VLOOKUP(O706,Cadastros!A:F,6,0),\"\")","v":""},{"$f":"IFERROR(VLOOKUP(O706,Cadastros!A:I,9,0),\"\")","v":""},"","","",null,{"$f":"INDEX(Tabela.abordagens[],SMALL(IF(Tabela.abordagens[Mês]=$L$2,ROW(Tabela.abordagens[id])-2),ROW(A659)),1)","v":{"$error":"#NUM!"}},{"$f":"INDEX(Tabela.abordagens[],SMALL(IF(Tabela.abordagens[Mês]=$L$2,ROW(Tabela.abordagens[Idade])-2),ROW(A659)),6)","v":{"$error":"#NUM!"}},{"$f":"INDEX(Tabela.abordagens[],SMALL(IF(Tabela.abordagens[Mês]=$L$2,ROW(Tabela.abordagens[Idade])-2),ROW(A659)),4)","v":{"$error":"#NUM!"}},{"$f":"INDEX(Tabela.abordagens[],SMALL(IF(Tabela.abordagens[Mês]=$L$2,ROW(Tabela.abordagens[Idade])-2),ROW(A659)),5)","v":{"$error":"#NUM!"}}]
[null,{"$f":"INDEX(Tabela.frequencia[],SMALL(IF(Tabela.frequencia[Mês]=$L$2,ROW(Tabela.frequencia[id])-1),ROW(A660)),1)","v":{"$error":"#NUM!"}},{"$f":"INDEX(Tabela.frequencia[],SMALL(IF(Tabela.frequencia[Mês]=$L$2,ROW(Tabela.frequencia[id])-1),ROW(A660)),4)","v":{"$error":"#NUM!"}},null,{"$f":"IFERROR(VLOOKUP(D707,Tabela.cadastro[[ID]:[Nome]],2,0),\"\")","v":""},{"$f":"IFERROR(VLOOKUP(D707,Tabela66[#All],2,0),\"\")","v":""},{"$f":"IFERROR(VLOOKUP(D707,Tabela.cadastro[[ID]:[CP ou M]],5,0),\"\")","v":""},{"$f":"IFERROR(VLOOKUP(D707,Cadastros!A:F,6,0),\"\")","v":""},{"$f":"IFERROR(VLOOKUP(D707,Cadastros!A:I,9,0),\"\")","v":""},{"$f":"IFERROR(VLOOKUP(D707,Cadastros!A:J,10,0),\"\")","v":""},{"$f":"IF(COUNTIF(Tabela66[id],D707)=0,\"\",COUNTIF(Tabela66[id],D707))","v":""},null,"",null,null,{"$f":"IFERROR(VLOOKUP(O707,Cadastros!A:B,2),\"\")","v":""},"",{"$f":"IFERROR(VLOOKUP(O707,Cadastros!A:E,5,0),\"\")","v":""},{"$f":"IFERROR(VLOOKUP(O707,Cadastros!A:F,6,0),\"\")","v":""},{"$f":"IFERROR(VLOOKUP(O707,Cadastros!A:I,9,0),\"\")","v":""},"","","",null,{"$f":"INDEX(Tabela.abordagens[],SMALL(IF(Tabela.abordagens[Mês]=$L$2,ROW(Tabela.abordagens[id])-2),ROW(A660)),1)","v":{"$error":"#NUM!"}},{"$f":"INDEX(Tabela.abordagens[],SMALL(IF(Tabela.abordagens[Mês]=$L$2,ROW(Tabela.abordagens[Idade])-2),ROW(A660)),6)","v":{"$error":"#NUM!"}},{"$f":"INDEX(Tabela.abordagens[],SMALL(IF(Tabela.abordagens[Mês]=$L$2,ROW(Tabela.abordagens[Idade])-2),ROW(A660)),4)","v":{"$error":"#NUM!"}},{"$f":"INDEX(Tabela.abordagens[],SMALL(IF(Tabela.abordagens[Mês]=$L$2,ROW(Tabela.abordagens[Idade])-2),ROW(A660)),5)","v":{"$error":"#NUM!"}}]
[null,{"$f":"INDEX(Tabela.frequencia[],SMALL(IF(Tabela.frequencia[Mês]=$L$2,ROW(Tabela.frequencia[id])-1),ROW(A661)),1)","v":{"$error":"#NUM!"}},{"$f":"INDEX(Tabela.frequencia[],SMALL(IF(Tabela.frequencia[Mês]=$L$2,ROW(Tabela.frequencia[id])-1),ROW(A661)),4)","v":{"$error":"#NUM!"}},null,{"$f":"IFERROR(VLOOKUP(D708,Tabela.cadastro[[ID]:[Nome]],2,0),\"\")","v":""},{"$f":"IFERROR(VLOOKUP(D708,Tabela66[#All],2,0),\"\")","v":""},{"$f":"IFERROR(VLOOKUP(D708,Tabela.cadastro[[ID]:[CP ou M]],5,0),\"\")","v":""},{"$f":"IFERROR(VLOOKUP(D708,Cadastros!A:F,6,0),\"\")","v":""},{"$f":"IFERROR(VLOOKUP(D708,Cadastros!A:I,9,0),\"\")","v":""},{"$f":"IFERROR(VLOOKUP(D708,Cadastros!A:J,10,0),\"\")","v":""},{"$f":"IF(COUNTIF(Tabela66[id],D708)=0,\"\",COUNTIF(Tabela66[id],D708))","v":""},null,"",null,null,{"$f":"IFERROR(VLOOKUP(O708,Cadastros!A:B,2),\"\")","v":""},"",{"$f":"IFERROR(VLOOKUP(O708,Cadastros!A:E,5,0),\"\")","v":""},{"$f":"IFERROR(VLOOKUP(O708,Cadastros!A:F,6,0),\"\")","v":""},{"$f":"IFERROR(VLOOKUP(O708,Cadastros!A:I,9,0),\"\")","v":""},"","","",null,{"$f":"INDEX(Tabela.abordagens[],SMALL(IF(Tabela.abordagens[Mês]=$L$2,ROW(Tabela.abordagens[id])-2),ROW(A661)),1)","v":{"$error":"#NUM!"}},{"$f":"INDEX(Tabela.abordagens[],SMALL(IF(Tabela.abordagens[Mês]=$L$2,ROW(Tabela.abordagens[Idade])-2),ROW(A661)),6)","v":{"$error":"#NUM!"}},{"$f":"INDEX(Tabela.abordagens[],SMALL(IF(Tabela.abordagens[Mês]=$L$2,ROW(Tabela.abordagens[Idade])-2),ROW(A661)),4)","v":{"$error":"#NUM!"}},{"$f":"INDEX(Tabela.abordagens[],SMALL(IF(Tabela.abordagens[Mês]=$L$2,ROW(Tabela.abordagens[Idade])-2),ROW(A661)),5)","v":{"$error":"#NUM!"}}]
[null,{"$f":"INDEX(Tabela.frequencia[],SMALL(IF(Tabela.frequencia[Mês]=$L$2,ROW(Tabela.frequencia[id])-1),ROW(A662)),1)","v":{"$error":"#NUM!"}},{"$f":"INDEX(Tabela.frequencia[],SMALL(IF(Tabela.frequencia[Mês]=$L$2,ROW(Tabela.frequencia[id])-1),ROW(A662)),4)","v":{"$error":"#NUM!"}},null,{"$f":"IFERROR(VLOOKUP(D709,Tabela.cadastro[[ID]:[Nome]],2,0),\"\")","v":""},{"$f":"IFERROR(VLOOKUP(D709,Tabela66[#All],2,0),\"\")","v":""},{"$f":"IFERROR(VLOOKUP(D709,Tabela.cadastro[[ID]:[CP ou M]],5,0),\"\")","v":""},{"$f":"IFERROR(VLOOKUP(D709,Cadastros!A:F,6,0),\"\")","v":""},{"$f":"IFERROR(VLOOKUP(D709,Cadastros!A:I,9,0),\"\")","v":""},{"$f":"IFERROR(VLOOKUP(D709,Cadastros!A:J,10,0),\"\")","v":""},{"$f":"IF(COUNTIF(Tabela66[id],D709)=0,\"\",COUNTIF(Tabela66[id],D709))","v":""},null,"",null,null,{"$f":"IFERROR(VLOOKUP(O709,Cadastros!A:B,2),\"\")","v":""},"",{"$f":"IFERROR(VLOOKUP(O709,Cadastros!A:E,5,0),\"\")","v":""},{"$f":"IFERROR(VLOOKUP(O709,Cadastros!A:F,6,0),\"\")","v":""},{"$f":"IFERROR(VLOOKUP(O709,Cadastros!A:I,9,0),\"\")","v":""},"","","",null,{"$f":"INDEX(Tabela.abordagens[],SMALL(IF(Tabela.abordagens[Mês]=$L$2,ROW(Tabela.abordagens[id])-2),ROW(A662)),1)","v":{"$error":"#NUM!"}},{"$f":"INDEX(Tabela.abordagens[],SMALL(IF(Tabela.abordagens[Mês]=$L$2,ROW(Tabela.abordagens[Idade])-2),ROW(A662)),6)","v":{"$error":"#NUM!"}},{"$f":"INDEX(Tabela.abordagens[],SMALL(IF(Tabela.abordagens[Mês]=$L$2,ROW(Tabela.abordagens[Idade])-2),ROW(A662)),4)","v":{"$error":"#NUM!"}},{"$f":"INDEX(Tabela.abordagens[],SMALL(IF(Tabela.abordagens[Mês]=$L$2,ROW(Tabela.abordagens[Idade])-2),ROW(A662)),5)","v":{"$error":"#NUM!"}}]
[null,{"$f":"INDEX(Tabela.frequencia[],SMALL(IF(Tabela.frequencia[Mês]=$L$2,ROW(Tabela.frequencia[id])-1),ROW(A663)),1)","v":{"$error":"#NUM!"}},{"$f":"INDEX(Tabela.frequencia[],SMALL(IF(Tabela.frequencia[Mês]=$L$2,ROW(Tabela.frequencia[id])-1),ROW(A663)),4)","v":{"$error":"#NUM!"}},null,{"$f":"IFERROR(VLOOKUP(D710,Tabela.cadastro[[ID]:[Nome]],2,0),\"\")","v":""},{"$f":"IFERROR(VLOOKUP(D710,Tabela66[#All],2,0),\"\")","v":""},{"$f":"IFERROR(VLOOKUP(D710,Tabela.cadastro[[ID]:[CP ou M]],5,0),\"\")","v":""},{"$f":"IFERROR(VLOOKUP(D710,Cadastros!A:F,6,0),\"\")","v":""},{"$f":"IFERROR(VLOOKUP(D710,Cadastros!A:I,9,0),\"\")","v":""},{"$f":"IFERROR(VLOOKUP(D710,Cadastros!A:J,10,0),\"\")","v":""},{"$f":"IF(COUNTIF(Tabela66[id],D710)=0,\"\",COUNTIF(Tabela66[id],D710))","v":""},null,"",null,null,{"$f":"IFERROR(VLOOKUP(O710,Cadastros!A:B,2),\"\")","v":""},"",{"$f":"IFERROR(VLOOKUP(O710,Cadastros!A:E,5,0),\"\")","v":""},{"$f":"IFERROR(VLOOKUP(O710,Cadastros!A:F,6,0),\"\")","v":""},{"$f":"IFERROR(VLOOKUP(O710,Cadastros!A:I,9,0),\"\")","v":""},"","","",null,{"$f":"INDEX(Tabela.abordagens[],SMALL(IF(Tabela.abordagens[Mês]=$L$2,ROW(Tabela.abordagens[id])-2),ROW(A663)),1)","v":{"$error":"#NUM!"}},{"$f":"INDEX(Tabela.abordagens[],SMALL(IF(Tabela.abordagens[Mês]=$L$2,ROW(Tabela.abordagens[Idade])-2),ROW(A663)),6)","v":{"$error":"#NUM!"}},{"$f":"INDEX(Tabela.abordagens[],SMALL(IF(Tabela.abordagens[Mês]=$L$2,ROW(Tabela.abordagens[Idade])-2),ROW(A663)),4)","v":{"$error":"#NUM!"}},{"$f":"INDEX(Tabela.abordagens[],SMALL(IF(Tabela.abordagens[Mês]=$L$2,ROW(Tabela.abordagens[Idade])-2),ROW(A663)),5)","v":{"$error":"#NUM!"}}]
[null,{"$f":"INDEX(Tabela.frequencia[],SMALL(IF(Tabela.frequencia[Mês]=$L$2,ROW(Tabela.frequencia[id])-1),ROW(A664)),1)","v":{"$error":"#NUM!"}},{"$f":"INDEX(Tabela.frequencia[],SMALL(IF(Tabela.frequencia[Mês]=$L$2,ROW(Tabela.frequencia[id])-1),ROW(A664)),4)","v":{"$error":"#NUM!"}},null,{"$f":"IFERROR(VLOOKUP(D711,Tabela.cadastro[[ID]:[Nome]],2,0),\"\")","v":""},{"$f":"IFERROR(VLOOKUP(D711,Tabela66[#All],2,0),\"\")","v":""},{"$f":"IFERROR(VLOOKUP(D711,Tabela.cadastro[[ID]:[CP ou M]],5,0),\"\")","v":""},{"$f":"IFERROR(VLOOKUP(D711,Cadastros!A:F,6,0),\"\")","v":""},{"$f":"IFERROR(VLOOKUP(D711,Cadastros!A:I,9,0),\"\")","v":""},{"$f":"IFERROR(VLOOKUP(D711,Cadastros!A:J,10,0),\"\")","v":""},{"$f":"IF(COUNTIF(Tabela66[id],D711)=0,\"\",COUNTIF(Tabela66[id],D711))","v":""},null,"",null,null,{"$f":"IFERROR(VLOOKUP(O711,Cadastros!A:B,2),\"\")","v":""},"",{"$f":"IFERROR(VLOOKUP(O711,Cadastros!A:E,5,0),\"\")","v":""},{"$f":"IFERROR(VLOOKUP(O711,Cadastros!A:F,6,0),\"\")","v":""},{"$f":"IFERROR(VLOOKUP(O711,Cadastros!A:I,9,0),\"\")","v":""},"","","",null,{"$f":"INDEX(Tabela.abordagens[],SMALL(IF(Tabela.abordagens[Mês]=$L$2,ROW(Tabela.abordagens[id])-2),ROW(A664)),1)","v":{"$error":"#NUM!"}},{"$f":"INDEX(Tabela.abordagens[],SMALL(IF(Tabela.abordagens[Mês]=$L$2,ROW(Tabela.abordagens[Idade])-2),ROW(A664)),6)","v":{"$error":"#NUM!"}},{"$f":"INDEX(Tabela.abordagens[],SMALL(IF(Tabela.abordagens[Mês]=$L$2,ROW(Tabela.abordagens[Idade])-2),ROW(A664)),4)","v":{"$error":"#NUM!"}},{"$f":"INDEX(Tabela.abordagens[],SMALL(IF(Tabela.abordagens[Mês]=$L$2,ROW(Tabela.abordagens[Idade])-2),ROW(A664)),5)","v":{"$error":"#NUM!"}}]
[null,{"$f":"INDEX(Tabela.frequencia[],SMALL(IF(Tabela.frequencia[Mês]=$L$2,ROW(Tabela.frequencia[id])-1),ROW(A665)),1)","v":{"$error":"#NUM!"}},{"$f":"INDEX(Tabela.frequencia[],SMALL(IF(Tabela.frequencia[Mês]=$L$2,ROW(Tabela.frequencia[id])-1),ROW(A665)),4)","v":{"$error":"#NUM!"}},null,{"$f":"IFERROR(VLOOKUP(D712,Tabela.cadastro[[ID]:[Nome]],2,0),\"\")","v":""},{"$f":"IFERROR(VLOOKUP(D712,Tabela66[#All],2,0),\"\")","v":""},{"$f":"IFERROR(VLOOKUP(D712,Tabela.cadastro[[ID]:[CP ou M]],5,0),\"\")","v":""},{"$f":"IFERROR(VLOOKUP(D712,Cadastros!A:F,6,0),\"\")","v":""},{"$f":"IFERROR(VLOOKUP(D712,Cadastros!A:I,9,0),\"\")","v":""},{"$f":"IFERROR(VLOOKUP(D712,Cadastros!A:J,10,0),\"\")","v":""},{"$f":"IF(COUNTIF(Tabela66[id],D712)=0,\"\",COUNTIF(Tabela66[id],D712))","v":""},null,"",null,null,{"$f":"IFERROR(VLOOKUP(O712,Cadastros!A:B,2),\"\")","v":""},"",{"$f":"IFERROR(VLOOKUP(O712,Cadastros!A:E,5,0),\"\")","v":""},{"$f":"IFERROR(VLOOKUP(O712,Cadastros!A:F,6,0),\"\")","v":""},{"$f":"IFERROR(VLOOKUP(O712,Cadastros!A:I,9,0),\"\")","v":""},"","","",null,{"$f":"INDEX(Tabela.abordagens[],SMALL(IF(Tabela.abordagens[Mês]=$L$2,ROW(Tabela.abordagens[id])-2),ROW(A665)),1)","v":{"$error":"#NUM!"}},{"$f":"INDEX(Tabela.abordagens[],SMALL(IF(Tabela.abordagens[Mês]=$L$2,ROW(Tabela.abordagens[Idade])-2),ROW(A665)),6)","v":{"$error":"#NUM!"}},{"$f":"INDEX(Tabela.abordagens[],SMALL(IF(Tabela.abordagens[Mês]=$L$2,ROW(Tabela.abordagens[Idade])-2),ROW(A665)),4)","v":{"$error":"#NUM!"}},{"$f":"INDEX(Tabela.abordagens[],SMALL(IF(Tabela.abordagens[Mês]=$L$2,ROW(Tabela.abordagens[Idade])-2),ROW(A665)),5)","v":{"$error":"#NUM!"}}]
[null,{"$f":"INDEX(Tabela.frequencia[],SMALL(IF(Tabela.frequencia[Mês]=$L$2,ROW(Tabela.frequencia[id])-1),ROW(A666)),1)","v":{"$error":"#NUM!"}},{"$f":"INDEX(Tabela.frequencia[],SMALL(IF(Tabela.frequencia[Mês]=$L$2,ROW(Tabela.frequencia[id])-1),ROW(A666)),4)","v":{"$error":"#NUM!"}},null,{"$f":"IFERROR(VLOOKUP(D713,Tabela.cadastro[[ID]:[Nome]],2,0),\"\")","v":""},{"$f":"IFERROR(VLOOKUP(D713,Tabela66[#All],2,0),\"\")","v":""},{"$f":"IFERROR(VLOOKUP(D713,Tabela.cadastro[[ID]:[CP ou M]],5,0),\"\")","v":""},{"$f":"IFERROR(VLOOKUP(D713,Cadastros!A:F,6,0),\"\")","v":""},{"$f":"IFERROR(VLOOKUP(D713,Cadastros!A:I,9,0),\"\")","v":""},{"$f":"IFERROR(VLOOKUP(D713,Cadastros!A:J,10,0),\"\")","v":""},{"$f":"IF(COUNTIF(Tabela66[id],D713)=0,\"\",COUNTIF(Tabela66[id],D713))","v":""},null,"",null,null,{"$f":"IFERROR(VLOOKUP(O713,Cadastros!A:B,2),\"\")","v":""},"",{"$f":"IFERROR(VLOOKUP(O713,Cadastros!A:E,5,0),\"\")","v":""},{"$f":"IFERROR(VLOOKUP(O713,Cadastros!A:F,6,0),\"\")","v":""},{"$f":"IFERROR(VLOOKUP(O713,Cadastros!A:I,9,0),\"\")","v":""},"","","",null,{"$f":"INDEX(Tabela.abordagens[],SMALL(IF(Tabela.abordagens[Mês]=$L$2,ROW(Tabela.abordagens[id])-2),ROW(A666)),1)","v":{"$error":"#NUM!"}},{"$f":"INDEX(Tabela.abordagens[],SMALL(IF(Tabela.abordagens[Mês]=$L$2,ROW(Tabela.abordagens[Idade])-2),ROW(A666)),6)","v":{"$error":"#NUM!"}},{"$f":"INDEX(Tabela.abordagens[],SMALL(IF(Tabela.abordagens[Mês]=$L$2,ROW(Tabela.abordagens[Idade])-2),ROW(A666)),4)","v":{"$error":"#NUM!"}},{"$f":"INDEX(Tabela.abordagens[],SMALL(IF(Tabela.abordagens[Mês]=$L$2,ROW(Tabela.abordagens[Idade])-2),ROW(A666)),5)","v":{"$error":"#NUM!"}}]
[null,{"$f":"INDEX(Tabela.frequencia[],SMALL(IF(Tabela.frequencia[Mês]=$L$2,ROW(Tabela.frequencia[id])-1),ROW(A667)),1)","v":{"$error":"#NUM!"}},{"$f":"INDEX(Tabela.frequencia[],SMALL(IF(Tabela.frequencia[Mês]=$L$2,ROW(Tabela.frequencia[id])-1),ROW(A667)),4)","v":{"$error":"#NUM!"}},null,{"$f":"IFERROR(VLOOKUP(D714,Tabela.cadastro[[ID]:[Nome]],2,0),\"\")","v":""},{"$f":"IFERROR(VLOOKUP(D714,Tabela66[#All],2,0),\"\")","v":""},{"$f":"IFERROR(VLOOKUP(D714,Tabela.cadastro[[ID]:[CP ou M]],5,0),\"\")","v":""},{"$f":"IFERROR(VLOOKUP(D714,Cadastros!A:F,6,0),\"\")","v":""},{"$f":"IFERROR(VLOOKUP(D714,Cadastros!A:I,9,0),\"\")","v":""},{"$f":"IFERROR(VLOOKUP(D714,Cadastros!A:J,10,0),\"\")","v":""},{"$f":"IF(COUNTIF(Tabela66[id],D714)=0,\"\",COUNTIF(Tabela66[id],D714))","v":""},null,"",null,null,{"$f":"IFERROR(VLOOKUP(O714,Cadastros!A:B,2),\"\")","v":""},"",{"$f":"IFERROR(VLOOKUP(O714,Cadastros!A:E,5,0),\"\")","v":""},{"$f":"IFERROR(VLOOKUP(O714,Cadastros!A:F,6,0),\"\")","v":""},{"$f":"IFERROR(VLOOKUP(O714,Cadastros!A:I,9,0),\"\")","v":""},"","","",null,{"$f":"INDEX(Tabela.abordagens[],SMALL(IF(Tabela.abordagens[Mês]=$L$2,ROW(Tabela.abordagens[id])-2),ROW(A667)),1)","v":{"$error":"#NUM!"}},{"$f":"INDEX(Tabela.abordagens[],SMALL(IF(Tabela.abordagens[Mês]=$L$2,ROW(Tabela.abordagens[Idade])-2),ROW(A667)),6)","v":{"$error":"#NUM!"}},{"$f":"INDEX(Tabela.abordagens[],SMALL(IF(Tabela.abordagens[Mês]=$L$2,ROW(Tabela.abordagens[Idade])-2),ROW(A667)),4)","v":{"$error":"#NUM!"}},{"$f":"INDEX(Tabela.abordagens[],SMALL(IF(Tabela.abordagens[Mês]=$L$2,ROW(Tabela.abordagens[Idade])-2),ROW(A667)),5)","v":{"$error":"#NUM!"}}]
[null,{"$f":"INDEX(Tabela.frequencia[],SMALL(IF(Tabela.frequencia[Mês]=$L$2,ROW(Tabela.frequencia[id])-1),ROW(A668)),1)","v":{"$error":"#NUM!"}},{"$f":"INDEX(Tabela.frequencia[],SMALL(IF(Tabela.frequencia[Mês]=$L$2,ROW(Tabela.frequencia[id])-1),ROW(A668)),4)","v":{"$error":"#NUM!"}},null,{"$f":"IFERROR(VLOOKUP(D715,Tabela.cadastro[[ID]:[Nome]],2,0),\"\")","v":""},{"$f":"IFERROR(VLOOKUP(D715,Tabela66[#All],2,0),\"\")","v":""},{"$f":"IFERROR(VLOOKUP(D715,Tabela.cadastro[[ID]:[CP ou M]],5,0),\"\")","v":""},{"$f":"IFERROR(VLOOKUP(D715,Cadastros!A:F,6,0),\"\")","v":""},{"$f":"IFERROR(VLOOKUP(D715,Cadastros!A:I,9,0),\"\")","v":""},{"$f":"IFERROR(VLOOKUP(D715,Cadastros!A:J,10,0),\"\")","v":""},{"$f":"IF(COUNTIF(Tabela66[id],D715)=0,\"\",COUNTIF(Tabela66[id],D715))","v":""},null,"",null,null,{"$f":"IFERROR(VLOOKUP(O715,Cadastros!A:B,2),\"\")","v":""},"",{"$f":"IFERROR(VLOOKUP(O715,Cadastros!A:E,5,0),\"\")","v":""},{"$f":"IFERROR(VLOOKUP(O715,Cadastros!A:F,6,0),\"\")","v":""},{"$f":"IFERROR(VLOOKUP(O715,Cadastros!A:I,9,0),\"\")","v":""},"","","",null,{"$f":"INDEX(Tabela.abordagens[],SMALL(IF(Tabela.abordagens[Mês]=$L$2,ROW(Tabela.abordagens[id])-2),ROW(A668)),1)","v":{"$error":"#NUM!"}},{"$f":"INDEX(Tabela.abordagens[],SMALL(IF(Tabela.abordagens[Mês]=$L$2,ROW(Tabela.abordagens[Idade])-2),ROW(A668)),6)","v":{"$error":"#NUM!"}},{"$f":"INDEX(Tabela.abordagens[],SMALL(IF(Tabela.abordagens[Mês]=$L$2,ROW(Tabela.abordagens[Idade])-2),ROW(A668)),4)","v":{"$error":"#NUM!"}},{"$f":"INDEX(Tabela.abordagens[],SMALL(IF(Tabela.abordagens[Mês]=$L$2,ROW(Tabela.abordagens[Idade])-2),ROW(A668)),5)","v":{"$error":"#NUM!"}}]
[null,{"$f":"INDEX(Tabela.frequencia[],SMALL(IF(Tabela.frequencia[Mês]=$L$2,ROW(Tabela.frequencia[id])-1),ROW(A669)),1)","v":{"$error":"#NUM!"}},{"$f":"INDEX(Tabela.frequencia[],SMALL(IF(Tabela.frequencia[Mês]=$L$2,ROW(Tabela.frequencia[id])-1),ROW(A669)),4)","v":{"$error":"#NUM!"}},null,{"$f":"IFERROR(VLOOKUP(D716,Tabela.cadastro[[ID]:[Nome]],2,0),\"\")","v":""},{"$f":"IFERROR(VLOOKUP(D716,Tabela66[#All],2,0),\"\")","v":""},{"$f":"IFERROR(VLOOKUP(D716,Tabela.cadastro[[ID]:[CP ou M]],5,0),\"\")","v":""},{"$f":"IFERROR(VLOOKUP(D716,Cadastros!A:F,6,0),\"\")","v":""},{"$f":"IFERROR(VLOOKUP(D716,Cadastros!A:I,9,0),\"\")","v":""},{"$f":"IFERROR(VLOOKUP(D716,Cadastros!A:J,10,0),\"\")","v":""},{"$f":"IF(COUNTIF(Tabela66[id],D716)=0,\"\",COUNTIF(Tabela66[id],D716))","v":""},null,"",null,null,{"$f":"IFERROR(VLOOKUP(O716,Cadastros!A:B,2),\"\")","v":""},"",{"$f":"IFERROR(VLOOKUP(O716,Cadastros!A:E,5,0),\"\")","v":""},{"$f":"IFERROR(VLOOKUP(O716,Cadastros!A:F,6,0),\"\")","v":""},{"$f":"IFERROR(VLOOKUP(O716,Cadastros!A:I,9,0),\"\")","v":""},"","","",null,{"$f":"INDEX(Tabela.abordagens[],SMALL(IF(Tabela.abordagens[Mês]=$L$2,ROW(Tabela.abordagens[id])-2),ROW(A669)),1)","v":{"$error":"#NUM!"}},{"$f":"INDEX(Tabela.abordagens[],SMALL(IF(Tabela.abordagens[Mês]=$L$2,ROW(Tabela.abordagens[Idade])-2),ROW(A669)),6)","v":{"$error":"#NUM!"}},{"$f":"INDEX(Tabela.abordagens[],SMALL(IF(Tabela.abordagens[Mês]=$L$2,ROW(Tabela.abordagens[Idade])-2),ROW(A669)),4)","v":{"$error":"#NUM!"}},{"$f":"INDEX(Tabela.abordagens[],SMALL(IF(Tabela.abordagens[Mês]=$L$2,ROW(Tabela.abordagens[Idade])-2),ROW(A669)),5)","v":{"$error":"#NUM!"}}]
[null,{"$f":"INDEX(Tabela.frequencia[],SMALL(IF(Tabela.frequencia[Mês]=$L$2,ROW(Tabela.frequencia[id])-1),ROW(A670)),1)","v":{"$error":"#NUM!"}},{"$f":"INDEX(Tabela.frequencia[],SMALL(IF(Tabela.frequencia[Mês]=$L$2,ROW(Tabela.frequencia[id])-1),ROW(A670)),4)","v":{"$error":"#NUM!"}},null,{"$f":"IFERROR(VLOOKUP(D717,Tabela.cadastro[[ID]:[Nome]],2,0),\"\")","v":""},{"$f":"IFERROR(VLOOKUP(D717,Tabela66[#All],2,0),\"\")","v":""},{"$f":"IFERROR(VLOOKUP(D717,Tabela.cadastro[[ID]:[CP ou M]],5,0),\"\")","v":""},{"$f":"IFERROR(VLOOKUP(D717,Cadastros!A:F,6,0),\"\")","v":""},{"$f":"IFERROR(VLOOKUP(D717,Cadastros!A:I,9,0),\"\")","v":""},{"$f":"IFERROR(VLOOKUP(D717,Cadastros!A:J,10,0),\"\")","v":""},{"$f":"IF(COUNTIF(Tabela66[id],D717)=0,\"\",COUNTIF(Tabela66[id],D717))","v":""},null,"",null,null,{"$f":"IFERROR(VLOOKUP(O717,Cadastros!A:B,2),\"\")","v":""},"",{"$f":"IFERROR(VLOOKUP(O717,Cadastros!A:E,5,0),\"\")","v":""},{"$f":"IFERROR(VLOOKUP(O717,Cadastros!A:F,6,0),\"\")","v":""},{"$f":"IFERROR(VLOOKUP(O717,Cadastros!A:I,9,0),\"\")","v":""},"","","",null,{"$f":"INDEX(Tabela.abordagens[],SMALL(IF(Tabela.abordagens[Mês]=$L$2,ROW(Tabela.abordagens[id])-2),ROW(A670)),1)","v":{"$error":"#NUM!"}},{"$f":"INDEX(Tabela.abordagens[],SMALL(IF(Tabela.abordagens[Mês]=$L$2,ROW(Tabela.abordagens[Idade])-2),ROW(A670)),6)","v":{"$error":"#NUM!"}},{"$f":"INDEX(Tabela.abordagens[],SMALL(IF(Tabela.abordagens[Mês]=$L$2,ROW(Tabela.abordagens[Idade])-2),ROW(A670)),4)","v":{"$error":"#NUM!"}},{"$f":"INDEX(Tabela.abordagens[],SMALL(IF(Tabela.abordagens[Mês]=$L$2,ROW(Tabela.abordagens[Idade])-2),ROW(A670)),5)","v":{"$error":"#NUM!"}}]
[null,{"$f":"INDEX(Tabela.frequencia[],SMALL(IF(Tabela.frequencia[Mês]=$L$2,ROW(Tabela.frequencia[id])-1),ROW(A671)),1)","v":{"$error":"#NUM!"}},{"$f":"INDEX(Tabela.frequencia[],SMALL(IF(Tabela.frequencia[Mês]=$L$2,ROW(Tabela.frequencia[id])-1),ROW(A671)),4)","v":{"$error":"#NUM!"}},null,{"$f":"IFERROR(VLOOKUP(D718,Tabela.cadastro[[ID]:[Nome]],2,0),\"\")","v":""},{"$f":"IFERROR(VLOOKUP(D718,Tabela66[#All],2,0),\"\")","v":""},{"$f":"IFERROR(VLOOKUP(D718,Tabela.cadastro[[ID]:[CP ou M]],5,0),\"\")","v":""},{"$f":"IFERROR(VLOOKUP(D718,Cadastros!A:F,6,0),\"\")","v":""},{"$f":"IFERROR(VLOOKUP(D718,Cadastros!A:I,9,0),\"\")","v":""},{"$f":"IFERROR(VLOOKUP(D718,Cadastros!A:J,10,0),\"\")","v":""},{"$f":"IF(COUNTIF(Tabela66[id],D718)=0,\"\",COUNTIF(Tabela66[id],D718))","v":""},null,"",null,null,{"$f":"IFERROR(VLOOKUP(O718,Cadastros!A:B,2),\"\")","v":""},"",{"$f":"IFERROR(VLOOKUP(O718,Cadastros!A:E,5,0),\"\")","v":""},{"$f":"IFERROR(VLOOKUP(O718,Cadastros!A:F,6,0),\"\")","v":""},{"$f":"IFERROR(VLOOKUP(O718,Cadastros!A:I,9,0),\"\")","v":""},"","","",null,{"$f":"INDEX(Tabela.abordagens[],SMALL(IF(Tabela.abordagens[Mês]=$L$2,ROW(Tabela.abordagens[id])-2),ROW(A671)),1)","v":{"$error":"#NUM!"}},{"$f":"INDEX(Tabela.abordagens[],SMALL(IF(Tabela.abordagens[Mês]=$L$2,ROW(Tabela.abordagens[Idade])-2),ROW(A671)),6)","v":{"$error":"#NUM!"}},{"$f":"INDEX(Tabela.abordagens[],SMALL(IF(Tabela.abordagens[Mês]=$L$2,ROW(Tabela.abordagens[Idade])-2),ROW(A671)),4)","v":{"$error":"#NUM!"}},{"$f":"INDEX(Tabela.abordagens[],SMALL(IF(Tabela.abordagens[Mês]=$L$2,ROW(Tabela.abordagens[Idade])-2),ROW(A671)),5)","v":{"$error":"#NUM!"}}]
[null,{"$f":"INDEX(Tabela.frequencia[],SMALL(IF(Tabela.frequencia[Mês]=$L$2,ROW(Tabela.frequencia[id])-1),ROW(A672)),1)","v":{"$error":"#NUM!"}},{"$f":"INDEX(Tabela.frequencia[],SMALL(IF(Tabela.frequencia[Mês]=$L$2,ROW(Tabela.frequencia[id])-1),ROW(A672)),4)","v":{"$error":"#NUM!"}},null,{"$f":"IFERROR(VLOOKUP(D719,Tabela.cadastro[[ID]:[Nome]],2,0),\"\")","v":""},{"$f":"IFERROR(VLOOKUP(D719,Tabela66[#All],2,0),\"\")","v":""},{"$f":"IFERROR(VLOOKUP(D719,Tabela.cadastro[[ID]:[CP ou M]],5,0),\"\")","v":""},{"$f":"IFERROR(VLOOKUP(D719,Cadastros!A:F,6,0),\"\")","v":""},{"$f":"IFERROR(VLOOKUP(D719,Cadastros!A:I,9,0),\"\")","v":""},{"$f":"IFERROR(VLOOKUP(D719,Cadastros!A:J,10,0),\"\")","v":""},{"$f":"IF(COUNTIF(Tabela66[id],D719)=0,\"\",COUNTIF(Tabela66[id],D719))","v":""},null,"",null,null,{"$f":"IFERROR(VLOOKUP(O719,Cadastros!A:B,2),\"\")","v":""},"",{"$f":"IFERROR(VLOOKUP(O719,Cadastros!A:E,5,0),\"\")","v":""},{"$f":"IFERROR(VLOOKUP(O719,Cadastros!A:F,6,0),\"\")","v":""},{"$f":"IFERROR(VLOOKUP(O719,Cadastros!A:I,9,0),\"\")","v":""},"","","",null,{"$f":"INDEX(Tabela.abordagens[],SMALL(IF(Tabela.abordagens[Mês]=$L$2,ROW(Tabela.abordagens[id])-2),ROW(A672)),1)","v":{"$error":"#NUM!"}},{"$f":"INDEX(Tabela.abordagens[],SMALL(IF(Tabela.abordagens[Mês]=$L$2,ROW(Tabela.abordagens[Idade])-2),ROW(A672)),6)","v":{"$error":"#NUM!"}},{"$f":"INDEX(Tabela.abordagens[],SMALL(IF(Tabela.abordagens[Mês]=$L$2,ROW(Tabela.abordagens[Idade])-2),ROW(A672)),4)","v":{"$error":"#NUM!"}},{"$f":"INDEX(Tabela.abordagens[],SMALL(IF(Tabela.abordagens[Mês]=$L$2,ROW(Tabela.abordagens[Idade])-2),ROW(A672)),5)","v":{"$error":"#NUM!"}}]
[null,{"$f":"INDEX(Tabela.frequencia[],SMALL(IF(Tabela.frequencia[Mês]=$L$2,ROW(Tabela.frequencia[id])-1),ROW(A673)),1)","v":{"$error":"#NUM!"}},{"$f":"INDEX(Tabela.frequencia[],SMALL(IF(Tabela.frequencia[Mês]=$L$2,ROW(Tabela.frequencia[id])-1),ROW(A673)),4)","v":{"$error":"#NUM!"}},null,{"$f":"IFERROR(VLOOKUP(D720,Tabela.cadastro[[ID]:[Nome]],2,0),\"\")","v":""},{"$f":"IFERROR(VLOOKUP(D720,Tabela66[#All],2,0),\"\")","v":""},{"$f":"IFERROR(VLOOKUP(D720,Tabela.cadastro[[ID]:[CP ou M]],5,0),\"\")","v":""},{"$f":"IFERROR(VLOOKUP(D720,Cadastros!A:F,6,0),\"\")","v":""},{"$f":"IFERROR(VLOOKUP(D720,Cadastros!A:I,9,0),\"\")","v":""},{"$f":"IFERROR(VLOOKUP(D720,Cadastros!A:J,10,0),\"\")","v":""},{"$f":"IF(COUNTIF(Tabela66[id],D720)=0,\"\",COUNTIF(Tabela66[id],D720))","v":""},null,"",null,null,{"$f":"IFERROR(VLOOKUP(O720,Cadastros!A:B,2),\"\")","v":""},"",{"$f":"IFERROR(VLOOKUP(O720,Cadastros!A:E,5,0),\"\")","v":""},{"$f":"IFERROR(VLOOKUP(O720,Cadastros!A:F,6,0),\"\")","v":""},{"$f":"IFERROR(VLOOKUP(O720,Cadastros!A:I,9,0),\"\")","v":""},"","","",null,{"$f":"INDEX(Tabela.abordagens[],SMALL(IF(Tabela.abordagens[Mês]=$L$2,ROW(Tabela.abordagens[id])-2),ROW(A673)),1)","v":{"$error":"#NUM!"}},{"$f":"INDEX(Tabela.abordagens[],SMALL(IF(Tabela.abordagens[Mês]=$L$2,ROW(Tabela.abordagens[Idade])-2),ROW(A673)),6)","v":{"$error":"#NUM!"}},{"$f":"INDEX(Tabela.abordagens[],SMALL(IF(Tabela.abordagens[Mês]=$L$2,ROW(Tabela.abordagens[Idade])-2),ROW(A673)),4)","v":{"$error":"#NUM!"}},{"$f":"INDEX(Tabela.abordagens[],SMALL(IF(Tabela.abordagens[Mês]=$L$2,ROW(Tabela.abordagens[Idade])-2),ROW(A673)),5)","v":{"$error":"#NUM!"}}]
[null,{"$f":"INDEX(Tabela.frequencia[],SMALL(IF(Tabela.frequencia[Mês]=$L$2,ROW(Tabela.frequencia[id])-1),ROW(A674)),1)","v":{"$error":"#NUM!"}},{"$f":"INDEX(Tabela.frequencia[],SMALL(IF(Tabela.frequencia[Mês]=$L$2,ROW(Tabela.frequencia[id])-1),ROW(A674)),4)","v":{"$error":"#NUM!"}},null,{"$f":"IFERROR(VLOOKUP(D721,Tabela.cadastro[[ID]:[Nome]],2,0),\"\")","v":""},{"$f":"IFERROR(VLOOKUP(D721,Tabela66[#All],2,0),\"\")","v":""},{"$f":"IFERROR(VLOOKUP(D721,Tabela.cadastro[[ID]:[CP ou M]],5,0),\"\")","v":""},{"$f":"IFERROR(VLOOKUP(D721,Cadastros!A:F,6,0),\"\")","v":""},{"$f":"IFERROR(VLOOKUP(D721,Cadastros!A:I,9,0),\"\")","v":""},{"$f":"IFERROR(VLOOKUP(D721,Cadastros!A:J,10,0),\"\")","v":""},{"$f":"IF(COUNTIF(Tabela66[id],D721)=0,\"\",COUNTIF(Tabela66[id],D721))","v":""},null,"",null,null,{"$f":"IFERROR(VLOOKUP(O721,Cadastros!A:B,2),\"\")","v":""},"",{"$f":"IFERROR(VLOOKUP(O721,Cadastros!A:E,5,0),\"\")","v":""},{"$f":"IFERROR(VLOOKUP(O721,Cadastros!A:F,6,0),\"\")","v":""},{"$f":"IFERROR(VLOOKUP(O721,Cadastros!A:I,9,0),\"\")","v":""},"","","",null,{"$f":"INDEX(Tabela.abordagens[],SMALL(IF(Tabela.abordagens[Mês]=$L$2,ROW(Tabela.abordagens[id])-2),ROW(A674)),1)","v":{"$error":"#NUM!"}},{"$f":"INDEX(Tabela.abordagens[],SMALL(IF(Tabela.abordagens[Mês]=$L$2,ROW(Tabela.abordagens[Idade])-2),ROW(A674)),6)","v":{"$error":"#NUM!"}},{"$f":"INDEX(Tabela.abordagens[],SMALL(IF(Tabela.abordagens[Mês]=$L$2,ROW(Tabela.abordagens[Idade])-2),ROW(A674)),4)","v":{"$error":"#NUM!"}},{"$f":"INDEX(Tabela.abordagens[],SMALL(IF(Tabela.abordagens[Mês]=$L$2,ROW(Tabela.abordagens[Idade])-2),ROW(A674)),5)","v":{"$error":"#NUM!"}}]
[null,{"$f":"INDEX(Tabela.frequencia[],SMALL(IF(Tabela.frequencia[Mês]=$L$2,ROW(Tabela.frequencia[id])-1),ROW(A675)),1)","v":{"$error":"#NUM!"}},{"$f":"INDEX(Tabela.frequencia[],SMALL(IF(Tabela.frequencia[Mês]=$L$2,ROW(Tabela.frequencia[id])-1),ROW(A675)),4)","v":{"$error":"#NUM!"}},null,{"$f":"IFERROR(VLOOKUP(D722,Tabela.cadastro[[ID]:[Nome]],2,0),\"\")","v":""},{"$f":"IFERROR(VLOOKUP(D722,Tabela66[#All],2,0),\"\")","v":""},{"$f":"IFERROR(VLOOKUP(D722,Tabela.cadastro[[ID]:[CP ou M]],5,0),\"\")","v":""},{"$f":"IFERROR(VLOOKUP(D722,Cadastros!A:F,6,0),\"\")","v":""},{"$f":"IFERROR(VLOOKUP(D722,Cadastros!A:I,9,0),\"\")","v":""},{"$f":"IFERROR(VLOOKUP(D722,Cadastros!A:J,10,0),\"\")","v":""},{"$f":"IF(COUNTIF(Tabela66[id],D722)=0,\"\",COUNTIF(Tabela66[id],D722))","v":""},null,"",null,null,{"$f":"IFERROR(VLOOKUP(O722,Cadastros!A:B,2),\"\")","v":""},"",{"$f":"IFERROR(VLOOKUP(O722,Cadastros!A:E,5,0),\"\")","v":""},{"$f":"IFERROR(VLOOKUP(O722,Cadastros!A:F,6,0),\"\")","v":""},{"$f":"IFERROR(VLOOKUP(O722,Cadastros!A:I,9,0),\"\")","v":""},"","","",null,{"$f":"INDEX(Tabela.abordagens[],SMALL(IF(Tabela.abordagens[Mês]=$L$2,ROW(Tabela.abordagens[id])-2),ROW(A675)),1)","v":{"$error":"#NUM!"}},{"$f":"INDEX(Tabela.abordagens[],SMALL(IF(Tabela.abordagens[Mês]=$L$2,ROW(Tabela.abordagens[Idade])-2),ROW(A675)),6)","v":{"$error":"#NUM!"}},{"$f":"INDEX(Tabela.abordagens[],SMALL(IF(Tabela.abordagens[Mês]=$L$2,ROW(Tabela.abordagens[Idade])-2),ROW(A675)),4)","v":{"$error":"#NUM!"}},{"$f":"INDEX(Tabela.abordagens[],SMALL(IF(Tabela.abordagens[Mês]=$L$2,ROW(Tabela.abordagens[Idade])-2),ROW(A675)),5)","v":{"$error":"#NUM!"}}]
[null,{"$f":"INDEX(Tabela.frequencia[],SMALL(IF(Tabela.frequencia[Mês]=$L$2,ROW(Tabela.frequencia[id])-1),ROW(A676)),1)","v":{"$error":"#NUM!"}},{"$f":"INDEX(Tabela.frequencia[],SMALL(IF(Tabela.frequencia[Mês]=$L$2,ROW(Tabela.frequencia[id])-1),ROW(A676)),4)","v":{"$error":"#NUM!"}},null,{"$f":"IFERROR(VLOOKUP(D723,Tabela.cadastro[[ID]:[Nome]],2,0),\"\")","v":""},{"$f":"IFERROR(VLOOKUP(D723,Tabela66[#All],2,0),\"\")","v":""},{"$f":"IFERROR(VLOOKUP(D723,Tabela.cadastro[[ID]:[CP ou M]],5,0),\"\")","v":""},{"$f":"IFERROR(VLOOKUP(D723,Cadastros!A:F,6,0),\"\")","v":""},{"$f":"IFERROR(VLOOKUP(D723,Cadastros!A:I,9,0),\"\")","v":""},{"$f":"IFERROR(VLOOKUP(D723,Cadastros!A:J,10,0),\"\")","v":""},{"$f":"IF(COUNTIF(Tabela66[id],D723)=0,\"\",COUNTIF(Tabela66[id],D723))","v":""},null,"",null,null,{"$f":"IFERROR(VLOOKUP(O723,Cadastros!A:B,2),\"\")","v":""},"",{"$f":"IFERROR(VLOOKUP(O723,Cadastros!A:E,5,0),\"\")","v":""},{"$f":"IFERROR(VLOOKUP(O723,Cadastros!A:F,6,0),\"\")","v":""},{"$f":"IFERROR(VLOOKUP(O723,Cadastros!A:I,9,0),\"\")","v":""},"","","",null,{"$f":"INDEX(Tabela.abordagens[],SMALL(IF(Tabela.abordagens[Mês]=$L$2,ROW(Tabela.abordagens[id])-2),ROW(A676)),1)","v":{"$error":"#NUM!"}},{"$f":"INDEX(Tabela.abordagens[],SMALL(IF(Tabela.abordagens[Mês]=$L$2,ROW(Tabela.abordagens[Idade])-2),ROW(A676)),6)","v":{"$error":"#NUM!"}},{"$f":"INDEX(Tabela.abordagens[],SMALL(IF(Tabela.abordagens[Mês]=$L$2,ROW(Tabela.abordagens[Idade])-2),ROW(A676)),4)","v":{"$error":"#NUM!"}},{"$f":"INDEX(Tabela.abordagens[],SMALL(IF(Tabela.abordagens[Mês]=$L$2,ROW(Tabela.abordagens[Idade])-2),ROW(A676)),5)","v":{"$error":"#NUM!"}}]
[null,{"$f":"INDEX(Tabela.frequencia[],SMALL(IF(Tabela.frequencia[Mês]=$L$2,ROW(Tabela.frequencia[id])-1),ROW(A677)),1)","v":{"$error":"#NUM!"}},{"$f":"INDEX(Tabela.frequencia[],SMALL(IF(Tabela.frequencia[Mês]=$L$2,ROW(Tabela.frequencia[id])-1),ROW(A677)),4)","v":{"$error":"#NUM!"}},null,{"$f":"IFERROR(VLOOKUP(D724,Tabela.cadastro[[ID]:[Nome]],2,0),\"\")","v":""},{"$f":"IFERROR(VLOOKUP(D724,Tabela66[#All],2,0),\"\")","v":""},{"$f":"IFERROR(VLOOKUP(D724,Tabela.cadastro[[ID]:[CP ou M]],5,0),\"\")","v":""},{"$f":"IFERROR(VLOOKUP(D724,Cadastros!A:F,6,0),\"\")","v":""},{"$f":"IFERROR(VLOOKUP(D724,Cadastros!A:I,9,0),\"\")","v":""},{"$f":"IFERROR(VLOOKUP(D724,Cadastros!A:J,10,0),\"\")","v":""},{"$f":"IF(COUNTIF(Tabela66[id],D724)=0,\"\",COUNTIF(Tabela66[id],D724))","v":""},null,"",null,null,{"$f":"IFERROR(VLOOKUP(O724,Cadastros!A:B,2),\"\")","v":""},"",{"$f":"IFERROR(VLOOKUP(O724,Cadastros!A:E,5,0),\"\")","v":""},{"$f":"IFERROR(VLOOKUP(O724,Cadastros!A:F,6,0),\"\")","v":""},{"$f":"IFERROR(VLOOKUP(O724,Cadastros!A:I,9,0),\"\")","v":""},"","","",null,{"$f":"INDEX(Tabela.abordagens[],SMALL(IF(Tabela.abordagens[Mês]=$L$2,ROW(Tabela.abordagens[id])-2),ROW(A677)),1)","v":{"$error":"#NUM!"}},{"$f":"INDEX(Tabela.abordagens[],SMALL(IF(Tabela.abordagens[Mês]=$L$2,ROW(Tabela.abordagens[Idade])-2),ROW(A677)),6)","v":{"$error":"#NUM!"}},{"$f":"INDEX(Tabela.abordagens[],SMALL(IF(Tabela.abordagens[Mês]=$L$2,ROW(Tabela.abordagens[Idade])-2),ROW(A677)),4)","v":{"$error":"#NUM!"}},{"$f":"INDEX(Tabela.abordagens[],SMALL(IF(Tabela.abordagens[Mês]=$L$2,ROW(Tabela.abordagens[Idade])-2),ROW(A677)),5)","v":{"$error":"#NUM!"}}]
[null,{"$f":"INDEX(Tabela.frequencia[],SMALL(IF(Tabela.frequencia[Mês]=$L$2,ROW(Tabela.frequencia[id])-1),ROW(A678)),1)","v":{"$error":"#NUM!"}},{"$f":"INDEX(Tabela.frequencia[],SMALL(IF(Tabela.frequencia[Mês]=$L$2,ROW(Tabela.frequencia[id])-1),ROW(A678)),4)","v":{"$error":"#NUM!"}},null,{"$f":"IFERROR(VLOOKUP(D725,Tabela.cadastro[[ID]:[Nome]],2,0),\"\")","v":""},{"$f":"IFERROR(VLOOKUP(D725,Tabela66[#All],2,0),\"\")","v":""},{"$f":"IFERROR(VLOOKUP(D725,Tabela.cadastro[[ID]:[CP ou M]],5,0),\"\")","v":""},{"$f":"IFERROR(VLOOKUP(D725,Cadastros!A:F,6,0),\"\")","v":""},{"$f":"IFERROR(VLOOKUP(D725,Cadastros!A:I,9,0),\"\")","v":""},{"$f":"IFERROR(VLOOKUP(D725,Cadastros!A:J,10,0),\"\")","v":""},{"$f":"IF(COUNTIF(Tabela66[id],D725)=0,\"\",COUNTIF(Tabela66[id],D725))","v":""},null,"",null,null,{"$f":"IFERROR(VLOOKUP(O725,Cadastros!A:B,2),\"\")","v":""},"",{"$f":"IFERROR(VLOOKUP(O725,Cadastros!A:E,5,0),\"\")","v":""},{"$f":"IFERROR(VLOOKUP(O725,Cadastros!A:F,6,0),\"\")","v":""},{"$f":"IFERROR(VLOOKUP(O725,Cadastros!A:I,9,0),\"\")","v":""},"","","",null,{"$f":"INDEX(Tabela.abordagens[],SMALL(IF(Tabela.abordagens[Mês]=$L$2,ROW(Tabela.abordagens[id])-2),ROW(A678)),1)","v":{"$error":"#NUM!"}},{"$f":"INDEX(Tabela.abordagens[],SMALL(IF(Tabela.abordagens[Mês]=$L$2,ROW(Tabela.abordagens[Idade])-2),ROW(A678)),6)","v":{"$error":"#NUM!"}},{"$f":"INDEX(Tabela.abordagens[],SMALL(IF(Tabela.abordagens[Mês]=$L$2,ROW(Tabela.abordagens[Idade])-2),ROW(A678)),4)","v":{"$error":"#NUM!"}},{"$f":"INDEX(Tabela.abordagens[],SMALL(IF(Tabela.abordagens[Mês]=$L$2,ROW(Tabela.abordagens[Idade])-2),ROW(A678)),5)","v":{"$error":"#NUM!"}}]
[null,{"$f":"INDEX(Tabela.frequencia[],SMALL(IF(Tabela.frequencia[Mês]=$L$2,ROW(Tabela.frequencia[id])-1),ROW(A679)),1)","v":{"$error":"#NUM!"}},{"$f":"INDEX(Tabela.frequencia[],SMALL(IF(Tabela.frequencia[Mês]=$L$2,ROW(Tabela.frequencia[id])-1),ROW(A679)),4)","v":{"$error":"#NUM!"}},null,{"$f":"IFERROR(VLOOKUP(D726,Tabela.cadastro[[ID]:[Nome]],2,0),\"\")","v":""},{"$f":"IFERROR(VLOOKUP(D726,Tabela66[#All],2,0),\"\")","v":""},{"$f":"IFERROR(VLOOKUP(D726,Tabela.cadastro[[ID]:[CP ou M]],5,0),\"\")","v":""},{"$f":"IFERROR(VLOOKUP(D726,Cadastros!A:F,6,0),\"\")","v":""},{"$f":"IFERROR(VLOOKUP(D726,Cadastros!A:I,9,0),\"\")","v":""},{"$f":"IFERROR(VLOOKUP(D726,Cadastros!A:J,10,0),\"\")","v":""},{"$f":"IF(COUNTIF(Tabela66[id],D726)=0,\"\",COUNTIF(Tabela66[id],D726))","v":""},null,"",null,null,{"$f":"IFERROR(VLOOKUP(O726,Cadastros!A:B,2),\"\")","v":""},"",{"$f":"IFERROR(VLOOKUP(O726,Cadastros!A:E,5,0),\"\")","v":""},{"$f":"IFERROR(VLOOKUP(O726,Cadastros!A:F,6,0),\"\")","v":""},{"$f":"IFERROR(VLOOKUP(O726,Cadastros!A:I,9,0),\"\")","v":""},"","","",null,{"$f":"INDEX(Tabela.abordagens[],SMALL(IF(Tabela.abordagens[Mês]=$L$2,ROW(Tabela.abordagens[id])-2),ROW(A679)),1)","v":{"$error":"#NUM!"}},{"$f":"INDEX(Tabela.abordagens[],SMALL(IF(Tabela.abordagens[Mês]=$L$2,ROW(Tabela.abordagens[Idade])-2),ROW(A679)),6)","v":{"$error":"#NUM!"}},{"$f":"INDEX(Tabela.abordagens[],SMALL(IF(Tabela.abordagens[Mês]=$L$2,ROW(Tabela.abordagens[Idade])-2),ROW(A679)),4)","v":{"$error":"#NUM!"}},{"$f":"INDEX(Tabela.abordagens[],SMALL(IF(Tabela.abordagens[Mês]=$L$2,ROW(Tabela.abordagens[Idade])-2),ROW(A679)),5)","v":{"$error":"#NUM!"}}]
[null,{"$f":"INDEX(Tabela.frequencia[],SMALL(IF(Tabela.frequencia[Mês]=$L$2,ROW(Tabela.frequencia[id])-1),ROW(A680)),1)","v":{"$error":"#NUM!"}},{"$f":"INDEX(Tabela.frequencia[],SMALL(IF(Tabela.frequencia[Mês]=$L$2,ROW(Tabela.frequencia[id])-1),ROW(A680)),4)","v":{"$error":"#NUM!"}},null,{"$f":"IFERROR(VLOOKUP(D727,Tabela.cadastro[[ID]:[Nome]],2,0),\"\")","v":""},{"$f":"IFERROR(VLOOKUP(D727,Tabela66[#All],2,0),\"\")","v":""},{"$f":"IFERROR(VLOOKUP(D727,Tabela.cadastro[[ID]:[CP ou M]],5,0),\"\")","v":""},{"$f":"IFERROR(VLOOKUP(D727,Cadastros!A:F,6,0),\"\")","v":""},{"$f":"IFERROR(VLOOKUP(D727,Cadastros!A:I,9,0),\"\")","v":""},{"$f":"IFERROR(VLOOKUP(D727,Cadastros!A:J,10,0),\"\")","v":""},{"$f":"IF(COUNTIF(Tabela66[id],D727)=0,\"\",COUNTIF(Tabela66[id],D727))","v":""},null,"",null,null,{"$f":"IFERROR(VLOOKUP(O727,Cadastros!A:B,2),\"\")","v":""},"",{"$f":"IFERROR(VLOOKUP(O727,Cadastros!A:E,5,0),\"\")","v":""},{"$f":"IFERROR(VLOOKUP(O727,Cadastros!A:F,6,0),\"\")","v":""},{"$f":"IFERROR(VLOOKUP(O727,Cadastros!A:I,9,0),\"\")","v":""},"","","",null,{"$f":"INDEX(Tabela.abordagens[],SMALL(IF(Tabela.abordagens[Mês]=$L$2,ROW(Tabela.abordagens[id])-2),ROW(A680)),1)","v":{"$error":"#NUM!"}},{"$f":"INDEX(Tabela.abordagens[],SMALL(IF(Tabela.abordagens[Mês]=$L$2,ROW(Tabela.abordagens[Idade])-2),ROW(A680)),6)","v":{"$error":"#NUM!"}},{"$f":"INDEX(Tabela.abordagens[],SMALL(IF(Tabela.abordagens[Mês]=$L$2,ROW(Tabela.abordagens[Idade])-2),ROW(A680)),4)","v":{"$error":"#NUM!"}},{"$f":"INDEX(Tabela.abordagens[],SMALL(IF(Tabela.abordagens[Mês]=$L$2,ROW(Tabela.abordagens[Idade])-2),ROW(A680)),5)","v":{"$error":"#NUM!"}}]
[null,{"$f":"INDEX(Tabela.frequencia[],SMALL(IF(Tabela.frequencia[Mês]=$L$2,ROW(Tabela.frequencia[id])-1),ROW(A681)),1)","v":{"$error":"#NUM!"}},{"$f":"INDEX(Tabela.frequencia[],SMALL(IF(Tabela.frequencia[Mês]=$L$2,ROW(Tabela.frequencia[id])-1),ROW(A681)),4)","v":{"$error":"#NUM!"}},null,{"$f":"IFERROR(VLOOKUP(D728,Tabela.cadastro[[ID]:[Nome]],2,0),\"\")","v":""},{"$f":"IFERROR(VLOOKUP(D728,Tabela66[#All],2,0),\"\")","v":""},{"$f":"IFERROR(VLOOKUP(D728,Tabela.cadastro[[ID]:[CP ou M]],5,0),\"\")","v":""},{"$f":"IFERROR(VLOOKUP(D728,Cadastros!A:F,6,0),\"\")","v":""},{"$f":"IFERROR(VLOOKUP(D728,Cadastros!A:I,9,0),\"\")","v":""},{"$f":"IFERROR(VLOOKUP(D728,Cadastros!A:J,10,0),\"\")","v":""},{"$f":"IF(COUNTIF(Tabela66[id],D728)=0,\"\",COUNTIF(Tabela66[id],D728))","v":""},null,"",null,null,{"$f":"IFERROR(VLOOKUP(O728,Cadastros!A:B,2),\"\")","v":""},"",{"$f":"IFERROR(VLOOKUP(O728,Cadastros!A:E,5,0),\"\")","v":""},{"$f":"IFERROR(VLOOKUP(O728,Cadastros!A:F,6,0),\"\")","v":""},{"$f":"IFERROR(VLOOKUP(O728,Cadastros!A:I,9,0),\"\")","v":""},"","","",null,{"$f":"INDEX(Tabela.abordagens[],SMALL(IF(Tabela.abordagens[Mês]=$L$2,ROW(Tabela.abordagens[id])-2),ROW(A681)),1)","v":{"$error":"#NUM!"}},{"$f":"INDEX(Tabela.abordagens[],SMALL(IF(Tabela.abordagens[Mês]=$L$2,ROW(Tabela.abordagens[Idade])-2),ROW(A681)),6)","v":{"$error":"#NUM!"}},{"$f":"INDEX(Tabela.abordagens[],SMALL(IF(Tabela.abordagens[Mês]=$L$2,ROW(Tabela.abordagens[Idade])-2),ROW(A681)),4)","v":{"$error":"#NUM!"}},{"$f":"INDEX(Tabela.abordagens[],SMALL(IF(Tabela.abordagens[Mês]=$L$2,ROW(Tabela.abordagens[Idade])-2),ROW(A681)),5)","v":{"$error":"#NUM!"}}]
[null,{"$f":"INDEX(Tabela.frequencia[],SMALL(IF(Tabela.frequencia[Mês]=$L$2,ROW(Tabela.frequencia[id])-1),ROW(A682)),1)","v":{"$error":"#NUM!"}},{"$f":"INDEX(Tabela.frequencia[],SMALL(IF(Tabela.frequencia[Mês]=$L$2,ROW(Tabela.frequencia[id])-1),ROW(A682)),4)","v":{"$error":"#NUM!"}},null,{"$f":"IFERROR(VLOOKUP(D729,Tabela.cadastro[[ID]:[Nome]],2,0),\"\")","v":""},{"$f":"IFERROR(VLOOKUP(D729,Tabela66[#All],2,0),\"\")","v":""},{"$f":"IFERROR(VLOOKUP(D729,Tabela.cadastro[[ID]:[CP ou M]],5,0),\"\")","v":""},{"$f":"IFERROR(VLOOKUP(D729,Cadastros!A:F,6,0),\"\")","v":""},{"$f":"IFERROR(VLOOKUP(D729,Cadastros!A:I,9,0),\"\")","v":""},{"$f":"IFERROR(VLOOKUP(D729,Cadastros!A:J,10,0),\"\")","v":""},{"$f":"IF(COUNTIF(Tabela66[id],D729)=0,\"\",COUNTIF(Tabela66[id],D729))","v":""},null,"",null,null,{"$f":"IFERROR(VLOOKUP(O729,Cadastros!A:B,2),\"\")","v":""},"",{"$f":"IFERROR(VLOOKUP(O729,Cadastros!A:E,5,0),\"\")","v":""},{"$f":"IFERROR(VLOOKUP(O729,Cadastros!A:F,6,0),\"\")","v":""},{"$f":"IFERROR(VLOOKUP(O729,Cadastros!A:I,9,0),\"\")","v":""},"","","",null,{"$f":"INDEX(Tabela.abordagens[],SMALL(IF(Tabela.abordagens[Mês]=$L$2,ROW(Tabela.abordagens[id])-2),ROW(A682)),1)","v":{"$error":"#NUM!"}},{"$f":"INDEX(Tabela.abordagens[],SMALL(IF(Tabela.abordagens[Mês]=$L$2,ROW(Tabela.abordagens[Idade])-2),ROW(A682)),6)","v":{"$error":"#NUM!"}},{"$f":"INDEX(Tabela.abordagens[],SMALL(IF(Tabela.abordagens[Mês]=$L$2,ROW(Tabela.abordagens[Idade])-2),ROW(A682)),4)","v":{"$error":"#NUM!"}},{"$f":"INDEX(Tabela.abordagens[],SMALL(IF(Tabela.abordagens[Mês]=$L$2,ROW(Tabela.abordagens[Idade])-2),ROW(A682)),5)","v":{"$error":"#NUM!"}}]
[null,{"$f":"INDEX(Tabela.frequencia[],SMALL(IF(Tabela.frequencia[Mês]=$L$2,ROW(Tabela.frequencia[id])-1),ROW(A683)),1)","v":{"$error":"#NUM!"}},{"$f":"INDEX(Tabela.frequencia[],SMALL(IF(Tabela.frequencia[Mês]=$L$2,ROW(Tabela.frequencia[id])-1),ROW(A683)),4)","v":{"$error":"#NUM!"}},null,{"$f":"IFERROR(VLOOKUP(D730,Tabela.cadastro[[ID]:[Nome]],2,0),\"\")","v":""},{"$f":"IFERROR(VLOOKUP(D730,Tabela66[#All],2,0),\"\")","v":""},{"$f":"IFERROR(VLOOKUP(D730,Tabela.cadastro[[ID]:[CP ou M]],5,0),\"\")","v":""},{"$f":"IFERROR(VLOOKUP(D730,Cadastros!A:F,6,0),\"\")","v":""},{"$f":"IFERROR(VLOOKUP(D730,Cadastros!A:I,9,0),\"\")","v":""},{"$f":"IFERROR(VLOOKUP(D730,Cadastros!A:J,10,0),\"\")","v":""},{"$f":"IF(COUNTIF(Tabela66[id],D730)=0,\"\",COUNTIF(Tabela66[id],D730))","v":""},null,"",null,null,{"$f":"IFERROR(VLOOKUP(O730,Cadastros!A:B,2),\"\")","v":""},"",{"$f":"IFERROR(VLOOKUP(O730,Cadastros!A:E,5,0),\"\")","v":""},{"$f":"IFERROR(VLOOKUP(O730,Cadastros!A:F,6,0),\"\")","v":""},{"$f":"IFERROR(VLOOKUP(O730,Cadastros!A:I,9,0),\"\")","v":""},"","","",null,{"$f":"INDEX(Tabela.abordagens[],SMALL(IF(Tabela.abordagens[Mês]=$L$2,ROW(Tabela.abordagens[id])-2),ROW(A683)),1)","v":{"$error":"#NUM!"}},{"$f":"INDEX(Tabela.abordagens[],SMALL(IF(Tabela.abordagens[Mês]=$L$2,ROW(Tabela.abordagens[Idade])-2),ROW(A683)),6)","v":{"$error":"#NUM!"}},{"$f":"INDEX(Tabela.abordagens[],SMALL(IF(Tabela.abordagens[Mês]=$L$2,ROW(Tabela.abordagens[Idade])-2),ROW(A683)),4)","v":{"$error":"#NUM!"}},{"$f":"INDEX(Tabela.abordagens[],SMALL(IF(Tabela.abordagens[Mês]=$L$2,ROW(Tabela.abordagens[Idade])-2),ROW(A683)),5)","v":{"$error":"#NUM!"}}]
[null,{"$f":"INDEX(Tabela.frequencia[],SMALL(IF(Tabela.frequencia[Mês]=$L$2,ROW(Tabela.frequencia[id])-1),ROW(A684)),1)","v":{"$error":"#NUM!"}},{"$f":"INDEX(Tabela.frequencia[],SMALL(IF(Tabela.frequencia[Mês]=$L$2,ROW(Tabela.frequencia[id])-1),ROW(A684)),4)","v":{"$error":"#NUM!"}},null,{"$f":"IFERROR(VLOOKUP(D731,Tabela.cadastro[[ID]:[Nome]],2,0),\"\")","v":""},{"$f":"IFERROR(VLOOKUP(D731,Tabela66[#All],2,0),\"\")","v":""},{"$f":"IFERROR(VLOOKUP(D731,Tabela.cadastro[[ID]:[CP ou M]],5,0),\"\")","v":""},{"$f":"IFERROR(VLOOKUP(D731,Cadastros!A:F,6,0),\"\")","v":""},{"$f":"IFERROR(VLOOKUP(D731,Cadastros!A:I,9,0),\"\")","v":""},{"$f":"IFERROR(VLOOKUP(D731,Cadastros!A:J,10,0),\"\")","v":""},{"$f":"IF(COUNTIF(Tabela66[id],D731)=0,\"\",COUNTIF(Tabela66[id],D731))","v":""},null,"",null,null,{"$f":"IFERROR(VLOOKUP(O731,Cadastros!A:B,2),\"\")","v":""},"",{"$f":"IFERROR(VLOOKUP(O731,Cadastros!A:E,5,0),\"\")","v":""},{"$f":"IFERROR(VLOOKUP(O731,Cadastros!A:F,6,0),\"\")","v":""},{"$f":"IFERROR(VLOOKUP(O731,Cadastros!A:I,9,0),\"\")","v":""},"","","",null,{"$f":"INDEX(Tabela.abordagens[],SMALL(IF(Tabela.abordagens[Mês]=$L$2,ROW(Tabela.abordagens[id])-2),ROW(A684)),1)","v":{"$error":"#NUM!"}},{"$f":"INDEX(Tabela.abordagens[],SMALL(IF(Tabela.abordagens[Mês]=$L$2,ROW(Tabela.abordagens[Idade])-2),ROW(A684)),6)","v":{"$error":"#NUM!"}},{"$f":"INDEX(Tabela.abordagens[],SMALL(IF(Tabela.abordagens[Mês]=$L$2,ROW(Tabela.abordagens[Idade])-2),ROW(A684)),4)","v":{"$error":"#NUM!"}},{"$f":"INDEX(Tabela.abordagens[],SMALL(IF(Tabela.abordagens[Mês]=$L$2,ROW(Tabela.abordagens[Idade])-2),ROW(A684)),5)","v":{"$error":"#NUM!"}}]
[null,{"$f":"INDEX(Tabela.frequencia[],SMALL(IF(Tabela.frequencia[Mês]=$L$2,ROW(Tabela.frequencia[id])-1),ROW(A685)),1)","v":{"$error":"#NUM!"}},{"$f":"INDEX(Tabela.frequencia[],SMALL(IF(Tabela.frequencia[Mês]=$L$2,ROW(Tabela.frequencia[id])-1),ROW(A685)),4)","v":{"$error":"#NUM!"}},null,{"$f":"IFERROR(VLOOKUP(D732,Tabela.cadastro[[ID]:[Nome]],2,0),\"\")","v":""},{"$f":"IFERROR(VLOOKUP(D732,Tabela66[#All],2,0),\"\")","v":""},{"$f":"IFERROR(VLOOKUP(D732,Tabela.cadastro[[ID]:[CP ou M]],5,0),\"\")","v":""},{"$f":"IFERROR(VLOOKUP(D732,Cadastros!A:F,6,0),\"\")","v":""},{"$f":"IFERROR(VLOOKUP(D732,Cadastros!A:I,9,0),\"\")","v":""},{"$f":"IFERROR(VLOOKUP(D732,Cadastros!A:J,10,0),\"\")","v":""},{"$f":"IF(COUNTIF(Tabela66[id],D732)=0,\"\",COUNTIF(Tabela66[id],D732))","v":""},null,"",null,null,{"$f":"IFERROR(VLOOKUP(O732,Cadastros!A:B,2),\"\")","v":""},"",{"$f":"IFERROR(VLOOKUP(O732,Cadastros!A:E,5,0),\"\")","v":""},{"$f":"IFERROR(VLOOKUP(O732,Cadastros!A:F,6,0),\"\")","v":""},{"$f":"IFERROR(VLOOKUP(O732,Cadastros!A:I,9,0),\"\")","v":""},"","","",null,{"$f":"INDEX(Tabela.abordagens[],SMALL(IF(Tabela.abordagens[Mês]=$L$2,ROW(Tabela.abordagens[id])-2),ROW(A685)),1)","v":{"$error":"#NUM!"}},{"$f":"INDEX(Tabela.abordagens[],SMALL(IF(Tabela.abordagens[Mês]=$L$2,ROW(Tabela.abordagens[Idade])-2),ROW(A685)),6)","v":{"$error":"#NUM!"}},{"$f":"INDEX(Tabela.abordagens[],SMALL(IF(Tabela.abordagens[Mês]=$L$2,ROW(Tabela.abordagens[Idade])-2),ROW(A685)),4)","v":{"$error":"#NUM!"}},{"$f":"INDEX(Tabela.abordagens[],SMALL(IF(Tabela.abordagens[Mês]=$L$2,ROW(Tabela.abordagens[Idade])-2),ROW(A685)),5)","v":{"$error":"#NUM!"}}]
[null,{"$f":"INDEX(Tabela.frequencia[],SMALL(IF(Tabela.frequencia[Mês]=$L$2,ROW(Tabela.frequencia[id])-1),ROW(A686)),1)","v":{"$error":"#NUM!"}},{"$f":"INDEX(Tabela.frequencia[],SMALL(IF(Tabela.frequencia[Mês]=$L$2,ROW(Tabela.frequencia[id])-1),ROW(A686)),4)","v":{"$error":"#NUM!"}},null,{"$f":"IFERROR(VLOOKUP(D733,Tabela.cadastro[[ID]:[Nome]],2,0),\"\")","v":""},{"$f":"IFERROR(VLOOKUP(D733,Tabela66[#All],2,0),\"\")","v":""},{"$f":"IFERROR(VLOOKUP(D733,Tabela.cadastro[[ID]:[CP ou M]],5,0),\"\")","v":""},{"$f":"IFERROR(VLOOKUP(D733,Cadastros!A:F,6,0),\"\")","v":""},{"$f":"IFERROR(VLOOKUP(D733,Cadastros!A:I,9,0),\"\")","v":""},{"$f":"IFERROR(VLOOKUP(D733,Cadastros!A:J,10,0),\"\")","v":""},{"$f":"IF(COUNTIF(Tabela66[id],D733)=0,\"\",COUNTIF(Tabela66[id],D733))","v":""},null,"",null,null,{"$f":"IFERROR(VLOOKUP(O733,Cadastros!A:B,2),\"\")","v":""},"",{"$f":"IFERROR(VLOOKUP(O733,Cadastros!A:E,5,0),\"\")","v":""},{"$f":"IFERROR(VLOOKUP(O733,Cadastros!A:F,6,0),\"\")","v":""},{"$f":"IFERROR(VLOOKUP(O733,Cadastros!A:I,9,0),\"\")","v":""},"","","",null,{"$f":"INDEX(Tabela.abordagens[],SMALL(IF(Tabela.abordagens[Mês]=$L$2,ROW(Tabela.abordagens[id])-2),ROW(A686)),1)","v":{"$error":"#NUM!"}},{"$f":"INDEX(Tabela.abordagens[],SMALL(IF(Tabela.abordagens[Mês]=$L$2,ROW(Tabela.abordagens[Idade])-2),ROW(A686)),6)","v":{"$error":"#NUM!"}},{"$f":"INDEX(Tabela.abordagens[],SMALL(IF(Tabela.abordagens[Mês]=$L$2,ROW(Tabela.abordagens[Idade])-2),ROW(A686)),4)","v":{"$error":"#NUM!"}},{"$f":"INDEX(Tabela.abordagens[],SMALL(IF(Tabela.abordagens[Mês]=$L$2,ROW(Tabela.abordagens[Idade])-2),ROW(A686)),5)","v":{"$error":"#NUM!"}}]
[null,{"$f":"INDEX(Tabela.frequencia[],SMALL(IF(Tabela.frequencia[Mês]=$L$2,ROW(Tabela.frequencia[id])-1),ROW(A687)),1)","v":{"$error":"#NUM!"}},{"$f":"INDEX(Tabela.frequencia[],SMALL(IF(Tabela.frequencia[Mês]=$L$2,ROW(Tabela.frequencia[id])-1),ROW(A687)),4)","v":{"$error":"#NUM!"}},null,{"$f":"IFERROR(VLOOKUP(D734,Tabela.cadastro[[ID]:[Nome]],2,0),\"\")","v":""},{"$f":"IFERROR(VLOOKUP(D734,Tabela66[#All],2,0),\"\")","v":""},{"$f":"IFERROR(VLOOKUP(D734,Tabela.cadastro[[ID]:[CP ou M]],5,0),\"\")","v":""},{"$f":"IFERROR(VLOOKUP(D734,Cadastros!A:F,6,0),\"\")","v":""},{"$f":"IFERROR(VLOOKUP(D734,Cadastros!A:I,9,0),\"\")","v":""},{"$f":"IFERROR(VLOOKUP(D734,Cadastros!A:J,10,0),\"\")","v":""},{"$f":"IF(COUNTIF(Tabela66[id],D734)=0,\"\",COUNTIF(Tabela66[id],D734))","v":""},null,"",null,null,{"$f":"IFERROR(VLOOKUP(O734,Cadastros!A:B,2),\"\")","v":""},"",{"$f":"IFERROR(VLOOKUP(O734,Cadastros!A:E,5,0),\"\")","v":""},{"$f":"IFERROR(VLOOKUP(O734,Cadastros!A:F,6,0),\"\")","v":""},{"$f":"IFERROR(VLOOKUP(O734,Cadastros!A:I,9,0),\"\")","v":""},"","","",null,{"$f":"INDEX(Tabela.abordagens[],SMALL(IF(Tabela.abordagens[Mês]=$L$2,ROW(Tabela.abordagens[id])-2),ROW(A687)),1)","v":{"$error":"#NUM!"}},{"$f":"INDEX(Tabela.abordagens[],SMALL(IF(Tabela.abordagens[Mês]=$L$2,ROW(Tabela.abordagens[Idade])-2),ROW(A687)),6)","v":{"$error":"#NUM!"}},{"$f":"INDEX(Tabela.abordagens[],SMALL(IF(Tabela.abordagens[Mês]=$L$2,ROW(Tabela.abordagens[Idade])-2),ROW(A687)),4)","v":{"$error":"#NUM!"}},{"$f":"INDEX(Tabela.abordagens[],SMALL(IF(Tabela.abordagens[Mês]=$L$2,ROW(Tabela.abordagens[Idade])-2),ROW(A687)),5)","v":{"$error":"#NUM!"}}]
[null,{"$f":"INDEX(Tabela.frequencia[],SMALL(IF(Tabela.frequencia[Mês]=$L$2,ROW(Tabela.frequencia[id])-1),ROW(A688)),1)","v":{"$error":"#NUM!"}},{"$f":"INDEX(Tabela.frequencia[],SMALL(IF(Tabela.frequencia[Mês]=$L$2,ROW(Tabela.frequencia[id])-1),ROW(A688)),4)","v":{"$error":"#NUM!"}},null,{"$f":"IFERROR(VLOOKUP(D735,Tabela.cadastro[[ID]:[Nome]],2,0),\"\")","v":""},{"$f":"IFERROR(VLOOKUP(D735,Tabela66[#All],2,0),\"\")","v":""},{"$f":"IFERROR(VLOOKUP(D735,Tabela.cadastro[[ID]:[CP ou M]],5,0),\"\")","v":""},{"$f":"IFERROR(VLOOKUP(D735,Cadastros!A:F,6,0),\"\")","v":""},{"$f":"IFERROR(VLOOKUP(D735,Cadastros!A:I,9,0),\"\")","v":""},{"$f":"IFERROR(VLOOKUP(D735,Cadastros!A:J,10,0),\"\")","v":""},{"$f":"IF(COUNTIF(Tabela66[id],D735)=0,\"\",COUNTIF(Tabela66[id],D735))","v":""},null,"",null,null,{"$f":"IFERROR(VLOOKUP(O735,Cadastros!A:B,2),\"\")","v":""},"",{"$f":"IFERROR(VLOOKUP(O735,Cadastros!A:E,5,0),\"\")","v":""},{"$f":"IFERROR(VLOOKUP(O735,Cadastros!A:F,6,0),\"\")","v":""},{"$f":"IFERROR(VLOOKUP(O735,Cadastros!A:I,9,0),\"\")","v":""},"","","",null,{"$f":"INDEX(Tabela.abordagens[],SMALL(IF(Tabela.abordagens[Mês]=$L$2,ROW(Tabela.abordagens[id])-2),ROW(A688)),1)","v":{"$error":"#NUM!"}},{"$f":"INDEX(Tabela.abordagens[],SMALL(IF(Tabela.abordagens[Mês]=$L$2,ROW(Tabela.abordagens[Idade])-2),ROW(A688)),6)","v":{"$error":"#NUM!"}},{"$f":"INDEX(Tabela.abordagens[],SMALL(IF(Tabela.abordagens[Mês]=$L$2,ROW(Tabela.abordagens[Idade])-2),ROW(A688)),4)","v":{"$error":"#NUM!"}},{"$f":"INDEX(Tabela.abordagens[],SMALL(IF(Tabela.abordagens[Mês]=$L$2,ROW(Tabela.abordagens[Idade])-2),ROW(A688)),5)","v":{"$error":"#NUM!"}}]
[null,{"$f":"INDEX(Tabela.frequencia[],SMALL(IF(Tabela.frequencia[Mês]=$L$2,ROW(Tabela.frequencia[id])-1),ROW(A689)),1)","v":{"$error":"#NUM!"}},{"$f":"INDEX(Tabela.frequencia[],SMALL(IF(Tabela.frequencia[Mês]=$L$2,ROW(Tabela.frequencia[id])-1),ROW(A689)),4)","v":{"$error":"#NUM!"}},null,{"$f":"IFERROR(VLOOKUP(D736,Tabela.cadastro[[ID]:[Nome]],2,0),\"\")","v":""},{"$f":"IFERROR(VLOOKUP(D736,Tabela66[#All],2,0),\"\")","v":""},{"$f":"IFERROR(VLOOKUP(D736,Tabela.cadastro[[ID]:[CP ou M]],5,0),\"\")","v":""},{"$f":"IFERROR(VLOOKUP(D736,Cadastros!A:F,6,0),\"\")","v":""},{"$f":"IFERROR(VLOOKUP(D736,Cadastros!A:I,9,0),\"\")","v":""},{"$f":"IFERROR(VLOOKUP(D736,Cadastros!A:J,10,0),\"\")","v":""},{"$f":"IF(COUNTIF(Tabela66[id],D736)=0,\"\",COUNTIF(Tabela66[id],D736))","v":""},null,"",null,null,{"$f":"IFERROR(VLOOKUP(O736,Cadastros!A:B,2),\"\")","v":""},"",{"$f":"IFERROR(VLOOKUP(O736,Cadastros!A:E,5,0),\"\")","v":""},{"$f":"IFERROR(VLOOKUP(O736,Cadastros!A:F,6,0),\"\")","v":""},{"$f":"IFERROR(VLOOKUP(O736,Cadastros!A:I,9,0),\"\")","v":""},"","","",null,{"$f":"INDEX(Tabela.abordagens[],SMALL(IF(Tabela.abordagens[Mês]=$L$2,ROW(Tabela.abordagens[id])-2),ROW(A689)),1)","v":{"$error":"#NUM!"}},{"$f":"INDEX(Tabela.abordagens[],SMALL(IF(Tabela.abordagens[Mês]=$L$2,ROW(Tabela.abordagens[Idade])-2),ROW(A689)),6)","v":{"$error":"#NUM!"}},{"$f":"INDEX(Tabela.abordagens[],SMALL(IF(Tabela.abordagens[Mês]=$L$2,ROW(Tabela.abordagens[Idade])-2),ROW(A689)),4)","v":{"$error":"#NUM!"}},{"$f":"INDEX(Tabela.abordagens[],SMALL(IF(Tabela.abordagens[Mês]=$L$2,ROW(Tabela.abordagens[Idade])-2),ROW(A689)),5)","v":{"$error":"#NUM!"}}]
[null,{"$f":"INDEX(Tabela.frequencia[],SMALL(IF(Tabela.frequencia[Mês]=$L$2,ROW(Tabela.frequencia[id])-1),ROW(A690)),1)","v":{"$error":"#NUM!"}},{"$f":"INDEX(Tabela.frequencia[],SMALL(IF(Tabela.frequencia[Mês]=$L$2,ROW(Tabela.frequencia[id])-1),ROW(A690)),4)","v":{"$error":"#NUM!"}},null,{"$f":"IFERROR(VLOOKUP(D737,Tabela.cadastro[[ID]:[Nome]],2,0),\"\")","v":""},{"$f":"IFERROR(VLOOKUP(D737,Tabela66[#All],2,0),\"\")","v":""},{"$f":"IFERROR(VLOOKUP(D737,Tabela.cadastro[[ID]:[CP ou M]],5,0),\"\")","v":""},{"$f":"IFERROR(VLOOKUP(D737,Cadastros!A:F,6,0),\"\")","v":""},{"$f":"IFERROR(VLOOKUP(D737,Cadastros!A:I,9,0),\"\")","v":""},{"$f":"IFERROR(VLOOKUP(D737,Cadastros!A:J,10,0),\"\")","v":""},{"$f":"IF(COUNTIF(Tabela66[id],D737)=0,\"\",COUNTIF(Tabela66[id],D737))","v":""},null,"",null,null,{"$f":"IFERROR(VLOOKUP(O737,Cadastros!A:B,2),\"\")","v":""},"",{"$f":"IFERROR(VLOOKUP(O737,Cadastros!A:E,5,0),\"\")","v":""},{"$f":"IFERROR(VLOOKUP(O737,Cadastros!A:F,6,0),\"\")","v":""},{"$f":"IFERROR(VLOOKUP(O737,Cadastros!A:I,9,0),\"\")","v":""},"","","",null,{"$f":"INDEX(Tabela.abordagens[],SMALL(IF(Tabela.abordagens[Mês]=$L$2,ROW(Tabela.abordagens[id])-2),ROW(A690)),1)","v":{"$error":"#NUM!"}},{"$f":"INDEX(Tabela.abordagens[],SMALL(IF(Tabela.abordagens[Mês]=$L$2,ROW(Tabela.abordagens[Idade])-2),ROW(A690)),6)","v":{"$error":"#NUM!"}},{"$f":"INDEX(Tabela.abordagens[],SMALL(IF(Tabela.abordagens[Mês]=$L$2,ROW(Tabela.abordagens[Idade])-2),ROW(A690)),4)","v":{"$error":"#NUM!"}},{"$f":"INDEX(Tabela.abordagens[],SMALL(IF(Tabela.abordagens[Mês]=$L$2,ROW(Tabela.abordagens[Idade])-2),ROW(A690)),5)","v":{"$error":"#NUM!"}}]
[null,{"$f":"INDEX(Tabela.frequencia[],SMALL(IF(Tabela.frequencia[Mês]=$L$2,ROW(Tabela.frequencia[id])-1),ROW(A691)),1)","v":{"$error":"#NUM!"}},{"$f":"INDEX(Tabela.frequencia[],SMALL(IF(Tabela.frequencia[Mês]=$L$2,ROW(Tabela.frequencia[id])-1),ROW(A691)),4)","v":{"$error":"#NUM!"}},null,{"$f":"IFERROR(VLOOKUP(D738,Tabela.cadastro[[ID]:[Nome]],2,0),\"\")","v":""},{"$f":"IFERROR(VLOOKUP(D738,Tabela66[#All],2,0),\"\")","v":""},{"$f":"IFERROR(VLOOKUP(D738,Tabela.cadastro[[ID]:[CP ou M]],5,0),\"\")","v":""},{"$f":"IFERROR(VLOOKUP(D738,Cadastros!A:F,6,0),\"\")","v":""},{"$f":"IFERROR(VLOOKUP(D738,Cadastros!A:I,9,0),\"\")","v":""},{"$f":"IFERROR(VLOOKUP(D738,Cadastros!A:J,10,0),\"\")","v":""},{"$f":"IF(COUNTIF(Tabela66[id],D738)=0,\"\",COUNTIF(Tabela66[id],D738))","v":""},null,"",null,null,{"$f":"IFERROR(VLOOKUP(O738,Cadastros!A:B,2),\"\")","v":""},{"$f":"IFERROR(VLOOKUP(O738,$Y$33:$Z$866,2,0),\"\")","v":""},{"$f":"IFERROR(VLOOKUP(O738,Cadastros!A:E,5,0),\"\")","v":""},{"$f":"IFERROR(VLOOKUP(O738,Cadastros!A:F,6,0),\"\")","v":""},{"$f":"IFERROR(VLOOKUP(O738,Cadastros!A:I,9,0),\"\")","v":""},{"$f":"IFERROR(VLOOKUP(O738,Y$33:AB$866,3,0),\"\")","v":""},{"$f":"IFERROR(VLOOKUP(O738,Y$33:AB$866,4,0),\"\")","v":""},{"$f":"IF(COUNTIF(Y$33:Y$866,O738)=0,\"\",COUNTIF(Y$33:Y$866,O738))","v":""},null,{"$f":"INDEX(Tabela.abordagens[],SMALL(IF(Tabela.abordagens[Mês]=$L$2,ROW(Tabela.abordagens[id])-2),ROW(A691)),1)","v":{"$error":"#NUM!"}},{"$f":"INDEX(Tabela.abordagens[],SMALL(IF(Tabela.abordagens[Mês]=$L$2,ROW(Tabela.abordagens[Idade])-2),ROW(A691)),6)","v":{"$error":"#NUM!"}},{"$f":"INDEX(Tabela.abordagens[],SMALL(IF(Tabela.abordagens[Mês]=$L$2,ROW(Tabela.abordagens[Idade])-2),ROW(A691)),4)","v":{"$error":"#NUM!"}},{"$f":"INDEX(Tabela.abordagens[],SMALL(IF(Tabela.abordagens[Mês]=$L$2,ROW(Tabela.abordagens[Idade])-2),ROW(A691)),5)","v":{"$error":"#NUM!"}}]
[null,{"$f":"INDEX(Tabela.frequencia[],SMALL(IF(Tabela.frequencia[Mês]=$L$2,ROW(Tabela.frequencia[id])-1),ROW(A692)),1)","v":{"$error":"#NUM!"}},{"$f":"INDEX(Tabela.frequencia[],SMALL(IF(Tabela.frequencia[Mês]=$L$2,ROW(Tabela.frequencia[id])-1),ROW(A692)),4)","v":{"$error":"#NUM!"}},null,{"$f":"IFERROR(VLOOKUP(D739,Tabela.cadastro[[ID]:[Nome]],2,0),\"\")","v":""},{"$f":"IFERROR(VLOOKUP(D739,Tabela66[#All],2,0),\"\")","v":""},{"$f":"IFERROR(VLOOKUP(D739,Tabela.cadastro[[ID]:[CP ou M]],5,0),\"\")","v":""},{"$f":"IFERROR(VLOOKUP(D739,Cadastros!A:F,6,0),\"\")","v":""},{"$f":"IFERROR(VLOOKUP(D739,Cadastros!A:I,9,0),\"\")","v":""},{"$f":"IFERROR(VLOOKUP(D739,Cadastros!A:J,10,0),\"\")","v":""},{"$f":"IF(COUNTIF(Tabela66[id],D739)=0,\"\",COUNTIF(Tabela66[id],D739))","v":""},null,"",null,null,{"$f":"IFERROR(VLOOKUP(O739,Cadastros!A:B,2),\"\")","v":""},"",{"$f":"IFERROR(VLOOKUP(O739,Cadastros!A:E,5,0),\"\")","v":""},{"$f":"IFERROR(VLOOKUP(O739,Cadastros!A:F,6,0),\"\")","v":""},{"$f":"IFERROR(VLOOKUP(O739,Cadastros!A:I,9,0),\"\")","v":""},"","","",null,{"$f":"INDEX(Tabela.abordagens[],SMALL(IF(Tabela.abordagens[Mês]=$L$2,ROW(Tabela.abordagens[id])-2),ROW(A692)),1)","v":{"$error":"#NUM!"}},{"$f":"INDEX(Tabela.abordagens[],SMALL(IF(Tabela.abordagens[Mês]=$L$2,ROW(Tabela.abordagens[Idade])-2),ROW(A692)),6)","v":{"$error":"#NUM!"}},{"$f":"INDEX(Tabela.abordagens[],SMALL(IF(Tabela.abordagens[Mês]=$L$2,ROW(Tabela.abordagens[Idade])-2),ROW(A692)),4)","v":{"$error":"#NUM!"}},{"$f":"INDEX(Tabela.abordagens[],SMALL(IF(Tabela.abordagens[Mês]=$L$2,ROW(Tabela.abordagens[Idade])-2),ROW(A692)),5)","v":{"$error":"#NUM!"}}]
[null,{"$f":"INDEX(Tabela.frequencia[],SMALL(IF(Tabela.frequencia[Mês]=$L$2,ROW(Tabela.frequencia[id])-1),ROW(A693)),1)","v":{"$error":"#NUM!"}},{"$f":"INDEX(Tabela.frequencia[],SMALL(IF(Tabela.frequencia[Mês]=$L$2,ROW(Tabela.frequencia[id])-1),ROW(A693)),4)","v":{"$error":"#NUM!"}},null,{"$f":"IFERROR(VLOOKUP(D740,Tabela.cadastro[[ID]:[Nome]],2,0),\"\")","v":""},{"$f":"IFERROR(VLOOKUP(D740,Tabela66[#All],2,0),\"\")","v":""},{"$f":"IFERROR(VLOOKUP(D740,Tabela.cadastro[[ID]:[CP ou M]],5,0),\"\")","v":""},{"$f":"IFERROR(VLOOKUP(D740,Cadastros!A:F,6,0),\"\")","v":""},{"$f":"IFERROR(VLOOKUP(D740,Cadastros!A:I,9,0),\"\")","v":""},{"$f":"IFERROR(VLOOKUP(D740,Cadastros!A:J,10,0),\"\")","v":""},{"$f":"IF(COUNTIF(Tabela66[id],D740)=0,\"\",COUNTIF(Tabela66[id],D740))","v":""},null,"",null,null,{"$f":"IFERROR(VLOOKUP(O740,Cadastros!A:B,2),\"\")","v":""},"",{"$f":"IFERROR(VLOOKUP(O740,Cadastros!A:E,5,0),\"\")","v":""},{"$f":"IFERROR(VLOOKUP(O740,Cadastros!A:F,6,0),\"\")","v":""},{"$f":"IFERROR(VLOOKUP(O740,Cadastros!A:I,9,0),\"\")","v":""},"","","",null,{"$f":"INDEX(Tabela.abordagens[],SMALL(IF(Tabela.abordagens[Mês]=$L$2,ROW(Tabela.abordagens[id])-2),ROW(A693)),1)","v":{"$error":"#NUM!"}},{"$f":"INDEX(Tabela.abordagens[],SMALL(IF(Tabela.abordagens[Mês]=$L$2,ROW(Tabela.abordagens[Idade])-2),ROW(A693)),6)","v":{"$error":"#NUM!"}},{"$f":"INDEX(Tabela.abordagens[],SMALL(IF(Tabela.abordagens[Mês]=$L$2,ROW(Tabela.abordagens[Idade])-2),ROW(A693)),4)","v":{"$error":"#NUM!"}},{"$f":"INDEX(Tabela.abordagens[],SMALL(IF(Tabela.abordagens[Mês]=$L$2,ROW(Tabela.abordagens[Idade])-2),ROW(A693)),5)","v":{"$error":"#NUM!"}}]
[null,{"$f":"INDEX(Tabela.frequencia[],SMALL(IF(Tabela.frequencia[Mês]=$L$2,ROW(Tabela.frequencia[id])-1),ROW(A694)),1)","v":{"$error":"#NUM!"}},{"$f":"INDEX(Tabela.frequencia[],SMALL(IF(Tabela.frequencia[Mês]=$L$2,ROW(Tabela.frequencia[id])-1),ROW(A694)),4)","v":{"$error":"#NUM!"}},null,{"$f":"IFERROR(VLOOKUP(D741,Tabela.cadastro[[ID]:[Nome]],2,0),\"\")","v":""},{"$f":"IFERROR(VLOOKUP(D741,Tabela66[#All],2,0),\"\")","v":""},{"$f":"IFERROR(VLOOKUP(D741,Tabela.cadastro[[ID]:[CP ou M]],5,0),\"\")","v":""},{"$f":"IFERROR(VLOOKUP(D741,Cadastros!A:F,6,0),\"\")","v":""},{"$f":"IFERROR(VLOOKUP(D741,Cadastros!A:I,9,0),\"\")","v":""},{"$f":"IFERROR(VLOOKUP(D741,Cadastros!A:J,10,0),\"\")","v":""},{"$f":"IF(COUNTIF(Tabela66[id],D741)=0,\"\",COUNTIF(Tabela66[id],D741))","v":""},null,"",null,null,{"$f":"IFERROR(VLOOKUP(O741,Cadastros!A:B,2),\"\")","v":""},"",{"$f":"IFERROR(VLOOKUP(O741,Cadastros!A:E,5,0),\"\")","v":""},{"$f":"IFERROR(VLOOKUP(O741,Cadastros!A:F,6,0),\"\")","v":""},{"$f":"IFERROR(VLOOKUP(O741,Cadastros!A:I,9,0),\"\")","v":""},"","","",null,{"$f":"INDEX(Tabela.abordagens[],SMALL(IF(Tabela.abordagens[Mês]=$L$2,ROW(Tabela.abordagens[id])-2),ROW(A694)),1)","v":{"$error":"#NUM!"}},{"$f":"INDEX(Tabela.abordagens[],SMALL(IF(Tabela.abordagens[Mês]=$L$2,ROW(Tabela.abordagens[Idade])-2),ROW(A694)),6)","v":{"$error":"#NUM!"}},{"$f":"INDEX(Tabela.abordagens[],SMALL(IF(Tabela.abordagens[Mês]=$L$2,ROW(Tabela.abordagens[Idade])-2),ROW(A694)),4)","v":{"$error":"#NUM!"}},{"$f":"INDEX(Tabela.abordagens[],SMALL(IF(Tabela.abordagens[Mês]=$L$2,ROW(Tabela.abordagens[Idade])-2),ROW(A694)),5)","v":{"$error":"#NUM!"}}]
[null,{"$f":"INDEX(Tabela.frequencia[],SMALL(IF(Tabela.frequencia[Mês]=$L$2,ROW(Tabela.frequencia[id])-1),ROW(A695)),1)","v":{"$error":"#NUM!"}},{"$f":"INDEX(Tabela.frequencia[],SMALL(IF(Tabela.frequencia[Mês]=$L$2,ROW(Tabela.frequencia[id])-1),ROW(A695)),4)","v":{"$error":"#NUM!"}},null,{"$f":"IFERROR(VLOOKUP(D742,Tabela.cadastro[[ID]:[Nome]],2,0),\"\")","v":""},{"$f":"IFERROR(VLOOKUP(D742,Tabela66[#All],2,0),\"\")","v":""},{"$f":"IFERROR(VLOOKUP(D742,Tabela.cadastro[[ID]:[CP ou M]],5,0),\"\")","v":""},{"$f":"IFERROR(VLOOKUP(D742,Cadastros!A:F,6,0),\"\")","v":""},{"$f":"IFERROR(VLOOKUP(D742,Cadastros!A:I,9,0),\"\")","v":""},{"$f":"IFERROR(VLOOKUP(D742,Cadastros!A:J,10,0),\"\")","v":""},{"$f":"IF(COUNTIF(Tabela66[id],D742)=0,\"\",COUNTIF(Tabela66[id],D742))","v":""},null,"",null,null,{"$f":"IFERROR(VLOOKUP(O742,Cadastros!A:B,2),\"\")","v":""},"",{"$f":"IFERROR(VLOOKUP(O742,Cadastros!A:E,5,0),\"\")","v":""},{"$f":"IFERROR(VLOOKUP(O742,Cadastros!A:F,6,0),\"\")","v":""},{"$f":"IFERROR(VLOOKUP(O742,Cadastros!A:I,9,0),\"\")","v":""},"","","",null,{"$f":"INDEX(Tabela.abordagens[],SMALL(IF(Tabela.abordagens[Mês]=$L$2,ROW(Tabela.abordagens[id])-2),ROW(A695)),1)","v":{"$error":"#NUM!"}},{"$f":"INDEX(Tabela.abordagens[],SMALL(IF(Tabela.abordagens[Mês]=$L$2,ROW(Tabela.abordagens[Idade])-2),ROW(A695)),6)","v":{"$error":"#NUM!"}},{"$f":"INDEX(Tabela.abordagens[],SMALL(IF(Tabela.abordagens[Mês]=$L$2,ROW(Tabela.abordagens[Idade])-2),ROW(A695)),4)","v":{"$error":"#NUM!"}},{"$f":"INDEX(Tabela.abordagens[],SMALL(IF(Tabela.abordagens[Mês]=$L$2,ROW(Tabela.abordagens[Idade])-2),ROW(A695)),5)","v":{"$error":"#NUM!"}}]
[null,{"$f":"INDEX(Tabela.frequencia[],SMALL(IF(Tabela.frequencia[Mês]=$L$2,ROW(Tabela.frequencia[id])-1),ROW(A696)),1)","v":{"$error":"#NUM!"}},{"$f":"INDEX(Tabela.frequencia[],SMALL(IF(Tabela.frequencia[Mês]=$L$2,ROW(Tabela.frequencia[id])-1),ROW(A696)),4)","v":{"$error":"#NUM!"}},null,{"$f":"IFERROR(VLOOKUP(D743,Tabela.cadastro[[ID]:[Nome]],2,0),\"\")","v":""},{"$f":"IFERROR(VLOOKUP(D743,Tabela66[#All],2,0),\"\")","v":""},{"$f":"IFERROR(VLOOKUP(D743,Tabela.cadastro[[ID]:[CP ou M]],5,0),\"\")","v":""},{"$f":"IFERROR(VLOOKUP(D743,Cadastros!A:F,6,0),\"\")","v":""},{"$f":"IFERROR(VLOOKUP(D743,Cadastros!A:I,9,0),\"\")","v":""},{"$f":"IFERROR(VLOOKUP(D743,Cadastros!A:J,10,0),\"\")","v":""},{"$f":"IF(COUNTIF(Tabela66[id],D743)=0,\"\",COUNTIF(Tabela66[id],D743))","v":""},null,"",null,null,{"$f":"IFERROR(VLOOKUP(O743,Cadastros!A:B,2),\"\")","v":""},"",{"$f":"IFERROR(VLOOKUP(O743,Cadastros!A:E,5,0),\"\")","v":""},{"$f":"IFERROR(VLOOKUP(O743,Cadastros!A:F,6,0),\"\")","v":""},{"$f":"IFERROR(VLOOKUP(O743,Cadastros!A:I,9,0),\"\")","v":""},"","","",null,{"$f":"INDEX(Tabela.abordagens[],SMALL(IF(Tabela.abordagens[Mês]=$L$2,ROW(Tabela.abordagens[id])-2),ROW(A696)),1)","v":{"$error":"#NUM!"}},{"$f":"INDEX(Tabela.abordagens[],SMALL(IF(Tabela.abordagens[Mês]=$L$2,ROW(Tabela.abordagens[Idade])-2),ROW(A696)),6)","v":{"$error":"#NUM!"}},{"$f":"INDEX(Tabela.abordagens[],SMALL(IF(Tabela.abordagens[Mês]=$L$2,ROW(Tabela.abordagens[Idade])-2),ROW(A696)),4)","v":{"$error":"#NUM!"}},{"$f":"INDEX(Tabela.abordagens[],SMALL(IF(Tabela.abordagens[Mês]=$L$2,ROW(Tabela.abordagens[Idade])-2),ROW(A696)),5)","v":{"$error":"#NUM!"}}]
[null,{"$f":"INDEX(Tabela.frequencia[],SMALL(IF(Tabela.frequencia[Mês]=$L$2,ROW(Tabela.frequencia[id])-1),ROW(A697)),1)","v":{"$error":"#NUM!"}},{"$f":"INDEX(Tabela.frequencia[],SMALL(IF(Tabela.frequencia[Mês]=$L$2,ROW(Tabela.frequencia[id])-1),ROW(A697)),4)","v":{"$error":"#NUM!"}},null,{"$f":"IFERROR(VLOOKUP(D744,Tabela.cadastro[[ID]:[Nome]],2,0),\"\")","v":""},{"$f":"IFERROR(VLOOKUP(D744,Tabela66[#All],2,0),\"\")","v":""},{"$f":"IFERROR(VLOOKUP(D744,Tabela.cadastro[[ID]:[CP ou M]],5,0),\"\")","v":""},{"$f":"IFERROR(VLOOKUP(D744,Cadastros!A:F,6,0),\"\")","v":""},{"$f":"IFERROR(VLOOKUP(D744,Cadastros!A:I,9,0),\"\")","v":""},{"$f":"IFERROR(VLOOKUP(D744,Cadastros!A:J,10,0),\"\")","v":""},{"$f":"IF(COUNTIF(Tabela66[id],D744)=0,\"\",COUNTIF(Tabela66[id],D744))","v":""},null,"",null,null,{"$f":"IFERROR(VLOOKUP(O744,Cadastros!A:B,2),\"\")","v":""},"",{"$f":"IFERROR(VLOOKUP(O744,Cadastros!A:E,5,0),\"\")","v":""},{"$f":"IFERROR(VLOOKUP(O744,Cadastros!A:F,6,0),\"\")","v":""},{"$f":"IFERROR(VLOOKUP(O744,Cadastros!A:I,9,0),\"\")","v":""},"","","",null,{"$f":"INDEX(Tabela.abordagens[],SMALL(IF(Tabela.abordagens[Mês]=$L$2,ROW(Tabela.abordagens[id])-2),ROW(A697)),1)","v":{"$error":"#NUM!"}},{"$f":"INDEX(Tabela.abordagens[],SMALL(IF(Tabela.abordagens[Mês]=$L$2,ROW(Tabela.abordagens[Idade])-2),ROW(A697)),6)","v":{"$error":"#NUM!"}},{"$f":"INDEX(Tabela.abordagens[],SMALL(IF(Tabela.abordagens[Mês]=$L$2,ROW(Tabela.abordagens[Idade])-2),ROW(A697)),4)","v":{"$error":"#NUM!"}},{"$f":"INDEX(Tabela.abordagens[],SMALL(IF(Tabela.abordagens[Mês]=$L$2,ROW(Tabela.abordagens[Idade])-2),ROW(A697)),5)","v":{"$error":"#NUM!"}}]
[null,{"$f":"INDEX(Tabela.frequencia[],SMALL(IF(Tabela.frequencia[Mês]=$L$2,ROW(Tabela.frequencia[id])-1),ROW(A698)),1)","v":{"$error":"#NUM!"}},{"$f":"INDEX(Tabela.frequencia[],SMALL(IF(Tabela.frequencia[Mês]=$L$2,ROW(Tabela.frequencia[id])-1),ROW(A698)),4)","v":{"$error":"#NUM!"}},null,{"$f":"IFERROR(VLOOKUP(D745,Tabela.cadastro[[ID]:[Nome]],2,0),\"\")","v":""},{"$f":"IFERROR(VLOOKUP(D745,Tabela66[#All],2,0),\"\")","v":""},{"$f":"IFERROR(VLOOKUP(D745,Tabela.cadastro[[ID]:[CP ou M]],5,0),\"\")","v":""},{"$f":"IFERROR(VLOOKUP(D745,Cadastros!A:F,6,0),\"\")","v":""},{"$f":"IFERROR(VLOOKUP(D745,Cadastros!A:I,9,0),\"\")","v":""},{"$f":"IFERROR(VLOOKUP(D745,Cadastros!A:J,10,0),\"\")","v":""},{"$f":"IF(COUNTIF(Tabela66[id],D745)=0,\"\",COUNTIF(Tabela66[id],D745))","v":""},null,"",null,null,{"$f":"IFERROR(VLOOKUP(O745,Cadastros!A:B,2),\"\")","v":""},"",{"$f":"IFERROR(VLOOKUP(O745,Cadastros!A:E,5,0),\"\")","v":""},{"$f":"IFERROR(VLOOKUP(O745,Cadastros!A:F,6,0),\"\")","v":""},{"$f":"IFERROR(VLOOKUP(O745,Cadastros!A:I,9,0),\"\")","v":""},"","","",null,{"$f":"INDEX(Tabela.abordagens[],SMALL(IF(Tabela.abordagens[Mês]=$L$2,ROW(Tabela.abordagens[id])-2),ROW(A698)),1)","v":{"$error":"#NUM!"}},{"$f":"INDEX(Tabela.abordagens[],SMALL(IF(Tabela.abordagens[Mês]=$L$2,ROW(Tabela.abordagens[Idade])-2),ROW(A698)),6)","v":{"$error":"#NUM!"}},{"$f":"INDEX(Tabela.abordagens[],SMALL(IF(Tabela.abordagens[Mês]=$L$2,ROW(Tabela.abordagens[Idade])-2),ROW(A698)),4)","v":{"$error":"#NUM!"}},{"$f":"INDEX(Tabela.abordagens[],SMALL(IF(Tabela.abordagens[Mês]=$L$2,ROW(Tabela.abordagens[Idade])-2),ROW(A698)),5)","v":{"$error":"#NUM!"}}]
[null,{"$f":"INDEX(Tabela.frequencia[],SMALL(IF(Tabela.frequencia[Mês]=$L$2,ROW(Tabela.frequencia[id])-1),ROW(A699)),1)","v":{"$error":"#NUM!"}},{"$f":"INDEX(Tabela.frequencia[],SMALL(IF(Tabela.frequencia[Mês]=$L$2,ROW(Tabela.frequencia[id])-1),ROW(A699)),4)","v":{"$error":"#NUM!"}},null,{"$f":"IFERROR(VLOOKUP(D746,Tabela.cadastro[[ID]:[Nome]],2,0),\"\")","v":""},{"$f":"IFERROR(VLOOKUP(D746,Tabela66[#All],2,0),\"\")","v":""},{"$f":"IFERROR(VLOOKUP(D746,Tabela.cadastro[[ID]:[CP ou M]],5,0),\"\")","v":""},{"$f":"IFERROR(VLOOKUP(D746,Cadastros!A:F,6,0),\"\")","v":""},{"$f":"IFERROR(VLOOKUP(D746,Cadastros!A:I,9,0),\"\")","v":""},{"$f":"IFERROR(VLOOKUP(D746,Cadastros!A:J,10,0),\"\")","v":""},{"$f":"IF(COUNTIF(Tabela66[id],D746)=0,\"\",COUNTIF(Tabela66[id],D746))","v":""},null,{"$f":"IF(AND(K746:K1577>=5,L746:L1577=\"Não\"),\"*\",\"\")","v":""},null,null,{"$f":"IFERROR(VLOOKUP(O746,Cadastros!A:B,2),\"\")","v":""},"",{"$f":"IFERROR(VLOOKUP(O746,Cadastros!A:E,5,0),\"\")","v":""},{"$f":"IFERROR(VLOOKUP(O746,Cadastros!A:F,6,0),\"\")","v":""},{"$f":"IFERROR(VLOOKUP(O746,Cadastros!A:I,9,0),\"\")","v":""},"","","",null,{"$f":"INDEX(Tabela.abordagens[],SMALL(IF(Tabela.abordagens[Mês]=$L$2,ROW(Tabela.abordagens[id])-2),ROW(A699)),1)","v":{"$error":"#NUM!"}},{"$f":"INDEX(Tabela.abordagens[],SMALL(IF(Tabela.abordagens[Mês]=$L$2,ROW(Tabela.abordagens[Idade])-2),ROW(A699)),6)","v":{"$error":"#NUM!"}},{"$f":"INDEX(Tabela.abordagens[],SMALL(IF(Tabela.abordagens[Mês]=$L$2,ROW(Tabela.abordagens[Idade])-2),ROW(A699)),4)","v":{"$error":"#NUM!"}},{"$f":"INDEX(Tabela.abordagens[],SMALL(IF(Tabela.abordagens[Mês]=$L$2,ROW(Tabela.abordagens[Idade])-2),ROW(A699)),5)","v":{"$error":"#NUM!"}}]
[null,{"$f":"INDEX(Tabela.frequencia[],SMALL(IF(Tabela.frequencia[Mês]=$L$2,ROW(Tabela.frequencia[id])-1),ROW(A700)),1)","v":{"$error":"#NUM!"}},{"$f":"INDEX(Tabela.frequencia[],SMALL(IF(Tabela.frequencia[Mês]=$L$2,ROW(Tabela.frequencia[id])-1),ROW(A700)),4)","v":{"$error":"#NUM!"}},null,{"$f":"IFERROR(VLOOKUP(D747,Tabela.cadastro[[ID]:[Nome]],2,0),\"\")","v":""},{"$f":"IFERROR(VLOOKUP(D747,Tabela66[#All],2,0),\"\")","v":""},{"$f":"IFERROR(VLOOKUP(D747,Tabela.cadastro[[ID]:[CP ou M]],5,0),\"\")","v":""},{"$f":"IFERROR(VLOOKUP(D747,Cadastros!A:F,6,0),\"\")","v":""},{"$f":"IFERROR(VLOOKUP(D747,Cadastros!A:I,9,0),\"\")","v":""},{"$f":"IFERROR(VLOOKUP(D747,Cadastros!A:J,10,0),\"\")","v":""},{"$f":"IF(COUNTIF(Tabela66[id],D747)=0,\"\",COUNTIF(Tabela66[id],D747))","v":""},null,"",null,null,{"$f":"IFERROR(VLOOKUP(O747,Cadastros!A:B,2),\"\")","v":""},"",{"$f":"IFERROR(VLOOKUP(O747,Cadastros!A:E,5,0),\"\")","v":""},{"$f":"IFERROR(VLOOKUP(O747,Cadastros!A:F,6,0),\"\")","v":""},{"$f":"IFERROR(VLOOKUP(O747,Cadastros!A:I,9,0),\"\")","v":""},"","","",null,{"$f":"INDEX(Tabela.abordagens[],SMALL(IF(Tabela.abordagens[Mês]=$L$2,ROW(Tabela.abordagens[id])-2),ROW(A700)),1)","v":{"$error":"#NUM!"}},{"$f":"INDEX(Tabela.abordagens[],SMALL(IF(Tabela.abordagens[Mês]=$L$2,ROW(Tabela.abordagens[Idade])-2),ROW(A700)),6)","v":{"$error":"#NUM!"}},{"$f":"INDEX(Tabela.abordagens[],SMALL(IF(Tabela.abordagens[Mês]=$L$2,ROW(Tabela.abordagens[Idade])-2),ROW(A700)),4)","v":{"$error":"#NUM!"}},{"$f":"INDEX(Tabela.abordagens[],SMALL(IF(Tabela.abordagens[Mês]=$L$2,ROW(Tabela.abordagens[Idade])-2),ROW(A700)),5)","v":{"$error":"#NUM!"}}]
[null,{"$f":"INDEX(Tabela.frequencia[],SMALL(IF(Tabela.frequencia[Mês]=$L$2,ROW(Tabela.frequencia[id])-1),ROW(A701)),1)","v":{"$error":"#NUM!"}},{"$f":"INDEX(Tabela.frequencia[],SMALL(IF(Tabela.frequencia[Mês]=$L$2,ROW(Tabela.frequencia[id])-1),ROW(A701)),4)","v":{"$error":"#NUM!"}},null,{"$f":"IFERROR(VLOOKUP(D748,Tabela.cadastro[[ID]:[Nome]],2,0),\"\")","v":""},{"$f":"IFERROR(VLOOKUP(D748,Tabela66[#All],2,0),\"\")","v":""},{"$f":"IFERROR(VLOOKUP(D748,Tabela.cadastro[[ID]:[CP ou M]],5,0),\"\")","v":""},{"$f":"IFERROR(VLOOKUP(D748,Cadastros!A:F,6,0),\"\")","v":""},{"$f":"IFERROR(VLOOKUP(D748,Cadastros!A:I,9,0),\"\")","v":""},{"$f":"IFERROR(VLOOKUP(D748,Cadastros!A:J,10,0),\"\")","v":""},{"$f":"IF(COUNTIF(Tabela66[id],D748)=0,\"\",COUNTIF(Tabela66[id],D748))","v":""},null,"",null,null,{"$f":"IFERROR(VLOOKUP(O748,Cadastros!A:B,2),\"\")","v":""},"",{"$f":"IFERROR(VLOOKUP(O748,Cadastros!A:E,5,0),\"\")","v":""},{"$f":"IFERROR(VLOOKUP(O748,Cadastros!A:F,6,0),\"\")","v":""},{"$f":"IFERROR(VLOOKUP(O748,Cadastros!A:I,9,0),\"\")","v":""},"","","",null,{"$f":"INDEX(Tabela.abordagens[],SMALL(IF(Tabela.abordagens[Mês]=$L$2,ROW(Tabela.abordagens[id])-2),ROW(A701)),1)","v":{"$error":"#NUM!"}},{"$f":"INDEX(Tabela.abordagens[],SMALL(IF(Tabela.abordagens[Mês]=$L$2,ROW(Tabela.abordagens[Idade])-2),ROW(A701)),6)","v":{"$error":"#NUM!"}},{"$f":"INDEX(Tabela.abordagens[],SMALL(IF(Tabela.abordagens[Mês]=$L$2,ROW(Tabela.abordagens[Idade])-2),ROW(A701)),4)","v":{"$error":"#NUM!"}},{"$f":"INDEX(Tabela.abordagens[],SMALL(IF(Tabela.abordagens[Mês]=$L$2,ROW(Tabela.abordagens[Idade])-2),ROW(A701)),5)","v":{"$error":"#NUM!"}}]
[null,{"$f":"INDEX(Tabela.frequencia[],SMALL(IF(Tabela.frequencia[Mês]=$L$2,ROW(Tabela.frequencia[id])-1),ROW(A702)),1)","v":{"$error":"#NUM!"}},{"$f":"INDEX(Tabela.frequencia[],SMALL(IF(Tabela.frequencia[Mês]=$L$2,ROW(Tabela.frequencia[id])-1),ROW(A702)),4)","v":{"$error":"#NUM!"}},null,{"$f":"IFERROR(VLOOKUP(D749,Tabela.cadastro[[ID]:[Nome]],2,0),\"\")","v":""},{"$f":"IFERROR(VLOOKUP(D749,Tabela66[#All],2,0),\"\")","v":""},{"$f":"IFERROR(VLOOKUP(D749,Tabela.cadastro[[ID]:[CP ou M]],5,0),\"\")","v":""},{"$f":"IFERROR(VLOOKUP(D749,Cadastros!A:F,6,0),\"\")","v":""},{"$f":"IFERROR(VLOOKUP(D749,Cadastros!A:I,9,0),\"\")","v":""},{"$f":"IFERROR(VLOOKUP(D749,Cadastros!A:J,10,0),\"\")","v":""},{"$f":"IF(COUNTIF(Tabela66[id],D749)=0,\"\",COUNTIF(Tabela66[id],D749))","v":""},null,"",null,null,{"$f":"IFERROR(VLOOKUP(O749,Cadastros!A:B,2),\"\")","v":""},"",{"$f":"IFERROR(VLOOKUP(O749,Cadastros!A:E,5,0),\"\")","v":""},{"$f":"IFERROR(VLOOKUP(O749,Cadastros!A:F,6,0),\"\")","v":""},{"$f":"IFERROR(VLOOKUP(O749,Cadastros!A:I,9,0),\"\")","v":""},"","","",null,{"$f":"INDEX(Tabela.abordagens[],SMALL(IF(Tabela.abordagens[Mês]=$L$2,ROW(Tabela.abordagens[id])-2),ROW(A702)),1)","v":{"$error":"#NUM!"}},{"$f":"INDEX(Tabela.abordagens[],SMALL(IF(Tabela.abordagens[Mês]=$L$2,ROW(Tabela.abordagens[Idade])-2),ROW(A702)),6)","v":{"$error":"#NUM!"}},{"$f":"INDEX(Tabela.abordagens[],SMALL(IF(Tabela.abordagens[Mês]=$L$2,ROW(Tabela.abordagens[Idade])-2),ROW(A702)),4)","v":{"$error":"#NUM!"}},{"$f":"INDEX(Tabela.abordagens[],SMALL(IF(Tabela.abordagens[Mês]=$L$2,ROW(Tabela.abordagens[Idade])-2),ROW(A702)),5)","v":{"$error":"#NUM!"}}]
[null,{"$f":"INDEX(Tabela.frequencia[],SMALL(IF(Tabela.frequencia[Mês]=$L$2,ROW(Tabela.frequencia[id])-1),ROW(A703)),1)","v":{"$error":"#NUM!"}},{"$f":"INDEX(Tabela.frequencia[],SMALL(IF(Tabela.frequencia[Mês]=$L$2,ROW(Tabela.frequencia[id])-1),ROW(A703)),4)","v":{"$error":"#NUM!"}},null,{"$f":"IFERROR(VLOOKUP(D750,Tabela.cadastro[[ID]:[Nome]],2,0),\"\")","v":""},{"$f":"IFERROR(VLOOKUP(D750,Tabela66[#All],2,0),\"\")","v":""},{"$f":"IFERROR(VLOOKUP(D750,Tabela.cadastro[[ID]:[CP ou M]],5,0),\"\")","v":""},{"$f":"IFERROR(VLOOKUP(D750,Cadastros!A:F,6,0),\"\")","v":""},{"$f":"IFERROR(VLOOKUP(D750,Cadastros!A:I,9,0),\"\")","v":""},{"$f":"IFERROR(VLOOKUP(D750,Cadastros!A:J,10,0),\"\")","v":""},{"$f":"IF(COUNTIF(Tabela66[id],D750)=0,\"\",COUNTIF(Tabela66[id],D750))","v":""},null,"",null,null,{"$f":"IFERROR(VLOOKUP(O750,Cadastros!A:B,2),\"\")","v":""},"",{"$f":"IFERROR(VLOOKUP(O750,Cadastros!A:E,5,0),\"\")","v":""},{"$f":"IFERROR(VLOOKUP(O750,Cadastros!A:F,6,0),\"\")","v":""},{"$f":"IFERROR(VLOOKUP(O750,Cadastros!A:I,9,0),\"\")","v":""},"","","",null,{"$f":"INDEX(Tabela.abordagens[],SMALL(IF(Tabela.abordagens[Mês]=$L$2,ROW(Tabela.abordagens[id])-2),ROW(A703)),1)","v":{"$error":"#NUM!"}},{"$f":"INDEX(Tabela.abordagens[],SMALL(IF(Tabela.abordagens[Mês]=$L$2,ROW(Tabela.abordagens[Idade])-2),ROW(A703)),6)","v":{"$error":"#NUM!"}},{"$f":"INDEX(Tabela.abordagens[],SMALL(IF(Tabela.abordagens[Mês]=$L$2,ROW(Tabela.abordagens[Idade])-2),ROW(A703)),4)","v":{"$error":"#NUM!"}},{"$f":"INDEX(Tabela.abordagens[],SMALL(IF(Tabela.abordagens[Mês]=$L$2,ROW(Tabela.abordagens[Idade])-2),ROW(A703)),5)","v":{"$error":"#NUM!"}}]
[null,{"$f":"INDEX(Tabela.frequencia[],SMALL(IF(Tabela.frequencia[Mês]=$L$2,ROW(Tabela.frequencia[id])-1),ROW(A704)),1)","v":{"$error":"#NUM!"}},{"$f":"INDEX(Tabela.frequencia[],SMALL(IF(Tabela.frequencia[Mês]=$L$2,ROW(Tabela.frequencia[id])-1),ROW(A704)),4)","v":{"$error":"#NUM!"}},null,{"$f":"IFERROR(VLOOKUP(D751,Tabela.cadastro[[ID]:[Nome]],2,0),\"\")","v":""},{"$f":"IFERROR(VLOOKUP(D751,Tabela66[#All],2,0),\"\")","v":""},{"$f":"IFERROR(VLOOKUP(D751,Tabela.cadastro[[ID]:[CP ou M]],5,0),\"\")","v":""},{"$f":"IFERROR(VLOOKUP(D751,Cadastros!A:F,6,0),\"\")","v":""},{"$f":"IFERROR(VLOOKUP(D751,Cadastros!A:I,9,0),\"\")","v":""},{"$f":"IFERROR(VLOOKUP(D751,Cadastros!A:J,10,0),\"\")","v":""},{"$f":"IF(COUNTIF(Tabela66[id],D751)=0,\"\",COUNTIF(Tabela66[id],D751))","v":""},null,"",null,null,{"$f":"IFERROR(VLOOKUP(O751,Cadastros!A:B,2),\"\")","v":""},"",{"$f":"IFERROR(VLOOKUP(O751,Cadastros!A:E,5,0),\"\")","v":""},{"$f":"IFERROR(VLOOKUP(O751,Cadastros!A:F,6,0),\"\")","v":""},{"$f":"IFERROR(VLOOKUP(O751,Cadastros!A:I,9,0),\"\")","v":""},"","","",null,{"$f":"INDEX(Tabela.abordagens[],SMALL(IF(Tabela.abordagens[Mês]=$L$2,ROW(Tabela.abordagens[id])-2),ROW(A704)),1)","v":{"$error":"#NUM!"}},{"$f":"INDEX(Tabela.abordagens[],SMALL(IF(Tabela.abordagens[Mês]=$L$2,ROW(Tabela.abordagens[Idade])-2),ROW(A704)),6)","v":{"$error":"#NUM!"}},{"$f":"INDEX(Tabela.abordagens[],SMALL(IF(Tabela.abordagens[Mês]=$L$2,ROW(Tabela.abordagens[Idade])-2),ROW(A704)),4)","v":{"$error":"#NUM!"}},{"$f":"INDEX(Tabela.abordagens[],SMALL(IF(Tabela.abordagens[Mês]=$L$2,ROW(Tabela.abordagens[Idade])-2),ROW(A704)),5)","v":{"$error":"#NUM!"}}]
[null,{"$f":"INDEX(Tabela.frequencia[],SMALL(IF(Tabela.frequencia[Mês]=$L$2,ROW(Tabela.frequencia[id])-1),ROW(A705)),1)","v":{"$error":"#NUM!"}},{"$f":"INDEX(Tabela.frequencia[],SMALL(IF(Tabela.frequencia[Mês]=$L$2,ROW(Tabela.frequencia[id])-1),ROW(A705)),4)","v":{"$error":"#NUM!"}},null,{"$f":"IFERROR(VLOOKUP(D752,Tabela.cadastro[[ID]:[Nome]],2,0),\"\")","v":""},{"$f":"IFERROR(VLOOKUP(D752,Tabela66[#All],2,0),\"\")","v":""},{"$f":"IFERROR(VLOOKUP(D752,Tabela.cadastro[[ID]:[CP ou M]],5,0),\"\")","v":""},{"$f":"IFERROR(VLOOKUP(D752,Cadastros!A:F,6,0),\"\")","v":""},{"$f":"IFERROR(VLOOKUP(D752,Cadastros!A:I,9,0),\"\")","v":""},{"$f":"IFERROR(VLOOKUP(D752,Cadastros!A:J,10,0),\"\")","v":""},{"$f":"IF(COUNTIF(Tabela66[id],D752)=0,\"\",COUNTIF(Tabela66[id],D752))","v":""},null,"",null,null,{"$f":"IFERROR(VLOOKUP(O752,Cadastros!A:B,2),\"\")","v":""},"",{"$f":"IFERROR(VLOOKUP(O752,Cadastros!A:E,5,0),\"\")","v":""},{"$f":"IFERROR(VLOOKUP(O752,Cadastros!A:F,6,0),\"\")","v":""},{"$f":"IFERROR(VLOOKUP(O752,Cadastros!A:I,9,0),\"\")","v":""},"","","",null,{"$f":"INDEX(Tabela.abordagens[],SMALL(IF(Tabela.abordagens[Mês]=$L$2,ROW(Tabela.abordagens[id])-2),ROW(A705)),1)","v":{"$error":"#NUM!"}},{"$f":"INDEX(Tabela.abordagens[],SMALL(IF(Tabela.abordagens[Mês]=$L$2,ROW(Tabela.abordagens[Idade])-2),ROW(A705)),6)","v":{"$error":"#NUM!"}},{"$f":"INDEX(Tabela.abordagens[],SMALL(IF(Tabela.abordagens[Mês]=$L$2,ROW(Tabela.abordagens[Idade])-2),ROW(A705)),4)","v":{"$error":"#NUM!"}},{"$f":"INDEX(Tabela.abordagens[],SMALL(IF(Tabela.abordagens[Mês]=$L$2,ROW(Tabela.abordagens[Idade])-2),ROW(A705)),5)","v":{"$error":"#NUM!"}}]
[null,{"$f":"INDEX(Tabela.frequencia[],SMALL(IF(Tabela.frequencia[Mês]=$L$2,ROW(Tabela.frequencia[id])-1),ROW(A706)),1)","v":{"$error":"#NUM!"}},{"$f":"INDEX(Tabela.frequencia[],SMALL(IF(Tabela.frequencia[Mês]=$L$2,ROW(Tabela.frequencia[id])-1),ROW(A706)),4)","v":{"$error":"#NUM!"}},null,{"$f":"IFERROR(VLOOKUP(D753,Tabela.cadastro[[ID]:[Nome]],2,0),\"\")","v":""},{"$f":"IFERROR(VLOOKUP(D753,Tabela66[#All],2,0),\"\")","v":""},{"$f":"IFERROR(VLOOKUP(D753,Tabela.cadastro[[ID]:[CP ou M]],5,0),\"\")","v":""},{"$f":"IFERROR(VLOOKUP(D753,Cadastros!A:F,6,0),\"\")","v":""},{"$f":"IFERROR(VLOOKUP(D753,Cadastros!A:I,9,0),\"\")","v":""},{"$f":"IFERROR(VLOOKUP(D753,Cadastros!A:J,10,0),\"\")","v":""},{"$f":"IF(COUNTIF(Tabela66[id],D753)=0,\"\",COUNTIF(Tabela66[id],D753))","v":""},null,"",null,null,{"$f":"IFERROR(VLOOKUP(O753,Cadastros!A:B,2),\"\")","v":""},"",{"$f":"IFERROR(VLOOKUP(O753,Cadastros!A:E,5,0),\"\")","v":""},{"$f":"IFERROR(VLOOKUP(O753,Cadastros!A:F,6,0),\"\")","v":""},{"$f":"IFERROR(VLOOKUP(O753,Cadastros!A:I,9,0),\"\")","v":""},"","","",null,{"$f":"INDEX(Tabela.abordagens[],SMALL(IF(Tabela.abordagens[Mês]=$L$2,ROW(Tabela.abordagens[id])-2),ROW(A706)),1)","v":{"$error":"#NUM!"}},{"$f":"INDEX(Tabela.abordagens[],SMALL(IF(Tabela.abordagens[Mês]=$L$2,ROW(Tabela.abordagens[Idade])-2),ROW(A706)),6)","v":{"$error":"#NUM!"}},{"$f":"INDEX(Tabela.abordagens[],SMALL(IF(Tabela.abordagens[Mês]=$L$2,ROW(Tabela.abordagens[Idade])-2),ROW(A706)),4)","v":{"$error":"#NUM!"}},{"$f":"INDEX(Tabela.abordagens[],SMALL(IF(Tabela.abordagens[Mês]=$L$2,ROW(Tabela.abordagens[Idade])-2),ROW(A706)),5)","v":{"$error":"#NUM!"}}]
[null,{"$f":"INDEX(Tabela.frequencia[],SMALL(IF(Tabela.frequencia[Mês]=$L$2,ROW(Tabela.frequencia[id])-1),ROW(A707)),1)","v":{"$error":"#NUM!"}},{"$f":"INDEX(Tabela.frequencia[],SMALL(IF(Tabela.frequencia[Mês]=$L$2,ROW(Tabela.frequencia[id])-1),ROW(A707)),4)","v":{"$error":"#NUM!"}},null,{"$f":"IFERROR(VLOOKUP(D754,Tabela.cadastro[[ID]:[Nome]],2,0),\"\")","v":""},{"$f":"IFERROR(VLOOKUP(D754,Tabela66[#All],2,0),\"\")","v":""},{"$f":"IFERROR(VLOOKUP(D754,Tabela.cadastro[[ID]:[CP ou M]],5,0),\"\")","v":""},{"$f":"IFERROR(VLOOKUP(D754,Cadastros!A:F,6,0),\"\")","v":""},{"$f":"IFERROR(VLOOKUP(D754,Cadastros!A:I,9,0),\"\")","v":""},{"$f":"IFERROR(VLOOKUP(D754,Cadastros!A:J,10,0),\"\")","v":""},{"$f":"IF(COUNTIF(Tabela66[id],D754)=0,\"\",COUNTIF(Tabela66[id],D754))","v":""},null,"",null,null,{"$f":"IFERROR(VLOOKUP(O754,Cadastros!A:B,2),\"\")","v":""},"",{"$f":"IFERROR(VLOOKUP(O754,Cadastros!A:E,5,0),\"\")","v":""},{"$f":"IFERROR(VLOOKUP(O754,Cadastros!A:F,6,0),\"\")","v":""},{"$f":"IFERROR(VLOOKUP(O754,Cadastros!A:I,9,0),\"\")","v":""},"","","",null,{"$f":"INDEX(Tabela.abordagens[],SMALL(IF(Tabela.abordagens[Mês]=$L$2,ROW(Tabela.abordagens[id])-2),ROW(A707)),1)","v":{"$error":"#NUM!"}},{"$f":"INDEX(Tabela.abordagens[],SMALL(IF(Tabela.abordagens[Mês]=$L$2,ROW(Tabela.abordagens[Idade])-2),ROW(A707)),6)","v":{"$error":"#NUM!"}},{"$f":"INDEX(Tabela.abordagens[],SMALL(IF(Tabela.abordagens[Mês]=$L$2,ROW(Tabela.abordagens[Idade])-2),ROW(A707)),4)","v":{"$error":"#NUM!"}},{"$f":"INDEX(Tabela.abordagens[],SMALL(IF(Tabela.abordagens[Mês]=$L$2,ROW(Tabela.abordagens[Idade])-2),ROW(A707)),5)","v":{"$error":"#NUM!"}}]
[null,{"$f":"INDEX(Tabela.frequencia[],SMALL(IF(Tabela.frequencia[Mês]=$L$2,ROW(Tabela.frequencia[id])-1),ROW(A708)),1)","v":{"$error":"#NUM!"}},{"$f":"INDEX(Tabela.frequencia[],SMALL(IF(Tabela.frequencia[Mês]=$L$2,ROW(Tabela.frequencia[id])-1),ROW(A708)),4)","v":{"$error":"#NUM!"}},null,{"$f":"IFERROR(VLOOKUP(D755,Tabela.cadastro[[ID]:[Nome]],2,0),\"\")","v":""},{"$f":"IFERROR(VLOOKUP(D755,Tabela66[#All],2,0),\"\")","v":""},{"$f":"IFERROR(VLOOKUP(D755,Tabela.cadastro[[ID]:[CP ou M]],5,0),\"\")","v":""},{"$f":"IFERROR(VLOOKUP(D755,Cadastros!A:F,6,0),\"\")","v":""},{"$f":"IFERROR(VLOOKUP(D755,Cadastros!A:I,9,0),\"\")","v":""},{"$f":"IFERROR(VLOOKUP(D755,Cadastros!A:J,10,0),\"\")","v":""},{"$f":"IF(COUNTIF(Tabela66[id],D755)=0,\"\",COUNTIF(Tabela66[id],D755))","v":""},null,"",null,null,{"$f":"IFERROR(VLOOKUP(O755,Cadastros!A:B,2),\"\")","v":""},"",{"$f":"IFERROR(VLOOKUP(O755,Cadastros!A:E,5,0),\"\")","v":""},{"$f":"IFERROR(VLOOKUP(O755,Cadastros!A:F,6,0),\"\")","v":""},{"$f":"IFERROR(VLOOKUP(O755,Cadastros!A:I,9,0),\"\")","v":""},"","","",null,{"$f":"INDEX(Tabela.abordagens[],SMALL(IF(Tabela.abordagens[Mês]=$L$2,ROW(Tabela.abordagens[id])-2),ROW(A708)),1)","v":{"$error":"#NUM!"}},{"$f":"INDEX(Tabela.abordagens[],SMALL(IF(Tabela.abordagens[Mês]=$L$2,ROW(Tabela.abordagens[Idade])-2),ROW(A708)),6)","v":{"$error":"#NUM!"}},{"$f":"INDEX(Tabela.abordagens[],SMALL(IF(Tabela.abordagens[Mês]=$L$2,ROW(Tabela.abordagens[Idade])-2),ROW(A708)),4)","v":{"$error":"#NUM!"}},{"$f":"INDEX(Tabela.abordagens[],SMALL(IF(Tabela.abordagens[Mês]=$L$2,ROW(Tabela.abordagens[Idade])-2),ROW(A708)),5)","v":{"$error":"#NUM!"}}]
[null,{"$f":"INDEX(Tabela.frequencia[],SMALL(IF(Tabela.frequencia[Mês]=$L$2,ROW(Tabela.frequencia[id])-1),ROW(A709)),1)","v":{"$error":"#NUM!"}},{"$f":"INDEX(Tabela.frequencia[],SMALL(IF(Tabela.frequencia[Mês]=$L$2,ROW(Tabela.frequencia[id])-1),ROW(A709)),4)","v":{"$error":"#NUM!"}},null,{"$f":"IFERROR(VLOOKUP(D756,Tabela.cadastro[[ID]:[Nome]],2,0),\"\")","v":""},{"$f":"IFERROR(VLOOKUP(D756,Tabela66[#All],2,0),\"\")","v":""},{"$f":"IFERROR(VLOOKUP(D756,Tabela.cadastro[[ID]:[CP ou M]],5,0),\"\")","v":""},{"$f":"IFERROR(VLOOKUP(D756,Cadastros!A:F,6,0),\"\")","v":""},{"$f":"IFERROR(VLOOKUP(D756,Cadastros!A:I,9,0),\"\")","v":""},{"$f":"IFERROR(VLOOKUP(D756,Cadastros!A:J,10,0),\"\")","v":""},{"$f":"IF(COUNTIF(Tabela66[id],D756)=0,\"\",COUNTIF(Tabela66[id],D756))","v":""},null,"",null,null,{"$f":"IFERROR(VLOOKUP(O756,Cadastros!A:B,2),\"\")","v":""},"",{"$f":"IFERROR(VLOOKUP(O756,Cadastros!A:E,5,0),\"\")","v":""},{"$f":"IFERROR(VLOOKUP(O756,Cadastros!A:F,6,0),\"\")","v":""},{"$f":"IFERROR(VLOOKUP(O756,Cadastros!A:I,9,0),\"\")","v":""},"","","",null,{"$f":"INDEX(Tabela.abordagens[],SMALL(IF(Tabela.abordagens[Mês]=$L$2,ROW(Tabela.abordagens[id])-2),ROW(A709)),1)","v":{"$error":"#NUM!"}},{"$f":"INDEX(Tabela.abordagens[],SMALL(IF(Tabela.abordagens[Mês]=$L$2,ROW(Tabela.abordagens[Idade])-2),ROW(A709)),6)","v":{"$error":"#NUM!"}},{"$f":"INDEX(Tabela.abordagens[],SMALL(IF(Tabela.abordagens[Mês]=$L$2,ROW(Tabela.abordagens[Idade])-2),ROW(A709)),4)","v":{"$error":"#NUM!"}},{"$f":"INDEX(Tabela.abordagens[],SMALL(IF(Tabela.abordagens[Mês]=$L$2,ROW(Tabela.abordagens[Idade])-2),ROW(A709)),5)","v":{"$error":"#NUM!"}}]
[null,{"$f":"INDEX(Tabela.frequencia[],SMALL(IF(Tabela.frequencia[Mês]=$L$2,ROW(Tabela.frequencia[id])-1),ROW(A710)),1)","v":{"$error":"#NUM!"}},{"$f":"INDEX(Tabela.frequencia[],SMALL(IF(Tabela.frequencia[Mês]=$L$2,ROW(Tabela.frequencia[id])-1),ROW(A710)),4)","v":{"$error":"#NUM!"}},null,{"$f":"IFERROR(VLOOKUP(D757,Tabela.cadastro[[ID]:[Nome]],2,0),\"\")","v":""},{"$f":"IFERROR(VLOOKUP(D757,Tabela66[#All],2,0),\"\")","v":""},{"$f":"IFERROR(VLOOKUP(D757,Tabela.cadastro[[ID]:[CP ou M]],5,0),\"\")","v":""},{"$f":"IFERROR(VLOOKUP(D757,Cadastros!A:F,6,0),\"\")","v":""},{"$f":"IFERROR(VLOOKUP(D757,Cadastros!A:I,9,0),\"\")","v":""},{"$f":"IFERROR(VLOOKUP(D757,Cadastros!A:J,10,0),\"\")","v":""},{"$f":"IF(COUNTIF(Tabela66[id],D757)=0,\"\",COUNTIF(Tabela66[id],D757))","v":""},null,"",null,null,{"$f":"IFERROR(VLOOKUP(O757,Cadastros!A:B,2),\"\")","v":""},"",{"$f":"IFERROR(VLOOKUP(O757,Cadastros!A:E,5,0),\"\")","v":""},{"$f":"IFERROR(VLOOKUP(O757,Cadastros!A:F,6,0),\"\")","v":""},{"$f":"IFERROR(VLOOKUP(O757,Cadastros!A:I,9,0),\"\")","v":""},"","","",null,{"$f":"INDEX(Tabela.abordagens[],SMALL(IF(Tabela.abordagens[Mês]=$L$2,ROW(Tabela.abordagens[id])-2),ROW(A710)),1)","v":{"$error":"#NUM!"}},{"$f":"INDEX(Tabela.abordagens[],SMALL(IF(Tabela.abordagens[Mês]=$L$2,ROW(Tabela.abordagens[Idade])-2),ROW(A710)),6)","v":{"$error":"#NUM!"}},{"$f":"INDEX(Tabela.abordagens[],SMALL(IF(Tabela.abordagens[Mês]=$L$2,ROW(Tabela.abordagens[Idade])-2),ROW(A710)),4)","v":{"$error":"#NUM!"}},{"$f":"INDEX(Tabela.abordagens[],SMALL(IF(Tabela.abordagens[Mês]=$L$2,ROW(Tabela.abordagens[Idade])-2),ROW(A710)),5)","v":{"$error":"#NUM!"}}]
[null,{"$f":"INDEX(Tabela.frequencia[],SMALL(IF(Tabela.frequencia[Mês]=$L$2,ROW(Tabela.frequencia[id])-1),ROW(A711)),1)","v":{"$error":"#NUM!"}},{"$f":"INDEX(Tabela.frequencia[],SMALL(IF(Tabela.frequencia[Mês]=$L$2,ROW(Tabela.frequencia[id])-1),ROW(A711)),4)","v":{"$error":"#NUM!"}},null,{"$f":"IFERROR(VLOOKUP(D758,Tabela.cadastro[[ID]:[Nome]],2,0),\"\")","v":""},{"$f":"IFERROR(VLOOKUP(D758,Tabela66[#All],2,0),\"\")","v":""},{"$f":"IFERROR(VLOOKUP(D758,Tabela.cadastro[[ID]:[CP ou M]],5,0),\"\")","v":""},{"$f":"IFERROR(VLOOKUP(D758,Cadastros!A:F,6,0),\"\")","v":""},{"$f":"IFERROR(VLOOKUP(D758,Cadastros!A:I,9,0),\"\")","v":""},{"$f":"IFERROR(VLOOKUP(D758,Cadastros!A:J,10,0),\"\")","v":""},{"$f":"IF(COUNTIF(Tabela66[id],D758)=0,\"\",COUNTIF(Tabela66[id],D758))","v":""},null,"",null,null,{"$f":"IFERROR(VLOOKUP(O758,Cadastros!A:B,2),\"\")","v":""},"",{"$f":"IFERROR(VLOOKUP(O758,Cadastros!A:E,5,0),\"\")","v":""},{"$f":"IFERROR(VLOOKUP(O758,Cadastros!A:F,6,0),\"\")","v":""},{"$f":"IFERROR(VLOOKUP(O758,Cadastros!A:I,9,0),\"\")","v":""},"","","",null,{"$f":"INDEX(Tabela.abordagens[],SMALL(IF(Tabela.abordagens[Mês]=$L$2,ROW(Tabela.abordagens[id])-2),ROW(A711)),1)","v":{"$error":"#NUM!"}},{"$f":"INDEX(Tabela.abordagens[],SMALL(IF(Tabela.abordagens[Mês]=$L$2,ROW(Tabela.abordagens[Idade])-2),ROW(A711)),6)","v":{"$error":"#NUM!"}},{"$f":"INDEX(Tabela.abordagens[],SMALL(IF(Tabela.abordagens[Mês]=$L$2,ROW(Tabela.abordagens[Idade])-2),ROW(A711)),4)","v":{"$error":"#NUM!"}},{"$f":"INDEX(Tabela.abordagens[],SMALL(IF(Tabela.abordagens[Mês]=$L$2,ROW(Tabela.abordagens[Idade])-2),ROW(A711)),5)","v":{"$error":"#NUM!"}}]
[null,{"$f":"INDEX(Tabela.frequencia[],SMALL(IF(Tabela.frequencia[Mês]=$L$2,ROW(Tabela.frequencia[id])-1),ROW(A712)),1)","v":{"$error":"#NUM!"}},{"$f":"INDEX(Tabela.frequencia[],SMALL(IF(Tabela.frequencia[Mês]=$L$2,ROW(Tabela.frequencia[id])-1),ROW(A712)),4)","v":{"$error":"#NUM!"}},null,{"$f":"IFERROR(VLOOKUP(D759,Tabela.cadastro[[ID]:[Nome]],2,0),\"\")","v":""},{"$f":"IFERROR(VLOOKUP(D759,Tabela66[#All],2,0),\"\")","v":""},{"$f":"IFERROR(VLOOKUP(D759,Tabela.cadastro[[ID]:[CP ou M]],5,0),\"\")","v":""},{"$f":"IFERROR(VLOOKUP(D759,Cadastros!A:F,6,0),\"\")","v":""},{"$f":"IFERROR(VLOOKUP(D759,Cadastros!A:I,9,0),\"\")","v":""},{"$f":"IFERROR(VLOOKUP(D759,Cadastros!A:J,10,0),\"\")","v":""},{"$f":"IF(COUNTIF(Tabela66[id],D759)=0,\"\",COUNTIF(Tabela66[id],D759))","v":""},null,"",null,null,{"$f":"IFERROR(VLOOKUP(O759,Cadastros!A:B,2),\"\")","v":""},"",{"$f":"IFERROR(VLOOKUP(O759,Cadastros!A:E,5,0),\"\")","v":""},{"$f":"IFERROR(VLOOKUP(O759,Cadastros!A:F,6,0),\"\")","v":""},{"$f":"IFERROR(VLOOKUP(O759,Cadastros!A:I,9,0),\"\")","v":""},"","","",null,{"$f":"INDEX(Tabela.abordagens[],SMALL(IF(Tabela.abordagens[Mês]=$L$2,ROW(Tabela.abordagens[id])-2),ROW(A712)),1)","v":{"$error":"#NUM!"}},{"$f":"INDEX(Tabela.abordagens[],SMALL(IF(Tabela.abordagens[Mês]=$L$2,ROW(Tabela.abordagens[Idade])-2),ROW(A712)),6)","v":{"$error":"#NUM!"}},{"$f":"INDEX(Tabela.abordagens[],SMALL(IF(Tabela.abordagens[Mês]=$L$2,ROW(Tabela.abordagens[Idade])-2),ROW(A712)),4)","v":{"$error":"#NUM!"}},{"$f":"INDEX(Tabela.abordagens[],SMALL(IF(Tabela.abordagens[Mês]=$L$2,ROW(Tabela.abordagens[Idade])-2),ROW(A712)),5)","v":{"$error":"#NUM!"}}]
[null,{"$f":"INDEX(Tabela.frequencia[],SMALL(IF(Tabela.frequencia[Mês]=$L$2,ROW(Tabela.frequencia[id])-1),ROW(A713)),1)","v":{"$error":"#NUM!"}},{"$f":"INDEX(Tabela.frequencia[],SMALL(IF(Tabela.frequencia[Mês]=$L$2,ROW(Tabela.frequencia[id])-1),ROW(A713)),4)","v":{"$error":"#NUM!"}},null,{"$f":"IFERROR(VLOOKUP(D760,Tabela.cadastro[[ID]:[Nome]],2,0),\"\")","v":""},{"$f":"IFERROR(VLOOKUP(D760,Tabela66[#All],2,0),\"\")","v":""},{"$f":"IFERROR(VLOOKUP(D760,Tabela.cadastro[[ID]:[CP ou M]],5,0),\"\")","v":""},{"$f":"IFERROR(VLOOKUP(D760,Cadastros!A:F,6,0),\"\")","v":""},{"$f":"IFERROR(VLOOKUP(D760,Cadastros!A:I,9,0),\"\")","v":""},{"$f":"IFERROR(VLOOKUP(D760,Cadastros!A:J,10,0),\"\")","v":""},{"$f":"IF(COUNTIF(Tabela66[id],D760)=0,\"\",COUNTIF(Tabela66[id],D760))","v":""},null,"",null,null,{"$f":"IFERROR(VLOOKUP(O760,Cadastros!A:B,2),\"\")","v":""},"",{"$f":"IFERROR(VLOOKUP(O760,Cadastros!A:E,5,0),\"\")","v":""},{"$f":"IFERROR(VLOOKUP(O760,Cadastros!A:F,6,0),\"\")","v":""},{"$f":"IFERROR(VLOOKUP(O760,Cadastros!A:I,9,0),\"\")","v":""},"","","",null,{"$f":"INDEX(Tabela.abordagens[],SMALL(IF(Tabela.abordagens[Mês]=$L$2,ROW(Tabela.abordagens[id])-2),ROW(A713)),1)","v":{"$error":"#NUM!"}},{"$f":"INDEX(Tabela.abordagens[],SMALL(IF(Tabela.abordagens[Mês]=$L$2,ROW(Tabela.abordagens[Idade])-2),ROW(A713)),6)","v":{"$error":"#NUM!"}},{"$f":"INDEX(Tabela.abordagens[],SMALL(IF(Tabela.abordagens[Mês]=$L$2,ROW(Tabela.abordagens[Idade])-2),ROW(A713)),4)","v":{"$error":"#NUM!"}},{"$f":"INDEX(Tabela.abordagens[],SMALL(IF(Tabela.abordagens[Mês]=$L$2,ROW(Tabela.abordagens[Idade])-2),ROW(A713)),5)","v":{"$error":"#NUM!"}}]
[null,{"$f":"INDEX(Tabela.frequencia[],SMALL(IF(Tabela.frequencia[Mês]=$L$2,ROW(Tabela.frequencia[id])-1),ROW(A714)),1)","v":{"$error":"#NUM!"}},{"$f":"INDEX(Tabela.frequencia[],SMALL(IF(Tabela.frequencia[Mês]=$L$2,ROW(Tabela.frequencia[id])-1),ROW(A714)),4)","v":{"$error":"#NUM!"}},null,{"$f":"IFERROR(VLOOKUP(D761,Tabela.cadastro[[ID]:[Nome]],2,0),\"\")","v":""},{"$f":"IFERROR(VLOOKUP(D761,Tabela66[#All],2,0),\"\")","v":""},{"$f":"IFERROR(VLOOKUP(D761,Tabela.cadastro[[ID]:[CP ou M]],5,0),\"\")","v":""},{"$f":"IFERROR(VLOOKUP(D761,Cadastros!A:F,6,0),\"\")","v":""},{"$f":"IFERROR(VLOOKUP(D761,Cadastros!A:I,9,0),\"\")","v":""},{"$f":"IFERROR(VLOOKUP(D761,Cadastros!A:J,10,0),\"\")","v":""},{"$f":"IF(COUNTIF(Tabela66[id],D761)=0,\"\",COUNTIF(Tabela66[id],D761))","v":""},null,"",null,null,{"$f":"IFERROR(VLOOKUP(O761,Cadastros!A:B,2),\"\")","v":""},"",{"$f":"IFERROR(VLOOKUP(O761,Cadastros!A:E,5,0),\"\")","v":""},{"$f":"IFERROR(VLOOKUP(O761,Cadastros!A:F,6,0),\"\")","v":""},{"$f":"IFERROR(VLOOKUP(O761,Cadastros!A:I,9,0),\"\")","v":""},"","","",null,{"$f":"INDEX(Tabela.abordagens[],SMALL(IF(Tabela.abordagens[Mês]=$L$2,ROW(Tabela.abordagens[id])-2),ROW(A714)),1)","v":{"$error":"#NUM!"}},{"$f":"INDEX(Tabela.abordagens[],SMALL(IF(Tabela.abordagens[Mês]=$L$2,ROW(Tabela.abordagens[Idade])-2),ROW(A714)),6)","v":{"$error":"#NUM!"}},{"$f":"INDEX(Tabela.abordagens[],SMALL(IF(Tabela.abordagens[Mês]=$L$2,ROW(Tabela.abordagens[Idade])-2),ROW(A714)),4)","v":{"$error":"#NUM!"}},{"$f":"INDEX(Tabela.abordagens[],SMALL(IF(Tabela.abordagens[Mês]=$L$2,ROW(Tabela.abordagens[Idade])-2),ROW(A714)),5)","v":{"$error":"#NUM!"}}]
[null,{"$f":"INDEX(Tabela.frequencia[],SMALL(IF(Tabela.frequencia[Mês]=$L$2,ROW(Tabela.frequencia[id])-1),ROW(A715)),1)","v":{"$error":"#NUM!"}},{"$f":"INDEX(Tabela.frequencia[],SMALL(IF(Tabela.frequencia[Mês]=$L$2,ROW(Tabela.frequencia[id])-1),ROW(A715)),4)","v":{"$error":"#NUM!"}},null,{"$f":"IFERROR(VLOOKUP(D762,Tabela.cadastro[[ID]:[Nome]],2,0),\"\")","v":""},{"$f":"IFERROR(VLOOKUP(D762,Tabela66[#All],2,0),\"\")","v":""},{"$f":"IFERROR(VLOOKUP(D762,Tabela.cadastro[[ID]:[CP ou M]],5,0),\"\")","v":""},{"$f":"IFERROR(VLOOKUP(D762,Cadastros!A:F,6,0),\"\")","v":""},{"$f":"IFERROR(VLOOKUP(D762,Cadastros!A:I,9,0),\"\")","v":""},{"$f":"IFERROR(VLOOKUP(D762,Cadastros!A:J,10,0),\"\")","v":""},{"$f":"IF(COUNTIF(Tabela66[id],D762)=0,\"\",COUNTIF(Tabela66[id],D762))","v":""},null,"",null,null,{"$f":"IFERROR(VLOOKUP(O762,Cadastros!A:B,2),\"\")","v":""},"",{"$f":"IFERROR(VLOOKUP(O762,Cadastros!A:E,5,0),\"\")","v":""},{"$f":"IFERROR(VLOOKUP(O762,Cadastros!A:F,6,0),\"\")","v":""},{"$f":"IFERROR(VLOOKUP(O762,Cadastros!A:I,9,0),\"\")","v":""},"","","",null,{"$f":"INDEX(Tabela.abordagens[],SMALL(IF(Tabela.abordagens[Mês]=$L$2,ROW(Tabela.abordagens[id])-2),ROW(A715)),1)","v":{"$error":"#NUM!"}},{"$f":"INDEX(Tabela.abordagens[],SMALL(IF(Tabela.abordagens[Mês]=$L$2,ROW(Tabela.abordagens[Idade])-2),ROW(A715)),6)","v":{"$error":"#NUM!"}},{"$f":"INDEX(Tabela.abordagens[],SMALL(IF(Tabela.abordagens[Mês]=$L$2,ROW(Tabela.abordagens[Idade])-2),ROW(A715)),4)","v":{"$error":"#NUM!"}},{"$f":"INDEX(Tabela.abordagens[],SMALL(IF(Tabela.abordagens[Mês]=$L$2,ROW(Tabela.abordagens[Idade])-2),ROW(A715)),5)","v":{"$error":"#NUM!"}}]
[null,{"$f":"INDEX(Tabela.frequencia[],SMALL(IF(Tabela.frequencia[Mês]=$L$2,ROW(Tabela.frequencia[id])-1),ROW(A716)),1)","v":{"$error":"#NUM!"}},{"$f":"INDEX(Tabela.frequencia[],SMALL(IF(Tabela.frequencia[Mês]=$L$2,ROW(Tabela.frequencia[id])-1),ROW(A716)),4)","v":{"$error":"#NUM!"}},null,{"$f":"IFERROR(VLOOKUP(D763,Tabela.cadastro[[ID]:[Nome]],2,0),\"\")","v":""},{"$f":"IFERROR(VLOOKUP(D763,Tabela66[#All],2,0),\"\")","v":""},{"$f":"IFERROR(VLOOKUP(D763,Tabela.cadastro[[ID]:[CP ou M]],5,0),\"\")","v":""},{"$f":"IFERROR(VLOOKUP(D763,Cadastros!A:F,6,0),\"\")","v":""},{"$f":"IFERROR(VLOOKUP(D763,Cadastros!A:I,9,0),\"\")","v":""},{"$f":"IFERROR(VLOOKUP(D763,Cadastros!A:J,10,0),\"\")","v":""},{"$f":"IF(COUNTIF(Tabela66[id],D763)=0,\"\",COUNTIF(Tabela66[id],D763))","v":""},null,"",null,null,{"$f":"IFERROR(VLOOKUP(O763,Cadastros!A:B,2),\"\")","v":""},"",{"$f":"IFERROR(VLOOKUP(O763,Cadastros!A:E,5,0),\"\")","v":""},{"$f":"IFERROR(VLOOKUP(O763,Cadastros!A:F,6,0),\"\")","v":""},{"$f":"IFERROR(VLOOKUP(O763,Cadastros!A:I,9,0),\"\")","v":""},"","","",null,{"$f":"INDEX(Tabela.abordagens[],SMALL(IF(Tabela.abordagens[Mês]=$L$2,ROW(Tabela.abordagens[id])-2),ROW(A716)),1)","v":{"$error":"#NUM!"}},{"$f":"INDEX(Tabela.abordagens[],SMALL(IF(Tabela.abordagens[Mês]=$L$2,ROW(Tabela.abordagens[Idade])-2),ROW(A716)),6)","v":{"$error":"#NUM!"}},{"$f":"INDEX(Tabela.abordagens[],SMALL(IF(Tabela.abordagens[Mês]=$L$2,ROW(Tabela.abordagens[Idade])-2),ROW(A716)),4)","v":{"$error":"#NUM!"}},{"$f":"INDEX(Tabela.abordagens[],SMALL(IF(Tabela.abordagens[Mês]=$L$2,ROW(Tabela.abordagens[Idade])-2),ROW(A716)),5)","v":{"$error":"#NUM!"}}]
[null,{"$f":"INDEX(Tabela.frequencia[],SMALL(IF(Tabela.frequencia[Mês]=$L$2,ROW(Tabela.frequencia[id])-1),ROW(A717)),1)","v":{"$error":"#NUM!"}},{"$f":"INDEX(Tabela.frequencia[],SMALL(IF(Tabela.frequencia[Mês]=$L$2,ROW(Tabela.frequencia[id])-1),ROW(A717)),4)","v":{"$error":"#NUM!"}},null,{"$f":"IFERROR(VLOOKUP(D764,Tabela.cadastro[[ID]:[Nome]],2,0),\"\")","v":""},{"$f":"IFERROR(VLOOKUP(D764,Tabela66[#All],2,0),\"\")","v":""},{"$f":"IFERROR(VLOOKUP(D764,Tabela.cadastro[[ID]:[CP ou M]],5,0),\"\")","v":""},{"$f":"IFERROR(VLOOKUP(D764,Cadastros!A:F,6,0),\"\")","v":""},{"$f":"IFERROR(VLOOKUP(D764,Cadastros!A:I,9,0),\"\")","v":""},{"$f":"IFERROR(VLOOKUP(D764,Cadastros!A:J,10,0),\"\")","v":""},{"$f":"IF(COUNTIF(Tabela66[id],D764)=0,\"\",COUNTIF(Tabela66[id],D764))","v":""},null,"",null,null,{"$f":"IFERROR(VLOOKUP(O764,Cadastros!A:B,2),\"\")","v":""},"",{"$f":"IFERROR(VLOOKUP(O764,Cadastros!A:E,5,0),\"\")","v":""},{"$f":"IFERROR(VLOOKUP(O764,Cadastros!A:F,6,0),\"\")","v":""},{"$f":"IFERROR(VLOOKUP(O764,Cadastros!A:I,9,0),\"\")","v":""},"","","",null,{"$f":"INDEX(Tabela.abordagens[],SMALL(IF(Tabela.abordagens[Mês]=$L$2,ROW(Tabela.abordagens[id])-2),ROW(A717)),1)","v":{"$error":"#NUM!"}},{"$f":"INDEX(Tabela.abordagens[],SMALL(IF(Tabela.abordagens[Mês]=$L$2,ROW(Tabela.abordagens[Idade])-2),ROW(A717)),6)","v":{"$error":"#NUM!"}},{"$f":"INDEX(Tabela.abordagens[],SMALL(IF(Tabela.abordagens[Mês]=$L$2,ROW(Tabela.abordagens[Idade])-2),ROW(A717)),4)","v":{"$error":"#NUM!"}},{"$f":"INDEX(Tabela.abordagens[],SMALL(IF(Tabela.abordagens[Mês]=$L$2,ROW(Tabela.abordagens[Idade])-2),ROW(A717)),5)","v":{"$error":"#NUM!"}}]
[null,{"$f":"INDEX(Tabela.frequencia[],SMALL(IF(Tabela.frequencia[Mês]=$L$2,ROW(Tabela.frequencia[id])-1),ROW(A718)),1)","v":{"$error":"#NUM!"}},{"$f":"INDEX(Tabela.frequencia[],SMALL(IF(Tabela.frequencia[Mês]=$L$2,ROW(Tabela.frequencia[id])-1),ROW(A718)),4)","v":{"$error":"#NUM!"}},null,{"$f":"IFERROR(VLOOKUP(D765,Tabela.cadastro[[ID]:[Nome]],2,0),\"\")","v":""},{"$f":"IFERROR(VLOOKUP(D765,Tabela66[#All],2,0),\"\")","v":""},{"$f":"IFERROR(VLOOKUP(D765,Tabela.cadastro[[ID]:[CP ou M]],5,0),\"\")","v":""},{"$f":"IFERROR(VLOOKUP(D765,Cadastros!A:F,6,0),\"\")","v":""},{"$f":"IFERROR(VLOOKUP(D765,Cadastros!A:I,9,0),\"\")","v":""},{"$f":"IFERROR(VLOOKUP(D765,Cadastros!A:J,10,0),\"\")","v":""},{"$f":"IF(COUNTIF(Tabela66[id],D765)=0,\"\",COUNTIF(Tabela66[id],D765))","v":""},null,"",null,null,{"$f":"IFERROR(VLOOKUP(O765,Cadastros!A:B,2),\"\")","v":""},"",{"$f":"IFERROR(VLOOKUP(O765,Cadastros!A:E,5,0),\"\")","v":""},{"$f":"IFERROR(VLOOKUP(O765,Cadastros!A:F,6,0),\"\")","v":""},{"$f":"IFERROR(VLOOKUP(O765,Cadastros!A:I,9,0),\"\")","v":""},"","","",null,{"$f":"INDEX(Tabela.abordagens[],SMALL(IF(Tabela.abordagens[Mês]=$L$2,ROW(Tabela.abordagens[id])-2),ROW(A718)),1)","v":{"$error":"#NUM!"}},{"$f":"INDEX(Tabela.abordagens[],SMALL(IF(Tabela.abordagens[Mês]=$L$2,ROW(Tabela.abordagens[Idade])-2),ROW(A718)),6)","v":{"$error":"#NUM!"}},{"$f":"INDEX(Tabela.abordagens[],SMALL(IF(Tabela.abordagens[Mês]=$L$2,ROW(Tabela.abordagens[Idade])-2),ROW(A718)),4)","v":{"$error":"#NUM!"}},{"$f":"INDEX(Tabela.abordagens[],SMALL(IF(Tabela.abordagens[Mês]=$L$2,ROW(Tabela.abordagens[Idade])-2),ROW(A718)),5)","v":{"$error":"#NUM!"}}]
[null,{"$f":"INDEX(Tabela.frequencia[],SMALL(IF(Tabela.frequencia[Mês]=$L$2,ROW(Tabela.frequencia[id])-1),ROW(A719)),1)","v":{"$error":"#NUM!"}},{"$f":"INDEX(Tabela.frequencia[],SMALL(IF(Tabela.frequencia[Mês]=$L$2,ROW(Tabela.frequencia[id])-1),ROW(A719)),4)","v":{"$error":"#NUM!"}},null,{"$f":"IFERROR(VLOOKUP(D766,Tabela.cadastro[[ID]:[Nome]],2,0),\"\")","v":""},{"$f":"IFERROR(VLOOKUP(D766,Tabela66[#All],2,0),\"\")","v":""},{"$f":"IFERROR(VLOOKUP(D766,Tabela.cadastro[[ID]:[CP ou M]],5,0),\"\")","v":""},{"$f":"IFERROR(VLOOKUP(D766,Cadastros!A:F,6,0),\"\")","v":""},{"$f":"IFERROR(VLOOKUP(D766,Cadastros!A:I,9,0),\"\")","v":""},{"$f":"IFERROR(VLOOKUP(D766,Cadastros!A:J,10,0),\"\")","v":""},{"$f":"IF(COUNTIF(Tabela66[id],D766)=0,\"\",COUNTIF(Tabela66[id],D766))","v":""},null,"",null,null,{"$f":"IFERROR(VLOOKUP(O766,Cadastros!A:B,2),\"\")","v":""},"",{"$f":"IFERROR(VLOOKUP(O766,Cadastros!A:E,5,0),\"\")","v":""},{"$f":"IFERROR(VLOOKUP(O766,Cadastros!A:F,6,0),\"\")","v":""},{"$f":"IFERROR(VLOOKUP(O766,Cadastros!A:I,9,0),\"\")","v":""},"","","",null,{"$f":"INDEX(Tabela.abordagens[],SMALL(IF(Tabela.abordagens[Mês]=$L$2,ROW(Tabela.abordagens[id])-2),ROW(A719)),1)","v":{"$error":"#NUM!"}},{"$f":"INDEX(Tabela.abordagens[],SMALL(IF(Tabela.abordagens[Mês]=$L$2,ROW(Tabela.abordagens[Idade])-2),ROW(A719)),6)","v":{"$error":"#NUM!"}},{"$f":"INDEX(Tabela.abordagens[],SMALL(IF(Tabela.abordagens[Mês]=$L$2,ROW(Tabela.abordagens[Idade])-2),ROW(A719)),4)","v":{"$error":"#NUM!"}},{"$f":"INDEX(Tabela.abordagens[],SMALL(IF(Tabela.abordagens[Mês]=$L$2,ROW(Tabela.abordagens[Idade])-2),ROW(A719)),5)","v":{"$error":"#NUM!"}}]
[null,{"$f":"INDEX(Tabela.frequencia[],SMALL(IF(Tabela.frequencia[Mês]=$L$2,ROW(Tabela.frequencia[id])-1),ROW(A720)),1)","v":{"$error":"#NUM!"}},{"$f":"INDEX(Tabela.frequencia[],SMALL(IF(Tabela.frequencia[Mês]=$L$2,ROW(Tabela.frequencia[id])-1),ROW(A720)),4)","v":{"$error":"#NUM!"}},null,{"$f":"IFERROR(VLOOKUP(D767,Tabela.cadastro[[ID]:[Nome]],2,0),\"\")","v":""},{"$f":"IFERROR(VLOOKUP(D767,Tabela66[#All],2,0),\"\")","v":""},{"$f":"IFERROR(VLOOKUP(D767,Tabela.cadastro[[ID]:[CP ou M]],5,0),\"\")","v":""},{"$f":"IFERROR(VLOOKUP(D767,Cadastros!A:F,6,0),\"\")","v":""},{"$f":"IFERROR(VLOOKUP(D767,Cadastros!A:I,9,0),\"\")","v":""},{"$f":"IFERROR(VLOOKUP(D767,Cadastros!A:J,10,0),\"\")","v":""},{"$f":"IF(COUNTIF(Tabela66[id],D767)=0,\"\",COUNTIF(Tabela66[id],D767))","v":""},null,"",null,null,{"$f":"IFERROR(VLOOKUP(O767,Cadastros!A:B,2),\"\")","v":""},"",{"$f":"IFERROR(VLOOKUP(O767,Cadastros!A:E,5,0),\"\")","v":""},{"$f":"IFERROR(VLOOKUP(O767,Cadastros!A:F,6,0),\"\")","v":""},{"$f":"IFERROR(VLOOKUP(O767,Cadastros!A:I,9,0),\"\")","v":""},"","","",null,{"$f":"INDEX(Tabela.abordagens[],SMALL(IF(Tabela.abordagens[Mês]=$L$2,ROW(Tabela.abordagens[id])-2),ROW(A720)),1)","v":{"$error":"#NUM!"}},{"$f":"INDEX(Tabela.abordagens[],SMALL(IF(Tabela.abordagens[Mês]=$L$2,ROW(Tabela.abordagens[Idade])-2),ROW(A720)),6)","v":{"$error":"#NUM!"}},{"$f":"INDEX(Tabela.abordagens[],SMALL(IF(Tabela.abordagens[Mês]=$L$2,ROW(Tabela.abordagens[Idade])-2),ROW(A720)),4)","v":{"$error":"#NUM!"}},{"$f":"INDEX(Tabela.abordagens[],SMALL(IF(Tabela.abordagens[Mês]=$L$2,ROW(Tabela.abordagens[Idade])-2),ROW(A720)),5)","v":{"$error":"#NUM!"}}]
[null,{"$f":"INDEX(Tabela.frequencia[],SMALL(IF(Tabela.frequencia[Mês]=$L$2,ROW(Tabela.frequencia[id])-1),ROW(A721)),1)","v":{"$error":"#NUM!"}},{"$f":"INDEX(Tabela.frequencia[],SMALL(IF(Tabela.frequencia[Mês]=$L$2,ROW(Tabela.frequencia[id])-1),ROW(A721)),4)","v":{"$error":"#NUM!"}},null,{"$f":"IFERROR(VLOOKUP(D768,Tabela.cadastro[[ID]:[Nome]],2,0),\"\")","v":""},{"$f":"IFERROR(VLOOKUP(D768,Tabela66[#All],2,0),\"\")","v":""},{"$f":"IFERROR(VLOOKUP(D768,Tabela.cadastro[[ID]:[CP ou M]],5,0),\"\")","v":""},{"$f":"IFERROR(VLOOKUP(D768,Cadastros!A:F,6,0),\"\")","v":""},{"$f":"IFERROR(VLOOKUP(D768,Cadastros!A:I,9,0),\"\")","v":""},{"$f":"IFERROR(VLOOKUP(D768,Cadastros!A:J,10,0),\"\")","v":""},{"$f":"IF(COUNTIF(Tabela66[id],D768)=0,\"\",COUNTIF(Tabela66[id],D768))","v":""},null,"",null,null,{"$f":"IFERROR(VLOOKUP(O768,Cadastros!A:B,2),\"\")","v":""},"",{"$f":"IFERROR(VLOOKUP(O768,Cadastros!A:E,5,0),\"\")","v":""},{"$f":"IFERROR(VLOOKUP(O768,Cadastros!A:F,6,0),\"\")","v":""},{"$f":"IFERROR(VLOOKUP(O768,Cadastros!A:I,9,0),\"\")","v":""},"","","",null,{"$f":"INDEX(Tabela.abordagens[],SMALL(IF(Tabela.abordagens[Mês]=$L$2,ROW(Tabela.abordagens[id])-2),ROW(A721)),1)","v":{"$error":"#NUM!"}},{"$f":"INDEX(Tabela.abordagens[],SMALL(IF(Tabela.abordagens[Mês]=$L$2,ROW(Tabela.abordagens[Idade])-2),ROW(A721)),6)","v":{"$error":"#NUM!"}},{"$f":"INDEX(Tabela.abordagens[],SMALL(IF(Tabela.abordagens[Mês]=$L$2,ROW(Tabela.abordagens[Idade])-2),ROW(A721)),4)","v":{"$error":"#NUM!"}},{"$f":"INDEX(Tabela.abordagens[],SMALL(IF(Tabela.abordagens[Mês]=$L$2,ROW(Tabela.abordagens[Idade])-2),ROW(A721)),5)","v":{"$error":"#NUM!"}}]
[null,{"$f":"INDEX(Tabela.frequencia[],SMALL(IF(Tabela.frequencia[Mês]=$L$2,ROW(Tabela.frequencia[id])-1),ROW(A722)),1)","v":{"$error":"#NUM!"}},{"$f":"INDEX(Tabela.frequencia[],SMALL(IF(Tabela.frequencia[Mês]=$L$2,ROW(Tabela.frequencia[id])-1),ROW(A722)),4)","v":{"$error":"#NUM!"}},null,{"$f":"IFERROR(VLOOKUP(D769,Tabela.cadastro[[ID]:[Nome]],2,0),\"\")","v":""},{"$f":"IFERROR(VLOOKUP(D769,Tabela66[#All],2,0),\"\")","v":""},{"$f":"IFERROR(VLOOKUP(D769,Tabela.cadastro[[ID]:[CP ou M]],5,0),\"\")","v":""},{"$f":"IFERROR(VLOOKUP(D769,Cadastros!A:F,6,0),\"\")","v":""},{"$f":"IFERROR(VLOOKUP(D769,Cadastros!A:I,9,0),\"\")","v":""},{"$f":"IFERROR(VLOOKUP(D769,Cadastros!A:J,10,0),\"\")","v":""},{"$f":"IF(COUNTIF(Tabela66[id],D769)=0,\"\",COUNTIF(Tabela66[id],D769))","v":""},null,"",null,null,{"$f":"IFERROR(VLOOKUP(O769,Cadastros!A:B,2),\"\")","v":""},"",{"$f":"IFERROR(VLOOKUP(O769,Cadastros!A:E,5,0),\"\")","v":""},{"$f":"IFERROR(VLOOKUP(O769,Cadastros!A:F,6,0),\"\")","v":""},{"$f":"IFERROR(VLOOKUP(O769,Cadastros!A:I,9,0),\"\")","v":""},"","","",null,{"$f":"INDEX(Tabela.abordagens[],SMALL(IF(Tabela.abordagens[Mês]=$L$2,ROW(Tabela.abordagens[id])-2),ROW(A722)),1)","v":{"$error":"#NUM!"}},{"$f":"INDEX(Tabela.abordagens[],SMALL(IF(Tabela.abordagens[Mês]=$L$2,ROW(Tabela.abordagens[Idade])-2),ROW(A722)),6)","v":{"$error":"#NUM!"}},{"$f":"INDEX(Tabela.abordagens[],SMALL(IF(Tabela.abordagens[Mês]=$L$2,ROW(Tabela.abordagens[Idade])-2),ROW(A722)),4)","v":{"$error":"#NUM!"}},{"$f":"INDEX(Tabela.abordagens[],SMALL(IF(Tabela.abordagens[Mês]=$L$2,ROW(Tabela.abordagens[Idade])-2),ROW(A722)),5)","v":{"$error":"#NUM!"}}]
[null,{"$f":"INDEX(Tabela.frequencia[],SMALL(IF(Tabela.frequencia[Mês]=$L$2,ROW(Tabela.frequencia[id])-1),ROW(A723)),1)","v":{"$error":"#NUM!"}},{"$f":"INDEX(Tabela.frequencia[],SMALL(IF(Tabela.frequencia[Mês]=$L$2,ROW(Tabela.frequencia[id])-1),ROW(A723)),4)","v":{"$error":"#NUM!"}},null,{"$f":"IFERROR(VLOOKUP(D770,Tabela.cadastro[[ID]:[Nome]],2,0),\"\")","v":""},{"$f":"IFERROR(VLOOKUP(D770,Tabela66[#All],2,0),\"\")","v":""},{"$f":"IFERROR(VLOOKUP(D770,Tabela.cadastro[[ID]:[CP ou M]],5,0),\"\")","v":""},{"$f":"IFERROR(VLOOKUP(D770,Cadastros!A:F,6,0),\"\")","v":""},{"$f":"IFERROR(VLOOKUP(D770,Cadastros!A:I,9,0),\"\")","v":""},{"$f":"IFERROR(VLOOKUP(D770,Cadastros!A:J,10,0),\"\")","v":""},{"$f":"IF(COUNTIF(Tabela66[id],D770)=0,\"\",COUNTIF(Tabela66[id],D770))","v":""},null,"",null,null,{"$f":"IFERROR(VLOOKUP(O770,Cadastros!A:B,2),\"\")","v":""},"",{"$f":"IFERROR(VLOOKUP(O770,Cadastros!A:E,5,0),\"\")","v":""},{"$f":"IFERROR(VLOOKUP(O770,Cadastros!A:F,6,0),\"\")","v":""},{"$f":"IFERROR(VLOOKUP(O770,Cadastros!A:I,9,0),\"\")","v":""},"","","",null,{"$f":"INDEX(Tabela.abordagens[],SMALL(IF(Tabela.abordagens[Mês]=$L$2,ROW(Tabela.abordagens[id])-2),ROW(A723)),1)","v":{"$error":"#NUM!"}},{"$f":"INDEX(Tabela.abordagens[],SMALL(IF(Tabela.abordagens[Mês]=$L$2,ROW(Tabela.abordagens[Idade])-2),ROW(A723)),6)","v":{"$error":"#NUM!"}},{"$f":"INDEX(Tabela.abordagens[],SMALL(IF(Tabela.abordagens[Mês]=$L$2,ROW(Tabela.abordagens[Idade])-2),ROW(A723)),4)","v":{"$error":"#NUM!"}},{"$f":"INDEX(Tabela.abordagens[],SMALL(IF(Tabela.abordagens[Mês]=$L$2,ROW(Tabela.abordagens[Idade])-2),ROW(A723)),5)","v":{"$error":"#NUM!"}}]
[null,{"$f":"INDEX(Tabela.frequencia[],SMALL(IF(Tabela.frequencia[Mês]=$L$2,ROW(Tabela.frequencia[id])-1),ROW(A724)),1)","v":{"$error":"#NUM!"}},{"$f":"INDEX(Tabela.frequencia[],SMALL(IF(Tabela.frequencia[Mês]=$L$2,ROW(Tabela.frequencia[id])-1),ROW(A724)),4)","v":{"$error":"#NUM!"}},null,{"$f":"IFERROR(VLOOKUP(D771,Tabela.cadastro[[ID]:[Nome]],2,0),\"\")","v":""},{"$f":"IFERROR(VLOOKUP(D771,Tabela66[#All],2,0),\"\")","v":""},{"$f":"IFERROR(VLOOKUP(D771,Tabela.cadastro[[ID]:[CP ou M]],5,0),\"\")","v":""},{"$f":"IFERROR(VLOOKUP(D771,Cadastros!A:F,6,0),\"\")","v":""},{"$f":"IFERROR(VLOOKUP(D771,Cadastros!A:I,9,0),\"\")","v":""},{"$f":"IFERROR(VLOOKUP(D771,Cadastros!A:J,10,0),\"\")","v":""},{"$f":"IF(COUNTIF(Tabela66[id],D771)=0,\"\",COUNTIF(Tabela66[id],D771))","v":""},null,"",null,null,{"$f":"IFERROR(VLOOKUP(O771,Cadastros!A:B,2),\"\")","v":""},"",{"$f":"IFERROR(VLOOKUP(O771,Cadastros!A:E,5,0),\"\")","v":""},{"$f":"IFERROR(VLOOKUP(O771,Cadastros!A:F,6,0),\"\")","v":""},{"$f":"IFERROR(VLOOKUP(O771,Cadastros!A:I,9,0),\"\")","v":""},"","","",null,{"$f":"INDEX(Tabela.abordagens[],SMALL(IF(Tabela.abordagens[Mês]=$L$2,ROW(Tabela.abordagens[id])-2),ROW(A724)),1)","v":{"$error":"#NUM!"}},{"$f":"INDEX(Tabela.abordagens[],SMALL(IF(Tabela.abordagens[Mês]=$L$2,ROW(Tabela.abordagens[Idade])-2),ROW(A724)),6)","v":{"$error":"#NUM!"}},{"$f":"INDEX(Tabela.abordagens[],SMALL(IF(Tabela.abordagens[Mês]=$L$2,ROW(Tabela.abordagens[Idade])-2),ROW(A724)),4)","v":{"$error":"#NUM!"}},{"$f":"INDEX(Tabela.abordagens[],SMALL(IF(Tabela.abordagens[Mês]=$L$2,ROW(Tabela.abordagens[Idade])-2),ROW(A724)),5)","v":{"$error":"#NUM!"}}]
[null,{"$f":"INDEX(Tabela.frequencia[],SMALL(IF(Tabela.frequencia[Mês]=$L$2,ROW(Tabela.frequencia[id])-1),ROW(A725)),1)","v":{"$error":"#NUM!"}},{"$f":"INDEX(Tabela.frequencia[],SMALL(IF(Tabela.frequencia[Mês]=$L$2,ROW(Tabela.frequencia[id])-1),ROW(A725)),4)","v":{"$error":"#NUM!"}},null,{"$f":"IFERROR(VLOOKUP(D772,Tabela.cadastro[[ID]:[Nome]],2,0),\"\")","v":""},{"$f":"IFERROR(VLOOKUP(D772,Tabela66[#All],2,0),\"\")","v":""},{"$f":"IFERROR(VLOOKUP(D772,Tabela.cadastro[[ID]:[CP ou M]],5,0),\"\")","v":""},{"$f":"IFERROR(VLOOKUP(D772,Cadastros!A:F,6,0),\"\")","v":""},{"$f":"IFERROR(VLOOKUP(D772,Cadastros!A:I,9,0),\"\")","v":""},{"$f":"IFERROR(VLOOKUP(D772,Cadastros!A:J,10,0),\"\")","v":""},{"$f":"IF(COUNTIF(Tabela66[id],D772)=0,\"\",COUNTIF(Tabela66[id],D772))","v":""},null,"",null,null,{"$f":"IFERROR(VLOOKUP(O772,Cadastros!A:B,2),\"\")","v":""},"",{"$f":"IFERROR(VLOOKUP(O772,Cadastros!A:E,5,0),\"\")","v":""},{"$f":"IFERROR(VLOOKUP(O772,Cadastros!A:F,6,0),\"\")","v":""},{"$f":"IFERROR(VLOOKUP(O772,Cadastros!A:I,9,0),\"\")","v":""},"","","",null,{"$f":"INDEX(Tabela.abordagens[],SMALL(IF(Tabela.abordagens[Mês]=$L$2,ROW(Tabela.abordagens[id])-2),ROW(A725)),1)","v":{"$error":"#NUM!"}},{"$f":"INDEX(Tabela.abordagens[],SMALL(IF(Tabela.abordagens[Mês]=$L$2,ROW(Tabela.abordagens[Idade])-2),ROW(A725)),6)","v":{"$error":"#NUM!"}},{"$f":"INDEX(Tabela.abordagens[],SMALL(IF(Tabela.abordagens[Mês]=$L$2,ROW(Tabela.abordagens[Idade])-2),ROW(A725)),4)","v":{"$error":"#NUM!"}},{"$f":"INDEX(Tabela.abordagens[],SMALL(IF(Tabela.abordagens[Mês]=$L$2,ROW(Tabela.abordagens[Idade])-2),ROW(A725)),5)","v":{"$error":"#NUM!"}}]
[null,{"$f":"INDEX(Tabela.frequencia[],SMALL(IF(Tabela.frequencia[Mês]=$L$2,ROW(Tabela.frequencia[id])-1),ROW(A726)),1)","v":{"$error":"#NUM!"}},{"$f":"INDEX(Tabela.frequencia[],SMALL(IF(Tabela.frequencia[Mês]=$L$2,ROW(Tabela.frequencia[id])-1),ROW(A726)),4)","v":{"$error":"#NUM!"}},null,{"$f":"IFERROR(VLOOKUP(D773,Tabela.cadastro[[ID]:[Nome]],2,0),\"\")","v":""},{"$f":"IFERROR(VLOOKUP(D773,Tabela66[#All],2,0),\"\")","v":""},{"$f":"IFERROR(VLOOKUP(D773,Tabela.cadastro[[ID]:[CP ou M]],5,0),\"\")","v":""},{"$f":"IFERROR(VLOOKUP(D773,Cadastros!A:F,6,0),\"\")","v":""},{"$f":"IFERROR(VLOOKUP(D773,Cadastros!A:I,9,0),\"\")","v":""},{"$f":"IFERROR(VLOOKUP(D773,Cadastros!A:J,10,0),\"\")","v":""},{"$f":"IF(COUNTIF(Tabela66[id],D773)=0,\"\",COUNTIF(Tabela66[id],D773))","v":""},null,"",null,null,{"$f":"IFERROR(VLOOKUP(O773,Cadastros!A:B,2),\"\")","v":""},"",{"$f":"IFERROR(VLOOKUP(O773,Cadastros!A:E,5,0),\"\")","v":""},{"$f":"IFERROR(VLOOKUP(O773,Cadastros!A:F,6,0),\"\")","v":""},{"$f":"IFERROR(VLOOKUP(O773,Cadastros!A:I,9,0),\"\")","v":""},"","","",null,{"$f":"INDEX(Tabela.abordagens[],SMALL(IF(Tabela.abordagens[Mês]=$L$2,ROW(Tabela.abordagens[id])-2),ROW(A726)),1)","v":{"$error":"#NUM!"}},{"$f":"INDEX(Tabela.abordagens[],SMALL(IF(Tabela.abordagens[Mês]=$L$2,ROW(Tabela.abordagens[Idade])-2),ROW(A726)),6)","v":{"$error":"#NUM!"}},{"$f":"INDEX(Tabela.abordagens[],SMALL(IF(Tabela.abordagens[Mês]=$L$2,ROW(Tabela.abordagens[Idade])-2),ROW(A726)),4)","v":{"$error":"#NUM!"}},{"$f":"INDEX(Tabela.abordagens[],SMALL(IF(Tabela.abordagens[Mês]=$L$2,ROW(Tabela.abordagens[Idade])-2),ROW(A726)),5)","v":{"$error":"#NUM!"}}]
[null,{"$f":"INDEX(Tabela.frequencia[],SMALL(IF(Tabela.frequencia[Mês]=$L$2,ROW(Tabela.frequencia[id])-1),ROW(A727)),1)","v":{"$error":"#NUM!"}},{"$f":"INDEX(Tabela.frequencia[],SMALL(IF(Tabela.frequencia[Mês]=$L$2,ROW(Tabela.frequencia[id])-1),ROW(A727)),4)","v":{"$error":"#NUM!"}},null,{"$f":"IFERROR(VLOOKUP(D774,Tabela.cadastro[[ID]:[Nome]],2,0),\"\")","v":""},{"$f":"IFERROR(VLOOKUP(D774,Tabela66[#All],2,0),\"\")","v":""},{"$f":"IFERROR(VLOOKUP(D774,Tabela.cadastro[[ID]:[CP ou M]],5,0),\"\")","v":""},{"$f":"IFERROR(VLOOKUP(D774,Cadastros!A:F,6,0),\"\")","v":""},{"$f":"IFERROR(VLOOKUP(D774,Cadastros!A:I,9,0),\"\")","v":""},{"$f":"IFERROR(VLOOKUP(D774,Cadastros!A:J,10,0),\"\")","v":""},{"$f":"IF(COUNTIF(Tabela66[id],D774)=0,\"\",COUNTIF(Tabela66[id],D774))","v":""},null,"",null,null,{"$f":"IFERROR(VLOOKUP(O774,Cadastros!A:B,2),\"\")","v":""},"",{"$f":"IFERROR(VLOOKUP(O774,Cadastros!A:E,5,0),\"\")","v":""},{"$f":"IFERROR(VLOOKUP(O774,Cadastros!A:F,6,0),\"\")","v":""},{"$f":"IFERROR(VLOOKUP(O774,Cadastros!A:I,9,0),\"\")","v":""},"","","",null,{"$f":"INDEX(Tabela.abordagens[],SMALL(IF(Tabela.abordagens[Mês]=$L$2,ROW(Tabela.abordagens[id])-2),ROW(A727)),1)","v":{"$error":"#NUM!"}},{"$f":"INDEX(Tabela.abordagens[],SMALL(IF(Tabela.abordagens[Mês]=$L$2,ROW(Tabela.abordagens[Idade])-2),ROW(A727)),6)","v":{"$error":"#NUM!"}},{"$f":"INDEX(Tabela.abordagens[],SMALL(IF(Tabela.abordagens[Mês]=$L$2,ROW(Tabela.abordagens[Idade])-2),ROW(A727)),4)","v":{"$error":"#NUM!"}},{"$f":"INDEX(Tabela.abordagens[],SMALL(IF(Tabela.abordagens[Mês]=$L$2,ROW(Tabela.abordagens[Idade])-2),ROW(A727)),5)","v":{"$error":"#NUM!"}}]
[null,{"$f":"INDEX(Tabela.frequencia[],SMALL(IF(Tabela.frequencia[Mês]=$L$2,ROW(Tabela.frequencia[id])-1),ROW(A728)),1)","v":{"$error":"#NUM!"}},{"$f":"INDEX(Tabela.frequencia[],SMALL(IF(Tabela.frequencia[Mês]=$L$2,ROW(Tabela.frequencia[id])-1),ROW(A728)),4)","v":{"$error":"#NUM!"}},null,{"$f":"IFERROR(VLOOKUP(D775,Tabela.cadastro[[ID]:[Nome]],2,0),\"\")","v":""},{"$f":"IFERROR(VLOOKUP(D775,Tabela66[#All],2,0),\"\")","v":""},{"$f":"IFERROR(VLOOKUP(D775,Tabela.cadastro[[ID]:[CP ou M]],5,0),\"\")","v":""},{"$f":"IFERROR(VLOOKUP(D775,Cadastros!A:F,6,0),\"\")","v":""},{"$f":"IFERROR(VLOOKUP(D775,Cadastros!A:I,9,0),\"\")","v":""},{"$f":"IFERROR(VLOOKUP(D775,Cadastros!A:J,10,0),\"\")","v":""},{"$f":"IF(COUNTIF(Tabela66[id],D775)=0,\"\",COUNTIF(Tabela66[id],D775))","v":""},null,"",null,null,{"$f":"IFERROR(VLOOKUP(O775,Cadastros!A:B,2),\"\")","v":""},"",{"$f":"IFERROR(VLOOKUP(O775,Cadastros!A:E,5,0),\"\")","v":""},{"$f":"IFERROR(VLOOKUP(O775,Cadastros!A:F,6,0),\"\")","v":""},{"$f":"IFERROR(VLOOKUP(O775,Cadastros!A:I,9,0),\"\")","v":""},"","","",null,{"$f":"INDEX(Tabela.abordagens[],SMALL(IF(Tabela.abordagens[Mês]=$L$2,ROW(Tabela.abordagens[id])-2),ROW(A728)),1)","v":{"$error":"#NUM!"}},{"$f":"INDEX(Tabela.abordagens[],SMALL(IF(Tabela.abordagens[Mês]=$L$2,ROW(Tabela.abordagens[Idade])-2),ROW(A728)),6)","v":{"$error":"#NUM!"}},{"$f":"INDEX(Tabela.abordagens[],SMALL(IF(Tabela.abordagens[Mês]=$L$2,ROW(Tabela.abordagens[Idade])-2),ROW(A728)),4)","v":{"$error":"#NUM!"}},{"$f":"INDEX(Tabela.abordagens[],SMALL(IF(Tabela.abordagens[Mês]=$L$2,ROW(Tabela.abordagens[Idade])-2),ROW(A728)),5)","v":{"$error":"#NUM!"}}]
[null,{"$f":"INDEX(Tabela.frequencia[],SMALL(IF(Tabela.frequencia[Mês]=$L$2,ROW(Tabela.frequencia[id])-1),ROW(A729)),1)","v":{"$error":"#NUM!"}},{"$f":"INDEX(Tabela.frequencia[],SMALL(IF(Tabela.frequencia[Mês]=$L$2,ROW(Tabela.frequencia[id])-1),ROW(A729)),4)","v":{"$error":"#NUM!"}},null,{"$f":"IFERROR(VLOOKUP(D776,Tabela.cadastro[[ID]:[Nome]],2,0),\"\")","v":""},{"$f":"IFERROR(VLOOKUP(D776,Tabela66[#All],2,0),\"\")","v":""},{"$f":"IFERROR(VLOOKUP(D776,Tabela.cadastro[[ID]:[CP ou M]],5,0),\"\")","v":""},{"$f":"IFERROR(VLOOKUP(D776,Cadastros!A:F,6,0),\"\")","v":""},{"$f":"IFERROR(VLOOKUP(D776,Cadastros!A:I,9,0),\"\")","v":""},{"$f":"IFERROR(VLOOKUP(D776,Cadastros!A:J,10,0),\"\")","v":""},{"$f":"IF(COUNTIF(Tabela66[id],D776)=0,\"\",COUNTIF(Tabela66[id],D776))","v":""},null,"",null,null,{"$f":"IFERROR(VLOOKUP(O776,Cadastros!A:B,2),\"\")","v":""},"",{"$f":"IFERROR(VLOOKUP(O776,Cadastros!A:E,5,0),\"\")","v":""},{"$f":"IFERROR(VLOOKUP(O776,Cadastros!A:F,6,0),\"\")","v":""},{"$f":"IFERROR(VLOOKUP(O776,Cadastros!A:I,9,0),\"\")","v":""},"","","",null,{"$f":"INDEX(Tabela.abordagens[],SMALL(IF(Tabela.abordagens[Mês]=$L$2,ROW(Tabela.abordagens[id])-2),ROW(A729)),1)","v":{"$error":"#NUM!"}},{"$f":"INDEX(Tabela.abordagens[],SMALL(IF(Tabela.abordagens[Mês]=$L$2,ROW(Tabela.abordagens[Idade])-2),ROW(A729)),6)","v":{"$error":"#NUM!"}},{"$f":"INDEX(Tabela.abordagens[],SMALL(IF(Tabela.abordagens[Mês]=$L$2,ROW(Tabela.abordagens[Idade])-2),ROW(A729)),4)","v":{"$error":"#NUM!"}},{"$f":"INDEX(Tabela.abordagens[],SMALL(IF(Tabela.abordagens[Mês]=$L$2,ROW(Tabela.abordagens[Idade])-2),ROW(A729)),5)","v":{"$error":"#NUM!"}}]
[null,{"$f":"INDEX(Tabela.frequencia[],SMALL(IF(Tabela.frequencia[Mês]=$L$2,ROW(Tabela.frequencia[id])-1),ROW(A730)),1)","v":{"$error":"#NUM!"}},{"$f":"INDEX(Tabela.frequencia[],SMALL(IF(Tabela.frequencia[Mês]=$L$2,ROW(Tabela.frequencia[id])-1),ROW(A730)),4)","v":{"$error":"#NUM!"}},null,{"$f":"IFERROR(VLOOKUP(D777,Tabela.cadastro[[ID]:[Nome]],2,0),\"\")","v":""},{"$f":"IFERROR(VLOOKUP(D777,Tabela66[#All],2,0),\"\")","v":""},{"$f":"IFERROR(VLOOKUP(D777,Tabela.cadastro[[ID]:[CP ou M]],5,0),\"\")","v":""},{"$f":"IFERROR(VLOOKUP(D777,Cadastros!A:F,6,0),\"\")","v":""},{"$f":"IFERROR(VLOOKUP(D777,Cadastros!A:I,9,0),\"\")","v":""},{"$f":"IFERROR(VLOOKUP(D777,Cadastros!A:J,10,0),\"\")","v":""},{"$f":"IF(COUNTIF(Tabela66[id],D777)=0,\"\",COUNTIF(Tabela66[id],D777))","v":""},null,"",null,null,{"$f":"IFERROR(VLOOKUP(O777,Cadastros!A:B,2),\"\")","v":""},"",{"$f":"IFERROR(VLOOKUP(O777,Cadastros!A:E,5,0),\"\")","v":""},{"$f":"IFERROR(VLOOKUP(O777,Cadastros!A:F,6,0),\"\")","v":""},{"$f":"IFERROR(VLOOKUP(O777,Cadastros!A:I,9,0),\"\")","v":""},"","","",null,{"$f":"INDEX(Tabela.abordagens[],SMALL(IF(Tabela.abordagens[Mês]=$L$2,ROW(Tabela.abordagens[id])-2),ROW(A730)),1)","v":{"$error":"#NUM!"}},{"$f":"INDEX(Tabela.abordagens[],SMALL(IF(Tabela.abordagens[Mês]=$L$2,ROW(Tabela.abordagens[Idade])-2),ROW(A730)),6)","v":{"$error":"#NUM!"}},{"$f":"INDEX(Tabela.abordagens[],SMALL(IF(Tabela.abordagens[Mês]=$L$2,ROW(Tabela.abordagens[Idade])-2),ROW(A730)),4)","v":{"$error":"#NUM!"}},{"$f":"INDEX(Tabela.abordagens[],SMALL(IF(Tabela.abordagens[Mês]=$L$2,ROW(Tabela.abordagens[Idade])-2),ROW(A730)),5)","v":{"$error":"#NUM!"}}]
[null,{"$f":"INDEX(Tabela.frequencia[],SMALL(IF(Tabela.frequencia[Mês]=$L$2,ROW(Tabela.frequencia[id])-1),ROW(A731)),1)","v":{"$error":"#NUM!"}},{"$f":"INDEX(Tabela.frequencia[],SMALL(IF(Tabela.frequencia[Mês]=$L$2,ROW(Tabela.frequencia[id])-1),ROW(A731)),4)","v":{"$error":"#NUM!"}},null,{"$f":"IFERROR(VLOOKUP(D778,Tabela.cadastro[[ID]:[Nome]],2,0),\"\")","v":""},{"$f":"IFERROR(VLOOKUP(D778,Tabela66[#All],2,0),\"\")","v":""},{"$f":"IFERROR(VLOOKUP(D778,Tabela.cadastro[[ID]:[CP ou M]],5,0),\"\")","v":""},{"$f":"IFERROR(VLOOKUP(D778,Cadastros!A:F,6,0),\"\")","v":""},{"$f":"IFERROR(VLOOKUP(D778,Cadastros!A:I,9,0),\"\")","v":""},{"$f":"IFERROR(VLOOKUP(D778,Cadastros!A:J,10,0),\"\")","v":""},{"$f":"IF(COUNTIF(Tabela66[id],D778)=0,\"\",COUNTIF(Tabela66[id],D778))","v":""},null,"",null,null,{"$f":"IFERROR(VLOOKUP(O778,Cadastros!A:B,2),\"\")","v":""},"",{"$f":"IFERROR(VLOOKUP(O778,Cadastros!A:E,5,0),\"\")","v":""},{"$f":"IFERROR(VLOOKUP(O778,Cadastros!A:F,6,0),\"\")","v":""},{"$f":"IFERROR(VLOOKUP(O778,Cadastros!A:I,9,0),\"\")","v":""},"","","",null,{"$f":"INDEX(Tabela.abordagens[],SMALL(IF(Tabela.abordagens[Mês]=$L$2,ROW(Tabela.abordagens[id])-2),ROW(A731)),1)","v":{"$error":"#NUM!"}},{"$f":"INDEX(Tabela.abordagens[],SMALL(IF(Tabela.abordagens[Mês]=$L$2,ROW(Tabela.abordagens[Idade])-2),ROW(A731)),6)","v":{"$error":"#NUM!"}},{"$f":"INDEX(Tabela.abordagens[],SMALL(IF(Tabela.abordagens[Mês]=$L$2,ROW(Tabela.abordagens[Idade])-2),ROW(A731)),4)","v":{"$error":"#NUM!"}},{"$f":"INDEX(Tabela.abordagens[],SMALL(IF(Tabela.abordagens[Mês]=$L$2,ROW(Tabela.abordagens[Idade])-2),ROW(A731)),5)","v":{"$error":"#NUM!"}}]
[null,{"$f":"INDEX(Tabela.frequencia[],SMALL(IF(Tabela.frequencia[Mês]=$L$2,ROW(Tabela.frequencia[id])-1),ROW(A732)),1)","v":{"$error":"#NUM!"}},{"$f":"INDEX(Tabela.frequencia[],SMALL(IF(Tabela.frequencia[Mês]=$L$2,ROW(Tabela.frequencia[id])-1),ROW(A732)),4)","v":{"$error":"#NUM!"}},null,{"$f":"IFERROR(VLOOKUP(D779,Tabela.cadastro[[ID]:[Nome]],2,0),\"\")","v":""},{"$f":"IFERROR(VLOOKUP(D779,Tabela66[#All],2,0),\"\")","v":""},{"$f":"IFERROR(VLOOKUP(D779,Tabela.cadastro[[ID]:[CP ou M]],5,0),\"\")","v":""},{"$f":"IFERROR(VLOOKUP(D779,Cadastros!A:F,6,0),\"\")","v":""},{"$f":"IFERROR(VLOOKUP(D779,Cadastros!A:I,9,0),\"\")","v":""},{"$f":"IFERROR(VLOOKUP(D779,Cadastros!A:J,10,0),\"\")","v":""},{"$f":"IF(COUNTIF(Tabela66[id],D779)=0,\"\",COUNTIF(Tabela66[id],D779))","v":""},null,"",null,null,{"$f":"IFERROR(VLOOKUP(O779,Cadastros!A:B,2),\"\")","v":""},"",{"$f":"IFERROR(VLOOKUP(O779,Cadastros!A:E,5,0),\"\")","v":""},{"$f":"IFERROR(VLOOKUP(O779,Cadastros!A:F,6,0),\"\")","v":""},{"$f":"IFERROR(VLOOKUP(O779,Cadastros!A:I,9,0),\"\")","v":""},"","","",null,{"$f":"INDEX(Tabela.abordagens[],SMALL(IF(Tabela.abordagens[Mês]=$L$2,ROW(Tabela.abordagens[id])-2),ROW(A732)),1)","v":{"$error":"#NUM!"}},{"$f":"INDEX(Tabela.abordagens[],SMALL(IF(Tabela.abordagens[Mês]=$L$2,ROW(Tabela.abordagens[Idade])-2),ROW(A732)),6)","v":{"$error":"#NUM!"}},{"$f":"INDEX(Tabela.abordagens[],SMALL(IF(Tabela.abordagens[Mês]=$L$2,ROW(Tabela.abordagens[Idade])-2),ROW(A732)),4)","v":{"$error":"#NUM!"}},{"$f":"INDEX(Tabela.abordagens[],SMALL(IF(Tabela.abordagens[Mês]=$L$2,ROW(Tabela.abordagens[Idade])-2),ROW(A732)),5)","v":{"$error":"#NUM!"}}]
[null,{"$f":"INDEX(Tabela.frequencia[],SMALL(IF(Tabela.frequencia[Mês]=$L$2,ROW(Tabela.frequencia[id])-1),ROW(A733)),1)","v":{"$error":"#NUM!"}},{"$f":"INDEX(Tabela.frequencia[],SMALL(IF(Tabela.frequencia[Mês]=$L$2,ROW(Tabela.frequencia[id])-1),ROW(A733)),4)","v":{"$error":"#NUM!"}},null,{"$f":"IFERROR(VLOOKUP(D780,Tabela.cadastro[[ID]:[Nome]],2,0),\"\")","v":""},{"$f":"IFERROR(VLOOKUP(D780,Tabela66[#All],2,0),\"\")","v":""},{"$f":"IFERROR(VLOOKUP(D780,Tabela.cadastro[[ID]:[CP ou M]],5,0),\"\")","v":""},{"$f":"IFERROR(VLOOKUP(D780,Cadastros!A:F,6,0),\"\")","v":""},{"$f":"IFERROR(VLOOKUP(D780,Cadastros!A:I,9,0),\"\")","v":""},{"$f":"IFERROR(VLOOKUP(D780,Cadastros!A:J,10,0),\"\")","v":""},{"$f":"IF(COUNTIF(Tabela66[id],D780)=0,\"\",COUNTIF(Tabela66[id],D780))","v":""},null,"",null,null,{"$f":"IFERROR(VLOOKUP(O780,Cadastros!A:B,2),\"\")","v":""},"",{"$f":"IFERROR(VLOOKUP(O780,Cadastros!A:E,5,0),\"\")","v":""},{"$f":"IFERROR(VLOOKUP(O780,Cadastros!A:F,6,0),\"\")","v":""},{"$f":"IFERROR(VLOOKUP(O780,Cadastros!A:I,9,0),\"\")","v":""},"","","",null,{"$f":"INDEX(Tabela.abordagens[],SMALL(IF(Tabela.abordagens[Mês]=$L$2,ROW(Tabela.abordagens[id])-2),ROW(A733)),1)","v":{"$error":"#NUM!"}},{"$f":"INDEX(Tabela.abordagens[],SMALL(IF(Tabela.abordagens[Mês]=$L$2,ROW(Tabela.abordagens[Idade])-2),ROW(A733)),6)","v":{"$error":"#NUM!"}},{"$f":"INDEX(Tabela.abordagens[],SMALL(IF(Tabela.abordagens[Mês]=$L$2,ROW(Tabela.abordagens[Idade])-2),ROW(A733)),4)","v":{"$error":"#NUM!"}},{"$f":"INDEX(Tabela.abordagens[],SMALL(IF(Tabela.abordagens[Mês]=$L$2,ROW(Tabela.abordagens[Idade])-2),ROW(A733)),5)","v":{"$error":"#NUM!"}}]
[null,{"$f":"INDEX(Tabela.frequencia[],SMALL(IF(Tabela.frequencia[Mês]=$L$2,ROW(Tabela.frequencia[id])-1),ROW(A734)),1)","v":{"$error":"#NUM!"}},{"$f":"INDEX(Tabela.frequencia[],SMALL(IF(Tabela.frequencia[Mês]=$L$2,ROW(Tabela.frequencia[id])-1),ROW(A734)),4)","v":{"$error":"#NUM!"}},null,{"$f":"IFERROR(VLOOKUP(D781,Tabela.cadastro[[ID]:[Nome]],2,0),\"\")","v":""},{"$f":"IFERROR(VLOOKUP(D781,Tabela66[#All],2,0),\"\")","v":""},{"$f":"IFERROR(VLOOKUP(D781,Tabela.cadastro[[ID]:[CP ou M]],5,0),\"\")","v":""},{"$f":"IFERROR(VLOOKUP(D781,Cadastros!A:F,6,0),\"\")","v":""},{"$f":"IFERROR(VLOOKUP(D781,Cadastros!A:I,9,0),\"\")","v":""},{"$f":"IFERROR(VLOOKUP(D781,Cadastros!A:J,10,0),\"\")","v":""},{"$f":"IF(COUNTIF(Tabela66[id],D781)=0,\"\",COUNTIF(Tabela66[id],D781))","v":""},null,"",null,null,{"$f":"IFERROR(VLOOKUP(O781,Cadastros!A:B,2),\"\")","v":""},"",{"$f":"IFERROR(VLOOKUP(O781,Cadastros!A:E,5,0),\"\")","v":""},{"$f":"IFERROR(VLOOKUP(O781,Cadastros!A:F,6,0),\"\")","v":""},{"$f":"IFERROR(VLOOKUP(O781,Cadastros!A:I,9,0),\"\")","v":""},"","","",null,{"$f":"INDEX(Tabela.abordagens[],SMALL(IF(Tabela.abordagens[Mês]=$L$2,ROW(Tabela.abordagens[id])-2),ROW(A734)),1)","v":{"$error":"#NUM!"}},{"$f":"INDEX(Tabela.abordagens[],SMALL(IF(Tabela.abordagens[Mês]=$L$2,ROW(Tabela.abordagens[Idade])-2),ROW(A734)),6)","v":{"$error":"#NUM!"}},{"$f":"INDEX(Tabela.abordagens[],SMALL(IF(Tabela.abordagens[Mês]=$L$2,ROW(Tabela.abordagens[Idade])-2),ROW(A734)),4)","v":{"$error":"#NUM!"}},{"$f":"INDEX(Tabela.abordagens[],SMALL(IF(Tabela.abordagens[Mês]=$L$2,ROW(Tabela.abordagens[Idade])-2),ROW(A734)),5)","v":{"$error":"#NUM!"}}]
[null,{"$f":"INDEX(Tabela.frequencia[],SMALL(IF(Tabela.frequencia[Mês]=$L$2,ROW(Tabela.frequencia[id])-1),ROW(A735)),1)","v":{"$error":"#NUM!"}},{"$f":"INDEX(Tabela.frequencia[],SMALL(IF(Tabela.frequencia[Mês]=$L$2,ROW(Tabela.frequencia[id])-1),ROW(A735)),4)","v":{"$error":"#NUM!"}},null,{"$f":"IFERROR(VLOOKUP(D782,Tabela.cadastro[[ID]:[Nome]],2,0),\"\")","v":""},{"$f":"IFERROR(VLOOKUP(D782,Tabela66[#All],2,0),\"\")","v":""},{"$f":"IFERROR(VLOOKUP(D782,Tabela.cadastro[[ID]:[CP ou M]],5,0),\"\")","v":""},{"$f":"IFERROR(VLOOKUP(D782,Cadastros!A:F,6,0),\"\")","v":""},{"$f":"IFERROR(VLOOKUP(D782,Cadastros!A:I,9,0),\"\")","v":""},{"$f":"IFERROR(VLOOKUP(D782,Cadastros!A:J,10,0),\"\")","v":""},{"$f":"IF(COUNTIF(Tabela66[id],D782)=0,\"\",COUNTIF(Tabela66[id],D782))","v":""},null,"",null,null,{"$f":"IFERROR(VLOOKUP(O782,Cadastros!A:B,2),\"\")","v":""},"",{"$f":"IFERROR(VLOOKUP(O782,Cadastros!A:E,5,0),\"\")","v":""},{"$f":"IFERROR(VLOOKUP(O782,Cadastros!A:F,6,0),\"\")","v":""},{"$f":"IFERROR(VLOOKUP(O782,Cadastros!A:I,9,0),\"\")","v":""},"","","",null,{"$f":"INDEX(Tabela.abordagens[],SMALL(IF(Tabela.abordagens[Mês]=$L$2,ROW(Tabela.abordagens[id])-2),ROW(A735)),1)","v":{"$error":"#NUM!"}},{"$f":"INDEX(Tabela.abordagens[],SMALL(IF(Tabela.abordagens[Mês]=$L$2,ROW(Tabela.abordagens[Idade])-2),ROW(A735)),6)","v":{"$error":"#NUM!"}},{"$f":"INDEX(Tabela.abordagens[],SMALL(IF(Tabela.abordagens[Mês]=$L$2,ROW(Tabela.abordagens[Idade])-2),ROW(A735)),4)","v":{"$error":"#NUM!"}},{"$f":"INDEX(Tabela.abordagens[],SMALL(IF(Tabela.abordagens[Mês]=$L$2,ROW(Tabela.abordagens[Idade])-2),ROW(A735)),5)","v":{"$error":"#NUM!"}}]
[null,{"$f":"INDEX(Tabela.frequencia[],SMALL(IF(Tabela.frequencia[Mês]=$L$2,ROW(Tabela.frequencia[id])-1),ROW(A736)),1)","v":{"$error":"#NUM!"}},{"$f":"INDEX(Tabela.frequencia[],SMALL(IF(Tabela.frequencia[Mês]=$L$2,ROW(Tabela.frequencia[id])-1),ROW(A736)),4)","v":{"$error":"#NUM!"}},null,{"$f":"IFERROR(VLOOKUP(D783,Tabela.cadastro[[ID]:[Nome]],2,0),\"\")","v":""},{"$f":"IFERROR(VLOOKUP(D783,Tabela66[#All],2,0),\"\")","v":""},{"$f":"IFERROR(VLOOKUP(D783,Tabela.cadastro[[ID]:[CP ou M]],5,0),\"\")","v":""},{"$f":"IFERROR(VLOOKUP(D783,Cadastros!A:F,6,0),\"\")","v":""},{"$f":"IFERROR(VLOOKUP(D783,Cadastros!A:I,9,0),\"\")","v":""},{"$f":"IFERROR(VLOOKUP(D783,Cadastros!A:J,10,0),\"\")","v":""},{"$f":"IF(COUNTIF(Tabela66[id],D783)=0,\"\",COUNTIF(Tabela66[id],D783))","v":""},null,"",null,null,{"$f":"IFERROR(VLOOKUP(O783,Cadastros!A:B,2),\"\")","v":""},"",{"$f":"IFERROR(VLOOKUP(O783,Cadastros!A:E,5,0),\"\")","v":""},{"$f":"IFERROR(VLOOKUP(O783,Cadastros!A:F,6,0),\"\")","v":""},{"$f":"IFERROR(VLOOKUP(O783,Cadastros!A:I,9,0),\"\")","v":""},"","","",null,{"$f":"INDEX(Tabela.abordagens[],SMALL(IF(Tabela.abordagens[Mês]=$L$2,ROW(Tabela.abordagens[id])-2),ROW(A736)),1)","v":{"$error":"#NUM!"}},{"$f":"INDEX(Tabela.abordagens[],SMALL(IF(Tabela.abordagens[Mês]=$L$2,ROW(Tabela.abordagens[Idade])-2),ROW(A736)),6)","v":{"$error":"#NUM!"}},{"$f":"INDEX(Tabela.abordagens[],SMALL(IF(Tabela.abordagens[Mês]=$L$2,ROW(Tabela.abordagens[Idade])-2),ROW(A736)),4)","v":{"$error":"#NUM!"}},{"$f":"INDEX(Tabela.abordagens[],SMALL(IF(Tabela.abordagens[Mês]=$L$2,ROW(Tabela.abordagens[Idade])-2),ROW(A736)),5)","v":{"$error":"#NUM!"}}]
[null,{"$f":"INDEX(Tabela.frequencia[],SMALL(IF(Tabela.frequencia[Mês]=$L$2,ROW(Tabela.frequencia[id])-1),ROW(A737)),1)","v":{"$error":"#NUM!"}},{"$f":"INDEX(Tabela.frequencia[],SMALL(IF(Tabela.frequencia[Mês]=$L$2,ROW(Tabela.frequencia[id])-1),ROW(A737)),4)","v":{"$error":"#NUM!"}},null,{"$f":"IFERROR(VLOOKUP(D784,Tabela.cadastro[[ID]:[Nome]],2,0),\"\")","v":""},{"$f":"IFERROR(VLOOKUP(D784,Tabela66[#All],2,0),\"\")","v":""},{"$f":"IFERROR(VLOOKUP(D784,Tabela.cadastro[[ID]:[CP ou M]],5,0),\"\")","v":""},{"$f":"IFERROR(VLOOKUP(D784,Cadastros!A:F,6,0),\"\")","v":""},{"$f":"IFERROR(VLOOKUP(D784,Cadastros!A:I,9,0),\"\")","v":""},{"$f":"IFERROR(VLOOKUP(D784,Cadastros!A:J,10,0),\"\")","v":""},{"$f":"IF(COUNTIF(Tabela66[id],D784)=0,\"\",COUNTIF(Tabela66[id],D784))","v":""},null,"",null,null,{"$f":"IFERROR(VLOOKUP(O784,Cadastros!A:B,2),\"\")","v":""},"",{"$f":"IFERROR(VLOOKUP(O784,Cadastros!A:E,5,0),\"\")","v":""},{"$f":"IFERROR(VLOOKUP(O784,Cadastros!A:F,6,0),\"\")","v":""},{"$f":"IFERROR(VLOOKUP(O784,Cadastros!A:I,9,0),\"\")","v":""},"","","",null,{"$f":"INDEX(Tabela.abordagens[],SMALL(IF(Tabela.abordagens[Mês]=$L$2,ROW(Tabela.abordagens[id])-2),ROW(A737)),1)","v":{"$error":"#NUM!"}},{"$f":"INDEX(Tabela.abordagens[],SMALL(IF(Tabela.abordagens[Mês]=$L$2,ROW(Tabela.abordagens[Idade])-2),ROW(A737)),6)","v":{"$error":"#NUM!"}},{"$f":"INDEX(Tabela.abordagens[],SMALL(IF(Tabela.abordagens[Mês]=$L$2,ROW(Tabela.abordagens[Idade])-2),ROW(A737)),4)","v":{"$error":"#NUM!"}},{"$f":"INDEX(Tabela.abordagens[],SMALL(IF(Tabela.abordagens[Mês]=$L$2,ROW(Tabela.abordagens[Idade])-2),ROW(A737)),5)","v":{"$error":"#NUM!"}}]
[null,{"$f":"INDEX(Tabela.frequencia[],SMALL(IF(Tabela.frequencia[Mês]=$L$2,ROW(Tabela.frequencia[id])-1),ROW(A738)),1)","v":{"$error":"#NUM!"}},{"$f":"INDEX(Tabela.frequencia[],SMALL(IF(Tabela.frequencia[Mês]=$L$2,ROW(Tabela.frequencia[id])-1),ROW(A738)),4)","v":{"$error":"#NUM!"}},null,{"$f":"IFERROR(VLOOKUP(D785,Tabela.cadastro[[ID]:[Nome]],2,0),\"\")","v":""},{"$f":"IFERROR(VLOOKUP(D785,Tabela66[#All],2,0),\"\")","v":""},{"$f":"IFERROR(VLOOKUP(D785,Tabela.cadastro[[ID]:[CP ou M]],5,0),\"\")","v":""},{"$f":"IFERROR(VLOOKUP(D785,Cadastros!A:F,6,0),\"\")","v":""},{"$f":"IFERROR(VLOOKUP(D785,Cadastros!A:I,9,0),\"\")","v":""},{"$f":"IFERROR(VLOOKUP(D785,Cadastros!A:J,10,0),\"\")","v":""},{"$f":"IF(COUNTIF(Tabela66[id],D785)=0,\"\",COUNTIF(Tabela66[id],D785))","v":""},null,"",null,null,{"$f":"IFERROR(VLOOKUP(O785,Cadastros!A:B,2),\"\")","v":""},"",{"$f":"IFERROR(VLOOKUP(O785,Cadastros!A:E,5,0),\"\")","v":""},{"$f":"IFERROR(VLOOKUP(O785,Cadastros!A:F,6,0),\"\")","v":""},{"$f":"IFERROR(VLOOKUP(O785,Cadastros!A:I,9,0),\"\")","v":""},"","","",null,{"$f":"INDEX(Tabela.abordagens[],SMALL(IF(Tabela.abordagens[Mês]=$L$2,ROW(Tabela.abordagens[id])-2),ROW(A738)),1)","v":{"$error":"#NUM!"}},{"$f":"INDEX(Tabela.abordagens[],SMALL(IF(Tabela.abordagens[Mês]=$L$2,ROW(Tabela.abordagens[Idade])-2),ROW(A738)),6)","v":{"$error":"#NUM!"}},{"$f":"INDEX(Tabela.abordagens[],SMALL(IF(Tabela.abordagens[Mês]=$L$2,ROW(Tabela.abordagens[Idade])-2),ROW(A738)),4)","v":{"$error":"#NUM!"}},{"$f":"INDEX(Tabela.abordagens[],SMALL(IF(Tabela.abordagens[Mês]=$L$2,ROW(Tabela.abordagens[Idade])-2),ROW(A738)),5)","v":{"$error":"#NUM!"}}]
[null,{"$f":"INDEX(Tabela.frequencia[],SMALL(IF(Tabela.frequencia[Mês]=$L$2,ROW(Tabela.frequencia[id])-1),ROW(A739)),1)","v":{"$error":"#NUM!"}},{"$f":"INDEX(Tabela.frequencia[],SMALL(IF(Tabela.frequencia[Mês]=$L$2,ROW(Tabela.frequencia[id])-1),ROW(A739)),4)","v":{"$error":"#NUM!"}},null,{"$f":"IFERROR(VLOOKUP(D786,Tabela.cadastro[[ID]:[Nome]],2,0),\"\")","v":""},{"$f":"IFERROR(VLOOKUP(D786,Tabela66[#All],2,0),\"\")","v":""},{"$f":"IFERROR(VLOOKUP(D786,Tabela.cadastro[[ID]:[CP ou M]],5,0),\"\")","v":""},{"$f":"IFERROR(VLOOKUP(D786,Cadastros!A:F,6,0),\"\")","v":""},{"$f":"IFERROR(VLOOKUP(D786,Cadastros!A:I,9,0),\"\")","v":""},{"$f":"IFERROR(VLOOKUP(D786,Cadastros!A:J,10,0),\"\")","v":""},{"$f":"IF(COUNTIF(Tabela66[id],D786)=0,\"\",COUNTIF(Tabela66[id],D786))","v":""},null,"",null,null,{"$f":"IFERROR(VLOOKUP(O786,Cadastros!A:B,2),\"\")","v":""},"",{"$f":"IFERROR(VLOOKUP(O786,Cadastros!A:E,5,0),\"\")","v":""},{"$f":"IFERROR(VLOOKUP(O786,Cadastros!A:F,6,0),\"\")","v":""},{"$f":"IFERROR(VLOOKUP(O786,Cadastros!A:I,9,0),\"\")","v":""},"","","",null,{"$f":"INDEX(Tabela.abordagens[],SMALL(IF(Tabela.abordagens[Mês]=$L$2,ROW(Tabela.abordagens[id])-2),ROW(A739)),1)","v":{"$error":"#NUM!"}},{"$f":"INDEX(Tabela.abordagens[],SMALL(IF(Tabela.abordagens[Mês]=$L$2,ROW(Tabela.abordagens[Idade])-2),ROW(A739)),6)","v":{"$error":"#NUM!"}},{"$f":"INDEX(Tabela.abordagens[],SMALL(IF(Tabela.abordagens[Mês]=$L$2,ROW(Tabela.abordagens[Idade])-2),ROW(A739)),4)","v":{"$error":"#NUM!"}},{"$f":"INDEX(Tabela.abordagens[],SMALL(IF(Tabela.abordagens[Mês]=$L$2,ROW(Tabela.abordagens[Idade])-2),ROW(A739)),5)","v":{"$error":"#NUM!"}}]
[null,{"$f":"INDEX(Tabela.frequencia[],SMALL(IF(Tabela.frequencia[Mês]=$L$2,ROW(Tabela.frequencia[id])-1),ROW(A740)),1)","v":{"$error":"#NUM!"}},{"$f":"INDEX(Tabela.frequencia[],SMALL(IF(Tabela.frequencia[Mês]=$L$2,ROW(Tabela.frequencia[id])-1),ROW(A740)),4)","v":{"$error":"#NUM!"}},null,{"$f":"IFERROR(VLOOKUP(D787,Tabela.cadastro[[ID]:[Nome]],2,0),\"\")","v":""},{"$f":"IFERROR(VLOOKUP(D787,Tabela66[#All],2,0),\"\")","v":""},{"$f":"IFERROR(VLOOKUP(D787,Tabela.cadastro[[ID]:[CP ou M]],5,0),\"\")","v":""},{"$f":"IFERROR(VLOOKUP(D787,Cadastros!A:F,6,0),\"\")","v":""},{"$f":"IFERROR(VLOOKUP(D787,Cadastros!A:I,9,0),\"\")","v":""},{"$f":"IFERROR(VLOOKUP(D787,Cadastros!A:J,10,0),\"\")","v":""},{"$f":"IF(COUNTIF(Tabela66[id],D787)=0,\"\",COUNTIF(Tabela66[id],D787))","v":""},null,"",null,null,{"$f":"IFERROR(VLOOKUP(O787,Cadastros!A:B,2),\"\")","v":""},"",{"$f":"IFERROR(VLOOKUP(O787,Cadastros!A:E,5,0),\"\")","v":""},{"$f":"IFERROR(VLOOKUP(O787,Cadastros!A:F,6,0),\"\")","v":""},{"$f":"IFERROR(VLOOKUP(O787,Cadastros!A:I,9,0),\"\")","v":""},"","","",null,{"$f":"INDEX(Tabela.abordagens[],SMALL(IF(Tabela.abordagens[Mês]=$L$2,ROW(Tabela.abordagens[id])-2),ROW(A740)),1)","v":{"$error":"#NUM!"}},{"$f":"INDEX(Tabela.abordagens[],SMALL(IF(Tabela.abordagens[Mês]=$L$2,ROW(Tabela.abordagens[Idade])-2),ROW(A740)),6)","v":{"$error":"#NUM!"}},{"$f":"INDEX(Tabela.abordagens[],SMALL(IF(Tabela.abordagens[Mês]=$L$2,ROW(Tabela.abordagens[Idade])-2),ROW(A740)),4)","v":{"$error":"#NUM!"}},{"$f":"INDEX(Tabela.abordagens[],SMALL(IF(Tabela.abordagens[Mês]=$L$2,ROW(Tabela.abordagens[Idade])-2),ROW(A740)),5)","v":{"$error":"#NUM!"}}]
[null,{"$f":"INDEX(Tabela.frequencia[],SMALL(IF(Tabela.frequencia[Mês]=$L$2,ROW(Tabela.frequencia[id])-1),ROW(A741)),1)","v":{"$error":"#NUM!"}},{"$f":"INDEX(Tabela.frequencia[],SMALL(IF(Tabela.frequencia[Mês]=$L$2,ROW(Tabela.frequencia[id])-1),ROW(A741)),4)","v":{"$error":"#NUM!"}},null,{"$f":"IFERROR(VLOOKUP(D788,Tabela.cadastro[[ID]:[Nome]],2,0),\"\")","v":""},{"$f":"IFERROR(VLOOKUP(D788,Tabela66[#All],2,0),\"\")","v":""},{"$f":"IFERROR(VLOOKUP(D788,Tabela.cadastro[[ID]:[CP ou M]],5,0),\"\")","v":""},{"$f":"IFERROR(VLOOKUP(D788,Cadastros!A:F,6,0),\"\")","v":""},{"$f":"IFERROR(VLOOKUP(D788,Cadastros!A:I,9,0),\"\")","v":""},{"$f":"IFERROR(VLOOKUP(D788,Cadastros!A:J,10,0),\"\")","v":""},{"$f":"IF(COUNTIF(Tabela66[id],D788)=0,\"\",COUNTIF(Tabela66[id],D788))","v":""},null,"",null,null,{"$f":"IFERROR(VLOOKUP(O788,Cadastros!A:B,2),\"\")","v":""},"",{"$f":"IFERROR(VLOOKUP(O788,Cadastros!A:E,5,0),\"\")","v":""},{"$f":"IFERROR(VLOOKUP(O788,Cadastros!A:F,6,0),\"\")","v":""},{"$f":"IFERROR(VLOOKUP(O788,Cadastros!A:I,9,0),\"\")","v":""},"","","",null,{"$f":"INDEX(Tabela.abordagens[],SMALL(IF(Tabela.abordagens[Mês]=$L$2,ROW(Tabela.abordagens[id])-2),ROW(A741)),1)","v":{"$error":"#NUM!"}},{"$f":"INDEX(Tabela.abordagens[],SMALL(IF(Tabela.abordagens[Mês]=$L$2,ROW(Tabela.abordagens[Idade])-2),ROW(A741)),6)","v":{"$error":"#NUM!"}},{"$f":"INDEX(Tabela.abordagens[],SMALL(IF(Tabela.abordagens[Mês]=$L$2,ROW(Tabela.abordagens[Idade])-2),ROW(A741)),4)","v":{"$error":"#NUM!"}},{"$f":"INDEX(Tabela.abordagens[],SMALL(IF(Tabela.abordagens[Mês]=$L$2,ROW(Tabela.abordagens[Idade])-2),ROW(A741)),5)","v":{"$error":"#NUM!"}}]
[null,{"$f":"INDEX(Tabela.frequencia[],SMALL(IF(Tabela.frequencia[Mês]=$L$2,ROW(Tabela.frequencia[id])-1),ROW(A742)),1)","v":{"$error":"#NUM!"}},{"$f":"INDEX(Tabela.frequencia[],SMALL(IF(Tabela.frequencia[Mês]=$L$2,ROW(Tabela.frequencia[id])-1),ROW(A742)),4)","v":{"$error":"#NUM!"}},null,{"$f":"IFERROR(VLOOKUP(D789,Tabela.cadastro[[ID]:[Nome]],2,0),\"\")","v":""},{"$f":"IFERROR(VLOOKUP(D789,Tabela66[#All],2,0),\"\")","v":""},{"$f":"IFERROR(VLOOKUP(D789,Tabela.cadastro[[ID]:[CP ou M]],5,0),\"\")","v":""},{"$f":"IFERROR(VLOOKUP(D789,Cadastros!A:F,6,0),\"\")","v":""},{"$f":"IFERROR(VLOOKUP(D789,Cadastros!A:I,9,0),\"\")","v":""},{"$f":"IFERROR(VLOOKUP(D789,Cadastros!A:J,10,0),\"\")","v":""},{"$f":"IF(COUNTIF(Tabela66[id],D789)=0,\"\",COUNTIF(Tabela66[id],D789))","v":""},null,"",null,null,{"$f":"IFERROR(VLOOKUP(O789,Cadastros!A:B,2),\"\")","v":""},"",{"$f":"IFERROR(VLOOKUP(O789,Cadastros!A:E,5,0),\"\")","v":""},{"$f":"IFERROR(VLOOKUP(O789,Cadastros!A:F,6,0),\"\")","v":""},{"$f":"IFERROR(VLOOKUP(O789,Cadastros!A:I,9,0),\"\")","v":""},"","","",null,{"$f":"INDEX(Tabela.abordagens[],SMALL(IF(Tabela.abordagens[Mês]=$L$2,ROW(Tabela.abordagens[id])-2),ROW(A742)),1)","v":{"$error":"#NUM!"}},{"$f":"INDEX(Tabela.abordagens[],SMALL(IF(Tabela.abordagens[Mês]=$L$2,ROW(Tabela.abordagens[Idade])-2),ROW(A742)),6)","v":{"$error":"#NUM!"}},{"$f":"INDEX(Tabela.abordagens[],SMALL(IF(Tabela.abordagens[Mês]=$L$2,ROW(Tabela.abordagens[Idade])-2),ROW(A742)),4)","v":{"$error":"#NUM!"}},{"$f":"INDEX(Tabela.abordagens[],SMALL(IF(Tabela.abordagens[Mês]=$L$2,ROW(Tabela.abordagens[Idade])-2),ROW(A742)),5)","v":{"$error":"#NUM!"}}]
[null,{"$f":"INDEX(Tabela.frequencia[],SMALL(IF(Tabela.frequencia[Mês]=$L$2,ROW(Tabela.frequencia[id])-1),ROW(A743)),1)","v":{"$error":"#NUM!"}},{"$f":"INDEX(Tabela.frequencia[],SMALL(IF(Tabela.frequencia[Mês]=$L$2,ROW(Tabela.frequencia[id])-1),ROW(A743)),4)","v":{"$error":"#NUM!"}},null,{"$f":"IFERROR(VLOOKUP(D790,Tabela.cadastro[[ID]:[Nome]],2,0),\"\")","v":""},{"$f":"IFERROR(VLOOKUP(D790,Tabela66[#All],2,0),\"\")","v":""},{"$f":"IFERROR(VLOOKUP(D790,Tabela.cadastro[[ID]:[CP ou M]],5,0),\"\")","v":""},{"$f":"IFERROR(VLOOKUP(D790,Cadastros!A:F,6,0),\"\")","v":""},{"$f":"IFERROR(VLOOKUP(D790,Cadastros!A:I,9,0),\"\")","v":""},{"$f":"IFERROR(VLOOKUP(D790,Cadastros!A:J,10,0),\"\")","v":""},{"$f":"IF(COUNTIF(Tabela66[id],D790)=0,\"\",COUNTIF(Tabela66[id],D790))","v":""},null,"",null,null,{"$f":"IFERROR(VLOOKUP(O790,Cadastros!A:B,2),\"\")","v":""},"",{"$f":"IFERROR(VLOOKUP(O790,Cadastros!A:E,5,0),\"\")","v":""},{"$f":"IFERROR(VLOOKUP(O790,Cadastros!A:F,6,0),\"\")","v":""},{"$f":"IFERROR(VLOOKUP(O790,Cadastros!A:I,9,0),\"\")","v":""},"","","",null,{"$f":"INDEX(Tabela.abordagens[],SMALL(IF(Tabela.abordagens[Mês]=$L$2,ROW(Tabela.abordagens[id])-2),ROW(A743)),1)","v":{"$error":"#NUM!"}},{"$f":"INDEX(Tabela.abordagens[],SMALL(IF(Tabela.abordagens[Mês]=$L$2,ROW(Tabela.abordagens[Idade])-2),ROW(A743)),6)","v":{"$error":"#NUM!"}},{"$f":"INDEX(Tabela.abordagens[],SMALL(IF(Tabela.abordagens[Mês]=$L$2,ROW(Tabela.abordagens[Idade])-2),ROW(A743)),4)","v":{"$error":"#NUM!"}},{"$f":"INDEX(Tabela.abordagens[],SMALL(IF(Tabela.abordagens[Mês]=$L$2,ROW(Tabela.abordagens[Idade])-2),ROW(A743)),5)","v":{"$error":"#NUM!"}}]
[null,{"$f":"INDEX(Tabela.frequencia[],SMALL(IF(Tabela.frequencia[Mês]=$L$2,ROW(Tabela.frequencia[id])-1),ROW(A744)),1)","v":{"$error":"#NUM!"}},{"$f":"INDEX(Tabela.frequencia[],SMALL(IF(Tabela.frequencia[Mês]=$L$2,ROW(Tabela.frequencia[id])-1),ROW(A744)),4)","v":{"$error":"#NUM!"}},null,{"$f":"IFERROR(VLOOKUP(D791,Tabela.cadastro[[ID]:[Nome]],2,0),\"\")","v":""},{"$f":"IFERROR(VLOOKUP(D791,Tabela66[#All],2,0),\"\")","v":""},{"$f":"IFERROR(VLOOKUP(D791,Tabela.cadastro[[ID]:[CP ou M]],5,0),\"\")","v":""},{"$f":"IFERROR(VLOOKUP(D791,Cadastros!A:F,6,0),\"\")","v":""},{"$f":"IFERROR(VLOOKUP(D791,Cadastros!A:I,9,0),\"\")","v":""},{"$f":"IFERROR(VLOOKUP(D791,Cadastros!A:J,10,0),\"\")","v":""},{"$f":"IF(COUNTIF(Tabela66[id],D791)=0,\"\",COUNTIF(Tabela66[id],D791))","v":""},null,"",null,null,{"$f":"IFERROR(VLOOKUP(O791,Cadastros!A:B,2),\"\")","v":""},"",{"$f":"IFERROR(VLOOKUP(O791,Cadastros!A:E,5,0),\"\")","v":""},{"$f":"IFERROR(VLOOKUP(O791,Cadastros!A:F,6,0),\"\")","v":""},{"$f":"IFERROR(VLOOKUP(O791,Cadastros!A:I,9,0),\"\")","v":""},"","","",null,{"$f":"INDEX(Tabela.abordagens[],SMALL(IF(Tabela.abordagens[Mês]=$L$2,ROW(Tabela.abordagens[id])-2),ROW(A744)),1)","v":{"$error":"#NUM!"}},{"$f":"INDEX(Tabela.abordagens[],SMALL(IF(Tabela.abordagens[Mês]=$L$2,ROW(Tabela.abordagens[Idade])-2),ROW(A744)),6)","v":{"$error":"#NUM!"}},{"$f":"INDEX(Tabela.abordagens[],SMALL(IF(Tabela.abordagens[Mês]=$L$2,ROW(Tabela.abordagens[Idade])-2),ROW(A744)),4)","v":{"$error":"#NUM!"}},{"$f":"INDEX(Tabela.abordagens[],SMALL(IF(Tabela.abordagens[Mês]=$L$2,ROW(Tabela.abordagens[Idade])-2),ROW(A744)),5)","v":{"$error":"#NUM!"}}]
[null,{"$f":"INDEX(Tabela.frequencia[],SMALL(IF(Tabela.frequencia[Mês]=$L$2,ROW(Tabela.frequencia[id])-1),ROW(A745)),1)","v":{"$error":"#NUM!"}},{"$f":"INDEX(Tabela.frequencia[],SMALL(IF(Tabela.frequencia[Mês]=$L$2,ROW(Tabela.frequencia[id])-1),ROW(A745)),4)","v":{"$error":"#NUM!"}},null,{"$f":"IFERROR(VLOOKUP(D792,Tabela.cadastro[[ID]:[Nome]],2,0),\"\")","v":""},{"$f":"IFERROR(VLOOKUP(D792,Tabela66[#All],2,0),\"\")","v":""},{"$f":"IFERROR(VLOOKUP(D792,Tabela.cadastro[[ID]:[CP ou M]],5,0),\"\")","v":""},{"$f":"IFERROR(VLOOKUP(D792,Cadastros!A:F,6,0),\"\")","v":""},{"$f":"IFERROR(VLOOKUP(D792,Cadastros!A:I,9,0),\"\")","v":""},{"$f":"IFERROR(VLOOKUP(D792,Cadastros!A:J,10,0),\"\")","v":""},{"$f":"IF(COUNTIF(Tabela66[id],D792)=0,\"\",COUNTIF(Tabela66[id],D792))","v":""},null,"",null,null,{"$f":"IFERROR(VLOOKUP(O792,Cadastros!A:B,2),\"\")","v":""},"",{"$f":"IFERROR(VLOOKUP(O792,Cadastros!A:E,5,0),\"\")","v":""},{"$f":"IFERROR(VLOOKUP(O792,Cadastros!A:F,6,0),\"\")","v":""},{"$f":"IFERROR(VLOOKUP(O792,Cadastros!A:I,9,0),\"\")","v":""},"","","",null,{"$f":"INDEX(Tabela.abordagens[],SMALL(IF(Tabela.abordagens[Mês]=$L$2,ROW(Tabela.abordagens[id])-2),ROW(A745)),1)","v":{"$error":"#NUM!"}},{"$f":"INDEX(Tabela.abordagens[],SMALL(IF(Tabela.abordagens[Mês]=$L$2,ROW(Tabela.abordagens[Idade])-2),ROW(A745)),6)","v":{"$error":"#NUM!"}},{"$f":"INDEX(Tabela.abordagens[],SMALL(IF(Tabela.abordagens[Mês]=$L$2,ROW(Tabela.abordagens[Idade])-2),ROW(A745)),4)","v":{"$error":"#NUM!"}},{"$f":"INDEX(Tabela.abordagens[],SMALL(IF(Tabela.abordagens[Mês]=$L$2,ROW(Tabela.abordagens[Idade])-2),ROW(A745)),5)","v":{"$error":"#NUM!"}}]
[null,{"$f":"INDEX(Tabela.frequencia[],SMALL(IF(Tabela.frequencia[Mês]=$L$2,ROW(Tabela.frequencia[id])-1),ROW(A746)),1)","v":{"$error":"#NUM!"}},{"$f":"INDEX(Tabela.frequencia[],SMALL(IF(Tabela.frequencia[Mês]=$L$2,ROW(Tabela.frequencia[id])-1),ROW(A746)),4)","v":{"$error":"#NUM!"}},null,{"$f":"IFERROR(VLOOKUP(D793,Tabela.cadastro[[ID]:[Nome]],2,0),\"\")","v":""},{"$f":"IFERROR(VLOOKUP(D793,Tabela66[#All],2,0),\"\")","v":""},{"$f":"IFERROR(VLOOKUP(D793,Tabela.cadastro[[ID]:[CP ou M]],5,0),\"\")","v":""},{"$f":"IFERROR(VLOOKUP(D793,Cadastros!A:F,6,0),\"\")","v":""},{"$f":"IFERROR(VLOOKUP(D793,Cadastros!A:I,9,0),\"\")","v":""},{"$f":"IFERROR(VLOOKUP(D793,Cadastros!A:J,10,0),\"\")","v":""},{"$f":"IF(COUNTIF(Tabela66[id],D793)=0,\"\",COUNTIF(Tabela66[id],D793))","v":""},null,"",null,null,{"$f":"IFERROR(VLOOKUP(O793,Cadastros!A:B,2),\"\")","v":""},"",{"$f":"IFERROR(VLOOKUP(O793,Cadastros!A:E,5,0),\"\")","v":""},{"$f":"IFERROR(VLOOKUP(O793,Cadastros!A:F,6,0),\"\")","v":""},{"$f":"IFERROR(VLOOKUP(O793,Cadastros!A:I,9,0),\"\")","v":""},"","","",null,{"$f":"INDEX(Tabela.abordagens[],SMALL(IF(Tabela.abordagens[Mês]=$L$2,ROW(Tabela.abordagens[id])-2),ROW(A746)),1)","v":{"$error":"#NUM!"}},{"$f":"INDEX(Tabela.abordagens[],SMALL(IF(Tabela.abordagens[Mês]=$L$2,ROW(Tabela.abordagens[Idade])-2),ROW(A746)),6)","v":{"$error":"#NUM!"}},{"$f":"INDEX(Tabela.abordagens[],SMALL(IF(Tabela.abordagens[Mês]=$L$2,ROW(Tabela.abordagens[Idade])-2),ROW(A746)),4)","v":{"$error":"#NUM!"}},{"$f":"INDEX(Tabela.abordagens[],SMALL(IF(Tabela.abordagens[Mês]=$L$2,ROW(Tabela.abordagens[Idade])-2),ROW(A746)),5)","v":{"$error":"#NUM!"}}]
[null,{"$f":"INDEX(Tabela.frequencia[],SMALL(IF(Tabela.frequencia[Mês]=$L$2,ROW(Tabela.frequencia[id])-1),ROW(A747)),1)","v":{"$error":"#NUM!"}},{"$f":"INDEX(Tabela.frequencia[],SMALL(IF(Tabela.frequencia[Mês]=$L$2,ROW(Tabela.frequencia[id])-1),ROW(A747)),4)","v":{"$error":"#NUM!"}},null,{"$f":"IFERROR(VLOOKUP(D794,Tabela.cadastro[[ID]:[Nome]],2,0),\"\")","v":""},{"$f":"IFERROR(VLOOKUP(D794,Tabela66[#All],2,0),\"\")","v":""},{"$f":"IFERROR(VLOOKUP(D794,Tabela.cadastro[[ID]:[CP ou M]],5,0),\"\")","v":""},{"$f":"IFERROR(VLOOKUP(D794,Cadastros!A:F,6,0),\"\")","v":""},{"$f":"IFERROR(VLOOKUP(D794,Cadastros!A:I,9,0),\"\")","v":""},{"$f":"IFERROR(VLOOKUP(D794,Cadastros!A:J,10,0),\"\")","v":""},{"$f":"IF(COUNTIF(Tabela66[id],D794)=0,\"\",COUNTIF(Tabela66[id],D794))","v":""},null,"",null,null,{"$f":"IFERROR(VLOOKUP(O794,Cadastros!A:B,2),\"\")","v":""},"",{"$f":"IFERROR(VLOOKUP(O794,Cadastros!A:E,5,0),\"\")","v":""},{"$f":"IFERROR(VLOOKUP(O794,Cadastros!A:F,6,0),\"\")","v":""},{"$f":"IFERROR(VLOOKUP(O794,Cadastros!A:I,9,0),\"\")","v":""},"","","",null,{"$f":"INDEX(Tabela.abordagens[],SMALL(IF(Tabela.abordagens[Mês]=$L$2,ROW(Tabela.abordagens[id])-2),ROW(A747)),1)","v":{"$error":"#NUM!"}},{"$f":"INDEX(Tabela.abordagens[],SMALL(IF(Tabela.abordagens[Mês]=$L$2,ROW(Tabela.abordagens[Idade])-2),ROW(A747)),6)","v":{"$error":"#NUM!"}},{"$f":"INDEX(Tabela.abordagens[],SMALL(IF(Tabela.abordagens[Mês]=$L$2,ROW(Tabela.abordagens[Idade])-2),ROW(A747)),4)","v":{"$error":"#NUM!"}},{"$f":"INDEX(Tabela.abordagens[],SMALL(IF(Tabela.abordagens[Mês]=$L$2,ROW(Tabela.abordagens[Idade])-2),ROW(A747)),5)","v":{"$error":"#NUM!"}}]
[null,{"$f":"INDEX(Tabela.frequencia[],SMALL(IF(Tabela.frequencia[Mês]=$L$2,ROW(Tabela.frequencia[id])-1),ROW(A748)),1)","v":{"$error":"#NUM!"}},{"$f":"INDEX(Tabela.frequencia[],SMALL(IF(Tabela.frequencia[Mês]=$L$2,ROW(Tabela.frequencia[id])-1),ROW(A748)),4)","v":{"$error":"#NUM!"}},null,{"$f":"IFERROR(VLOOKUP(D795,Tabela.cadastro[[ID]:[Nome]],2,0),\"\")","v":""},{"$f":"IFERROR(VLOOKUP(D795,Tabela66[#All],2,0),\"\")","v":""},{"$f":"IFERROR(VLOOKUP(D795,Tabela.cadastro[[ID]:[CP ou M]],5,0),\"\")","v":""},{"$f":"IFERROR(VLOOKUP(D795,Cadastros!A:F,6,0),\"\")","v":""},{"$f":"IFERROR(VLOOKUP(D795,Cadastros!A:I,9,0),\"\")","v":""},{"$f":"IFERROR(VLOOKUP(D795,Cadastros!A:J,10,0),\"\")","v":""},{"$f":"IF(COUNTIF(Tabela66[id],D795)=0,\"\",COUNTIF(Tabela66[id],D795))","v":""},null,"",null,null,{"$f":"IFERROR(VLOOKUP(O795,Cadastros!A:B,2),\"\")","v":""},"",{"$f":"IFERROR(VLOOKUP(O795,Cadastros!A:E,5,0),\"\")","v":""},{"$f":"IFERROR(VLOOKUP(O795,Cadastros!A:F,6,0),\"\")","v":""},{"$f":"IFERROR(VLOOKUP(O795,Cadastros!A:I,9,0),\"\")","v":""},"","","",null,{"$f":"INDEX(Tabela.abordagens[],SMALL(IF(Tabela.abordagens[Mês]=$L$2,ROW(Tabela.abordagens[id])-2),ROW(A748)),1)","v":{"$error":"#NUM!"}},{"$f":"INDEX(Tabela.abordagens[],SMALL(IF(Tabela.abordagens[Mês]=$L$2,ROW(Tabela.abordagens[Idade])-2),ROW(A748)),6)","v":{"$error":"#NUM!"}},{"$f":"INDEX(Tabela.abordagens[],SMALL(IF(Tabela.abordagens[Mês]=$L$2,ROW(Tabela.abordagens[Idade])-2),ROW(A748)),4)","v":{"$error":"#NUM!"}},{"$f":"INDEX(Tabela.abordagens[],SMALL(IF(Tabela.abordagens[Mês]=$L$2,ROW(Tabela.abordagens[Idade])-2),ROW(A748)),5)","v":{"$error":"#NUM!"}}]
[null,{"$f":"INDEX(Tabela.frequencia[],SMALL(IF(Tabela.frequencia[Mês]=$L$2,ROW(Tabela.frequencia[id])-1),ROW(A749)),1)","v":{"$error":"#NUM!"}},{"$f":"INDEX(Tabela.frequencia[],SMALL(IF(Tabela.frequencia[Mês]=$L$2,ROW(Tabela.frequencia[id])-1),ROW(A749)),4)","v":{"$error":"#NUM!"}},null,{"$f":"IFERROR(VLOOKUP(D796,Tabela.cadastro[[ID]:[Nome]],2,0),\"\")","v":""},{"$f":"IFERROR(VLOOKUP(D796,Tabela66[#All],2,0),\"\")","v":""},{"$f":"IFERROR(VLOOKUP(D796,Tabela.cadastro[[ID]:[CP ou M]],5,0),\"\")","v":""},{"$f":"IFERROR(VLOOKUP(D796,Cadastros!A:F,6,0),\"\")","v":""},{"$f":"IFERROR(VLOOKUP(D796,Cadastros!A:I,9,0),\"\")","v":""},{"$f":"IFERROR(VLOOKUP(D796,Cadastros!A:J,10,0),\"\")","v":""},{"$f":"IF(COUNTIF(Tabela66[id],D796)=0,\"\",COUNTIF(Tabela66[id],D796))","v":""},null,"",null,null,{"$f":"IFERROR(VLOOKUP(O796,Cadastros!A:B,2),\"\")","v":""},"",{"$f":"IFERROR(VLOOKUP(O796,Cadastros!A:E,5,0),\"\")","v":""},{"$f":"IFERROR(VLOOKUP(O796,Cadastros!A:F,6,0),\"\")","v":""},{"$f":"IFERROR(VLOOKUP(O796,Cadastros!A:I,9,0),\"\")","v":""},"","","",null,{"$f":"INDEX(Tabela.abordagens[],SMALL(IF(Tabela.abordagens[Mês]=$L$2,ROW(Tabela.abordagens[id])-2),ROW(A749)),1)","v":{"$error":"#NUM!"}},{"$f":"INDEX(Tabela.abordagens[],SMALL(IF(Tabela.abordagens[Mês]=$L$2,ROW(Tabela.abordagens[Idade])-2),ROW(A749)),6)","v":{"$error":"#NUM!"}},{"$f":"INDEX(Tabela.abordagens[],SMALL(IF(Tabela.abordagens[Mês]=$L$2,ROW(Tabela.abordagens[Idade])-2),ROW(A749)),4)","v":{"$error":"#NUM!"}},{"$f":"INDEX(Tabela.abordagens[],SMALL(IF(Tabela.abordagens[Mês]=$L$2,ROW(Tabela.abordagens[Idade])-2),ROW(A749)),5)","v":{"$error":"#NUM!"}}]
[null,{"$f":"INDEX(Tabela.frequencia[],SMALL(IF(Tabela.frequencia[Mês]=$L$2,ROW(Tabela.frequencia[id])-1),ROW(A750)),1)","v":{"$error":"#NUM!"}},{"$f":"INDEX(Tabela.frequencia[],SMALL(IF(Tabela.frequencia[Mês]=$L$2,ROW(Tabela.frequencia[id])-1),ROW(A750)),4)","v":{"$error":"#NUM!"}},null,{"$f":"IFERROR(VLOOKUP(D797,Tabela.cadastro[[ID]:[Nome]],2,0),\"\")","v":""},{"$f":"IFERROR(VLOOKUP(D797,Tabela66[#All],2,0),\"\")","v":""},{"$f":"IFERROR(VLOOKUP(D797,Tabela.cadastro[[ID]:[CP ou M]],5,0),\"\")","v":""},{"$f":"IFERROR(VLOOKUP(D797,Cadastros!A:F,6,0),\"\")","v":""},{"$f":"IFERROR(VLOOKUP(D797,Cadastros!A:I,9,0),\"\")","v":""},{"$f":"IFERROR(VLOOKUP(D797,Cadastros!A:J,10,0),\"\")","v":""},{"$f":"IF(COUNTIF(Tabela66[id],D797)=0,\"\",COUNTIF(Tabela66[id],D797))","v":""},null,"",null,null,{"$f":"IFERROR(VLOOKUP(O797,Cadastros!A:B,2),\"\")","v":""},"",{"$f":"IFERROR(VLOOKUP(O797,Cadastros!A:E,5,0),\"\")","v":""},{"$f":"IFERROR(VLOOKUP(O797,Cadastros!A:F,6,0),\"\")","v":""},{"$f":"IFERROR(VLOOKUP(O797,Cadastros!A:I,9,0),\"\")","v":""},"","","",null,{"$f":"INDEX(Tabela.abordagens[],SMALL(IF(Tabela.abordagens[Mês]=$L$2,ROW(Tabela.abordagens[id])-2),ROW(A750)),1)","v":{"$error":"#NUM!"}},{"$f":"INDEX(Tabela.abordagens[],SMALL(IF(Tabela.abordagens[Mês]=$L$2,ROW(Tabela.abordagens[Idade])-2),ROW(A750)),6)","v":{"$error":"#NUM!"}},{"$f":"INDEX(Tabela.abordagens[],SMALL(IF(Tabela.abordagens[Mês]=$L$2,ROW(Tabela.abordagens[Idade])-2),ROW(A750)),4)","v":{"$error":"#NUM!"}},{"$f":"INDEX(Tabela.abordagens[],SMALL(IF(Tabela.abordagens[Mês]=$L$2,ROW(Tabela.abordagens[Idade])-2),ROW(A750)),5)","v":{"$error":"#NUM!"}}]
[null,{"$f":"INDEX(Tabela.frequencia[],SMALL(IF(Tabela.frequencia[Mês]=$L$2,ROW(Tabela.frequencia[id])-1),ROW(A751)),1)","v":{"$error":"#NUM!"}},{"$f":"INDEX(Tabela.frequencia[],SMALL(IF(Tabela.frequencia[Mês]=$L$2,ROW(Tabela.frequencia[id])-1),ROW(A751)),4)","v":{"$error":"#NUM!"}},null,{"$f":"IFERROR(VLOOKUP(D798,Tabela.cadastro[[ID]:[Nome]],2,0),\"\")","v":""},{"$f":"IFERROR(VLOOKUP(D798,Tabela66[#All],2,0),\"\")","v":""},{"$f":"IFERROR(VLOOKUP(D798,Tabela.cadastro[[ID]:[CP ou M]],5,0),\"\")","v":""},{"$f":"IFERROR(VLOOKUP(D798,Cadastros!A:F,6,0),\"\")","v":""},{"$f":"IFERROR(VLOOKUP(D798,Cadastros!A:I,9,0),\"\")","v":""},{"$f":"IFERROR(VLOOKUP(D798,Cadastros!A:J,10,0),\"\")","v":""},{"$f":"IF(COUNTIF(Tabela66[id],D798)=0,\"\",COUNTIF(Tabela66[id],D798))","v":""},null,"",null,null,{"$f":"IFERROR(VLOOKUP(O798,Cadastros!A:B,2),\"\")","v":""},"",{"$f":"IFERROR(VLOOKUP(O798,Cadastros!A:E,5,0),\"\")","v":""},{"$f":"IFERROR(VLOOKUP(O798,Cadastros!A:F,6,0),\"\")","v":""},{"$f":"IFERROR(VLOOKUP(O798,Cadastros!A:I,9,0),\"\")","v":""},"","","",null,{"$f":"INDEX(Tabela.abordagens[],SMALL(IF(Tabela.abordagens[Mês]=$L$2,ROW(Tabela.abordagens[id])-2),ROW(A751)),1)","v":{"$error":"#NUM!"}},{"$f":"INDEX(Tabela.abordagens[],SMALL(IF(Tabela.abordagens[Mês]=$L$2,ROW(Tabela.abordagens[Idade])-2),ROW(A751)),6)","v":{"$error":"#NUM!"}},{"$f":"INDEX(Tabela.abordagens[],SMALL(IF(Tabela.abordagens[Mês]=$L$2,ROW(Tabela.abordagens[Idade])-2),ROW(A751)),4)","v":{"$error":"#NUM!"}},{"$f":"INDEX(Tabela.abordagens[],SMALL(IF(Tabela.abordagens[Mês]=$L$2,ROW(Tabela.abordagens[Idade])-2),ROW(A751)),5)","v":{"$error":"#NUM!"}}]
[null,{"$f":"INDEX(Tabela.frequencia[],SMALL(IF(Tabela.frequencia[Mês]=$L$2,ROW(Tabela.frequencia[id])-1),ROW(A752)),1)","v":{"$error":"#NUM!"}},{"$f":"INDEX(Tabela.frequencia[],SMALL(IF(Tabela.frequencia[Mês]=$L$2,ROW(Tabela.frequencia[id])-1),ROW(A752)),4)","v":{"$error":"#NUM!"}},null,{"$f":"IFERROR(VLOOKUP(D799,Tabela.cadastro[[ID]:[Nome]],2,0),\"\")","v":""},{"$f":"IFERROR(VLOOKUP(D799,Tabela66[#All],2,0),\"\")","v":""},{"$f":"IFERROR(VLOOKUP(D799,Tabela.cadastro[[ID]:[CP ou M]],5,0),\"\")","v":""},{"$f":"IFERROR(VLOOKUP(D799,Cadastros!A:F,6,0),\"\")","v":""},{"$f":"IFERROR(VLOOKUP(D799,Cadastros!A:I,9,0),\"\")","v":""},{"$f":"IFERROR(VLOOKUP(D799,Cadastros!A:J,10,0),\"\")","v":""},{"$f":"IF(COUNTIF(Tabela66[id],D799)=0,\"\",COUNTIF(Tabela66[id],D799))","v":""},null,"",null,null,{"$f":"IFERROR(VLOOKUP(O799,Cadastros!A:B,2),\"\")","v":""},"",{"$f":"IFERROR(VLOOKUP(O799,Cadastros!A:E,5,0),\"\")","v":""},{"$f":"IFERROR(VLOOKUP(O799,Cadastros!A:F,6,0),\"\")","v":""},{"$f":"IFERROR(VLOOKUP(O799,Cadastros!A:I,9,0),\"\")","v":""},"","","",null,{"$f":"INDEX(Tabela.abordagens[],SMALL(IF(Tabela.abordagens[Mês]=$L$2,ROW(Tabela.abordagens[id])-2),ROW(A752)),1)","v":{"$error":"#NUM!"}},{"$f":"INDEX(Tabela.abordagens[],SMALL(IF(Tabela.abordagens[Mês]=$L$2,ROW(Tabela.abordagens[Idade])-2),ROW(A752)),6)","v":{"$error":"#NUM!"}},{"$f":"INDEX(Tabela.abordagens[],SMALL(IF(Tabela.abordagens[Mês]=$L$2,ROW(Tabela.abordagens[Idade])-2),ROW(A752)),4)","v":{"$error":"#NUM!"}},{"$f":"INDEX(Tabela.abordagens[],SMALL(IF(Tabela.abordagens[Mês]=$L$2,ROW(Tabela.abordagens[Idade])-2),ROW(A752)),5)","v":{"$error":"#NUM!"}}]
[null,{"$f":"INDEX(Tabela.frequencia[],SMALL(IF(Tabela.frequencia[Mês]=$L$2,ROW(Tabela.frequencia[id])-1),ROW(A753)),1)","v":{"$error":"#NUM!"}},{"$f":"INDEX(Tabela.frequencia[],SMALL(IF(Tabela.frequencia[Mês]=$L$2,ROW(Tabela.frequencia[id])-1),ROW(A753)),4)","v":{"$error":"#NUM!"}},null,{"$f":"IFERROR(VLOOKUP(D800,Tabela.cadastro[[ID]:[Nome]],2,0),\"\")","v":""},{"$f":"IFERROR(VLOOKUP(D800,Tabela66[#All],2,0),\"\")","v":""},{"$f":"IFERROR(VLOOKUP(D800,Tabela.cadastro[[ID]:[CP ou M]],5,0),\"\")","v":""},{"$f":"IFERROR(VLOOKUP(D800,Cadastros!A:F,6,0),\"\")","v":""},{"$f":"IFERROR(VLOOKUP(D800,Cadastros!A:I,9,0),\"\")","v":""},{"$f":"IFERROR(VLOOKUP(D800,Cadastros!A:J,10,0),\"\")","v":""},{"$f":"IF(COUNTIF(Tabela66[id],D800)=0,\"\",COUNTIF(Tabela66[id],D800))","v":""},null,"",null,null,{"$f":"IFERROR(VLOOKUP(O800,Cadastros!A:B,2),\"\")","v":""},"",{"$f":"IFERROR(VLOOKUP(O800,Cadastros!A:E,5,0),\"\")","v":""},{"$f":"IFERROR(VLOOKUP(O800,Cadastros!A:F,6,0),\"\")","v":""},{"$f":"IFERROR(VLOOKUP(O800,Cadastros!A:I,9,0),\"\")","v":""},"","","",null,{"$f":"INDEX(Tabela.abordagens[],SMALL(IF(Tabela.abordagens[Mês]=$L$2,ROW(Tabela.abordagens[id])-2),ROW(A753)),1)","v":{"$error":"#NUM!"}},{"$f":"INDEX(Tabela.abordagens[],SMALL(IF(Tabela.abordagens[Mês]=$L$2,ROW(Tabela.abordagens[Idade])-2),ROW(A753)),6)","v":{"$error":"#NUM!"}},{"$f":"INDEX(Tabela.abordagens[],SMALL(IF(Tabela.abordagens[Mês]=$L$2,ROW(Tabela.abordagens[Idade])-2),ROW(A753)),4)","v":{"$error":"#NUM!"}},{"$f":"INDEX(Tabela.abordagens[],SMALL(IF(Tabela.abordagens[Mês]=$L$2,ROW(Tabela.abordagens[Idade])-2),ROW(A753)),5)","v":{"$error":"#NUM!"}}]
[null,{"$f":"INDEX(Tabela.frequencia[],SMALL(IF(Tabela.frequencia[Mês]=$L$2,ROW(Tabela.frequencia[id])-1),ROW(A754)),1)","v":{"$error":"#NUM!"}},{"$f":"INDEX(Tabela.frequencia[],SMALL(IF(Tabela.frequencia[Mês]=$L$2,ROW(Tabela.frequencia[id])-1),ROW(A754)),4)","v":{"$error":"#NUM!"}},null,{"$f":"IFERROR(VLOOKUP(D801,Tabela.cadastro[[ID]:[Nome]],2,0),\"\")","v":""},{"$f":"IFERROR(VLOOKUP(D801,Tabela66[#All],2,0),\"\")","v":""},{"$f":"IFERROR(VLOOKUP(D801,Tabela.cadastro[[ID]:[CP ou M]],5,0),\"\")","v":""},{"$f":"IFERROR(VLOOKUP(D801,Cadastros!A:F,6,0),\"\")","v":""},{"$f":"IFERROR(VLOOKUP(D801,Cadastros!A:I,9,0),\"\")","v":""},{"$f":"IFERROR(VLOOKUP(D801,Cadastros!A:J,10,0),\"\")","v":""},{"$f":"IF(COUNTIF(Tabela66[id],D801)=0,\"\",COUNTIF(Tabela66[id],D801))","v":""},null,"",null,null,{"$f":"IFERROR(VLOOKUP(O801,Cadastros!A:B,2),\"\")","v":""},"",{"$f":"IFERROR(VLOOKUP(O801,Cadastros!A:E,5,0),\"\")","v":""},{"$f":"IFERROR(VLOOKUP(O801,Cadastros!A:F,6,0),\"\")","v":""},{"$f":"IFERROR(VLOOKUP(O801,Cadastros!A:I,9,0),\"\")","v":""},"","","",null,{"$f":"INDEX(Tabela.abordagens[],SMALL(IF(Tabela.abordagens[Mês]=$L$2,ROW(Tabela.abordagens[id])-2),ROW(A754)),1)","v":{"$error":"#NUM!"}},{"$f":"INDEX(Tabela.abordagens[],SMALL(IF(Tabela.abordagens[Mês]=$L$2,ROW(Tabela.abordagens[Idade])-2),ROW(A754)),6)","v":{"$error":"#NUM!"}},{"$f":"INDEX(Tabela.abordagens[],SMALL(IF(Tabela.abordagens[Mês]=$L$2,ROW(Tabela.abordagens[Idade])-2),ROW(A754)),4)","v":{"$error":"#NUM!"}},{"$f":"INDEX(Tabela.abordagens[],SMALL(IF(Tabela.abordagens[Mês]=$L$2,ROW(Tabela.abordagens[Idade])-2),ROW(A754)),5)","v":{"$error":"#NUM!"}}]
[null,{"$f":"INDEX(Tabela.frequencia[],SMALL(IF(Tabela.frequencia[Mês]=$L$2,ROW(Tabela.frequencia[id])-1),ROW(A755)),1)","v":{"$error":"#NUM!"}},{"$f":"INDEX(Tabela.frequencia[],SMALL(IF(Tabela.frequencia[Mês]=$L$2,ROW(Tabela.frequencia[id])-1),ROW(A755)),4)","v":{"$error":"#NUM!"}},null,{"$f":"IFERROR(VLOOKUP(D802,Tabela.cadastro[[ID]:[Nome]],2,0),\"\")","v":""},{"$f":"IFERROR(VLOOKUP(D802,Tabela66[#All],2,0),\"\")","v":""},{"$f":"IFERROR(VLOOKUP(D802,Tabela.cadastro[[ID]:[CP ou M]],5,0),\"\")","v":""},{"$f":"IFERROR(VLOOKUP(D802,Cadastros!A:F,6,0),\"\")","v":""},{"$f":"IFERROR(VLOOKUP(D802,Cadastros!A:I,9,0),\"\")","v":""},{"$f":"IFERROR(VLOOKUP(D802,Cadastros!A:J,10,0),\"\")","v":""},{"$f":"IF(COUNTIF(Tabela66[id],D802)=0,\"\",COUNTIF(Tabela66[id],D802))","v":""},null,"",null,null,{"$f":"IFERROR(VLOOKUP(O802,Cadastros!A:B,2),\"\")","v":""},{"$f":"IFERROR(VLOOKUP(O802,$Y$33:$Z$866,2,0),\"\")","v":""},{"$f":"IFERROR(VLOOKUP(O802,Cadastros!A:E,5,0),\"\")","v":""},{"$f":"IFERROR(VLOOKUP(O802,Cadastros!A:F,6,0),\"\")","v":""},{"$f":"IFERROR(VLOOKUP(O802,Cadastros!A:I,9,0),\"\")","v":""},{"$f":"IFERROR(VLOOKUP(O802,Y$33:AB$866,3,0),\"\")","v":""},{"$f":"IFERROR(VLOOKUP(O802,Y$33:AB$866,4,0),\"\")","v":""},{"$f":"IF(COUNTIF(Y$33:Y$866,O802)=0,\"\",COUNTIF(Y$33:Y$866,O802))","v":""},null,{"$f":"INDEX(Tabela.abordagens[],SMALL(IF(Tabela.abordagens[Mês]=$L$2,ROW(Tabela.abordagens[id])-2),ROW(A755)),1)","v":{"$error":"#NUM!"}},{"$f":"INDEX(Tabela.abordagens[],SMALL(IF(Tabela.abordagens[Mês]=$L$2,ROW(Tabela.abordagens[Idade])-2),ROW(A755)),6)","v":{"$error":"#NUM!"}},{"$f":"INDEX(Tabela.abordagens[],SMALL(IF(Tabela.abordagens[Mês]=$L$2,ROW(Tabela.abordagens[Idade])-2),ROW(A755)),4)","v":{"$error":"#NUM!"}},{"$f":"INDEX(Tabela.abordagens[],SMALL(IF(Tabela.abordagens[Mês]=$L$2,ROW(Tabela.abordagens[Idade])-2),ROW(A755)),5)","v":{"$error":"#NUM!"}}]
[null,{"$f":"INDEX(Tabela.frequencia[],SMALL(IF(Tabela.frequencia[Mês]=$L$2,ROW(Tabela.frequencia[id])-1),ROW(A756)),1)","v":{"$error":"#NUM!"}},{"$f":"INDEX(Tabela.frequencia[],SMALL(IF(Tabela.frequencia[Mês]=$L$2,ROW(Tabela.frequencia[id])-1),ROW(A756)),4)","v":{"$error":"#NUM!"}},null,{"$f":"IFERROR(VLOOKUP(D803,Tabela.cadastro[[ID]:[Nome]],2,0),\"\")","v":""},{"$f":"IFERROR(VLOOKUP(D803,Tabela66[#All],2,0),\"\")","v":""},{"$f":"IFERROR(VLOOKUP(D803,Tabela.cadastro[[ID]:[CP ou M]],5,0),\"\")","v":""},{"$f":"IFERROR(VLOOKUP(D803,Cadastros!A:F,6,0),\"\")","v":""},{"$f":"IFERROR(VLOOKUP(D803,Cadastros!A:I,9,0),\"\")","v":""},{"$f":"IFERROR(VLOOKUP(D803,Cadastros!A:J,10,0),\"\")","v":""},{"$f":"IF(COUNTIF(Tabela66[id],D803)=0,\"\",COUNTIF(Tabela66[id],D803))","v":""},null,"",null,null,{"$f":"IFERROR(VLOOKUP(O803,Cadastros!A:B,2),\"\")","v":""},"",{"$f":"IFERROR(VLOOKUP(O803,Cadastros!A:E,5,0),\"\")","v":""},{"$f":"IFERROR(VLOOKUP(O803,Cadastros!A:F,6,0),\"\")","v":""},{"$f":"IFERROR(VLOOKUP(O803,Cadastros!A:I,9,0),\"\")","v":""},"","","",null,{"$f":"INDEX(Tabela.abordagens[],SMALL(IF(Tabela.abordagens[Mês]=$L$2,ROW(Tabela.abordagens[id])-2),ROW(A756)),1)","v":{"$error":"#NUM!"}},{"$f":"INDEX(Tabela.abordagens[],SMALL(IF(Tabela.abordagens[Mês]=$L$2,ROW(Tabela.abordagens[Idade])-2),ROW(A756)),6)","v":{"$error":"#NUM!"}},{"$f":"INDEX(Tabela.abordagens[],SMALL(IF(Tabela.abordagens[Mês]=$L$2,ROW(Tabela.abordagens[Idade])-2),ROW(A756)),4)","v":{"$error":"#NUM!"}},{"$f":"INDEX(Tabela.abordagens[],SMALL(IF(Tabela.abordagens[Mês]=$L$2,ROW(Tabela.abordagens[Idade])-2),ROW(A756)),5)","v":{"$error":"#NUM!"}}]
[null,{"$f":"INDEX(Tabela.frequencia[],SMALL(IF(Tabela.frequencia[Mês]=$L$2,ROW(Tabela.frequencia[id])-1),ROW(A757)),1)","v":{"$error":"#NUM!"}},{"$f":"INDEX(Tabela.frequencia[],SMALL(IF(Tabela.frequencia[Mês]=$L$2,ROW(Tabela.frequencia[id])-1),ROW(A757)),4)","v":{"$error":"#NUM!"}},null,{"$f":"IFERROR(VLOOKUP(D804,Tabela.cadastro[[ID]:[Nome]],2,0),\"\")","v":""},{"$f":"IFERROR(VLOOKUP(D804,Tabela66[#All],2,0),\"\")","v":""},{"$f":"IFERROR(VLOOKUP(D804,Tabela.cadastro[[ID]:[CP ou M]],5,0),\"\")","v":""},{"$f":"IFERROR(VLOOKUP(D804,Cadastros!A:F,6,0),\"\")","v":""},{"$f":"IFERROR(VLOOKUP(D804,Cadastros!A:I,9,0),\"\")","v":""},{"$f":"IFERROR(VLOOKUP(D804,Cadastros!A:J,10,0),\"\")","v":""},{"$f":"IF(COUNTIF(Tabela66[id],D804)=0,\"\",COUNTIF(Tabela66[id],D804))","v":""},null,"",null,null,{"$f":"IFERROR(VLOOKUP(O804,Cadastros!A:B,2),\"\")","v":""},"",{"$f":"IFERROR(VLOOKUP(O804,Cadastros!A:E,5,0),\"\")","v":""},{"$f":"IFERROR(VLOOKUP(O804,Cadastros!A:F,6,0),\"\")","v":""},{"$f":"IFERROR(VLOOKUP(O804,Cadastros!A:I,9,0),\"\")","v":""},"","","",null,{"$f":"INDEX(Tabela.abordagens[],SMALL(IF(Tabela.abordagens[Mês]=$L$2,ROW(Tabela.abordagens[id])-2),ROW(A757)),1)","v":{"$error":"#NUM!"}},{"$f":"INDEX(Tabela.abordagens[],SMALL(IF(Tabela.abordagens[Mês]=$L$2,ROW(Tabela.abordagens[Idade])-2),ROW(A757)),6)","v":{"$error":"#NUM!"}},{"$f":"INDEX(Tabela.abordagens[],SMALL(IF(Tabela.abordagens[Mês]=$L$2,ROW(Tabela.abordagens[Idade])-2),ROW(A757)),4)","v":{"$error":"#NUM!"}},{"$f":"INDEX(Tabela.abordagens[],SMALL(IF(Tabela.abordagens[Mês]=$L$2,ROW(Tabela.abordagens[Idade])-2),ROW(A757)),5)","v":{"$error":"#NUM!"}}]
[null,{"$f":"INDEX(Tabela.frequencia[],SMALL(IF(Tabela.frequencia[Mês]=$L$2,ROW(Tabela.frequencia[id])-1),ROW(A758)),1)","v":{"$error":"#NUM!"}},{"$f":"INDEX(Tabela.frequencia[],SMALL(IF(Tabela.frequencia[Mês]=$L$2,ROW(Tabela.frequencia[id])-1),ROW(A758)),4)","v":{"$error":"#NUM!"}},null,{"$f":"IFERROR(VLOOKUP(D805,Tabela.cadastro[[ID]:[Nome]],2,0),\"\")","v":""},{"$f":"IFERROR(VLOOKUP(D805,Tabela66[#All],2,0),\"\")","v":""},{"$f":"IFERROR(VLOOKUP(D805,Tabela.cadastro[[ID]:[CP ou M]],5,0),\"\")","v":""},{"$f":"IFERROR(VLOOKUP(D805,Cadastros!A:F,6,0),\"\")","v":""},{"$f":"IFERROR(VLOOKUP(D805,Cadastros!A:I,9,0),\"\")","v":""},{"$f":"IFERROR(VLOOKUP(D805,Cadastros!A:J,10,0),\"\")","v":""},{"$f":"IF(COUNTIF(Tabela66[id],D805)=0,\"\",COUNTIF(Tabela66[id],D805))","v":""},null,"",null,null,{"$f":"IFERROR(VLOOKUP(O805,Cadastros!A:B,2),\"\")","v":""},"",{"$f":"IFERROR(VLOOKUP(O805,Cadastros!A:E,5,0),\"\")","v":""},{"$f":"IFERROR(VLOOKUP(O805,Cadastros!A:F,6,0),\"\")","v":""},{"$f":"IFERROR(VLOOKUP(O805,Cadastros!A:I,9,0),\"\")","v":""},"","","",null,{"$f":"INDEX(Tabela.abordagens[],SMALL(IF(Tabela.abordagens[Mês]=$L$2,ROW(Tabela.abordagens[id])-2),ROW(A758)),1)","v":{"$error":"#NUM!"}},{"$f":"INDEX(Tabela.abordagens[],SMALL(IF(Tabela.abordagens[Mês]=$L$2,ROW(Tabela.abordagens[Idade])-2),ROW(A758)),6)","v":{"$error":"#NUM!"}},{"$f":"INDEX(Tabela.abordagens[],SMALL(IF(Tabela.abordagens[Mês]=$L$2,ROW(Tabela.abordagens[Idade])-2),ROW(A758)),4)","v":{"$error":"#NUM!"}},{"$f":"INDEX(Tabela.abordagens[],SMALL(IF(Tabela.abordagens[Mês]=$L$2,ROW(Tabela.abordagens[Idade])-2),ROW(A758)),5)","v":{"$error":"#NUM!"}}]
[null,{"$f":"INDEX(Tabela.frequencia[],SMALL(IF(Tabela.frequencia[Mês]=$L$2,ROW(Tabela.frequencia[id])-1),ROW(A759)),1)","v":{"$error":"#NUM!"}},{"$f":"INDEX(Tabela.frequencia[],SMALL(IF(Tabela.frequencia[Mês]=$L$2,ROW(Tabela.frequencia[id])-1),ROW(A759)),4)","v":{"$error":"#NUM!"}},null,{"$f":"IFERROR(VLOOKUP(D806,Tabela.cadastro[[ID]:[Nome]],2,0),\"\")","v":""},{"$f":"IFERROR(VLOOKUP(D806,Tabela66[#All],2,0),\"\")","v":""},{"$f":"IFERROR(VLOOKUP(D806,Tabela.cadastro[[ID]:[CP ou M]],5,0),\"\")","v":""},{"$f":"IFERROR(VLOOKUP(D806,Cadastros!A:F,6,0),\"\")","v":""},{"$f":"IFERROR(VLOOKUP(D806,Cadastros!A:I,9,0),\"\")","v":""},{"$f":"IFERROR(VLOOKUP(D806,Cadastros!A:J,10,0),\"\")","v":""},{"$f":"IF(COUNTIF(Tabela66[id],D806)=0,\"\",COUNTIF(Tabela66[id],D806))","v":""},null,"",null,null,{"$f":"IFERROR(VLOOKUP(O806,Cadastros!A:B,2),\"\")","v":""},"",{"$f":"IFERROR(VLOOKUP(O806,Cadastros!A:E,5,0),\"\")","v":""},{"$f":"IFERROR(VLOOKUP(O806,Cadastros!A:F,6,0),\"\")","v":""},{"$f":"IFERROR(VLOOKUP(O806,Cadastros!A:I,9,0),\"\")","v":""},"","","",null,{"$f":"INDEX(Tabela.abordagens[],SMALL(IF(Tabela.abordagens[Mês]=$L$2,ROW(Tabela.abordagens[id])-2),ROW(A759)),1)","v":{"$error":"#NUM!"}},{"$f":"INDEX(Tabela.abordagens[],SMALL(IF(Tabela.abordagens[Mês]=$L$2,ROW(Tabela.abordagens[Idade])-2),ROW(A759)),6)","v":{"$error":"#NUM!"}},{"$f":"INDEX(Tabela.abordagens[],SMALL(IF(Tabela.abordagens[Mês]=$L$2,ROW(Tabela.abordagens[Idade])-2),ROW(A759)),4)","v":{"$error":"#NUM!"}},{"$f":"INDEX(Tabela.abordagens[],SMALL(IF(Tabela.abordagens[Mês]=$L$2,ROW(Tabela.abordagens[Idade])-2),ROW(A759)),5)","v":{"$error":"#NUM!"}}]
[null,{"$f":"INDEX(Tabela.frequencia[],SMALL(IF(Tabela.frequencia[Mês]=$L$2,ROW(Tabela.frequencia[id])-1),ROW(A760)),1)","v":{"$error":"#NUM!"}},{"$f":"INDEX(Tabela.frequencia[],SMALL(IF(Tabela.frequencia[Mês]=$L$2,ROW(Tabela.frequencia[id])-1),ROW(A760)),4)","v":{"$error":"#NUM!"}},null,{"$f":"IFERROR(VLOOKUP(D807,Tabela.cadastro[[ID]:[Nome]],2,0),\"\")","v":""},{"$f":"IFERROR(VLOOKUP(D807,Tabela66[#All],2,0),\"\")","v":""},{"$f":"IFERROR(VLOOKUP(D807,Tabela.cadastro[[ID]:[CP ou M]],5,0),\"\")","v":""},{"$f":"IFERROR(VLOOKUP(D807,Cadastros!A:F,6,0),\"\")","v":""},{"$f":"IFERROR(VLOOKUP(D807,Cadastros!A:I,9,0),\"\")","v":""},{"$f":"IFERROR(VLOOKUP(D807,Cadastros!A:J,10,0),\"\")","v":""},{"$f":"IF(COUNTIF(Tabela66[id],D807)=0,\"\",COUNTIF(Tabela66[id],D807))","v":""},null,"",null,null,{"$f":"IFERROR(VLOOKUP(O807,Cadastros!A:B,2),\"\")","v":""},"",{"$f":"IFERROR(VLOOKUP(O807,Cadastros!A:E,5,0),\"\")","v":""},{"$f":"IFERROR(VLOOKUP(O807,Cadastros!A:F,6,0),\"\")","v":""},{"$f":"IFERROR(VLOOKUP(O807,Cadastros!A:I,9,0),\"\")","v":""},"","","",null,{"$f":"INDEX(Tabela.abordagens[],SMALL(IF(Tabela.abordagens[Mês]=$L$2,ROW(Tabela.abordagens[id])-2),ROW(A760)),1)","v":{"$error":"#NUM!"}},{"$f":"INDEX(Tabela.abordagens[],SMALL(IF(Tabela.abordagens[Mês]=$L$2,ROW(Tabela.abordagens[Idade])-2),ROW(A760)),6)","v":{"$error":"#NUM!"}},{"$f":"INDEX(Tabela.abordagens[],SMALL(IF(Tabela.abordagens[Mês]=$L$2,ROW(Tabela.abordagens[Idade])-2),ROW(A760)),4)","v":{"$error":"#NUM!"}},{"$f":"INDEX(Tabela.abordagens[],SMALL(IF(Tabela.abordagens[Mês]=$L$2,ROW(Tabela.abordagens[Idade])-2),ROW(A760)),5)","v":{"$error":"#NUM!"}}]
[null,{"$f":"INDEX(Tabela.frequencia[],SMALL(IF(Tabela.frequencia[Mês]=$L$2,ROW(Tabela.frequencia[id])-1),ROW(A761)),1)","v":{"$error":"#NUM!"}},{"$f":"INDEX(Tabela.frequencia[],SMALL(IF(Tabela.frequencia[Mês]=$L$2,ROW(Tabela.frequencia[id])-1),ROW(A761)),4)","v":{"$error":"#NUM!"}},null,{"$f":"IFERROR(VLOOKUP(D808,Tabela.cadastro[[ID]:[Nome]],2,0),\"\")","v":""},{"$f":"IFERROR(VLOOKUP(D808,Tabela66[#All],2,0),\"\")","v":""},{"$f":"IFERROR(VLOOKUP(D808,Tabela.cadastro[[ID]:[CP ou M]],5,0),\"\")","v":""},{"$f":"IFERROR(VLOOKUP(D808,Cadastros!A:F,6,0),\"\")","v":""},{"$f":"IFERROR(VLOOKUP(D808,Cadastros!A:I,9,0),\"\")","v":""},{"$f":"IFERROR(VLOOKUP(D808,Cadastros!A:J,10,0),\"\")","v":""},{"$f":"IF(COUNTIF(Tabela66[id],D808)=0,\"\",COUNTIF(Tabela66[id],D808))","v":""},null,"",null,null,{"$f":"IFERROR(VLOOKUP(O808,Cadastros!A:B,2),\"\")","v":""},"",{"$f":"IFERROR(VLOOKUP(O808,Cadastros!A:E,5,0),\"\")","v":""},{"$f":"IFERROR(VLOOKUP(O808,Cadastros!A:F,6,0),\"\")","v":""},{"$f":"IFERROR(VLOOKUP(O808,Cadastros!A:I,9,0),\"\")","v":""},"","","",null,{"$f":"INDEX(Tabela.abordagens[],SMALL(IF(Tabela.abordagens[Mês]=$L$2,ROW(Tabela.abordagens[id])-2),ROW(A761)),1)","v":{"$error":"#NUM!"}},{"$f":"INDEX(Tabela.abordagens[],SMALL(IF(Tabela.abordagens[Mês]=$L$2,ROW(Tabela.abordagens[Idade])-2),ROW(A761)),6)","v":{"$error":"#NUM!"}},{"$f":"INDEX(Tabela.abordagens[],SMALL(IF(Tabela.abordagens[Mês]=$L$2,ROW(Tabela.abordagens[Idade])-2),ROW(A761)),4)","v":{"$error":"#NUM!"}},{"$f":"INDEX(Tabela.abordagens[],SMALL(IF(Tabela.abordagens[Mês]=$L$2,ROW(Tabela.abordagens[Idade])-2),ROW(A761)),5)","v":{"$error":"#NUM!"}}]
[null,{"$f":"INDEX(Tabela.frequencia[],SMALL(IF(Tabela.frequencia[Mês]=$L$2,ROW(Tabela.frequencia[id])-1),ROW(A762)),1)","v":{"$error":"#NUM!"}},{"$f":"INDEX(Tabela.frequencia[],SMALL(IF(Tabela.frequencia[Mês]=$L$2,ROW(Tabela.frequencia[id])-1),ROW(A762)),4)","v":{"$error":"#NUM!"}},null,{"$f":"IFERROR(VLOOKUP(D809,Tabela.cadastro[[ID]:[Nome]],2,0),\"\")","v":""},{"$f":"IFERROR(VLOOKUP(D809,Tabela66[#All],2,0),\"\")","v":""},{"$f":"IFERROR(VLOOKUP(D809,Tabela.cadastro[[ID]:[CP ou M]],5,0),\"\")","v":""},{"$f":"IFERROR(VLOOKUP(D809,Cadastros!A:F,6,0),\"\")","v":""},{"$f":"IFERROR(VLOOKUP(D809,Cadastros!A:I,9,0),\"\")","v":""},{"$f":"IFERROR(VLOOKUP(D809,Cadastros!A:J,10,0),\"\")","v":""},{"$f":"IF(COUNTIF(Tabela66[id],D809)=0,\"\",COUNTIF(Tabela66[id],D809))","v":""},null,"",null,null,{"$f":"IFERROR(VLOOKUP(O809,Cadastros!A:B,2),\"\")","v":""},"",{"$f":"IFERROR(VLOOKUP(O809,Cadastros!A:E,5,0),\"\")","v":""},{"$f":"IFERROR(VLOOKUP(O809,Cadastros!A:F,6,0),\"\")","v":""},{"$f":"IFERROR(VLOOKUP(O809,Cadastros!A:I,9,0),\"\")","v":""},"","","",null,{"$f":"INDEX(Tabela.abordagens[],SMALL(IF(Tabela.abordagens[Mês]=$L$2,ROW(Tabela.abordagens[id])-2),ROW(A762)),1)","v":{"$error":"#NUM!"}},{"$f":"INDEX(Tabela.abordagens[],SMALL(IF(Tabela.abordagens[Mês]=$L$2,ROW(Tabela.abordagens[Idade])-2),ROW(A762)),6)","v":{"$error":"#NUM!"}},{"$f":"INDEX(Tabela.abordagens[],SMALL(IF(Tabela.abordagens[Mês]=$L$2,ROW(Tabela.abordagens[Idade])-2),ROW(A762)),4)","v":{"$error":"#NUM!"}},{"$f":"INDEX(Tabela.abordagens[],SMALL(IF(Tabela.abordagens[Mês]=$L$2,ROW(Tabela.abordagens[Idade])-2),ROW(A762)),5)","v":{"$error":"#NUM!"}}]
[null,{"$f":"INDEX(Tabela.frequencia[],SMALL(IF(Tabela.frequencia[Mês]=$L$2,ROW(Tabela.frequencia[id])-1),ROW(A763)),1)","v":{"$error":"#NUM!"}},{"$f":"INDEX(Tabela.frequencia[],SMALL(IF(Tabela.frequencia[Mês]=$L$2,ROW(Tabela.frequencia[id])-1),ROW(A763)),4)","v":{"$error":"#NUM!"}},null,{"$f":"IFERROR(VLOOKUP(D810,Tabela.cadastro[[ID]:[Nome]],2,0),\"\")","v":""},{"$f":"IFERROR(VLOOKUP(D810,Tabela66[#All],2,0),\"\")","v":""},{"$f":"IFERROR(VLOOKUP(D810,Tabela.cadastro[[ID]:[CP ou M]],5,0),\"\")","v":""},{"$f":"IFERROR(VLOOKUP(D810,Cadastros!A:F,6,0),\"\")","v":""},{"$f":"IFERROR(VLOOKUP(D810,Cadastros!A:I,9,0),\"\")","v":""},{"$f":"IFERROR(VLOOKUP(D810,Cadastros!A:J,10,0),\"\")","v":""},{"$f":"IF(COUNTIF(Tabela66[id],D810)=0,\"\",COUNTIF(Tabela66[id],D810))","v":""},null,{"$f":"IF(AND(K810:K1641>=5,L810:L1641=\"Não\"),\"*\",\"\")","v":""},null,null,{"$f":"IFERROR(VLOOKUP(O810,Cadastros!A:B,2),\"\")","v":""},"",{"$f":"IFERROR(VLOOKUP(O810,Cadastros!A:E,5,0),\"\")","v":""},{"$f":"IFERROR(VLOOKUP(O810,Cadastros!A:F,6,0),\"\")","v":""},{"$f":"IFERROR(VLOOKUP(O810,Cadastros!A:I,9,0),\"\")","v":""},"","","",null,{"$f":"INDEX(Tabela.abordagens[],SMALL(IF(Tabela.abordagens[Mês]=$L$2,ROW(Tabela.abordagens[id])-2),ROW(A763)),1)","v":{"$error":"#NUM!"}},{"$f":"INDEX(Tabela.abordagens[],SMALL(IF(Tabela.abordagens[Mês]=$L$2,ROW(Tabela.abordagens[Idade])-2),ROW(A763)),6)","v":{"$error":"#NUM!"}},{"$f":"INDEX(Tabela.abordagens[],SMALL(IF(Tabela.abordagens[Mês]=$L$2,ROW(Tabela.abordagens[Idade])-2),ROW(A763)),4)","v":{"$error":"#NUM!"}},{"$f":"INDEX(Tabela.abordagens[],SMALL(IF(Tabela.abordagens[Mês]=$L$2,ROW(Tabela.abordagens[Idade])-2),ROW(A763)),5)","v":{"$error":"#NUM!"}}]
[null,{"$f":"INDEX(Tabela.frequencia[],SMALL(IF(Tabela.frequencia[Mês]=$L$2,ROW(Tabela.frequencia[id])-1),ROW(A764)),1)","v":{"$error":"#NUM!"}},{"$f":"INDEX(Tabela.frequencia[],SMALL(IF(Tabela.frequencia[Mês]=$L$2,ROW(Tabela.frequencia[id])-1),ROW(A764)),4)","v":{"$error":"#NUM!"}},null,{"$f":"IFERROR(VLOOKUP(D811,Tabela.cadastro[[ID]:[Nome]],2,0),\"\")","v":""},{"$f":"IFERROR(VLOOKUP(D811,Tabela66[#All],2,0),\"\")","v":""},{"$f":"IFERROR(VLOOKUP(D811,Tabela.cadastro[[ID]:[CP ou M]],5,0),\"\")","v":""},{"$f":"IFERROR(VLOOKUP(D811,Cadastros!A:F,6,0),\"\")","v":""},{"$f":"IFERROR(VLOOKUP(D811,Cadastros!A:I,9,0),\"\")","v":""},{"$f":"IFERROR(VLOOKUP(D811,Cadastros!A:J,10,0),\"\")","v":""},{"$f":"IF(COUNTIF(Tabela66[id],D811)=0,\"\",COUNTIF(Tabela66[id],D811))","v":""},null,"",null,null,{"$f":"IFERROR(VLOOKUP(O811,Cadastros!A:B,2),\"\")","v":""},"",{"$f":"IFERROR(VLOOKUP(O811,Cadastros!A:E,5,0),\"\")","v":""},{"$f":"IFERROR(VLOOKUP(O811,Cadastros!A:F,6,0),\"\")","v":""},{"$f":"IFERROR(VLOOKUP(O811,Cadastros!A:I,9,0),\"\")","v":""},"","","",null,{"$f":"INDEX(Tabela.abordagens[],SMALL(IF(Tabela.abordagens[Mês]=$L$2,ROW(Tabela.abordagens[id])-2),ROW(A764)),1)","v":{"$error":"#NUM!"}},{"$f":"INDEX(Tabela.abordagens[],SMALL(IF(Tabela.abordagens[Mês]=$L$2,ROW(Tabela.abordagens[Idade])-2),ROW(A764)),6)","v":{"$error":"#NUM!"}},{"$f":"INDEX(Tabela.abordagens[],SMALL(IF(Tabela.abordagens[Mês]=$L$2,ROW(Tabela.abordagens[Idade])-2),ROW(A764)),4)","v":{"$error":"#NUM!"}},{"$f":"INDEX(Tabela.abordagens[],SMALL(IF(Tabela.abordagens[Mês]=$L$2,ROW(Tabela.abordagens[Idade])-2),ROW(A764)),5)","v":{"$error":"#NUM!"}}]
[null,{"$f":"INDEX(Tabela.frequencia[],SMALL(IF(Tabela.frequencia[Mês]=$L$2,ROW(Tabela.frequencia[id])-1),ROW(A765)),1)","v":{"$error":"#NUM!"}},{"$f":"INDEX(Tabela.frequencia[],SMALL(IF(Tabela.frequencia[Mês]=$L$2,ROW(Tabela.frequencia[id])-1),ROW(A765)),4)","v":{"$error":"#NUM!"}},null,{"$f":"IFERROR(VLOOKUP(D812,Tabela.cadastro[[ID]:[Nome]],2,0),\"\")","v":""},{"$f":"IFERROR(VLOOKUP(D812,Tabela66[#All],2,0),\"\")","v":""},{"$f":"IFERROR(VLOOKUP(D812,Tabela.cadastro[[ID]:[CP ou M]],5,0),\"\")","v":""},{"$f":"IFERROR(VLOOKUP(D812,Cadastros!A:F,6,0),\"\")","v":""},{"$f":"IFERROR(VLOOKUP(D812,Cadastros!A:I,9,0),\"\")","v":""},{"$f":"IFERROR(VLOOKUP(D812,Cadastros!A:J,10,0),\"\")","v":""},{"$f":"IF(COUNTIF(Tabela66[id],D812)=0,\"\",COUNTIF(Tabela66[id],D812))","v":""},null,"",null,null,{"$f":"IFERROR(VLOOKUP(O812,Cadastros!A:B,2),\"\")","v":""},"",{"$f":"IFERROR(VLOOKUP(O812,Cadastros!A:E,5,0),\"\")","v":""},{"$f":"IFERROR(VLOOKUP(O812,Cadastros!A:F,6,0),\"\")","v":""},{"$f":"IFERROR(VLOOKUP(O812,Cadastros!A:I,9,0),\"\")","v":""},"","","",null,{"$f":"INDEX(Tabela.abordagens[],SMALL(IF(Tabela.abordagens[Mês]=$L$2,ROW(Tabela.abordagens[id])-2),ROW(A765)),1)","v":{"$error":"#NUM!"}},{"$f":"INDEX(Tabela.abordagens[],SMALL(IF(Tabela.abordagens[Mês]=$L$2,ROW(Tabela.abordagens[Idade])-2),ROW(A765)),6)","v":{"$error":"#NUM!"}},{"$f":"INDEX(Tabela.abordagens[],SMALL(IF(Tabela.abordagens[Mês]=$L$2,ROW(Tabela.abordagens[Idade])-2),ROW(A765)),4)","v":{"$error":"#NUM!"}},{"$f":"INDEX(Tabela.abordagens[],SMALL(IF(Tabela.abordagens[Mês]=$L$2,ROW(Tabela.abordagens[Idade])-2),ROW(A765)),5)","v":{"$error":"#NUM!"}}]
[null,{"$f":"INDEX(Tabela.frequencia[],SMALL(IF(Tabela.frequencia[Mês]=$L$2,ROW(Tabela.frequencia[id])-1),ROW(A766)),1)","v":{"$error":"#NUM!"}},{"$f":"INDEX(Tabela.frequencia[],SMALL(IF(Tabela.frequencia[Mês]=$L$2,ROW(Tabela.frequencia[id])-1),ROW(A766)),4)","v":{"$error":"#NUM!"}},null,{"$f":"IFERROR(VLOOKUP(D813,Tabela.cadastro[[ID]:[Nome]],2,0),\"\")","v":""},{"$f":"IFERROR(VLOOKUP(D813,Tabela66[#All],2,0),\"\")","v":""},{"$f":"IFERROR(VLOOKUP(D813,Tabela.cadastro[[ID]:[CP ou M]],5,0),\"\")","v":""},{"$f":"IFERROR(VLOOKUP(D813,Cadastros!A:F,6,0),\"\")","v":""},{"$f":"IFERROR(VLOOKUP(D813,Cadastros!A:I,9,0),\"\")","v":""},{"$f":"IFERROR(VLOOKUP(D813,Cadastros!A:J,10,0),\"\")","v":""},{"$f":"IF(COUNTIF(Tabela66[id],D813)=0,\"\",COUNTIF(Tabela66[id],D813))","v":""},null,"",null,null,{"$f":"IFERROR(VLOOKUP(O813,Cadastros!A:B,2),\"\")","v":""},"",{"$f":"IFERROR(VLOOKUP(O813,Cadastros!A:E,5,0),\"\")","v":""},{"$f":"IFERROR(VLOOKUP(O813,Cadastros!A:F,6,0),\"\")","v":""},{"$f":"IFERROR(VLOOKUP(O813,Cadastros!A:I,9,0),\"\")","v":""},"","","",null,{"$f":"INDEX(Tabela.abordagens[],SMALL(IF(Tabela.abordagens[Mês]=$L$2,ROW(Tabela.abordagens[id])-2),ROW(A766)),1)","v":{"$error":"#NUM!"}},{"$f":"INDEX(Tabela.abordagens[],SMALL(IF(Tabela.abordagens[Mês]=$L$2,ROW(Tabela.abordagens[Idade])-2),ROW(A766)),6)","v":{"$error":"#NUM!"}},{"$f":"INDEX(Tabela.abordagens[],SMALL(IF(Tabela.abordagens[Mês]=$L$2,ROW(Tabela.abordagens[Idade])-2),ROW(A766)),4)","v":{"$error":"#NUM!"}},{"$f":"INDEX(Tabela.abordagens[],SMALL(IF(Tabela.abordagens[Mês]=$L$2,ROW(Tabela.abordagens[Idade])-2),ROW(A766)),5)","v":{"$error":"#NUM!"}}]
[null,{"$f":"INDEX(Tabela.frequencia[],SMALL(IF(Tabela.frequencia[Mês]=$L$2,ROW(Tabela.frequencia[id])-1),ROW(A767)),1)","v":{"$error":"#NUM!"}},{"$f":"INDEX(Tabela.frequencia[],SMALL(IF(Tabela.frequencia[Mês]=$L$2,ROW(Tabela.frequencia[id])-1),ROW(A767)),4)","v":{"$error":"#NUM!"}},null,{"$f":"IFERROR(VLOOKUP(D814,Tabela.cadastro[[ID]:[Nome]],2,0),\"\")","v":""},{"$f":"IFERROR(VLOOKUP(D814,Tabela66[#All],2,0),\"\")","v":""},{"$f":"IFERROR(VLOOKUP(D814,Tabela.cadastro[[ID]:[CP ou M]],5,0),\"\")","v":""},{"$f":"IFERROR(VLOOKUP(D814,Cadastros!A:F,6,0),\"\")","v":""},{"$f":"IFERROR(VLOOKUP(D814,Cadastros!A:I,9,0),\"\")","v":""},{"$f":"IFERROR(VLOOKUP(D814,Cadastros!A:J,10,0),\"\")","v":""},{"$f":"IF(COUNTIF(Tabela66[id],D814)=0,\"\",COUNTIF(Tabela66[id],D814))","v":""},null,"",null,null,{"$f":"IFERROR(VLOOKUP(O814,Cadastros!A:B,2),\"\")","v":""},"",{"$f":"IFERROR(VLOOKUP(O814,Cadastros!A:E,5,0),\"\")","v":""},{"$f":"IFERROR(VLOOKUP(O814,Cadastros!A:F,6,0),\"\")","v":""},{"$f":"IFERROR(VLOOKUP(O814,Cadastros!A:I,9,0),\"\")","v":""},"","","",null,{"$f":"INDEX(Tabela.abordagens[],SMALL(IF(Tabela.abordagens[Mês]=$L$2,ROW(Tabela.abordagens[id])-2),ROW(A767)),1)","v":{"$error":"#NUM!"}},{"$f":"INDEX(Tabela.abordagens[],SMALL(IF(Tabela.abordagens[Mês]=$L$2,ROW(Tabela.abordagens[Idade])-2),ROW(A767)),6)","v":{"$error":"#NUM!"}},{"$f":"INDEX(Tabela.abordagens[],SMALL(IF(Tabela.abordagens[Mês]=$L$2,ROW(Tabela.abordagens[Idade])-2),ROW(A767)),4)","v":{"$error":"#NUM!"}},{"$f":"INDEX(Tabela.abordagens[],SMALL(IF(Tabela.abordagens[Mês]=$L$2,ROW(Tabela.abordagens[Idade])-2),ROW(A767)),5)","v":{"$error":"#NUM!"}}]
[null,{"$f":"INDEX(Tabela.frequencia[],SMALL(IF(Tabela.frequencia[Mês]=$L$2,ROW(Tabela.frequencia[id])-1),ROW(A768)),1)","v":{"$error":"#NUM!"}},{"$f":"INDEX(Tabela.frequencia[],SMALL(IF(Tabela.frequencia[Mês]=$L$2,ROW(Tabela.frequencia[id])-1),ROW(A768)),4)","v":{"$error":"#NUM!"}},null,{"$f":"IFERROR(VLOOKUP(D815,Tabela.cadastro[[ID]:[Nome]],2,0),\"\")","v":""},{"$f":"IFERROR(VLOOKUP(D815,Tabela66[#All],2,0),\"\")","v":""},{"$f":"IFERROR(VLOOKUP(D815,Tabela.cadastro[[ID]:[CP ou M]],5,0),\"\")","v":""},{"$f":"IFERROR(VLOOKUP(D815,Cadastros!A:F,6,0),\"\")","v":""},{"$f":"IFERROR(VLOOKUP(D815,Cadastros!A:I,9,0),\"\")","v":""},{"$f":"IFERROR(VLOOKUP(D815,Cadastros!A:J,10,0),\"\")","v":""},{"$f":"IF(COUNTIF(Tabela66[id],D815)=0,\"\",COUNTIF(Tabela66[id],D815))","v":""},null,"",null,null,{"$f":"IFERROR(VLOOKUP(O815,Cadastros!A:B,2),\"\")","v":""},"",{"$f":"IFERROR(VLOOKUP(O815,Cadastros!A:E,5,0),\"\")","v":""},{"$f":"IFERROR(VLOOKUP(O815,Cadastros!A:F,6,0),\"\")","v":""},{"$f":"IFERROR(VLOOKUP(O815,Cadastros!A:I,9,0),\"\")","v":""},"","","",null,{"$f":"INDEX(Tabela.abordagens[],SMALL(IF(Tabela.abordagens[Mês]=$L$2,ROW(Tabela.abordagens[id])-2),ROW(A768)),1)","v":{"$error":"#NUM!"}},{"$f":"INDEX(Tabela.abordagens[],SMALL(IF(Tabela.abordagens[Mês]=$L$2,ROW(Tabela.abordagens[Idade])-2),ROW(A768)),6)","v":{"$error":"#NUM!"}},{"$f":"INDEX(Tabela.abordagens[],SMALL(IF(Tabela.abordagens[Mês]=$L$2,ROW(Tabela.abordagens[Idade])-2),ROW(A768)),4)","v":{"$error":"#NUM!"}},{"$f":"INDEX(Tabela.abordagens[],SMALL(IF(Tabela.abordagens[Mês]=$L$2,ROW(Tabela.abordagens[Idade])-2),ROW(A768)),5)","v":{"$error":"#NUM!"}}]
[null,{"$f":"INDEX(Tabela.frequencia[],SMALL(IF(Tabela.frequencia[Mês]=$L$2,ROW(Tabela.frequencia[id])-1),ROW(A769)),1)","v":{"$error":"#NUM!"}},{"$f":"INDEX(Tabela.frequencia[],SMALL(IF(Tabela.frequencia[Mês]=$L$2,ROW(Tabela.frequencia[id])-1),ROW(A769)),4)","v":{"$error":"#NUM!"}},null,{"$f":"IFERROR(VLOOKUP(D816,Tabela.cadastro[[ID]:[Nome]],2,0),\"\")","v":""},{"$f":"IFERROR(VLOOKUP(D816,Tabela66[#All],2,0),\"\")","v":""},{"$f":"IFERROR(VLOOKUP(D816,Tabela.cadastro[[ID]:[CP ou M]],5,0),\"\")","v":""},{"$f":"IFERROR(VLOOKUP(D816,Cadastros!A:F,6,0),\"\")","v":""},{"$f":"IFERROR(VLOOKUP(D816,Cadastros!A:I,9,0),\"\")","v":""},{"$f":"IFERROR(VLOOKUP(D816,Cadastros!A:J,10,0),\"\")","v":""},{"$f":"IF(COUNTIF(Tabela66[id],D816)=0,\"\",COUNTIF(Tabela66[id],D816))","v":""},null,"",null,null,{"$f":"IFERROR(VLOOKUP(O816,Cadastros!A:B,2),\"\")","v":""},"",{"$f":"IFERROR(VLOOKUP(O816,Cadastros!A:E,5,0),\"\")","v":""},{"$f":"IFERROR(VLOOKUP(O816,Cadastros!A:F,6,0),\"\")","v":""},{"$f":"IFERROR(VLOOKUP(O816,Cadastros!A:I,9,0),\"\")","v":""},"","","",null,{"$f":"INDEX(Tabela.abordagens[],SMALL(IF(Tabela.abordagens[Mês]=$L$2,ROW(Tabela.abordagens[id])-2),ROW(A769)),1)","v":{"$error":"#NUM!"}},{"$f":"INDEX(Tabela.abordagens[],SMALL(IF(Tabela.abordagens[Mês]=$L$2,ROW(Tabela.abordagens[Idade])-2),ROW(A769)),6)","v":{"$error":"#NUM!"}},{"$f":"INDEX(Tabela.abordagens[],SMALL(IF(Tabela.abordagens[Mês]=$L$2,ROW(Tabela.abordagens[Idade])-2),ROW(A769)),4)","v":{"$error":"#NUM!"}},{"$f":"INDEX(Tabela.abordagens[],SMALL(IF(Tabela.abordagens[Mês]=$L$2,ROW(Tabela.abordagens[Idade])-2),ROW(A769)),5)","v":{"$error":"#NUM!"}}]
[null,{"$f":"INDEX(Tabela.frequencia[],SMALL(IF(Tabela.frequencia[Mês]=$L$2,ROW(Tabela.frequencia[id])-1),ROW(A770)),1)","v":{"$error":"#NUM!"}},{"$f":"INDEX(Tabela.frequencia[],SMALL(IF(Tabela.frequencia[Mês]=$L$2,ROW(Tabela.frequencia[id])-1),ROW(A770)),4)","v":{"$error":"#NUM!"}},null,{"$f":"IFERROR(VLOOKUP(D817,Tabela.cadastro[[ID]:[Nome]],2,0),\"\")","v":""},{"$f":"IFERROR(VLOOKUP(D817,Tabela66[#All],2,0),\"\")","v":""},{"$f":"IFERROR(VLOOKUP(D817,Tabela.cadastro[[ID]:[CP ou M]],5,0),\"\")","v":""},{"$f":"IFERROR(VLOOKUP(D817,Cadastros!A:F,6,0),\"\")","v":""},{"$f":"IFERROR(VLOOKUP(D817,Cadastros!A:I,9,0),\"\")","v":""},{"$f":"IFERROR(VLOOKUP(D817,Cadastros!A:J,10,0),\"\")","v":""},{"$f":"IF(COUNTIF(Tabela66[id],D817)=0,\"\",COUNTIF(Tabela66[id],D817))","v":""},null,"",null,null,{"$f":"IFERROR(VLOOKUP(O817,Cadastros!A:B,2),\"\")","v":""},"",{"$f":"IFERROR(VLOOKUP(O817,Cadastros!A:E,5,0),\"\")","v":""},{"$f":"IFERROR(VLOOKUP(O817,Cadastros!A:F,6,0),\"\")","v":""},{"$f":"IFERROR(VLOOKUP(O817,Cadastros!A:I,9,0),\"\")","v":""},"","","",null,{"$f":"INDEX(Tabela.abordagens[],SMALL(IF(Tabela.abordagens[Mês]=$L$2,ROW(Tabela.abordagens[id])-2),ROW(A770)),1)","v":{"$error":"#NUM!"}},{"$f":"INDEX(Tabela.abordagens[],SMALL(IF(Tabela.abordagens[Mês]=$L$2,ROW(Tabela.abordagens[Idade])-2),ROW(A770)),6)","v":{"$error":"#NUM!"}},{"$f":"INDEX(Tabela.abordagens[],SMALL(IF(Tabela.abordagens[Mês]=$L$2,ROW(Tabela.abordagens[Idade])-2),ROW(A770)),4)","v":{"$error":"#NUM!"}},{"$f":"INDEX(Tabela.abordagens[],SMALL(IF(Tabela.abordagens[Mês]=$L$2,ROW(Tabela.abordagens[Idade])-2),ROW(A770)),5)","v":{"$error":"#NUM!"}}]
[null,{"$f":"INDEX(Tabela.frequencia[],SMALL(IF(Tabela.frequencia[Mês]=$L$2,ROW(Tabela.frequencia[id])-1),ROW(A771)),1)","v":{"$error":"#NUM!"}},{"$f":"INDEX(Tabela.frequencia[],SMALL(IF(Tabela.frequencia[Mês]=$L$2,ROW(Tabela.frequencia[id])-1),ROW(A771)),4)","v":{"$error":"#NUM!"}},null,{"$f":"IFERROR(VLOOKUP(D818,Tabela.cadastro[[ID]:[Nome]],2,0),\"\")","v":""},{"$f":"IFERROR(VLOOKUP(D818,Tabela66[#All],2,0),\"\")","v":""},{"$f":"IFERROR(VLOOKUP(D818,Tabela.cadastro[[ID]:[CP ou M]],5,0),\"\")","v":""},{"$f":"IFERROR(VLOOKUP(D818,Cadastros!A:F,6,0),\"\")","v":""},{"$f":"IFERROR(VLOOKUP(D818,Cadastros!A:I,9,0),\"\")","v":""},{"$f":"IFERROR(VLOOKUP(D818,Cadastros!A:J,10,0),\"\")","v":""},{"$f":"IF(COUNTIF(Tabela66[id],D818)=0,\"\",COUNTIF(Tabela66[id],D818))","v":""},null,"",null,null,{"$f":"IFERROR(VLOOKUP(O818,Cadastros!A:B,2),\"\")","v":""},"",{"$f":"IFERROR(VLOOKUP(O818,Cadastros!A:E,5,0),\"\")","v":""},{"$f":"IFERROR(VLOOKUP(O818,Cadastros!A:F,6,0),\"\")","v":""},{"$f":"IFERROR(VLOOKUP(O818,Cadastros!A:I,9,0),\"\")","v":""},"","","",null,{"$f":"INDEX(Tabela.abordagens[],SMALL(IF(Tabela.abordagens[Mês]=$L$2,ROW(Tabela.abordagens[id])-2),ROW(A771)),1)","v":{"$error":"#NUM!"}},{"$f":"INDEX(Tabela.abordagens[],SMALL(IF(Tabela.abordagens[Mês]=$L$2,ROW(Tabela.abordagens[Idade])-2),ROW(A771)),6)","v":{"$error":"#NUM!"}},{"$f":"INDEX(Tabela.abordagens[],SMALL(IF(Tabela.abordagens[Mês]=$L$2,ROW(Tabela.abordagens[Idade])-2),ROW(A771)),4)","v":{"$error":"#NUM!"}},{"$f":"INDEX(Tabela.abordagens[],SMALL(IF(Tabela.abordagens[Mês]=$L$2,ROW(Tabela.abordagens[Idade])-2),ROW(A771)),5)","v":{"$error":"#NUM!"}}]
[null,{"$f":"INDEX(Tabela.frequencia[],SMALL(IF(Tabela.frequencia[Mês]=$L$2,ROW(Tabela.frequencia[id])-1),ROW(A772)),1)","v":{"$error":"#NUM!"}},{"$f":"INDEX(Tabela.frequencia[],SMALL(IF(Tabela.frequencia[Mês]=$L$2,ROW(Tabela.frequencia[id])-1),ROW(A772)),4)","v":{"$error":"#NUM!"}},null,{"$f":"IFERROR(VLOOKUP(D819,Tabela.cadastro[[ID]:[Nome]],2,0),\"\")","v":""},{"$f":"IFERROR(VLOOKUP(D819,Tabela66[#All],2,0),\"\")","v":""},{"$f":"IFERROR(VLOOKUP(D819,Tabela.cadastro[[ID]:[CP ou M]],5,0),\"\")","v":""},{"$f":"IFERROR(VLOOKUP(D819,Cadastros!A:F,6,0),\"\")","v":""},{"$f":"IFERROR(VLOOKUP(D819,Cadastros!A:I,9,0),\"\")","v":""},{"$f":"IFERROR(VLOOKUP(D819,Cadastros!A:J,10,0),\"\")","v":""},{"$f":"IF(COUNTIF(Tabela66[id],D819)=0,\"\",COUNTIF(Tabela66[id],D819))","v":""},null,"",null,null,{"$f":"IFERROR(VLOOKUP(O819,Cadastros!A:B,2),\"\")","v":""},"",{"$f":"IFERROR(VLOOKUP(O819,Cadastros!A:E,5,0),\"\")","v":""},{"$f":"IFERROR(VLOOKUP(O819,Cadastros!A:F,6,0),\"\")","v":""},{"$f":"IFERROR(VLOOKUP(O819,Cadastros!A:I,9,0),\"\")","v":""},"","","",null,{"$f":"INDEX(Tabela.abordagens[],SMALL(IF(Tabela.abordagens[Mês]=$L$2,ROW(Tabela.abordagens[id])-2),ROW(A772)),1)","v":{"$error":"#NUM!"}},{"$f":"INDEX(Tabela.abordagens[],SMALL(IF(Tabela.abordagens[Mês]=$L$2,ROW(Tabela.abordagens[Idade])-2),ROW(A772)),6)","v":{"$error":"#NUM!"}},{"$f":"INDEX(Tabela.abordagens[],SMALL(IF(Tabela.abordagens[Mês]=$L$2,ROW(Tabela.abordagens[Idade])-2),ROW(A772)),4)","v":{"$error":"#NUM!"}},{"$f":"INDEX(Tabela.abordagens[],SMALL(IF(Tabela.abordagens[Mês]=$L$2,ROW(Tabela.abordagens[Idade])-2),ROW(A772)),5)","v":{"$error":"#NUM!"}}]
[null,{"$f":"INDEX(Tabela.frequencia[],SMALL(IF(Tabela.frequencia[Mês]=$L$2,ROW(Tabela.frequencia[id])-1),ROW(A773)),1)","v":{"$error":"#NUM!"}},{"$f":"INDEX(Tabela.frequencia[],SMALL(IF(Tabela.frequencia[Mês]=$L$2,ROW(Tabela.frequencia[id])-1),ROW(A773)),4)","v":{"$error":"#NUM!"}},null,{"$f":"IFERROR(VLOOKUP(D820,Tabela.cadastro[[ID]:[Nome]],2,0),\"\")","v":""},{"$f":"IFERROR(VLOOKUP(D820,Tabela66[#All],2,0),\"\")","v":""},{"$f":"IFERROR(VLOOKUP(D820,Tabela.cadastro[[ID]:[CP ou M]],5,0),\"\")","v":""},{"$f":"IFERROR(VLOOKUP(D820,Cadastros!A:F,6,0),\"\")","v":""},{"$f":"IFERROR(VLOOKUP(D820,Cadastros!A:I,9,0),\"\")","v":""},{"$f":"IFERROR(VLOOKUP(D820,Cadastros!A:J,10,0),\"\")","v":""},{"$f":"IF(COUNTIF(Tabela66[id],D820)=0,\"\",COUNTIF(Tabela66[id],D820))","v":""},null,"",null,null,{"$f":"IFERROR(VLOOKUP(O820,Cadastros!A:B,2),\"\")","v":""},"",{"$f":"IFERROR(VLOOKUP(O820,Cadastros!A:E,5,0),\"\")","v":""},{"$f":"IFERROR(VLOOKUP(O820,Cadastros!A:F,6,0),\"\")","v":""},{"$f":"IFERROR(VLOOKUP(O820,Cadastros!A:I,9,0),\"\")","v":""},"","","",null,{"$f":"INDEX(Tabela.abordagens[],SMALL(IF(Tabela.abordagens[Mês]=$L$2,ROW(Tabela.abordagens[id])-2),ROW(A773)),1)","v":{"$error":"#NUM!"}},{"$f":"INDEX(Tabela.abordagens[],SMALL(IF(Tabela.abordagens[Mês]=$L$2,ROW(Tabela.abordagens[Idade])-2),ROW(A773)),6)","v":{"$error":"#NUM!"}},{"$f":"INDEX(Tabela.abordagens[],SMALL(IF(Tabela.abordagens[Mês]=$L$2,ROW(Tabela.abordagens[Idade])-2),ROW(A773)),4)","v":{"$error":"#NUM!"}},{"$f":"INDEX(Tabela.abordagens[],SMALL(IF(Tabela.abordagens[Mês]=$L$2,ROW(Tabela.abordagens[Idade])-2),ROW(A773)),5)","v":{"$error":"#NUM!"}}]
[null,{"$f":"INDEX(Tabela.frequencia[],SMALL(IF(Tabela.frequencia[Mês]=$L$2,ROW(Tabela.frequencia[id])-1),ROW(A774)),1)","v":{"$error":"#NUM!"}},{"$f":"INDEX(Tabela.frequencia[],SMALL(IF(Tabela.frequencia[Mês]=$L$2,ROW(Tabela.frequencia[id])-1),ROW(A774)),4)","v":{"$error":"#NUM!"}},null,{"$f":"IFERROR(VLOOKUP(D821,Tabela.cadastro[[ID]:[Nome]],2,0),\"\")","v":""},{"$f":"IFERROR(VLOOKUP(D821,Tabela66[#All],2,0),\"\")","v":""},{"$f":"IFERROR(VLOOKUP(D821,Tabela.cadastro[[ID]:[CP ou M]],5,0),\"\")","v":""},{"$f":"IFERROR(VLOOKUP(D821,Cadastros!A:F,6,0),\"\")","v":""},{"$f":"IFERROR(VLOOKUP(D821,Cadastros!A:I,9,0),\"\")","v":""},{"$f":"IFERROR(VLOOKUP(D821,Cadastros!A:J,10,0),\"\")","v":""},{"$f":"IF(COUNTIF(Tabela66[id],D821)=0,\"\",COUNTIF(Tabela66[id],D821))","v":""},null,"",null,null,{"$f":"IFERROR(VLOOKUP(O821,Cadastros!A:B,2),\"\")","v":""},"",{"$f":"IFERROR(VLOOKUP(O821,Cadastros!A:E,5,0),\"\")","v":""},{"$f":"IFERROR(VLOOKUP(O821,Cadastros!A:F,6,0),\"\")","v":""},{"$f":"IFERROR(VLOOKUP(O821,Cadastros!A:I,9,0),\"\")","v":""},"","","",null,{"$f":"INDEX(Tabela.abordagens[],SMALL(IF(Tabela.abordagens[Mês]=$L$2,ROW(Tabela.abordagens[id])-2),ROW(A774)),1)","v":{"$error":"#NUM!"}},{"$f":"INDEX(Tabela.abordagens[],SMALL(IF(Tabela.abordagens[Mês]=$L$2,ROW(Tabela.abordagens[Idade])-2),ROW(A774)),6)","v":{"$error":"#NUM!"}},{"$f":"INDEX(Tabela.abordagens[],SMALL(IF(Tabela.abordagens[Mês]=$L$2,ROW(Tabela.abordagens[Idade])-2),ROW(A774)),4)","v":{"$error":"#NUM!"}},{"$f":"INDEX(Tabela.abordagens[],SMALL(IF(Tabela.abordagens[Mês]=$L$2,ROW(Tabela.abordagens[Idade])-2),ROW(A774)),5)","v":{"$error":"#NUM!"}}]
[null,{"$f":"INDEX(Tabela.frequencia[],SMALL(IF(Tabela.frequencia[Mês]=$L$2,ROW(Tabela.frequencia[id])-1),ROW(A775)),1)","v":{"$error":"#NUM!"}},{"$f":"INDEX(Tabela.frequencia[],SMALL(IF(Tabela.frequencia[Mês]=$L$2,ROW(Tabela.frequencia[id])-1),ROW(A775)),4)","v":{"$error":"#NUM!"}},null,{"$f":"IFERROR(VLOOKUP(D822,Tabela.cadastro[[ID]:[Nome]],2,0),\"\")","v":""},{"$f":"IFERROR(VLOOKUP(D822,Tabela66[#All],2,0),\"\")","v":""},{"$f":"IFERROR(VLOOKUP(D822,Tabela.cadastro[[ID]:[CP ou M]],5,0),\"\")","v":""},{"$f":"IFERROR(VLOOKUP(D822,Cadastros!A:F,6,0),\"\")","v":""},{"$f":"IFERROR(VLOOKUP(D822,Cadastros!A:I,9,0),\"\")","v":""},{"$f":"IFERROR(VLOOKUP(D822,Cadastros!A:J,10,0),\"\")","v":""},{"$f":"IF(COUNTIF(Tabela66[id],D822)=0,\"\",COUNTIF(Tabela66[id],D822))","v":""},null,"",null,null,{"$f":"IFERROR(VLOOKUP(O822,Cadastros!A:B,2),\"\")","v":""},"",{"$f":"IFERROR(VLOOKUP(O822,Cadastros!A:E,5,0),\"\")","v":""},{"$f":"IFERROR(VLOOKUP(O822,Cadastros!A:F,6,0),\"\")","v":""},{"$f":"IFERROR(VLOOKUP(O822,Cadastros!A:I,9,0),\"\")","v":""},"","","",null,{"$f":"INDEX(Tabela.abordagens[],SMALL(IF(Tabela.abordagens[Mês]=$L$2,ROW(Tabela.abordagens[id])-2),ROW(A775)),1)","v":{"$error":"#NUM!"}},{"$f":"INDEX(Tabela.abordagens[],SMALL(IF(Tabela.abordagens[Mês]=$L$2,ROW(Tabela.abordagens[Idade])-2),ROW(A775)),6)","v":{"$error":"#NUM!"}},{"$f":"INDEX(Tabela.abordagens[],SMALL(IF(Tabela.abordagens[Mês]=$L$2,ROW(Tabela.abordagens[Idade])-2),ROW(A775)),4)","v":{"$error":"#NUM!"}},{"$f":"INDEX(Tabela.abordagens[],SMALL(IF(Tabela.abordagens[Mês]=$L$2,ROW(Tabela.abordagens[Idade])-2),ROW(A775)),5)","v":{"$error":"#NUM!"}}]
[null,{"$f":"INDEX(Tabela.frequencia[],SMALL(IF(Tabela.frequencia[Mês]=$L$2,ROW(Tabela.frequencia[id])-1),ROW(A776)),1)","v":{"$error":"#NUM!"}},{"$f":"INDEX(Tabela.frequencia[],SMALL(IF(Tabela.frequencia[Mês]=$L$2,ROW(Tabela.frequencia[id])-1),ROW(A776)),4)","v":{"$error":"#NUM!"}},null,{"$f":"IFERROR(VLOOKUP(D823,Tabela.cadastro[[ID]:[Nome]],2,0),\"\")","v":""},{"$f":"IFERROR(VLOOKUP(D823,Tabela66[#All],2,0),\"\")","v":""},{"$f":"IFERROR(VLOOKUP(D823,Tabela.cadastro[[ID]:[CP ou M]],5,0),\"\")","v":""},{"$f":"IFERROR(VLOOKUP(D823,Cadastros!A:F,6,0),\"\")","v":""},{"$f":"IFERROR(VLOOKUP(D823,Cadastros!A:I,9,0),\"\")","v":""},{"$f":"IFERROR(VLOOKUP(D823,Cadastros!A:J,10,0),\"\")","v":""},{"$f":"IF(COUNTIF(Tabela66[id],D823)=0,\"\",COUNTIF(Tabela66[id],D823))","v":""},null,"",null,null,{"$f":"IFERROR(VLOOKUP(O823,Cadastros!A:B,2),\"\")","v":""},"",{"$f":"IFERROR(VLOOKUP(O823,Cadastros!A:E,5,0),\"\")","v":""},{"$f":"IFERROR(VLOOKUP(O823,Cadastros!A:F,6,0),\"\")","v":""},{"$f":"IFERROR(VLOOKUP(O823,Cadastros!A:I,9,0),\"\")","v":""},"","","",null,{"$f":"INDEX(Tabela.abordagens[],SMALL(IF(Tabela.abordagens[Mês]=$L$2,ROW(Tabela.abordagens[id])-2),ROW(A776)),1)","v":{"$error":"#NUM!"}},{"$f":"INDEX(Tabela.abordagens[],SMALL(IF(Tabela.abordagens[Mês]=$L$2,ROW(Tabela.abordagens[Idade])-2),ROW(A776)),6)","v":{"$error":"#NUM!"}},{"$f":"INDEX(Tabela.abordagens[],SMALL(IF(Tabela.abordagens[Mês]=$L$2,ROW(Tabela.abordagens[Idade])-2),ROW(A776)),4)","v":{"$error":"#NUM!"}},{"$f":"INDEX(Tabela.abordagens[],SMALL(IF(Tabela.abordagens[Mês]=$L$2,ROW(Tabela.abordagens[Idade])-2),ROW(A776)),5)","v":{"$error":"#NUM!"}}]
[null,{"$f":"INDEX(Tabela.frequencia[],SMALL(IF(Tabela.frequencia[Mês]=$L$2,ROW(Tabela.frequencia[id])-1),ROW(A777)),1)","v":{"$error":"#NUM!"}},{"$f":"INDEX(Tabela.frequencia[],SMALL(IF(Tabela.frequencia[Mês]=$L$2,ROW(Tabela.frequencia[id])-1),ROW(A777)),4)","v":{"$error":"#NUM!"}},null,{"$f":"IFERROR(VLOOKUP(D824,Tabela.cadastro[[ID]:[Nome]],2,0),\"\")","v":""},{"$f":"IFERROR(VLOOKUP(D824,Tabela66[#All],2,0),\"\")","v":""},{"$f":"IFERROR(VLOOKUP(D824,Tabela.cadastro[[ID]:[CP ou M]],5,0),\"\")","v":""},{"$f":"IFERROR(VLOOKUP(D824,Cadastros!A:F,6,0),\"\")","v":""},{"$f":"IFERROR(VLOOKUP(D824,Cadastros!A:I,9,0),\"\")","v":""},{"$f":"IFERROR(VLOOKUP(D824,Cadastros!A:J,10,0),\"\")","v":""},{"$f":"IF(COUNTIF(Tabela66[id],D824)=0,\"\",COUNTIF(Tabela66[id],D824))","v":""},null,"",null,null,{"$f":"IFERROR(VLOOKUP(O824,Cadastros!A:B,2),\"\")","v":""},"",{"$f":"IFERROR(VLOOKUP(O824,Cadastros!A:E,5,0),\"\")","v":""},{"$f":"IFERROR(VLOOKUP(O824,Cadastros!A:F,6,0),\"\")","v":""},{"$f":"IFERROR(VLOOKUP(O824,Cadastros!A:I,9,0),\"\")","v":""},"","","",null,{"$f":"INDEX(Tabela.abordagens[],SMALL(IF(Tabela.abordagens[Mês]=$L$2,ROW(Tabela.abordagens[id])-2),ROW(A777)),1)","v":{"$error":"#NUM!"}},{"$f":"INDEX(Tabela.abordagens[],SMALL(IF(Tabela.abordagens[Mês]=$L$2,ROW(Tabela.abordagens[Idade])-2),ROW(A777)),6)","v":{"$error":"#NUM!"}},{"$f":"INDEX(Tabela.abordagens[],SMALL(IF(Tabela.abordagens[Mês]=$L$2,ROW(Tabela.abordagens[Idade])-2),ROW(A777)),4)","v":{"$error":"#NUM!"}},{"$f":"INDEX(Tabela.abordagens[],SMALL(IF(Tabela.abordagens[Mês]=$L$2,ROW(Tabela.abordagens[Idade])-2),ROW(A777)),5)","v":{"$error":"#NUM!"}}]
[null,{"$f":"INDEX(Tabela.frequencia[],SMALL(IF(Tabela.frequencia[Mês]=$L$2,ROW(Tabela.frequencia[id])-1),ROW(A778)),1)","v":{"$error":"#NUM!"}},{"$f":"INDEX(Tabela.frequencia[],SMALL(IF(Tabela.frequencia[Mês]=$L$2,ROW(Tabela.frequencia[id])-1),ROW(A778)),4)","v":{"$error":"#NUM!"}},null,{"$f":"IFERROR(VLOOKUP(D825,Tabela.cadastro[[ID]:[Nome]],2,0),\"\")","v":""},{"$f":"IFERROR(VLOOKUP(D825,Tabela66[#All],2,0),\"\")","v":""},{"$f":"IFERROR(VLOOKUP(D825,Tabela.cadastro[[ID]:[CP ou M]],5,0),\"\")","v":""},{"$f":"IFERROR(VLOOKUP(D825,Cadastros!A:F,6,0),\"\")","v":""},{"$f":"IFERROR(VLOOKUP(D825,Cadastros!A:I,9,0),\"\")","v":""},{"$f":"IFERROR(VLOOKUP(D825,Cadastros!A:J,10,0),\"\")","v":""},{"$f":"IF(COUNTIF(Tabela66[id],D825)=0,\"\",COUNTIF(Tabela66[id],D825))","v":""},null,"",null,null,{"$f":"IFERROR(VLOOKUP(O825,Cadastros!A:B,2),\"\")","v":""},"",{"$f":"IFERROR(VLOOKUP(O825,Cadastros!A:E,5,0),\"\")","v":""},{"$f":"IFERROR(VLOOKUP(O825,Cadastros!A:F,6,0),\"\")","v":""},{"$f":"IFERROR(VLOOKUP(O825,Cadastros!A:I,9,0),\"\")","v":""},"","","",null,{"$f":"INDEX(Tabela.abordagens[],SMALL(IF(Tabela.abordagens[Mês]=$L$2,ROW(Tabela.abordagens[id])-2),ROW(A778)),1)","v":{"$error":"#NUM!"}},{"$f":"INDEX(Tabela.abordagens[],SMALL(IF(Tabela.abordagens[Mês]=$L$2,ROW(Tabela.abordagens[Idade])-2),ROW(A778)),6)","v":{"$error":"#NUM!"}},{"$f":"INDEX(Tabela.abordagens[],SMALL(IF(Tabela.abordagens[Mês]=$L$2,ROW(Tabela.abordagens[Idade])-2),ROW(A778)),4)","v":{"$error":"#NUM!"}},{"$f":"INDEX(Tabela.abordagens[],SMALL(IF(Tabela.abordagens[Mês]=$L$2,ROW(Tabela.abordagens[Idade])-2),ROW(A778)),5)","v":{"$error":"#NUM!"}}]
[null,{"$f":"INDEX(Tabela.frequencia[],SMALL(IF(Tabela.frequencia[Mês]=$L$2,ROW(Tabela.frequencia[id])-1),ROW(A779)),1)","v":{"$error":"#NUM!"}},{"$f":"INDEX(Tabela.frequencia[],SMALL(IF(Tabela.frequencia[Mês]=$L$2,ROW(Tabela.frequencia[id])-1),ROW(A779)),4)","v":{"$error":"#NUM!"}},null,{"$f":"IFERROR(VLOOKUP(D826,Tabela.cadastro[[ID]:[Nome]],2,0),\"\")","v":""},{"$f":"IFERROR(VLOOKUP(D826,Tabela66[#All],2,0),\"\")","v":""},{"$f":"IFERROR(VLOOKUP(D826,Tabela.cadastro[[ID]:[CP ou M]],5,0),\"\")","v":""},{"$f":"IFERROR(VLOOKUP(D826,Cadastros!A:F,6,0),\"\")","v":""},{"$f":"IFERROR(VLOOKUP(D826,Cadastros!A:I,9,0),\"\")","v":""},{"$f":"IFERROR(VLOOKUP(D826,Cadastros!A:J,10,0),\"\")","v":""},{"$f":"IF(COUNTIF(Tabela66[id],D826)=0,\"\",COUNTIF(Tabela66[id],D826))","v":""},null,"",null,null,{"$f":"IFERROR(VLOOKUP(O826,Cadastros!A:B,2),\"\")","v":""},"",{"$f":"IFERROR(VLOOKUP(O826,Cadastros!A:E,5,0),\"\")","v":""},{"$f":"IFERROR(VLOOKUP(O826,Cadastros!A:F,6,0),\"\")","v":""},{"$f":"IFERROR(VLOOKUP(O826,Cadastros!A:I,9,0),\"\")","v":""},"","","",null,{"$f":"INDEX(Tabela.abordagens[],SMALL(IF(Tabela.abordagens[Mês]=$L$2,ROW(Tabela.abordagens[id])-2),ROW(A779)),1)","v":{"$error":"#NUM!"}},{"$f":"INDEX(Tabela.abordagens[],SMALL(IF(Tabela.abordagens[Mês]=$L$2,ROW(Tabela.abordagens[Idade])-2),ROW(A779)),6)","v":{"$error":"#NUM!"}},{"$f":"INDEX(Tabela.abordagens[],SMALL(IF(Tabela.abordagens[Mês]=$L$2,ROW(Tabela.abordagens[Idade])-2),ROW(A779)),4)","v":{"$error":"#NUM!"}},{"$f":"INDEX(Tabela.abordagens[],SMALL(IF(Tabela.abordagens[Mês]=$L$2,ROW(Tabela.abordagens[Idade])-2),ROW(A779)),5)","v":{"$error":"#NUM!"}}]
[null,{"$f":"INDEX(Tabela.frequencia[],SMALL(IF(Tabela.frequencia[Mês]=$L$2,ROW(Tabela.frequencia[id])-1),ROW(A780)),1)","v":{"$error":"#NUM!"}},{"$f":"INDEX(Tabela.frequencia[],SMALL(IF(Tabela.frequencia[Mês]=$L$2,ROW(Tabela.frequencia[id])-1),ROW(A780)),4)","v":{"$error":"#NUM!"}},null,{"$f":"IFERROR(VLOOKUP(D827,Tabela.cadastro[[ID]:[Nome]],2,0),\"\")","v":""},{"$f":"IFERROR(VLOOKUP(D827,Tabela66[#All],2,0),\"\")","v":""},{"$f":"IFERROR(VLOOKUP(D827,Tabela.cadastro[[ID]:[CP ou M]],5,0),\"\")","v":""},{"$f":"IFERROR(VLOOKUP(D827,Cadastros!A:F,6,0),\"\")","v":""},{"$f":"IFERROR(VLOOKUP(D827,Cadastros!A:I,9,0),\"\")","v":""},{"$f":"IFERROR(VLOOKUP(D827,Cadastros!A:J,10,0),\"\")","v":""},{"$f":"IF(COUNTIF(Tabela66[id],D827)=0,\"\",COUNTIF(Tabela66[id],D827))","v":""},null,"",null,null,{"$f":"IFERROR(VLOOKUP(O827,Cadastros!A:B,2),\"\")","v":""},"",{"$f":"IFERROR(VLOOKUP(O827,Cadastros!A:E,5,0),\"\")","v":""},{"$f":"IFERROR(VLOOKUP(O827,Cadastros!A:F,6,0),\"\")","v":""},{"$f":"IFERROR(VLOOKUP(O827,Cadastros!A:I,9,0),\"\")","v":""},"","","",null,{"$f":"INDEX(Tabela.abordagens[],SMALL(IF(Tabela.abordagens[Mês]=$L$2,ROW(Tabela.abordagens[id])-2),ROW(A780)),1)","v":{"$error":"#NUM!"}},{"$f":"INDEX(Tabela.abordagens[],SMALL(IF(Tabela.abordagens[Mês]=$L$2,ROW(Tabela.abordagens[Idade])-2),ROW(A780)),6)","v":{"$error":"#NUM!"}},{"$f":"INDEX(Tabela.abordagens[],SMALL(IF(Tabela.abordagens[Mês]=$L$2,ROW(Tabela.abordagens[Idade])-2),ROW(A780)),4)","v":{"$error":"#NUM!"}},{"$f":"INDEX(Tabela.abordagens[],SMALL(IF(Tabela.abordagens[Mês]=$L$2,ROW(Tabela.abordagens[Idade])-2),ROW(A780)),5)","v":{"$error":"#NUM!"}}]
[null,{"$f":"INDEX(Tabela.frequencia[],SMALL(IF(Tabela.frequencia[Mês]=$L$2,ROW(Tabela.frequencia[id])-1),ROW(A781)),1)","v":{"$error":"#NUM!"}},{"$f":"INDEX(Tabela.frequencia[],SMALL(IF(Tabela.frequencia[Mês]=$L$2,ROW(Tabela.frequencia[id])-1),ROW(A781)),4)","v":{"$error":"#NUM!"}},null,{"$f":"IFERROR(VLOOKUP(D828,Tabela.cadastro[[ID]:[Nome]],2,0),\"\")","v":""},{"$f":"IFERROR(VLOOKUP(D828,Tabela66[#All],2,0),\"\")","v":""},{"$f":"IFERROR(VLOOKUP(D828,Tabela.cadastro[[ID]:[CP ou M]],5,0),\"\")","v":""},{"$f":"IFERROR(VLOOKUP(D828,Cadastros!A:F,6,0),\"\")","v":""},{"$f":"IFERROR(VLOOKUP(D828,Cadastros!A:I,9,0),\"\")","v":""},{"$f":"IFERROR(VLOOKUP(D828,Cadastros!A:J,10,0),\"\")","v":""},{"$f":"IF(COUNTIF(Tabela66[id],D828)=0,\"\",COUNTIF(Tabela66[id],D828))","v":""},null,"",null,null,{"$f":"IFERROR(VLOOKUP(O828,Cadastros!A:B,2),\"\")","v":""},"",{"$f":"IFERROR(VLOOKUP(O828,Cadastros!A:E,5,0),\"\")","v":""},{"$f":"IFERROR(VLOOKUP(O828,Cadastros!A:F,6,0),\"\")","v":""},{"$f":"IFERROR(VLOOKUP(O828,Cadastros!A:I,9,0),\"\")","v":""},"","","",null,{"$f":"INDEX(Tabela.abordagens[],SMALL(IF(Tabela.abordagens[Mês]=$L$2,ROW(Tabela.abordagens[id])-2),ROW(A781)),1)","v":{"$error":"#NUM!"}},{"$f":"INDEX(Tabela.abordagens[],SMALL(IF(Tabela.abordagens[Mês]=$L$2,ROW(Tabela.abordagens[Idade])-2),ROW(A781)),6)","v":{"$error":"#NUM!"}},{"$f":"INDEX(Tabela.abordagens[],SMALL(IF(Tabela.abordagens[Mês]=$L$2,ROW(Tabela.abordagens[Idade])-2),ROW(A781)),4)","v":{"$error":"#NUM!"}},{"$f":"INDEX(Tabela.abordagens[],SMALL(IF(Tabela.abordagens[Mês]=$L$2,ROW(Tabela.abordagens[Idade])-2),ROW(A781)),5)","v":{"$error":"#NUM!"}}]
[null,{"$f":"INDEX(Tabela.frequencia[],SMALL(IF(Tabela.frequencia[Mês]=$L$2,ROW(Tabela.frequencia[id])-1),ROW(A782)),1)","v":{"$error":"#NUM!"}},{"$f":"INDEX(Tabela.frequencia[],SMALL(IF(Tabela.frequencia[Mês]=$L$2,ROW(Tabela.frequencia[id])-1),ROW(A782)),4)","v":{"$error":"#NUM!"}},null,{"$f":"IFERROR(VLOOKUP(D829,Tabela.cadastro[[ID]:[Nome]],2,0),\"\")","v":""},{"$f":"IFERROR(VLOOKUP(D829,Tabela66[#All],2,0),\"\")","v":""},{"$f":"IFERROR(VLOOKUP(D829,Tabela.cadastro[[ID]:[CP ou M]],5,0),\"\")","v":""},{"$f":"IFERROR(VLOOKUP(D829,Cadastros!A:F,6,0),\"\")","v":""},{"$f":"IFERROR(VLOOKUP(D829,Cadastros!A:I,9,0),\"\")","v":""},{"$f":"IFERROR(VLOOKUP(D829,Cadastros!A:J,10,0),\"\")","v":""},{"$f":"IF(COUNTIF(Tabela66[id],D829)=0,\"\",COUNTIF(Tabela66[id],D829))","v":""},null,"",null,null,{"$f":"IFERROR(VLOOKUP(O829,Cadastros!A:B,2),\"\")","v":""},"",{"$f":"IFERROR(VLOOKUP(O829,Cadastros!A:E,5,0),\"\")","v":""},{"$f":"IFERROR(VLOOKUP(O829,Cadastros!A:F,6,0),\"\")","v":""},{"$f":"IFERROR(VLOOKUP(O829,Cadastros!A:I,9,0),\"\")","v":""},"","","",null,{"$f":"INDEX(Tabela.abordagens[],SMALL(IF(Tabela.abordagens[Mês]=$L$2,ROW(Tabela.abordagens[id])-2),ROW(A782)),1)","v":{"$error":"#NUM!"}},{"$f":"INDEX(Tabela.abordagens[],SMALL(IF(Tabela.abordagens[Mês]=$L$2,ROW(Tabela.abordagens[Idade])-2),ROW(A782)),6)","v":{"$error":"#NUM!"}},{"$f":"INDEX(Tabela.abordagens[],SMALL(IF(Tabela.abordagens[Mês]=$L$2,ROW(Tabela.abordagens[Idade])-2),ROW(A782)),4)","v":{"$error":"#NUM!"}},{"$f":"INDEX(Tabela.abordagens[],SMALL(IF(Tabela.abordagens[Mês]=$L$2,ROW(Tabela.abordagens[Idade])-2),ROW(A782)),5)","v":{"$error":"#NUM!"}}]
[null,{"$f":"INDEX(Tabela.frequencia[],SMALL(IF(Tabela.frequencia[Mês]=$L$2,ROW(Tabela.frequencia[id])-1),ROW(A783)),1)","v":{"$error":"#NUM!"}},{"$f":"INDEX(Tabela.frequencia[],SMALL(IF(Tabela.frequencia[Mês]=$L$2,ROW(Tabela.frequencia[id])-1),ROW(A783)),4)","v":{"$error":"#NUM!"}},null,{"$f":"IFERROR(VLOOKUP(D830,Tabela.cadastro[[ID]:[Nome]],2,0),\"\")","v":""},{"$f":"IFERROR(VLOOKUP(D830,Tabela66[#All],2,0),\"\")","v":""},{"$f":"IFERROR(VLOOKUP(D830,Tabela.cadastro[[ID]:[CP ou M]],5,0),\"\")","v":""},{"$f":"IFERROR(VLOOKUP(D830,Cadastros!A:F,6,0),\"\")","v":""},{"$f":"IFERROR(VLOOKUP(D830,Cadastros!A:I,9,0),\"\")","v":""},{"$f":"IFERROR(VLOOKUP(D830,Cadastros!A:J,10,0),\"\")","v":""},{"$f":"IF(COUNTIF(Tabela66[id],D830)=0,\"\",COUNTIF(Tabela66[id],D830))","v":""},null,"",null,null,{"$f":"IFERROR(VLOOKUP(O830,Cadastros!A:B,2),\"\")","v":""},"",{"$f":"IFERROR(VLOOKUP(O830,Cadastros!A:E,5,0),\"\")","v":""},{"$f":"IFERROR(VLOOKUP(O830,Cadastros!A:F,6,0),\"\")","v":""},{"$f":"IFERROR(VLOOKUP(O830,Cadastros!A:I,9,0),\"\")","v":""},"","","",null,{"$f":"INDEX(Tabela.abordagens[],SMALL(IF(Tabela.abordagens[Mês]=$L$2,ROW(Tabela.abordagens[id])-2),ROW(A783)),1)","v":{"$error":"#NUM!"}},{"$f":"INDEX(Tabela.abordagens[],SMALL(IF(Tabela.abordagens[Mês]=$L$2,ROW(Tabela.abordagens[Idade])-2),ROW(A783)),6)","v":{"$error":"#NUM!"}},{"$f":"INDEX(Tabela.abordagens[],SMALL(IF(Tabela.abordagens[Mês]=$L$2,ROW(Tabela.abordagens[Idade])-2),ROW(A783)),4)","v":{"$error":"#NUM!"}},{"$f":"INDEX(Tabela.abordagens[],SMALL(IF(Tabela.abordagens[Mês]=$L$2,ROW(Tabela.abordagens[Idade])-2),ROW(A783)),5)","v":{"$error":"#NUM!"}}]
[null,{"$f":"INDEX(Tabela.frequencia[],SMALL(IF(Tabela.frequencia[Mês]=$L$2,ROW(Tabela.frequencia[id])-1),ROW(A784)),1)","v":{"$error":"#NUM!"}},{"$f":"INDEX(Tabela.frequencia[],SMALL(IF(Tabela.frequencia[Mês]=$L$2,ROW(Tabela.frequencia[id])-1),ROW(A784)),4)","v":{"$error":"#NUM!"}},null,{"$f":"IFERROR(VLOOKUP(D831,Tabela.cadastro[[ID]:[Nome]],2,0),\"\")","v":""},{"$f":"IFERROR(VLOOKUP(D831,Tabela66[#All],2,0),\"\")","v":""},{"$f":"IFERROR(VLOOKUP(D831,Tabela.cadastro[[ID]:[CP ou M]],5,0),\"\")","v":""},{"$f":"IFERROR(VLOOKUP(D831,Cadastros!A:F,6,0),\"\")","v":""},{"$f":"IFERROR(VLOOKUP(D831,Cadastros!A:I,9,0),\"\")","v":""},{"$f":"IFERROR(VLOOKUP(D831,Cadastros!A:J,10,0),\"\")","v":""},{"$f":"IF(COUNTIF(Tabela66[id],D831)=0,\"\",COUNTIF(Tabela66[id],D831))","v":""},null,"",null,null,{"$f":"IFERROR(VLOOKUP(O831,Cadastros!A:B,2),\"\")","v":""},"",{"$f":"IFERROR(VLOOKUP(O831,Cadastros!A:E,5,0),\"\")","v":""},{"$f":"IFERROR(VLOOKUP(O831,Cadastros!A:F,6,0),\"\")","v":""},{"$f":"IFERROR(VLOOKUP(O831,Cadastros!A:I,9,0),\"\")","v":""},"","","",null,{"$f":"INDEX(Tabela.abordagens[],SMALL(IF(Tabela.abordagens[Mês]=$L$2,ROW(Tabela.abordagens[id])-2),ROW(A784)),1)","v":{"$error":"#NUM!"}},{"$f":"INDEX(Tabela.abordagens[],SMALL(IF(Tabela.abordagens[Mês]=$L$2,ROW(Tabela.abordagens[Idade])-2),ROW(A784)),6)","v":{"$error":"#NUM!"}},{"$f":"INDEX(Tabela.abordagens[],SMALL(IF(Tabela.abordagens[Mês]=$L$2,ROW(Tabela.abordagens[Idade])-2),ROW(A784)),4)","v":{"$error":"#NUM!"}},{"$f":"INDEX(Tabela.abordagens[],SMALL(IF(Tabela.abordagens[Mês]=$L$2,ROW(Tabela.abordagens[Idade])-2),ROW(A784)),5)","v":{"$error":"#NUM!"}}]
[null,{"$f":"INDEX(Tabela.frequencia[],SMALL(IF(Tabela.frequencia[Mês]=$L$2,ROW(Tabela.frequencia[id])-1),ROW(A785)),1)","v":{"$error":"#NUM!"}},{"$f":"INDEX(Tabela.frequencia[],SMALL(IF(Tabela.frequencia[Mês]=$L$2,ROW(Tabela.frequencia[id])-1),ROW(A785)),4)","v":{"$error":"#NUM!"}},null,{"$f":"IFERROR(VLOOKUP(D832,Tabela.cadastro[[ID]:[Nome]],2,0),\"\")","v":""},{"$f":"IFERROR(VLOOKUP(D832,Tabela66[#All],2,0),\"\")","v":""},{"$f":"IFERROR(VLOOKUP(D832,Tabela.cadastro[[ID]:[CP ou M]],5,0),\"\")","v":""},{"$f":"IFERROR(VLOOKUP(D832,Cadastros!A:F,6,0),\"\")","v":""},{"$f":"IFERROR(VLOOKUP(D832,Cadastros!A:I,9,0),\"\")","v":""},{"$f":"IFERROR(VLOOKUP(D832,Cadastros!A:J,10,0),\"\")","v":""},{"$f":"IF(COUNTIF(Tabela66[id],D832)=0,\"\",COUNTIF(Tabela66[id],D832))","v":""},null,"",null,null,{"$f":"IFERROR(VLOOKUP(O832,Cadastros!A:B,2),\"\")","v":""},"",{"$f":"IFERROR(VLOOKUP(O832,Cadastros!A:E,5,0),\"\")","v":""},{"$f":"IFERROR(VLOOKUP(O832,Cadastros!A:F,6,0),\"\")","v":""},{"$f":"IFERROR(VLOOKUP(O832,Cadastros!A:I,9,0),\"\")","v":""},"","","",null,{"$f":"INDEX(Tabela.abordagens[],SMALL(IF(Tabela.abordagens[Mês]=$L$2,ROW(Tabela.abordagens[id])-2),ROW(A785)),1)","v":{"$error":"#NUM!"}},{"$f":"INDEX(Tabela.abordagens[],SMALL(IF(Tabela.abordagens[Mês]=$L$2,ROW(Tabela.abordagens[Idade])-2),ROW(A785)),6)","v":{"$error":"#NUM!"}},{"$f":"INDEX(Tabela.abordagens[],SMALL(IF(Tabela.abordagens[Mês]=$L$2,ROW(Tabela.abordagens[Idade])-2),ROW(A785)),4)","v":{"$error":"#NUM!"}},{"$f":"INDEX(Tabela.abordagens[],SMALL(IF(Tabela.abordagens[Mês]=$L$2,ROW(Tabela.abordagens[Idade])-2),ROW(A785)),5)","v":{"$error":"#NUM!"}}]
[null,{"$f":"INDEX(Tabela.frequencia[],SMALL(IF(Tabela.frequencia[Mês]=$L$2,ROW(Tabela.frequencia[id])-1),ROW(A786)),1)","v":{"$error":"#NUM!"}},{"$f":"INDEX(Tabela.frequencia[],SMALL(IF(Tabela.frequencia[Mês]=$L$2,ROW(Tabela.frequencia[id])-1),ROW(A786)),4)","v":{"$error":"#NUM!"}},null,{"$f":"IFERROR(VLOOKUP(D833,Tabela.cadastro[[ID]:[Nome]],2,0),\"\")","v":""},{"$f":"IFERROR(VLOOKUP(D833,Tabela66[#All],2,0),\"\")","v":""},{"$f":"IFERROR(VLOOKUP(D833,Tabela.cadastro[[ID]:[CP ou M]],5,0),\"\")","v":""},{"$f":"IFERROR(VLOOKUP(D833,Cadastros!A:F,6,0),\"\")","v":""},{"$f":"IFERROR(VLOOKUP(D833,Cadastros!A:I,9,0),\"\")","v":""},{"$f":"IFERROR(VLOOKUP(D833,Cadastros!A:J,10,0),\"\")","v":""},{"$f":"IF(COUNTIF(Tabela66[id],D833)=0,\"\",COUNTIF(Tabela66[id],D833))","v":""},null,"",null,null,{"$f":"IFERROR(VLOOKUP(O833,Cadastros!A:B,2),\"\")","v":""},"",{"$f":"IFERROR(VLOOKUP(O833,Cadastros!A:E,5,0),\"\")","v":""},{"$f":"IFERROR(VLOOKUP(O833,Cadastros!A:F,6,0),\"\")","v":""},{"$f":"IFERROR(VLOOKUP(O833,Cadastros!A:I,9,0),\"\")","v":""},"","","",null,{"$f":"INDEX(Tabela.abordagens[],SMALL(IF(Tabela.abordagens[Mês]=$L$2,ROW(Tabela.abordagens[id])-2),ROW(A786)),1)","v":{"$error":"#NUM!"}},{"$f":"INDEX(Tabela.abordagens[],SMALL(IF(Tabela.abordagens[Mês]=$L$2,ROW(Tabela.abordagens[Idade])-2),ROW(A786)),6)","v":{"$error":"#NUM!"}},{"$f":"INDEX(Tabela.abordagens[],SMALL(IF(Tabela.abordagens[Mês]=$L$2,ROW(Tabela.abordagens[Idade])-2),ROW(A786)),4)","v":{"$error":"#NUM!"}},{"$f":"INDEX(Tabela.abordagens[],SMALL(IF(Tabela.abordagens[Mês]=$L$2,ROW(Tabela.abordagens[Idade])-2),ROW(A786)),5)","v":{"$error":"#NUM!"}}]
[null,{"$f":"INDEX(Tabela.frequencia[],SMALL(IF(Tabela.frequencia[Mês]=$L$2,ROW(Tabela.frequencia[id])-1),ROW(A787)),1)","v":{"$error":"#NUM!"}},{"$f":"INDEX(Tabela.frequencia[],SMALL(IF(Tabela.frequencia[Mês]=$L$2,ROW(Tabela.frequencia[id])-1),ROW(A787)),4)","v":{"$error":"#NUM!"}},null,{"$f":"IFERROR(VLOOKUP(D834,Tabela.cadastro[[ID]:[Nome]],2,0),\"\")","v":""},{"$f":"IFERROR(VLOOKUP(D834,Tabela66[#All],2,0),\"\")","v":""},{"$f":"IFERROR(VLOOKUP(D834,Tabela.cadastro[[ID]:[CP ou M]],5,0),\"\")","v":""},{"$f":"IFERROR(VLOOKUP(D834,Cadastros!A:F,6,0),\"\")","v":""},{"$f":"IFERROR(VLOOKUP(D834,Cadastros!A:I,9,0),\"\")","v":""},{"$f":"IFERROR(VLOOKUP(D834,Cadastros!A:J,10,0),\"\")","v":""},{"$f":"IF(COUNTIF(Tabela66[id],D834)=0,\"\",COUNTIF(Tabela66[id],D834))","v":""},null,"",null,null,{"$f":"IFERROR(VLOOKUP(O834,Cadastros!A:B,2),\"\")","v":""},"",{"$f":"IFERROR(VLOOKUP(O834,Cadastros!A:E,5,0),\"\")","v":""},{"$f":"IFERROR(VLOOKUP(O834,Cadastros!A:F,6,0),\"\")","v":""},{"$f":"IFERROR(VLOOKUP(O834,Cadastros!A:I,9,0),\"\")","v":""},"","","",null,{"$f":"INDEX(Tabela.abordagens[],SMALL(IF(Tabela.abordagens[Mês]=$L$2,ROW(Tabela.abordagens[id])-2),ROW(A787)),1)","v":{"$error":"#NUM!"}},{"$f":"INDEX(Tabela.abordagens[],SMALL(IF(Tabela.abordagens[Mês]=$L$2,ROW(Tabela.abordagens[Idade])-2),ROW(A787)),6)","v":{"$error":"#NUM!"}},{"$f":"INDEX(Tabela.abordagens[],SMALL(IF(Tabela.abordagens[Mês]=$L$2,ROW(Tabela.abordagens[Idade])-2),ROW(A787)),4)","v":{"$error":"#NUM!"}},{"$f":"INDEX(Tabela.abordagens[],SMALL(IF(Tabela.abordagens[Mês]=$L$2,ROW(Tabela.abordagens[Idade])-2),ROW(A787)),5)","v":{"$error":"#NUM!"}}]
[null,{"$f":"INDEX(Tabela.frequencia[],SMALL(IF(Tabela.frequencia[Mês]=$L$2,ROW(Tabela.frequencia[id])-1),ROW(A788)),1)","v":{"$error":"#NUM!"}},{"$f":"INDEX(Tabela.frequencia[],SMALL(IF(Tabela.frequencia[Mês]=$L$2,ROW(Tabela.frequencia[id])-1),ROW(A788)),4)","v":{"$error":"#NUM!"}},null,{"$f":"IFERROR(VLOOKUP(D835,Tabela.cadastro[[ID]:[Nome]],2,0),\"\")","v":""},{"$f":"IFERROR(VLOOKUP(D835,Tabela66[#All],2,0),\"\")","v":""},{"$f":"IFERROR(VLOOKUP(D835,Tabela.cadastro[[ID]:[CP ou M]],5,0),\"\")","v":""},{"$f":"IFERROR(VLOOKUP(D835,Cadastros!A:F,6,0),\"\")","v":""},{"$f":"IFERROR(VLOOKUP(D835,Cadastros!A:I,9,0),\"\")","v":""},{"$f":"IFERROR(VLOOKUP(D835,Cadastros!A:J,10,0),\"\")","v":""},{"$f":"IF(COUNTIF(Tabela66[id],D835)=0,\"\",COUNTIF(Tabela66[id],D835))","v":""},null,"",null,null,{"$f":"IFERROR(VLOOKUP(O835,Cadastros!A:B,2),\"\")","v":""},"",{"$f":"IFERROR(VLOOKUP(O835,Cadastros!A:E,5,0),\"\")","v":""},{"$f":"IFERROR(VLOOKUP(O835,Cadastros!A:F,6,0),\"\")","v":""},{"$f":"IFERROR(VLOOKUP(O835,Cadastros!A:I,9,0),\"\")","v":""},"","","",null,{"$f":"INDEX(Tabela.abordagens[],SMALL(IF(Tabela.abordagens[Mês]=$L$2,ROW(Tabela.abordagens[id])-2),ROW(A788)),1)","v":{"$error":"#NUM!"}},{"$f":"INDEX(Tabela.abordagens[],SMALL(IF(Tabela.abordagens[Mês]=$L$2,ROW(Tabela.abordagens[Idade])-2),ROW(A788)),6)","v":{"$error":"#NUM!"}},{"$f":"INDEX(Tabela.abordagens[],SMALL(IF(Tabela.abordagens[Mês]=$L$2,ROW(Tabela.abordagens[Idade])-2),ROW(A788)),4)","v":{"$error":"#NUM!"}},{"$f":"INDEX(Tabela.abordagens[],SMALL(IF(Tabela.abordagens[Mês]=$L$2,ROW(Tabela.abordagens[Idade])-2),ROW(A788)),5)","v":{"$error":"#NUM!"}}]
[null,{"$f":"INDEX(Tabela.frequencia[],SMALL(IF(Tabela.frequencia[Mês]=$L$2,ROW(Tabela.frequencia[id])-1),ROW(A789)),1)","v":{"$error":"#NUM!"}},{"$f":"INDEX(Tabela.frequencia[],SMALL(IF(Tabela.frequencia[Mês]=$L$2,ROW(Tabela.frequencia[id])-1),ROW(A789)),4)","v":{"$error":"#NUM!"}},null,{"$f":"IFERROR(VLOOKUP(D836,Tabela.cadastro[[ID]:[Nome]],2,0),\"\")","v":""},{"$f":"IFERROR(VLOOKUP(D836,Tabela66[#All],2,0),\"\")","v":""},{"$f":"IFERROR(VLOOKUP(D836,Tabela.cadastro[[ID]:[CP ou M]],5,0),\"\")","v":""},{"$f":"IFERROR(VLOOKUP(D836,Cadastros!A:F,6,0),\"\")","v":""},{"$f":"IFERROR(VLOOKUP(D836,Cadastros!A:I,9,0),\"\")","v":""},{"$f":"IFERROR(VLOOKUP(D836,Cadastros!A:J,10,0),\"\")","v":""},{"$f":"IF(COUNTIF(Tabela66[id],D836)=0,\"\",COUNTIF(Tabela66[id],D836))","v":""},null,"",null,null,{"$f":"IFERROR(VLOOKUP(O836,Cadastros!A:B,2),\"\")","v":""},"",{"$f":"IFERROR(VLOOKUP(O836,Cadastros!A:E,5,0),\"\")","v":""},{"$f":"IFERROR(VLOOKUP(O836,Cadastros!A:F,6,0),\"\")","v":""},{"$f":"IFERROR(VLOOKUP(O836,Cadastros!A:I,9,0),\"\")","v":""},"","","",null,{"$f":"INDEX(Tabela.abordagens[],SMALL(IF(Tabela.abordagens[Mês]=$L$2,ROW(Tabela.abordagens[id])-2),ROW(A789)),1)","v":{"$error":"#NUM!"}},{"$f":"INDEX(Tabela.abordagens[],SMALL(IF(Tabela.abordagens[Mês]=$L$2,ROW(Tabela.abordagens[Idade])-2),ROW(A789)),6)","v":{"$error":"#NUM!"}},{"$f":"INDEX(Tabela.abordagens[],SMALL(IF(Tabela.abordagens[Mês]=$L$2,ROW(Tabela.abordagens[Idade])-2),ROW(A789)),4)","v":{"$error":"#NUM!"}},{"$f":"INDEX(Tabela.abordagens[],SMALL(IF(Tabela.abordagens[Mês]=$L$2,ROW(Tabela.abordagens[Idade])-2),ROW(A789)),5)","v":{"$error":"#NUM!"}}]
[null,{"$f":"INDEX(Tabela.frequencia[],SMALL(IF(Tabela.frequencia[Mês]=$L$2,ROW(Tabela.frequencia[id])-1),ROW(A790)),1)","v":{"$error":"#NUM!"}},{"$f":"INDEX(Tabela.frequencia[],SMALL(IF(Tabela.frequencia[Mês]=$L$2,ROW(Tabela.frequencia[id])-1),ROW(A790)),4)","v":{"$error":"#NUM!"}},null,{"$f":"IFERROR(VLOOKUP(D837,Tabela.cadastro[[ID]:[Nome]],2,0),\"\")","v":""},{"$f":"IFERROR(VLOOKUP(D837,Tabela66[#All],2,0),\"\")","v":""},{"$f":"IFERROR(VLOOKUP(D837,Tabela.cadastro[[ID]:[CP ou M]],5,0),\"\")","v":""},{"$f":"IFERROR(VLOOKUP(D837,Cadastros!A:F,6,0),\"\")","v":""},{"$f":"IFERROR(VLOOKUP(D837,Cadastros!A:I,9,0),\"\")","v":""},{"$f":"IFERROR(VLOOKUP(D837,Cadastros!A:J,10,0),\"\")","v":""},{"$f":"IF(COUNTIF(Tabela66[id],D837)=0,\"\",COUNTIF(Tabela66[id],D837))","v":""},null,"",null,null,{"$f":"IFERROR(VLOOKUP(O837,Cadastros!A:B,2),\"\")","v":""},"",{"$f":"IFERROR(VLOOKUP(O837,Cadastros!A:E,5,0),\"\")","v":""},{"$f":"IFERROR(VLOOKUP(O837,Cadastros!A:F,6,0),\"\")","v":""},{"$f":"IFERROR(VLOOKUP(O837,Cadastros!A:I,9,0),\"\")","v":""},"","","",null,{"$f":"INDEX(Tabela.abordagens[],SMALL(IF(Tabela.abordagens[Mês]=$L$2,ROW(Tabela.abordagens[id])-2),ROW(A790)),1)","v":{"$error":"#NUM!"}},{"$f":"INDEX(Tabela.abordagens[],SMALL(IF(Tabela.abordagens[Mês]=$L$2,ROW(Tabela.abordagens[Idade])-2),ROW(A790)),6)","v":{"$error":"#NUM!"}},{"$f":"INDEX(Tabela.abordagens[],SMALL(IF(Tabela.abordagens[Mês]=$L$2,ROW(Tabela.abordagens[Idade])-2),ROW(A790)),4)","v":{"$error":"#NUM!"}},{"$f":"INDEX(Tabela.abordagens[],SMALL(IF(Tabela.abordagens[Mês]=$L$2,ROW(Tabela.abordagens[Idade])-2),ROW(A790)),5)","v":{"$error":"#NUM!"}}]
[null,{"$f":"INDEX(Tabela.frequencia[],SMALL(IF(Tabela.frequencia[Mês]=$L$2,ROW(Tabela.frequencia[id])-1),ROW(A791)),1)","v":{"$error":"#NUM!"}},{"$f":"INDEX(Tabela.frequencia[],SMALL(IF(Tabela.frequencia[Mês]=$L$2,ROW(Tabela.frequencia[id])-1),ROW(A791)),4)","v":{"$error":"#NUM!"}},null,{"$f":"IFERROR(VLOOKUP(D838,Tabela.cadastro[[ID]:[Nome]],2,0),\"\")","v":""},{"$f":"IFERROR(VLOOKUP(D838,Tabela66[#All],2,0),\"\")","v":""},{"$f":"IFERROR(VLOOKUP(D838,Tabela.cadastro[[ID]:[CP ou M]],5,0),\"\")","v":""},{"$f":"IFERROR(VLOOKUP(D838,Cadastros!A:F,6,0),\"\")","v":""},{"$f":"IFERROR(VLOOKUP(D838,Cadastros!A:I,9,0),\"\")","v":""},{"$f":"IFERROR(VLOOKUP(D838,Cadastros!A:J,10,0),\"\")","v":""},{"$f":"IF(COUNTIF(Tabela66[id],D838)=0,\"\",COUNTIF(Tabela66[id],D838))","v":""},null,"",null,null,{"$f":"IFERROR(VLOOKUP(O838,Cadastros!A:B,2),\"\")","v":""},"",{"$f":"IFERROR(VLOOKUP(O838,Cadastros!A:E,5,0),\"\")","v":""},{"$f":"IFERROR(VLOOKUP(O838,Cadastros!A:F,6,0),\"\")","v":""},{"$f":"IFERROR(VLOOKUP(O838,Cadastros!A:I,9,0),\"\")","v":""},"","","",null,{"$f":"INDEX(Tabela.abordagens[],SMALL(IF(Tabela.abordagens[Mês]=$L$2,ROW(Tabela.abordagens[id])-2),ROW(A791)),1)","v":{"$error":"#NUM!"}},{"$f":"INDEX(Tabela.abordagens[],SMALL(IF(Tabela.abordagens[Mês]=$L$2,ROW(Tabela.abordagens[Idade])-2),ROW(A791)),6)","v":{"$error":"#NUM!"}},{"$f":"INDEX(Tabela.abordagens[],SMALL(IF(Tabela.abordagens[Mês]=$L$2,ROW(Tabela.abordagens[Idade])-2),ROW(A791)),4)","v":{"$error":"#NUM!"}},{"$f":"INDEX(Tabela.abordagens[],SMALL(IF(Tabela.abordagens[Mês]=$L$2,ROW(Tabela.abordagens[Idade])-2),ROW(A791)),5)","v":{"$error":"#NUM!"}}]
[null,{"$f":"INDEX(Tabela.frequencia[],SMALL(IF(Tabela.frequencia[Mês]=$L$2,ROW(Tabela.frequencia[id])-1),ROW(A792)),1)","v":{"$error":"#NUM!"}},{"$f":"INDEX(Tabela.frequencia[],SMALL(IF(Tabela.frequencia[Mês]=$L$2,ROW(Tabela.frequencia[id])-1),ROW(A792)),4)","v":{"$error":"#NUM!"}},null,{"$f":"IFERROR(VLOOKUP(D839,Tabela.cadastro[[ID]:[Nome]],2,0),\"\")","v":""},{"$f":"IFERROR(VLOOKUP(D839,Tabela66[#All],2,0),\"\")","v":""},{"$f":"IFERROR(VLOOKUP(D839,Tabela.cadastro[[ID]:[CP ou M]],5,0),\"\")","v":""},{"$f":"IFERROR(VLOOKUP(D839,Cadastros!A:F,6,0),\"\")","v":""},{"$f":"IFERROR(VLOOKUP(D839,Cadastros!A:I,9,0),\"\")","v":""},{"$f":"IFERROR(VLOOKUP(D839,Cadastros!A:J,10,0),\"\")","v":""},{"$f":"IF(COUNTIF(Tabela66[id],D839)=0,\"\",COUNTIF(Tabela66[id],D839))","v":""},null,"",null,null,{"$f":"IFERROR(VLOOKUP(O839,Cadastros!A:B,2),\"\")","v":""},"",{"$f":"IFERROR(VLOOKUP(O839,Cadastros!A:E,5,0),\"\")","v":""},{"$f":"IFERROR(VLOOKUP(O839,Cadastros!A:F,6,0),\"\")","v":""},{"$f":"IFERROR(VLOOKUP(O839,Cadastros!A:I,9,0),\"\")","v":""},"","","",null,{"$f":"INDEX(Tabela.abordagens[],SMALL(IF(Tabela.abordagens[Mês]=$L$2,ROW(Tabela.abordagens[id])-2),ROW(A792)),1)","v":{"$error":"#NUM!"}},{"$f":"INDEX(Tabela.abordagens[],SMALL(IF(Tabela.abordagens[Mês]=$L$2,ROW(Tabela.abordagens[Idade])-2),ROW(A792)),6)","v":{"$error":"#NUM!"}},{"$f":"INDEX(Tabela.abordagens[],SMALL(IF(Tabela.abordagens[Mês]=$L$2,ROW(Tabela.abordagens[Idade])-2),ROW(A792)),4)","v":{"$error":"#NUM!"}},{"$f":"INDEX(Tabela.abordagens[],SMALL(IF(Tabela.abordagens[Mês]=$L$2,ROW(Tabela.abordagens[Idade])-2),ROW(A792)),5)","v":{"$error":"#NUM!"}}]
[null,{"$f":"INDEX(Tabela.frequencia[],SMALL(IF(Tabela.frequencia[Mês]=$L$2,ROW(Tabela.frequencia[id])-1),ROW(A793)),1)","v":{"$error":"#NUM!"}},{"$f":"INDEX(Tabela.frequencia[],SMALL(IF(Tabela.frequencia[Mês]=$L$2,ROW(Tabela.frequencia[id])-1),ROW(A793)),4)","v":{"$error":"#NUM!"}},null,{"$f":"IFERROR(VLOOKUP(D840,Tabela.cadastro[[ID]:[Nome]],2,0),\"\")","v":""},{"$f":"IFERROR(VLOOKUP(D840,Tabela66[#All],2,0),\"\")","v":""},{"$f":"IFERROR(VLOOKUP(D840,Tabela.cadastro[[ID]:[CP ou M]],5,0),\"\")","v":""},{"$f":"IFERROR(VLOOKUP(D840,Cadastros!A:F,6,0),\"\")","v":""},{"$f":"IFERROR(VLOOKUP(D840,Cadastros!A:I,9,0),\"\")","v":""},{"$f":"IFERROR(VLOOKUP(D840,Cadastros!A:J,10,0),\"\")","v":""},{"$f":"IF(COUNTIF(Tabela66[id],D840)=0,\"\",COUNTIF(Tabela66[id],D840))","v":""},null,"",null,null,{"$f":"IFERROR(VLOOKUP(O840,Cadastros!A:B,2),\"\")","v":""},"",{"$f":"IFERROR(VLOOKUP(O840,Cadastros!A:E,5,0),\"\")","v":""},{"$f":"IFERROR(VLOOKUP(O840,Cadastros!A:F,6,0),\"\")","v":""},{"$f":"IFERROR(VLOOKUP(O840,Cadastros!A:I,9,0),\"\")","v":""},"","","",null,{"$f":"INDEX(Tabela.abordagens[],SMALL(IF(Tabela.abordagens[Mês]=$L$2,ROW(Tabela.abordagens[id])-2),ROW(A793)),1)","v":{"$error":"#NUM!"}},{"$f":"INDEX(Tabela.abordagens[],SMALL(IF(Tabela.abordagens[Mês]=$L$2,ROW(Tabela.abordagens[Idade])-2),ROW(A793)),6)","v":{"$error":"#NUM!"}},{"$f":"INDEX(Tabela.abordagens[],SMALL(IF(Tabela.abordagens[Mês]=$L$2,ROW(Tabela.abordagens[Idade])-2),ROW(A793)),4)","v":{"$error":"#NUM!"}},{"$f":"INDEX(Tabela.abordagens[],SMALL(IF(Tabela.abordagens[Mês]=$L$2,ROW(Tabela.abordagens[Idade])-2),ROW(A793)),5)","v":{"$error":"#NUM!"}}]
[null,{"$f":"INDEX(Tabela.frequencia[],SMALL(IF(Tabela.frequencia[Mês]=$L$2,ROW(Tabela.frequencia[id])-1),ROW(A794)),1)","v":{"$error":"#NUM!"}},{"$f":"INDEX(Tabela.frequencia[],SMALL(IF(Tabela.frequencia[Mês]=$L$2,ROW(Tabela.frequencia[id])-1),ROW(A794)),4)","v":{"$error":"#NUM!"}},null,{"$f":"IFERROR(VLOOKUP(D841,Tabela.cadastro[[ID]:[Nome]],2,0),\"\")","v":""},{"$f":"IFERROR(VLOOKUP(D841,Tabela66[#All],2,0),\"\")","v":""},{"$f":"IFERROR(VLOOKUP(D841,Tabela.cadastro[[ID]:[CP ou M]],5,0),\"\")","v":""},{"$f":"IFERROR(VLOOKUP(D841,Cadastros!A:F,6,0),\"\")","v":""},{"$f":"IFERROR(VLOOKUP(D841,Cadastros!A:I,9,0),\"\")","v":""},{"$f":"IFERROR(VLOOKUP(D841,Cadastros!A:J,10,0),\"\")","v":""},{"$f":"IF(COUNTIF(Tabela66[id],D841)=0,\"\",COUNTIF(Tabela66[id],D841))","v":""},null,"",null,null,{"$f":"IFERROR(VLOOKUP(O841,Cadastros!A:B,2),\"\")","v":""},"",{"$f":"IFERROR(VLOOKUP(O841,Cadastros!A:E,5,0),\"\")","v":""},{"$f":"IFERROR(VLOOKUP(O841,Cadastros!A:F,6,0),\"\")","v":""},{"$f":"IFERROR(VLOOKUP(O841,Cadastros!A:I,9,0),\"\")","v":""},"","","",null,{"$f":"INDEX(Tabela.abordagens[],SMALL(IF(Tabela.abordagens[Mês]=$L$2,ROW(Tabela.abordagens[id])-2),ROW(A794)),1)","v":{"$error":"#NUM!"}},{"$f":"INDEX(Tabela.abordagens[],SMALL(IF(Tabela.abordagens[Mês]=$L$2,ROW(Tabela.abordagens[Idade])-2),ROW(A794)),6)","v":{"$error":"#NUM!"}},{"$f":"INDEX(Tabela.abordagens[],SMALL(IF(Tabela.abordagens[Mês]=$L$2,ROW(Tabela.abordagens[Idade])-2),ROW(A794)),4)","v":{"$error":"#NUM!"}},{"$f":"INDEX(Tabela.abordagens[],SMALL(IF(Tabela.abordagens[Mês]=$L$2,ROW(Tabela.abordagens[Idade])-2),ROW(A794)),5)","v":{"$error":"#NUM!"}}]
[null,{"$f":"INDEX(Tabela.frequencia[],SMALL(IF(Tabela.frequencia[Mês]=$L$2,ROW(Tabela.frequencia[id])-1),ROW(A795)),1)","v":{"$error":"#NUM!"}},{"$f":"INDEX(Tabela.frequencia[],SMALL(IF(Tabela.frequencia[Mês]=$L$2,ROW(Tabela.frequencia[id])-1),ROW(A795)),4)","v":{"$error":"#NUM!"}},null,{"$f":"IFERROR(VLOOKUP(D842,Tabela.cadastro[[ID]:[Nome]],2,0),\"\")","v":""},{"$f":"IFERROR(VLOOKUP(D842,Tabela66[#All],2,0),\"\")","v":""},{"$f":"IFERROR(VLOOKUP(D842,Tabela.cadastro[[ID]:[CP ou M]],5,0),\"\")","v":""},{"$f":"IFERROR(VLOOKUP(D842,Cadastros!A:F,6,0),\"\")","v":""},{"$f":"IFERROR(VLOOKUP(D842,Cadastros!A:I,9,0),\"\")","v":""},{"$f":"IFERROR(VLOOKUP(D842,Cadastros!A:J,10,0),\"\")","v":""},{"$f":"IF(COUNTIF(Tabela66[id],D842)=0,\"\",COUNTIF(Tabela66[id],D842))","v":""},null,"",null,null,{"$f":"IFERROR(VLOOKUP(O842,Cadastros!A:B,2),\"\")","v":""},"",{"$f":"IFERROR(VLOOKUP(O842,Cadastros!A:E,5,0),\"\")","v":""},{"$f":"IFERROR(VLOOKUP(O842,Cadastros!A:F,6,0),\"\")","v":""},{"$f":"IFERROR(VLOOKUP(O842,Cadastros!A:I,9,0),\"\")","v":""},"","","",null,{"$f":"INDEX(Tabela.abordagens[],SMALL(IF(Tabela.abordagens[Mês]=$L$2,ROW(Tabela.abordagens[id])-2),ROW(A795)),1)","v":{"$error":"#NUM!"}},{"$f":"INDEX(Tabela.abordagens[],SMALL(IF(Tabela.abordagens[Mês]=$L$2,ROW(Tabela.abordagens[Idade])-2),ROW(A795)),6)","v":{"$error":"#NUM!"}},{"$f":"INDEX(Tabela.abordagens[],SMALL(IF(Tabela.abordagens[Mês]=$L$2,ROW(Tabela.abordagens[Idade])-2),ROW(A795)),4)","v":{"$error":"#NUM!"}},{"$f":"INDEX(Tabela.abordagens[],SMALL(IF(Tabela.abordagens[Mês]=$L$2,ROW(Tabela.abordagens[Idade])-2),ROW(A795)),5)","v":{"$error":"#NUM!"}}]
[null,{"$f":"INDEX(Tabela.frequencia[],SMALL(IF(Tabela.frequencia[Mês]=$L$2,ROW(Tabela.frequencia[id])-1),ROW(A796)),1)","v":{"$error":"#NUM!"}},{"$f":"INDEX(Tabela.frequencia[],SMALL(IF(Tabela.frequencia[Mês]=$L$2,ROW(Tabela.frequencia[id])-1),ROW(A796)),4)","v":{"$error":"#NUM!"}},null,{"$f":"IFERROR(VLOOKUP(D843,Tabela.cadastro[[ID]:[Nome]],2,0),\"\")","v":""},{"$f":"IFERROR(VLOOKUP(D843,Tabela66[#All],2,0),\"\")","v":""},{"$f":"IFERROR(VLOOKUP(D843,Tabela.cadastro[[ID]:[CP ou M]],5,0),\"\")","v":""},{"$f":"IFERROR(VLOOKUP(D843,Cadastros!A:F,6,0),\"\")","v":""},{"$f":"IFERROR(VLOOKUP(D843,Cadastros!A:I,9,0),\"\")","v":""},{"$f":"IFERROR(VLOOKUP(D843,Cadastros!A:J,10,0),\"\")","v":""},{"$f":"IF(COUNTIF(Tabela66[id],D843)=0,\"\",COUNTIF(Tabela66[id],D843))","v":""},null,"",null,null,{"$f":"IFERROR(VLOOKUP(O843,Cadastros!A:B,2),\"\")","v":""},"",{"$f":"IFERROR(VLOOKUP(O843,Cadastros!A:E,5,0),\"\")","v":""},{"$f":"IFERROR(VLOOKUP(O843,Cadastros!A:F,6,0),\"\")","v":""},{"$f":"IFERROR(VLOOKUP(O843,Cadastros!A:I,9,0),\"\")","v":""},"","","",null,{"$f":"INDEX(Tabela.abordagens[],SMALL(IF(Tabela.abordagens[Mês]=$L$2,ROW(Tabela.abordagens[id])-2),ROW(A796)),1)","v":{"$error":"#NUM!"}},{"$f":"INDEX(Tabela.abordagens[],SMALL(IF(Tabela.abordagens[Mês]=$L$2,ROW(Tabela.abordagens[Idade])-2),ROW(A796)),6)","v":{"$error":"#NUM!"}},{"$f":"INDEX(Tabela.abordagens[],SMALL(IF(Tabela.abordagens[Mês]=$L$2,ROW(Tabela.abordagens[Idade])-2),ROW(A796)),4)","v":{"$error":"#NUM!"}},{"$f":"INDEX(Tabela.abordagens[],SMALL(IF(Tabela.abordagens[Mês]=$L$2,ROW(Tabela.abordagens[Idade])-2),ROW(A796)),5)","v":{"$error":"#NUM!"}}]
[null,{"$f":"INDEX(Tabela.frequencia[],SMALL(IF(Tabela.frequencia[Mês]=$L$2,ROW(Tabela.frequencia[id])-1),ROW(A797)),1)","v":{"$error":"#NUM!"}},{"$f":"INDEX(Tabela.frequencia[],SMALL(IF(Tabela.frequencia[Mês]=$L$2,ROW(Tabela.frequencia[id])-1),ROW(A797)),4)","v":{"$error":"#NUM!"}},null,{"$f":"IFERROR(VLOOKUP(D844,Tabela.cadastro[[ID]:[Nome]],2,0),\"\")","v":""},{"$f":"IFERROR(VLOOKUP(D844,Tabela66[#All],2,0),\"\")","v":""},{"$f":"IFERROR(VLOOKUP(D844,Tabela.cadastro[[ID]:[CP ou M]],5,0),\"\")","v":""},{"$f":"IFERROR(VLOOKUP(D844,Cadastros!A:F,6,0),\"\")","v":""},{"$f":"IFERROR(VLOOKUP(D844,Cadastros!A:I,9,0),\"\")","v":""},{"$f":"IFERROR(VLOOKUP(D844,Cadastros!A:J,10,0),\"\")","v":""},{"$f":"IF(COUNTIF(Tabela66[id],D844)=0,\"\",COUNTIF(Tabela66[id],D844))","v":""},null,"",null,null,{"$f":"IFERROR(VLOOKUP(O844,Cadastros!A:B,2),\"\")","v":""},"",{"$f":"IFERROR(VLOOKUP(O844,Cadastros!A:E,5,0),\"\")","v":""},{"$f":"IFERROR(VLOOKUP(O844,Cadastros!A:F,6,0),\"\")","v":""},{"$f":"IFERROR(VLOOKUP(O844,Cadastros!A:I,9,0),\"\")","v":""},"","","",null,{"$f":"INDEX(Tabela.abordagens[],SMALL(IF(Tabela.abordagens[Mês]=$L$2,ROW(Tabela.abordagens[id])-2),ROW(A797)),1)","v":{"$error":"#NUM!"}},{"$f":"INDEX(Tabela.abordagens[],SMALL(IF(Tabela.abordagens[Mês]=$L$2,ROW(Tabela.abordagens[Idade])-2),ROW(A797)),6)","v":{"$error":"#NUM!"}},{"$f":"INDEX(Tabela.abordagens[],SMALL(IF(Tabela.abordagens[Mês]=$L$2,ROW(Tabela.abordagens[Idade])-2),ROW(A797)),4)","v":{"$error":"#NUM!"}},{"$f":"INDEX(Tabela.abordagens[],SMALL(IF(Tabela.abordagens[Mês]=$L$2,ROW(Tabela.abordagens[Idade])-2),ROW(A797)),5)","v":{"$error":"#NUM!"}}]
[null,{"$f":"INDEX(Tabela.frequencia[],SMALL(IF(Tabela.frequencia[Mês]=$L$2,ROW(Tabela.frequencia[id])-1),ROW(A798)),1)","v":{"$error":"#NUM!"}},{"$f":"INDEX(Tabela.frequencia[],SMALL(IF(Tabela.frequencia[Mês]=$L$2,ROW(Tabela.frequencia[id])-1),ROW(A798)),4)","v":{"$error":"#NUM!"}},null,{"$f":"IFERROR(VLOOKUP(D845,Tabela.cadastro[[ID]:[Nome]],2,0),\"\")","v":""},{"$f":"IFERROR(VLOOKUP(D845,Tabela66[#All],2,0),\"\")","v":""},{"$f":"IFERROR(VLOOKUP(D845,Tabela.cadastro[[ID]:[CP ou M]],5,0),\"\")","v":""},{"$f":"IFERROR(VLOOKUP(D845,Cadastros!A:F,6,0),\"\")","v":""},{"$f":"IFERROR(VLOOKUP(D845,Cadastros!A:I,9,0),\"\")","v":""},{"$f":"IFERROR(VLOOKUP(D845,Cadastros!A:J,10,0),\"\")","v":""},{"$f":"IF(COUNTIF(Tabela66[id],D845)=0,\"\",COUNTIF(Tabela66[id],D845))","v":""},null,"",null,null,{"$f":"IFERROR(VLOOKUP(O845,Cadastros!A:B,2),\"\")","v":""},"",{"$f":"IFERROR(VLOOKUP(O845,Cadastros!A:E,5,0),\"\")","v":""},{"$f":"IFERROR(VLOOKUP(O845,Cadastros!A:F,6,0),\"\")","v":""},{"$f":"IFERROR(VLOOKUP(O845,Cadastros!A:I,9,0),\"\")","v":""},"","","",null,{"$f":"INDEX(Tabela.abordagens[],SMALL(IF(Tabela.abordagens[Mês]=$L$2,ROW(Tabela.abordagens[id])-2),ROW(A798)),1)","v":{"$error":"#NUM!"}},{"$f":"INDEX(Tabela.abordagens[],SMALL(IF(Tabela.abordagens[Mês]=$L$2,ROW(Tabela.abordagens[Idade])-2),ROW(A798)),6)","v":{"$error":"#NUM!"}},{"$f":"INDEX(Tabela.abordagens[],SMALL(IF(Tabela.abordagens[Mês]=$L$2,ROW(Tabela.abordagens[Idade])-2),ROW(A798)),4)","v":{"$error":"#NUM!"}},{"$f":"INDEX(Tabela.abordagens[],SMALL(IF(Tabela.abordagens[Mês]=$L$2,ROW(Tabela.abordagens[Idade])-2),ROW(A798)),5)","v":{"$error":"#NUM!"}}]
[null,{"$f":"INDEX(Tabela.frequencia[],SMALL(IF(Tabela.frequencia[Mês]=$L$2,ROW(Tabela.frequencia[id])-1),ROW(A799)),1)","v":{"$error":"#NUM!"}},{"$f":"INDEX(Tabela.frequencia[],SMALL(IF(Tabela.frequencia[Mês]=$L$2,ROW(Tabela.frequencia[id])-1),ROW(A799)),4)","v":{"$error":"#NUM!"}},null,{"$f":"IFERROR(VLOOKUP(D846,Tabela.cadastro[[ID]:[Nome]],2,0),\"\")","v":""},{"$f":"IFERROR(VLOOKUP(D846,Tabela66[#All],2,0),\"\")","v":""},{"$f":"IFERROR(VLOOKUP(D846,Tabela.cadastro[[ID]:[CP ou M]],5,0),\"\")","v":""},{"$f":"IFERROR(VLOOKUP(D846,Cadastros!A:F,6,0),\"\")","v":""},{"$f":"IFERROR(VLOOKUP(D846,Cadastros!A:I,9,0),\"\")","v":""},{"$f":"IFERROR(VLOOKUP(D846,Cadastros!A:J,10,0),\"\")","v":""},{"$f":"IF(COUNTIF(Tabela66[id],D846)=0,\"\",COUNTIF(Tabela66[id],D846))","v":""},null,"",null,null,{"$f":"IFERROR(VLOOKUP(O846,Cadastros!A:B,2),\"\")","v":""},"",{"$f":"IFERROR(VLOOKUP(O846,Cadastros!A:E,5,0),\"\")","v":""},{"$f":"IFERROR(VLOOKUP(O846,Cadastros!A:F,6,0),\"\")","v":""},{"$f":"IFERROR(VLOOKUP(O846,Cadastros!A:I,9,0),\"\")","v":""},"","","",null,{"$f":"INDEX(Tabela.abordagens[],SMALL(IF(Tabela.abordagens[Mês]=$L$2,ROW(Tabela.abordagens[id])-2),ROW(A799)),1)","v":{"$error":"#NUM!"}},{"$f":"INDEX(Tabela.abordagens[],SMALL(IF(Tabela.abordagens[Mês]=$L$2,ROW(Tabela.abordagens[Idade])-2),ROW(A799)),6)","v":{"$error":"#NUM!"}},{"$f":"INDEX(Tabela.abordagens[],SMALL(IF(Tabela.abordagens[Mês]=$L$2,ROW(Tabela.abordagens[Idade])-2),ROW(A799)),4)","v":{"$error":"#NUM!"}},{"$f":"INDEX(Tabela.abordagens[],SMALL(IF(Tabela.abordagens[Mês]=$L$2,ROW(Tabela.abordagens[Idade])-2),ROW(A799)),5)","v":{"$error":"#NUM!"}}]
[null,{"$f":"INDEX(Tabela.frequencia[],SMALL(IF(Tabela.frequencia[Mês]=$L$2,ROW(Tabela.frequencia[id])-1),ROW(A800)),1)","v":{"$error":"#NUM!"}},{"$f":"INDEX(Tabela.frequencia[],SMALL(IF(Tabela.frequencia[Mês]=$L$2,ROW(Tabela.frequencia[id])-1),ROW(A800)),4)","v":{"$error":"#NUM!"}},null,{"$f":"IFERROR(VLOOKUP(D847,Tabela.cadastro[[ID]:[Nome]],2,0),\"\")","v":""},{"$f":"IFERROR(VLOOKUP(D847,Tabela66[#All],2,0),\"\")","v":""},{"$f":"IFERROR(VLOOKUP(D847,Tabela.cadastro[[ID]:[CP ou M]],5,0),\"\")","v":""},{"$f":"IFERROR(VLOOKUP(D847,Cadastros!A:F,6,0),\"\")","v":""},{"$f":"IFERROR(VLOOKUP(D847,Cadastros!A:I,9,0),\"\")","v":""},{"$f":"IFERROR(VLOOKUP(D847,Cadastros!A:J,10,0),\"\")","v":""},{"$f":"IF(COUNTIF(Tabela66[id],D847)=0,\"\",COUNTIF(Tabela66[id],D847))","v":""},null,"",null,null,{"$f":"IFERROR(VLOOKUP(O847,Cadastros!A:B,2),\"\")","v":""},"",{"$f":"IFERROR(VLOOKUP(O847,Cadastros!A:E,5,0),\"\")","v":""},{"$f":"IFERROR(VLOOKUP(O847,Cadastros!A:F,6,0),\"\")","v":""},{"$f":"IFERROR(VLOOKUP(O847,Cadastros!A:I,9,0),\"\")","v":""},"","","",null,{"$f":"INDEX(Tabela.abordagens[],SMALL(IF(Tabela.abordagens[Mês]=$L$2,ROW(Tabela.abordagens[id])-2),ROW(A800)),1)","v":{"$error":"#NUM!"}},{"$f":"INDEX(Tabela.abordagens[],SMALL(IF(Tabela.abordagens[Mês]=$L$2,ROW(Tabela.abordagens[Idade])-2),ROW(A800)),6)","v":{"$error":"#NUM!"}},{"$f":"INDEX(Tabela.abordagens[],SMALL(IF(Tabela.abordagens[Mês]=$L$2,ROW(Tabela.abordagens[Idade])-2),ROW(A800)),4)","v":{"$error":"#NUM!"}},{"$f":"INDEX(Tabela.abordagens[],SMALL(IF(Tabela.abordagens[Mês]=$L$2,ROW(Tabela.abordagens[Idade])-2),ROW(A800)),5)","v":{"$error":"#NUM!"}}]
[null,{"$f":"INDEX(Tabela.frequencia[],SMALL(IF(Tabela.frequencia[Mês]=$L$2,ROW(Tabela.frequencia[id])-1),ROW(A801)),1)","v":{"$error":"#NUM!"}},{"$f":"INDEX(Tabela.frequencia[],SMALL(IF(Tabela.frequencia[Mês]=$L$2,ROW(Tabela.frequencia[id])-1),ROW(A801)),4)","v":{"$error":"#NUM!"}},null,{"$f":"IFERROR(VLOOKUP(D848,Tabela.cadastro[[ID]:[Nome]],2,0),\"\")","v":""},{"$f":"IFERROR(VLOOKUP(D848,Tabela66[#All],2,0),\"\")","v":""},{"$f":"IFERROR(VLOOKUP(D848,Tabela.cadastro[[ID]:[CP ou M]],5,0),\"\")","v":""},{"$f":"IFERROR(VLOOKUP(D848,Cadastros!A:F,6,0),\"\")","v":""},{"$f":"IFERROR(VLOOKUP(D848,Cadastros!A:I,9,0),\"\")","v":""},{"$f":"IFERROR(VLOOKUP(D848,Cadastros!A:J,10,0),\"\")","v":""},{"$f":"IF(COUNTIF(Tabela66[id],D848)=0,\"\",COUNTIF(Tabela66[id],D848))","v":""},null,"",null,null,{"$f":"IFERROR(VLOOKUP(O848,Cadastros!A:B,2),\"\")","v":""},"",{"$f":"IFERROR(VLOOKUP(O848,Cadastros!A:E,5,0),\"\")","v":""},{"$f":"IFERROR(VLOOKUP(O848,Cadastros!A:F,6,0),\"\")","v":""},{"$f":"IFERROR(VLOOKUP(O848,Cadastros!A:I,9,0),\"\")","v":""},"","","",null,{"$f":"INDEX(Tabela.abordagens[],SMALL(IF(Tabela.abordagens[Mês]=$L$2,ROW(Tabela.abordagens[id])-2),ROW(A801)),1)","v":{"$error":"#NUM!"}},{"$f":"INDEX(Tabela.abordagens[],SMALL(IF(Tabela.abordagens[Mês]=$L$2,ROW(Tabela.abordagens[Idade])-2),ROW(A801)),6)","v":{"$error":"#NUM!"}},{"$f":"INDEX(Tabela.abordagens[],SMALL(IF(Tabela.abordagens[Mês]=$L$2,ROW(Tabela.abordagens[Idade])-2),ROW(A801)),4)","v":{"$error":"#NUM!"}},{"$f":"INDEX(Tabela.abordagens[],SMALL(IF(Tabela.abordagens[Mês]=$L$2,ROW(Tabela.abordagens[Idade])-2),ROW(A801)),5)","v":{"$error":"#NUM!"}}]
[null,{"$f":"INDEX(Tabela.frequencia[],SMALL(IF(Tabela.frequencia[Mês]=$L$2,ROW(Tabela.frequencia[id])-1),ROW(A802)),1)","v":{"$error":"#NUM!"}},{"$f":"INDEX(Tabela.frequencia[],SMALL(IF(Tabela.frequencia[Mês]=$L$2,ROW(Tabela.frequencia[id])-1),ROW(A802)),4)","v":{"$error":"#NUM!"}},null,{"$f":"IFERROR(VLOOKUP(D849,Tabela.cadastro[[ID]:[Nome]],2,0),\"\")","v":""},{"$f":"IFERROR(VLOOKUP(D849,Tabela66[#All],2,0),\"\")","v":""},{"$f":"IFERROR(VLOOKUP(D849,Tabela.cadastro[[ID]:[CP ou M]],5,0),\"\")","v":""},{"$f":"IFERROR(VLOOKUP(D849,Cadastros!A:F,6,0),\"\")","v":""},{"$f":"IFERROR(VLOOKUP(D849,Cadastros!A:I,9,0),\"\")","v":""},{"$f":"IFERROR(VLOOKUP(D849,Cadastros!A:J,10,0),\"\")","v":""},{"$f":"IF(COUNTIF(Tabela66[id],D849)=0,\"\",COUNTIF(Tabela66[id],D849))","v":""},null,"",null,null,{"$f":"IFERROR(VLOOKUP(O849,Cadastros!A:B,2),\"\")","v":""},"",{"$f":"IFERROR(VLOOKUP(O849,Cadastros!A:E,5,0),\"\")","v":""},{"$f":"IFERROR(VLOOKUP(O849,Cadastros!A:F,6,0),\"\")","v":""},{"$f":"IFERROR(VLOOKUP(O849,Cadastros!A:I,9,0),\"\")","v":""},"","","",null,{"$f":"INDEX(Tabela.abordagens[],SMALL(IF(Tabela.abordagens[Mês]=$L$2,ROW(Tabela.abordagens[id])-2),ROW(A802)),1)","v":{"$error":"#NUM!"}},{"$f":"INDEX(Tabela.abordagens[],SMALL(IF(Tabela.abordagens[Mês]=$L$2,ROW(Tabela.abordagens[Idade])-2),ROW(A802)),6)","v":{"$error":"#NUM!"}},{"$f":"INDEX(Tabela.abordagens[],SMALL(IF(Tabela.abordagens[Mês]=$L$2,ROW(Tabela.abordagens[Idade])-2),ROW(A802)),4)","v":{"$error":"#NUM!"}},{"$f":"INDEX(Tabela.abordagens[],SMALL(IF(Tabela.abordagens[Mês]=$L$2,ROW(Tabela.abordagens[Idade])-2),ROW(A802)),5)","v":{"$error":"#NUM!"}}]
[null,{"$f":"INDEX(Tabela.frequencia[],SMALL(IF(Tabela.frequencia[Mês]=$L$2,ROW(Tabela.frequencia[id])-1),ROW(A803)),1)","v":{"$error":"#NUM!"}},{"$f":"INDEX(Tabela.frequencia[],SMALL(IF(Tabela.frequencia[Mês]=$L$2,ROW(Tabela.frequencia[id])-1),ROW(A803)),4)","v":{"$error":"#NUM!"}},null,{"$f":"IFERROR(VLOOKUP(D850,Tabela.cadastro[[ID]:[Nome]],2,0),\"\")","v":""},{"$f":"IFERROR(VLOOKUP(D850,Tabela66[#All],2,0),\"\")","v":""},{"$f":"IFERROR(VLOOKUP(D850,Tabela.cadastro[[ID]:[CP ou M]],5,0),\"\")","v":""},{"$f":"IFERROR(VLOOKUP(D850,Cadastros!A:F,6,0),\"\")","v":""},{"$f":"IFERROR(VLOOKUP(D850,Cadastros!A:I,9,0),\"\")","v":""},{"$f":"IFERROR(VLOOKUP(D850,Cadastros!A:J,10,0),\"\")","v":""},{"$f":"IF(COUNTIF(Tabela66[id],D850)=0,\"\",COUNTIF(Tabela66[id],D850))","v":""},null,"",null,null,{"$f":"IFERROR(VLOOKUP(O850,Cadastros!A:B,2),\"\")","v":""},"",{"$f":"IFERROR(VLOOKUP(O850,Cadastros!A:E,5,0),\"\")","v":""},{"$f":"IFERROR(VLOOKUP(O850,Cadastros!A:F,6,0),\"\")","v":""},{"$f":"IFERROR(VLOOKUP(O850,Cadastros!A:I,9,0),\"\")","v":""},"","","",null,{"$f":"INDEX(Tabela.abordagens[],SMALL(IF(Tabela.abordagens[Mês]=$L$2,ROW(Tabela.abordagens[id])-2),ROW(A803)),1)","v":{"$error":"#NUM!"}},{"$f":"INDEX(Tabela.abordagens[],SMALL(IF(Tabela.abordagens[Mês]=$L$2,ROW(Tabela.abordagens[Idade])-2),ROW(A803)),6)","v":{"$error":"#NUM!"}},{"$f":"INDEX(Tabela.abordagens[],SMALL(IF(Tabela.abordagens[Mês]=$L$2,ROW(Tabela.abordagens[Idade])-2),ROW(A803)),4)","v":{"$error":"#NUM!"}},{"$f":"INDEX(Tabela.abordagens[],SMALL(IF(Tabela.abordagens[Mês]=$L$2,ROW(Tabela.abordagens[Idade])-2),ROW(A803)),5)","v":{"$error":"#NUM!"}}]
[null,{"$f":"INDEX(Tabela.frequencia[],SMALL(IF(Tabela.frequencia[Mês]=$L$2,ROW(Tabela.frequencia[id])-1),ROW(A804)),1)","v":{"$error":"#NUM!"}},{"$f":"INDEX(Tabela.frequencia[],SMALL(IF(Tabela.frequencia[Mês]=$L$2,ROW(Tabela.frequencia[id])-1),ROW(A804)),4)","v":{"$error":"#NUM!"}},null,{"$f":"IFERROR(VLOOKUP(D851,Tabela.cadastro[[ID]:[Nome]],2,0),\"\")","v":""},{"$f":"IFERROR(VLOOKUP(D851,Tabela66[#All],2,0),\"\")","v":""},{"$f":"IFERROR(VLOOKUP(D851,Tabela.cadastro[[ID]:[CP ou M]],5,0),\"\")","v":""},{"$f":"IFERROR(VLOOKUP(D851,Cadastros!A:F,6,0),\"\")","v":""},{"$f":"IFERROR(VLOOKUP(D851,Cadastros!A:I,9,0),\"\")","v":""},{"$f":"IFERROR(VLOOKUP(D851,Cadastros!A:J,10,0),\"\")","v":""},{"$f":"IF(COUNTIF(Tabela66[id],D851)=0,\"\",COUNTIF(Tabela66[id],D851))","v":""},null,"",null,null,{"$f":"IFERROR(VLOOKUP(O851,Cadastros!A:B,2),\"\")","v":""},"",{"$f":"IFERROR(VLOOKUP(O851,Cadastros!A:E,5,0),\"\")","v":""},{"$f":"IFERROR(VLOOKUP(O851,Cadastros!A:F,6,0),\"\")","v":""},{"$f":"IFERROR(VLOOKUP(O851,Cadastros!A:I,9,0),\"\")","v":""},"","","",null,{"$f":"INDEX(Tabela.abordagens[],SMALL(IF(Tabela.abordagens[Mês]=$L$2,ROW(Tabela.abordagens[id])-2),ROW(A804)),1)","v":{"$error":"#NUM!"}},{"$f":"INDEX(Tabela.abordagens[],SMALL(IF(Tabela.abordagens[Mês]=$L$2,ROW(Tabela.abordagens[Idade])-2),ROW(A804)),6)","v":{"$error":"#NUM!"}},{"$f":"INDEX(Tabela.abordagens[],SMALL(IF(Tabela.abordagens[Mês]=$L$2,ROW(Tabela.abordagens[Idade])-2),ROW(A804)),4)","v":{"$error":"#NUM!"}},{"$f":"INDEX(Tabela.abordagens[],SMALL(IF(Tabela.abordagens[Mês]=$L$2,ROW(Tabela.abordagens[Idade])-2),ROW(A804)),5)","v":{"$error":"#NUM!"}}]
[null,{"$f":"INDEX(Tabela.frequencia[],SMALL(IF(Tabela.frequencia[Mês]=$L$2,ROW(Tabela.frequencia[id])-1),ROW(A805)),1)","v":{"$error":"#NUM!"}},{"$f":"INDEX(Tabela.frequencia[],SMALL(IF(Tabela.frequencia[Mês]=$L$2,ROW(Tabela.frequencia[id])-1),ROW(A805)),4)","v":{"$error":"#NUM!"}},null,{"$f":"IFERROR(VLOOKUP(D852,Tabela.cadastro[[ID]:[Nome]],2,0),\"\")","v":""},{"$f":"IFERROR(VLOOKUP(D852,Tabela66[#All],2,0),\"\")","v":""},{"$f":"IFERROR(VLOOKUP(D852,Tabela.cadastro[[ID]:[CP ou M]],5,0),\"\")","v":""},{"$f":"IFERROR(VLOOKUP(D852,Cadastros!A:F,6,0),\"\")","v":""},{"$f":"IFERROR(VLOOKUP(D852,Cadastros!A:I,9,0),\"\")","v":""},{"$f":"IFERROR(VLOOKUP(D852,Cadastros!A:J,10,0),\"\")","v":""},{"$f":"IF(COUNTIF(Tabela66[id],D852)=0,\"\",COUNTIF(Tabela66[id],D852))","v":""},null,"",null,null,{"$f":"IFERROR(VLOOKUP(O852,Cadastros!A:B,2),\"\")","v":""},"",{"$f":"IFERROR(VLOOKUP(O852,Cadastros!A:E,5,0),\"\")","v":""},{"$f":"IFERROR(VLOOKUP(O852,Cadastros!A:F,6,0),\"\")","v":""},{"$f":"IFERROR(VLOOKUP(O852,Cadastros!A:I,9,0),\"\")","v":""},"","","",null,{"$f":"INDEX(Tabela.abordagens[],SMALL(IF(Tabela.abordagens[Mês]=$L$2,ROW(Tabela.abordagens[id])-2),ROW(A805)),1)","v":{"$error":"#NUM!"}},{"$f":"INDEX(Tabela.abordagens[],SMALL(IF(Tabela.abordagens[Mês]=$L$2,ROW(Tabela.abordagens[Idade])-2),ROW(A805)),6)","v":{"$error":"#NUM!"}},{"$f":"INDEX(Tabela.abordagens[],SMALL(IF(Tabela.abordagens[Mês]=$L$2,ROW(Tabela.abordagens[Idade])-2),ROW(A805)),4)","v":{"$error":"#NUM!"}},{"$f":"INDEX(Tabela.abordagens[],SMALL(IF(Tabela.abordagens[Mês]=$L$2,ROW(Tabela.abordagens[Idade])-2),ROW(A805)),5)","v":{"$error":"#NUM!"}}]
[null,{"$f":"INDEX(Tabela.frequencia[],SMALL(IF(Tabela.frequencia[Mês]=$L$2,ROW(Tabela.frequencia[id])-1),ROW(A806)),1)","v":{"$error":"#NUM!"}},{"$f":"INDEX(Tabela.frequencia[],SMALL(IF(Tabela.frequencia[Mês]=$L$2,ROW(Tabela.frequencia[id])-1),ROW(A806)),4)","v":{"$error":"#NUM!"}},null,{"$f":"IFERROR(VLOOKUP(D853,Tabela.cadastro[[ID]:[Nome]],2,0),\"\")","v":""},{"$f":"IFERROR(VLOOKUP(D853,Tabela66[#All],2,0),\"\")","v":""},{"$f":"IFERROR(VLOOKUP(D853,Tabela.cadastro[[ID]:[CP ou M]],5,0),\"\")","v":""},{"$f":"IFERROR(VLOOKUP(D853,Cadastros!A:F,6,0),\"\")","v":""},{"$f":"IFERROR(VLOOKUP(D853,Cadastros!A:I,9,0),\"\")","v":""},{"$f":"IFERROR(VLOOKUP(D853,Cadastros!A:J,10,0),\"\")","v":""},{"$f":"IF(COUNTIF(Tabela66[id],D853)=0,\"\",COUNTIF(Tabela66[id],D853))","v":""},null,"",null,null,{"$f":"IFERROR(VLOOKUP(O853,Cadastros!A:B,2),\"\")","v":""},"",{"$f":"IFERROR(VLOOKUP(O853,Cadastros!A:E,5,0),\"\")","v":""},{"$f":"IFERROR(VLOOKUP(O853,Cadastros!A:F,6,0),\"\")","v":""},{"$f":"IFERROR(VLOOKUP(O853,Cadastros!A:I,9,0),\"\")","v":""},"","","",null,{"$f":"INDEX(Tabela.abordagens[],SMALL(IF(Tabela.abordagens[Mês]=$L$2,ROW(Tabela.abordagens[id])-2),ROW(A806)),1)","v":{"$error":"#NUM!"}},{"$f":"INDEX(Tabela.abordagens[],SMALL(IF(Tabela.abordagens[Mês]=$L$2,ROW(Tabela.abordagens[Idade])-2),ROW(A806)),6)","v":{"$error":"#NUM!"}},{"$f":"INDEX(Tabela.abordagens[],SMALL(IF(Tabela.abordagens[Mês]=$L$2,ROW(Tabela.abordagens[Idade])-2),ROW(A806)),4)","v":{"$error":"#NUM!"}},{"$f":"INDEX(Tabela.abordagens[],SMALL(IF(Tabela.abordagens[Mês]=$L$2,ROW(Tabela.abordagens[Idade])-2),ROW(A806)),5)","v":{"$error":"#NUM!"}}]
[null,{"$f":"INDEX(Tabela.frequencia[],SMALL(IF(Tabela.frequencia[Mês]=$L$2,ROW(Tabela.frequencia[id])-1),ROW(A807)),1)","v":{"$error":"#NUM!"}},{"$f":"INDEX(Tabela.frequencia[],SMALL(IF(Tabela.frequencia[Mês]=$L$2,ROW(Tabela.frequencia[id])-1),ROW(A807)),4)","v":{"$error":"#NUM!"}},null,{"$f":"IFERROR(VLOOKUP(D854,Tabela.cadastro[[ID]:[Nome]],2,0),\"\")","v":""},{"$f":"IFERROR(VLOOKUP(D854,Tabela66[#All],2,0),\"\")","v":""},{"$f":"IFERROR(VLOOKUP(D854,Tabela.cadastro[[ID]:[CP ou M]],5,0),\"\")","v":""},{"$f":"IFERROR(VLOOKUP(D854,Cadastros!A:F,6,0),\"\")","v":""},{"$f":"IFERROR(VLOOKUP(D854,Cadastros!A:I,9,0),\"\")","v":""},{"$f":"IFERROR(VLOOKUP(D854,Cadastros!A:J,10,0),\"\")","v":""},{"$f":"IF(COUNTIF(Tabela66[id],D854)=0,\"\",COUNTIF(Tabela66[id],D854))","v":""},null,"",null,null,{"$f":"IFERROR(VLOOKUP(O854,Cadastros!A:B,2),\"\")","v":""},"",{"$f":"IFERROR(VLOOKUP(O854,Cadastros!A:E,5,0),\"\")","v":""},{"$f":"IFERROR(VLOOKUP(O854,Cadastros!A:F,6,0),\"\")","v":""},{"$f":"IFERROR(VLOOKUP(O854,Cadastros!A:I,9,0),\"\")","v":""},"","","",null,{"$f":"INDEX(Tabela.abordagens[],SMALL(IF(Tabela.abordagens[Mês]=$L$2,ROW(Tabela.abordagens[id])-2),ROW(A807)),1)","v":{"$error":"#NUM!"}},{"$f":"INDEX(Tabela.abordagens[],SMALL(IF(Tabela.abordagens[Mês]=$L$2,ROW(Tabela.abordagens[Idade])-2),ROW(A807)),6)","v":{"$error":"#NUM!"}},{"$f":"INDEX(Tabela.abordagens[],SMALL(IF(Tabela.abordagens[Mês]=$L$2,ROW(Tabela.abordagens[Idade])-2),ROW(A807)),4)","v":{"$error":"#NUM!"}},{"$f":"INDEX(Tabela.abordagens[],SMALL(IF(Tabela.abordagens[Mês]=$L$2,ROW(Tabela.abordagens[Idade])-2),ROW(A807)),5)","v":{"$error":"#NUM!"}}]
[null,{"$f":"INDEX(Tabela.frequencia[],SMALL(IF(Tabela.frequencia[Mês]=$L$2,ROW(Tabela.frequencia[id])-1),ROW(A808)),1)","v":{"$error":"#NUM!"}},{"$f":"INDEX(Tabela.frequencia[],SMALL(IF(Tabela.frequencia[Mês]=$L$2,ROW(Tabela.frequencia[id])-1),ROW(A808)),4)","v":{"$error":"#NUM!"}},null,{"$f":"IFERROR(VLOOKUP(D855,Tabela.cadastro[[ID]:[Nome]],2,0),\"\")","v":""},{"$f":"IFERROR(VLOOKUP(D855,Tabela66[#All],2,0),\"\")","v":""},{"$f":"IFERROR(VLOOKUP(D855,Tabela.cadastro[[ID]:[CP ou M]],5,0),\"\")","v":""},{"$f":"IFERROR(VLOOKUP(D855,Cadastros!A:F,6,0),\"\")","v":""},{"$f":"IFERROR(VLOOKUP(D855,Cadastros!A:I,9,0),\"\")","v":""},{"$f":"IFERROR(VLOOKUP(D855,Cadastros!A:J,10,0),\"\")","v":""},{"$f":"IF(COUNTIF(Tabela66[id],D855)=0,\"\",COUNTIF(Tabela66[id],D855))","v":""},null,"",null,null,{"$f":"IFERROR(VLOOKUP(O855,Cadastros!A:B,2),\"\")","v":""},"",{"$f":"IFERROR(VLOOKUP(O855,Cadastros!A:E,5,0),\"\")","v":""},{"$f":"IFERROR(VLOOKUP(O855,Cadastros!A:F,6,0),\"\")","v":""},{"$f":"IFERROR(VLOOKUP(O855,Cadastros!A:I,9,0),\"\")","v":""},"","","",null,{"$f":"INDEX(Tabela.abordagens[],SMALL(IF(Tabela.abordagens[Mês]=$L$2,ROW(Tabela.abordagens[id])-2),ROW(A808)),1)","v":{"$error":"#NUM!"}},{"$f":"INDEX(Tabela.abordagens[],SMALL(IF(Tabela.abordagens[Mês]=$L$2,ROW(Tabela.abordagens[Idade])-2),ROW(A808)),6)","v":{"$error":"#NUM!"}},{"$f":"INDEX(Tabela.abordagens[],SMALL(IF(Tabela.abordagens[Mês]=$L$2,ROW(Tabela.abordagens[Idade])-2),ROW(A808)),4)","v":{"$error":"#NUM!"}},{"$f":"INDEX(Tabela.abordagens[],SMALL(IF(Tabela.abordagens[Mês]=$L$2,ROW(Tabela.abordagens[Idade])-2),ROW(A808)),5)","v":{"$error":"#NUM!"}}]
[null,{"$f":"INDEX(Tabela.frequencia[],SMALL(IF(Tabela.frequencia[Mês]=$L$2,ROW(Tabela.frequencia[id])-1),ROW(A809)),1)","v":{"$error":"#NUM!"}},{"$f":"INDEX(Tabela.frequencia[],SMALL(IF(Tabela.frequencia[Mês]=$L$2,ROW(Tabela.frequencia[id])-1),ROW(A809)),4)","v":{"$error":"#NUM!"}},null,{"$f":"IFERROR(VLOOKUP(D856,Tabela.cadastro[[ID]:[Nome]],2,0),\"\")","v":""},{"$f":"IFERROR(VLOOKUP(D856,Tabela66[#All],2,0),\"\")","v":""},{"$f":"IFERROR(VLOOKUP(D856,Tabela.cadastro[[ID]:[CP ou M]],5,0),\"\")","v":""},{"$f":"IFERROR(VLOOKUP(D856,Cadastros!A:F,6,0),\"\")","v":""},{"$f":"IFERROR(VLOOKUP(D856,Cadastros!A:I,9,0),\"\")","v":""},{"$f":"IFERROR(VLOOKUP(D856,Cadastros!A:J,10,0),\"\")","v":""},{"$f":"IF(COUNTIF(Tabela66[id],D856)=0,\"\",COUNTIF(Tabela66[id],D856))","v":""},null,"",null,null,{"$f":"IFERROR(VLOOKUP(O856,Cadastros!A:B,2),\"\")","v":""},"",{"$f":"IFERROR(VLOOKUP(O856,Cadastros!A:E,5,0),\"\")","v":""},{"$f":"IFERROR(VLOOKUP(O856,Cadastros!A:F,6,0),\"\")","v":""},{"$f":"IFERROR(VLOOKUP(O856,Cadastros!A:I,9,0),\"\")","v":""},"","","",null,{"$f":"INDEX(Tabela.abordagens[],SMALL(IF(Tabela.abordagens[Mês]=$L$2,ROW(Tabela.abordagens[id])-2),ROW(A809)),1)","v":{"$error":"#NUM!"}},{"$f":"INDEX(Tabela.abordagens[],SMALL(IF(Tabela.abordagens[Mês]=$L$2,ROW(Tabela.abordagens[Idade])-2),ROW(A809)),6)","v":{"$error":"#NUM!"}},{"$f":"INDEX(Tabela.abordagens[],SMALL(IF(Tabela.abordagens[Mês]=$L$2,ROW(Tabela.abordagens[Idade])-2),ROW(A809)),4)","v":{"$error":"#NUM!"}},{"$f":"INDEX(Tabela.abordagens[],SMALL(IF(Tabela.abordagens[Mês]=$L$2,ROW(Tabela.abordagens[Idade])-2),ROW(A809)),5)","v":{"$error":"#NUM!"}}]
[null,{"$f":"INDEX(Tabela.frequencia[],SMALL(IF(Tabela.frequencia[Mês]=$L$2,ROW(Tabela.frequencia[id])-1),ROW(A810)),1)","v":{"$error":"#NUM!"}},{"$f":"INDEX(Tabela.frequencia[],SMALL(IF(Tabela.frequencia[Mês]=$L$2,ROW(Tabela.frequencia[id])-1),ROW(A810)),4)","v":{"$error":"#NUM!"}},null,{"$f":"IFERROR(VLOOKUP(D857,Tabela.cadastro[[ID]:[Nome]],2,0),\"\")","v":""},{"$f":"IFERROR(VLOOKUP(D857,Tabela66[#All],2,0),\"\")","v":""},{"$f":"IFERROR(VLOOKUP(D857,Tabela.cadastro[[ID]:[CP ou M]],5,0),\"\")","v":""},{"$f":"IFERROR(VLOOKUP(D857,Cadastros!A:F,6,0),\"\")","v":""},{"$f":"IFERROR(VLOOKUP(D857,Cadastros!A:I,9,0),\"\")","v":""},{"$f":"IFERROR(VLOOKUP(D857,Cadastros!A:J,10,0),\"\")","v":""},{"$f":"IF(COUNTIF(Tabela66[id],D857)=0,\"\",COUNTIF(Tabela66[id],D857))","v":""},null,"",null,null,{"$f":"IFERROR(VLOOKUP(O857,Cadastros!A:B,2),\"\")","v":""},"",{"$f":"IFERROR(VLOOKUP(O857,Cadastros!A:E,5,0),\"\")","v":""},{"$f":"IFERROR(VLOOKUP(O857,Cadastros!A:F,6,0),\"\")","v":""},{"$f":"IFERROR(VLOOKUP(O857,Cadastros!A:I,9,0),\"\")","v":""},"","","",null,{"$f":"INDEX(Tabela.abordagens[],SMALL(IF(Tabela.abordagens[Mês]=$L$2,ROW(Tabela.abordagens[id])-2),ROW(A810)),1)","v":{"$error":"#NUM!"}},{"$f":"INDEX(Tabela.abordagens[],SMALL(IF(Tabela.abordagens[Mês]=$L$2,ROW(Tabela.abordagens[Idade])-2),ROW(A810)),6)","v":{"$error":"#NUM!"}},{"$f":"INDEX(Tabela.abordagens[],SMALL(IF(Tabela.abordagens[Mês]=$L$2,ROW(Tabela.abordagens[Idade])-2),ROW(A810)),4)","v":{"$error":"#NUM!"}},{"$f":"INDEX(Tabela.abordagens[],SMALL(IF(Tabela.abordagens[Mês]=$L$2,ROW(Tabela.abordagens[Idade])-2),ROW(A810)),5)","v":{"$error":"#NUM!"}}]
[null,{"$f":"INDEX(Tabela.frequencia[],SMALL(IF(Tabela.frequencia[Mês]=$L$2,ROW(Tabela.frequencia[id])-1),ROW(A811)),1)","v":{"$error":"#NUM!"}},{"$f":"INDEX(Tabela.frequencia[],SMALL(IF(Tabela.frequencia[Mês]=$L$2,ROW(Tabela.frequencia[id])-1),ROW(A811)),4)","v":{"$error":"#NUM!"}},null,{"$f":"IFERROR(VLOOKUP(D858,Tabela.cadastro[[ID]:[Nome]],2,0),\"\")","v":""},{"$f":"IFERROR(VLOOKUP(D858,Tabela66[#All],2,0),\"\")","v":""},{"$f":"IFERROR(VLOOKUP(D858,Tabela.cadastro[[ID]:[CP ou M]],5,0),\"\")","v":""},{"$f":"IFERROR(VLOOKUP(D858,Cadastros!A:F,6,0),\"\")","v":""},{"$f":"IFERROR(VLOOKUP(D858,Cadastros!A:I,9,0),\"\")","v":""},{"$f":"IFERROR(VLOOKUP(D858,Cadastros!A:J,10,0),\"\")","v":""},{"$f":"IF(COUNTIF(Tabela66[id],D858)=0,\"\",COUNTIF(Tabela66[id],D858))","v":""},null,"",null,null,{"$f":"IFERROR(VLOOKUP(O858,Cadastros!A:B,2),\"\")","v":""},"",{"$f":"IFERROR(VLOOKUP(O858,Cadastros!A:E,5,0),\"\")","v":""},{"$f":"IFERROR(VLOOKUP(O858,Cadastros!A:F,6,0),\"\")","v":""},{"$f":"IFERROR(VLOOKUP(O858,Cadastros!A:I,9,0),\"\")","v":""},"","","",null,{"$f":"INDEX(Tabela.abordagens[],SMALL(IF(Tabela.abordagens[Mês]=$L$2,ROW(Tabela.abordagens[id])-2),ROW(A811)),1)","v":{"$error":"#NUM!"}},{"$f":"INDEX(Tabela.abordagens[],SMALL(IF(Tabela.abordagens[Mês]=$L$2,ROW(Tabela.abordagens[Idade])-2),ROW(A811)),6)","v":{"$error":"#NUM!"}},{"$f":"INDEX(Tabela.abordagens[],SMALL(IF(Tabela.abordagens[Mês]=$L$2,ROW(Tabela.abordagens[Idade])-2),ROW(A811)),4)","v":{"$error":"#NUM!"}},{"$f":"INDEX(Tabela.abordagens[],SMALL(IF(Tabela.abordagens[Mês]=$L$2,ROW(Tabela.abordagens[Idade])-2),ROW(A811)),5)","v":{"$error":"#NUM!"}}]
[null,{"$f":"INDEX(Tabela.frequencia[],SMALL(IF(Tabela.frequencia[Mês]=$L$2,ROW(Tabela.frequencia[id])-1),ROW(A812)),1)","v":{"$error":"#NUM!"}},{"$f":"INDEX(Tabela.frequencia[],SMALL(IF(Tabela.frequencia[Mês]=$L$2,ROW(Tabela.frequencia[id])-1),ROW(A812)),4)","v":{"$error":"#NUM!"}},null,{"$f":"IFERROR(VLOOKUP(D859,Tabela.cadastro[[ID]:[Nome]],2,0),\"\")","v":""},{"$f":"IFERROR(VLOOKUP(D859,Tabela66[#All],2,0),\"\")","v":""},{"$f":"IFERROR(VLOOKUP(D859,Tabela.cadastro[[ID]:[CP ou M]],5,0),\"\")","v":""},{"$f":"IFERROR(VLOOKUP(D859,Cadastros!A:F,6,0),\"\")","v":""},{"$f":"IFERROR(VLOOKUP(D859,Cadastros!A:I,9,0),\"\")","v":""},{"$f":"IFERROR(VLOOKUP(D859,Cadastros!A:J,10,0),\"\")","v":""},{"$f":"IF(COUNTIF(Tabela66[id],D859)=0,\"\",COUNTIF(Tabela66[id],D859))","v":""},null,"",null,null,{"$f":"IFERROR(VLOOKUP(O859,Cadastros!A:B,2),\"\")","v":""},"",{"$f":"IFERROR(VLOOKUP(O859,Cadastros!A:E,5,0),\"\")","v":""},{"$f":"IFERROR(VLOOKUP(O859,Cadastros!A:F,6,0),\"\")","v":""},{"$f":"IFERROR(VLOOKUP(O859,Cadastros!A:I,9,0),\"\")","v":""},"","","",null,{"$f":"INDEX(Tabela.abordagens[],SMALL(IF(Tabela.abordagens[Mês]=$L$2,ROW(Tabela.abordagens[id])-2),ROW(A812)),1)","v":{"$error":"#NUM!"}},{"$f":"INDEX(Tabela.abordagens[],SMALL(IF(Tabela.abordagens[Mês]=$L$2,ROW(Tabela.abordagens[Idade])-2),ROW(A812)),6)","v":{"$error":"#NUM!"}},{"$f":"INDEX(Tabela.abordagens[],SMALL(IF(Tabela.abordagens[Mês]=$L$2,ROW(Tabela.abordagens[Idade])-2),ROW(A812)),4)","v":{"$error":"#NUM!"}},{"$f":"INDEX(Tabela.abordagens[],SMALL(IF(Tabela.abordagens[Mês]=$L$2,ROW(Tabela.abordagens[Idade])-2),ROW(A812)),5)","v":{"$error":"#NUM!"}}]
[null,{"$f":"INDEX(Tabela.frequencia[],SMALL(IF(Tabela.frequencia[Mês]=$L$2,ROW(Tabela.frequencia[id])-1),ROW(A813)),1)","v":{"$error":"#NUM!"}},{"$f":"INDEX(Tabela.frequencia[],SMALL(IF(Tabela.frequencia[Mês]=$L$2,ROW(Tabela.frequencia[id])-1),ROW(A813)),4)","v":{"$error":"#NUM!"}},null,{"$f":"IFERROR(VLOOKUP(D860,Tabela.cadastro[[ID]:[Nome]],2,0),\"\")","v":""},{"$f":"IFERROR(VLOOKUP(D860,Tabela66[#All],2,0),\"\")","v":""},{"$f":"IFERROR(VLOOKUP(D860,Tabela.cadastro[[ID]:[CP ou M]],5,0),\"\")","v":""},{"$f":"IFERROR(VLOOKUP(D860,Cadastros!A:F,6,0),\"\")","v":""},{"$f":"IFERROR(VLOOKUP(D860,Cadastros!A:I,9,0),\"\")","v":""},{"$f":"IFERROR(VLOOKUP(D860,Cadastros!A:J,10,0),\"\")","v":""},{"$f":"IF(COUNTIF(Tabela66[id],D860)=0,\"\",COUNTIF(Tabela66[id],D860))","v":""},null,"",null,null,{"$f":"IFERROR(VLOOKUP(O860,Cadastros!A:B,2),\"\")","v":""},"",{"$f":"IFERROR(VLOOKUP(O860,Cadastros!A:E,5,0),\"\")","v":""},{"$f":"IFERROR(VLOOKUP(O860,Cadastros!A:F,6,0),\"\")","v":""},{"$f":"IFERROR(VLOOKUP(O860,Cadastros!A:I,9,0),\"\")","v":""},"","","",null,{"$f":"INDEX(Tabela.abordagens[],SMALL(IF(Tabela.abordagens[Mês]=$L$2,ROW(Tabela.abordagens[id])-2),ROW(A813)),1)","v":{"$error":"#NUM!"}},{"$f":"INDEX(Tabela.abordagens[],SMALL(IF(Tabela.abordagens[Mês]=$L$2,ROW(Tabela.abordagens[Idade])-2),ROW(A813)),6)","v":{"$error":"#NUM!"}},{"$f":"INDEX(Tabela.abordagens[],SMALL(IF(Tabela.abordagens[Mês]=$L$2,ROW(Tabela.abordagens[Idade])-2),ROW(A813)),4)","v":{"$error":"#NUM!"}},{"$f":"INDEX(Tabela.abordagens[],SMALL(IF(Tabela.abordagens[Mês]=$L$2,ROW(Tabela.abordagens[Idade])-2),ROW(A813)),5)","v":{"$error":"#NUM!"}}]
[null,{"$f":"INDEX(Tabela.frequencia[],SMALL(IF(Tabela.frequencia[Mês]=$L$2,ROW(Tabela.frequencia[id])-1),ROW(A814)),1)","v":{"$error":"#NUM!"}},{"$f":"INDEX(Tabela.frequencia[],SMALL(IF(Tabela.frequencia[Mês]=$L$2,ROW(Tabela.frequencia[id])-1),ROW(A814)),4)","v":{"$error":"#NUM!"}},null,{"$f":"IFERROR(VLOOKUP(D861,Tabela.cadastro[[ID]:[Nome]],2,0),\"\")","v":""},{"$f":"IFERROR(VLOOKUP(D861,Tabela66[#All],2,0),\"\")","v":""},{"$f":"IFERROR(VLOOKUP(D861,Tabela.cadastro[[ID]:[CP ou M]],5,0),\"\")","v":""},{"$f":"IFERROR(VLOOKUP(D861,Cadastros!A:F,6,0),\"\")","v":""},{"$f":"IFERROR(VLOOKUP(D861,Cadastros!A:I,9,0),\"\")","v":""},{"$f":"IFERROR(VLOOKUP(D861,Cadastros!A:J,10,0),\"\")","v":""},{"$f":"IF(COUNTIF(Tabela66[id],D861)=0,\"\",COUNTIF(Tabela66[id],D861))","v":""},null,"",null,null,{"$f":"IFERROR(VLOOKUP(O861,Cadastros!A:B,2),\"\")","v":""},"",{"$f":"IFERROR(VLOOKUP(O861,Cadastros!A:E,5,0),\"\")","v":""},{"$f":"IFERROR(VLOOKUP(O861,Cadastros!A:F,6,0),\"\")","v":""},{"$f":"IFERROR(VLOOKUP(O861,Cadastros!A:I,9,0),\"\")","v":""},"","","",null,{"$f":"INDEX(Tabela.abordagens[],SMALL(IF(Tabela.abordagens[Mês]=$L$2,ROW(Tabela.abordagens[id])-2),ROW(A814)),1)","v":{"$error":"#NUM!"}},{"$f":"INDEX(Tabela.abordagens[],SMALL(IF(Tabela.abordagens[Mês]=$L$2,ROW(Tabela.abordagens[Idade])-2),ROW(A814)),6)","v":{"$error":"#NUM!"}},{"$f":"INDEX(Tabela.abordagens[],SMALL(IF(Tabela.abordagens[Mês]=$L$2,ROW(Tabela.abordagens[Idade])-2),ROW(A814)),4)","v":{"$error":"#NUM!"}},{"$f":"INDEX(Tabela.abordagens[],SMALL(IF(Tabela.abordagens[Mês]=$L$2,ROW(Tabela.abordagens[Idade])-2),ROW(A814)),5)","v":{"$error":"#NUM!"}}]
[null,{"$f":"INDEX(Tabela.frequencia[],SMALL(IF(Tabela.frequencia[Mês]=$L$2,ROW(Tabela.frequencia[id])-1),ROW(A815)),1)","v":{"$error":"#NUM!"}},{"$f":"INDEX(Tabela.frequencia[],SMALL(IF(Tabela.frequencia[Mês]=$L$2,ROW(Tabela.frequencia[id])-1),ROW(A815)),4)","v":{"$error":"#NUM!"}},null,{"$f":"IFERROR(VLOOKUP(D862,Tabela.cadastro[[ID]:[Nome]],2,0),\"\")","v":""},{"$f":"IFERROR(VLOOKUP(D862,Tabela66[#All],2,0),\"\")","v":""},{"$f":"IFERROR(VLOOKUP(D862,Tabela.cadastro[[ID]:[CP ou M]],5,0),\"\")","v":""},{"$f":"IFERROR(VLOOKUP(D862,Cadastros!A:F,6,0),\"\")","v":""},{"$f":"IFERROR(VLOOKUP(D862,Cadastros!A:I,9,0),\"\")","v":""},{"$f":"IFERROR(VLOOKUP(D862,Cadastros!A:J,10,0),\"\")","v":""},{"$f":"IF(COUNTIF(Tabela66[id],D862)=0,\"\",COUNTIF(Tabela66[id],D862))","v":""},null,"",null,null,{"$f":"IFERROR(VLOOKUP(O862,Cadastros!A:B,2),\"\")","v":""},"",{"$f":"IFERROR(VLOOKUP(O862,Cadastros!A:E,5,0),\"\")","v":""},{"$f":"IFERROR(VLOOKUP(O862,Cadastros!A:F,6,0),\"\")","v":""},{"$f":"IFERROR(VLOOKUP(O862,Cadastros!A:I,9,0),\"\")","v":""},"","","",null,{"$f":"INDEX(Tabela.abordagens[],SMALL(IF(Tabela.abordagens[Mês]=$L$2,ROW(Tabela.abordagens[id])-2),ROW(A815)),1)","v":{"$error":"#NUM!"}},{"$f":"INDEX(Tabela.abordagens[],SMALL(IF(Tabela.abordagens[Mês]=$L$2,ROW(Tabela.abordagens[Idade])-2),ROW(A815)),6)","v":{"$error":"#NUM!"}},{"$f":"INDEX(Tabela.abordagens[],SMALL(IF(Tabela.abordagens[Mês]=$L$2,ROW(Tabela.abordagens[Idade])-2),ROW(A815)),4)","v":{"$error":"#NUM!"}},{"$f":"INDEX(Tabela.abordagens[],SMALL(IF(Tabela.abordagens[Mês]=$L$2,ROW(Tabela.abordagens[Idade])-2),ROW(A815)),5)","v":{"$error":"#NUM!"}}]
[null,{"$f":"INDEX(Tabela.frequencia[],SMALL(IF(Tabela.frequencia[Mês]=$L$2,ROW(Tabela.frequencia[id])-1),ROW(A816)),1)","v":{"$error":"#NUM!"}},{"$f":"INDEX(Tabela.frequencia[],SMALL(IF(Tabela.frequencia[Mês]=$L$2,ROW(Tabela.frequencia[id])-1),ROW(A816)),4)","v":{"$error":"#NUM!"}},null,{"$f":"IFERROR(VLOOKUP(D863,Tabela.cadastro[[ID]:[Nome]],2,0),\"\")","v":""},{"$f":"IFERROR(VLOOKUP(D863,Tabela66[#All],2,0),\"\")","v":""},{"$f":"IFERROR(VLOOKUP(D863,Tabela.cadastro[[ID]:[CP ou M]],5,0),\"\")","v":""},{"$f":"IFERROR(VLOOKUP(D863,Cadastros!A:F,6,0),\"\")","v":""},{"$f":"IFERROR(VLOOKUP(D863,Cadastros!A:I,9,0),\"\")","v":""},{"$f":"IFERROR(VLOOKUP(D863,Cadastros!A:J,10,0),\"\")","v":""},{"$f":"IF(COUNTIF(Tabela66[id],D863)=0,\"\",COUNTIF(Tabela66[id],D863))","v":""},null,"",null,null,{"$f":"IFERROR(VLOOKUP(O863,Cadastros!A:B,2),\"\")","v":""},"",{"$f":"IFERROR(VLOOKUP(O863,Cadastros!A:E,5,0),\"\")","v":""},{"$f":"IFERROR(VLOOKUP(O863,Cadastros!A:F,6,0),\"\")","v":""},{"$f":"IFERROR(VLOOKUP(O863,Cadastros!A:I,9,0),\"\")","v":""},"","","",null,{"$f":"INDEX(Tabela.abordagens[],SMALL(IF(Tabela.abordagens[Mês]=$L$2,ROW(Tabela.abordagens[id])-2),ROW(A816)),1)","v":{"$error":"#NUM!"}},{"$f":"INDEX(Tabela.abordagens[],SMALL(IF(Tabela.abordagens[Mês]=$L$2,ROW(Tabela.abordagens[Idade])-2),ROW(A816)),6)","v":{"$error":"#NUM!"}},{"$f":"INDEX(Tabela.abordagens[],SMALL(IF(Tabela.abordagens[Mês]=$L$2,ROW(Tabela.abordagens[Idade])-2),ROW(A816)),4)","v":{"$error":"#NUM!"}},{"$f":"INDEX(Tabela.abordagens[],SMALL(IF(Tabela.abordagens[Mês]=$L$2,ROW(Tabela.abordagens[Idade])-2),ROW(A816)),5)","v":{"$error":"#NUM!"}}]
[null,{"$f":"INDEX(Tabela.frequencia[],SMALL(IF(Tabela.frequencia[Mês]=$L$2,ROW(Tabela.frequencia[id])-1),ROW(A817)),1)","v":{"$error":"#NUM!"}},{"$f":"INDEX(Tabela.frequencia[],SMALL(IF(Tabela.frequencia[Mês]=$L$2,ROW(Tabela.frequencia[id])-1),ROW(A817)),4)","v":{"$error":"#NUM!"}},null,{"$f":"IFERROR(VLOOKUP(D864,Tabela.cadastro[[ID]:[Nome]],2,0),\"\")","v":""},{"$f":"IFERROR(VLOOKUP(D864,Tabela66[#All],2,0),\"\")","v":""},{"$f":"IFERROR(VLOOKUP(D864,Tabela.cadastro[[ID]:[CP ou M]],5,0),\"\")","v":""},{"$f":"IFERROR(VLOOKUP(D864,Cadastros!A:F,6,0),\"\")","v":""},{"$f":"IFERROR(VLOOKUP(D864,Cadastros!A:I,9,0),\"\")","v":""},{"$f":"IFERROR(VLOOKUP(D864,Cadastros!A:J,10,0),\"\")","v":""},{"$f":"IF(COUNTIF(Tabela66[id],D864)=0,\"\",COUNTIF(Tabela66[id],D864))","v":""},null,"",null,null,{"$f":"IFERROR(VLOOKUP(O864,Cadastros!A:B,2),\"\")","v":""},"",{"$f":"IFERROR(VLOOKUP(O864,Cadastros!A:E,5,0),\"\")","v":""},{"$f":"IFERROR(VLOOKUP(O864,Cadastros!A:F,6,0),\"\")","v":""},{"$f":"IFERROR(VLOOKUP(O864,Cadastros!A:I,9,0),\"\")","v":""},"","","",null,{"$f":"INDEX(Tabela.abordagens[],SMALL(IF(Tabela.abordagens[Mês]=$L$2,ROW(Tabela.abordagens[id])-2),ROW(A817)),1)","v":{"$error":"#NUM!"}},{"$f":"INDEX(Tabela.abordagens[],SMALL(IF(Tabela.abordagens[Mês]=$L$2,ROW(Tabela.abordagens[Idade])-2),ROW(A817)),6)","v":{"$error":"#NUM!"}},{"$f":"INDEX(Tabela.abordagens[],SMALL(IF(Tabela.abordagens[Mês]=$L$2,ROW(Tabela.abordagens[Idade])-2),ROW(A817)),4)","v":{"$error":"#NUM!"}},{"$f":"INDEX(Tabela.abordagens[],SMALL(IF(Tabela.abordagens[Mês]=$L$2,ROW(Tabela.abordagens[Idade])-2),ROW(A817)),5)","v":{"$error":"#NUM!"}}]
[null,{"$f":"INDEX(Tabela.frequencia[],SMALL(IF(Tabela.frequencia[Mês]=$L$2,ROW(Tabela.frequencia[id])-1),ROW(A818)),1)","v":{"$error":"#NUM!"}},{"$f":"INDEX(Tabela.frequencia[],SMALL(IF(Tabela.frequencia[Mês]=$L$2,ROW(Tabela.frequencia[id])-1),ROW(A818)),4)","v":{"$error":"#NUM!"}},null,{"$f":"IFERROR(VLOOKUP(D865,Tabela.cadastro[[ID]:[Nome]],2,0),\"\")","v":""},{"$f":"IFERROR(VLOOKUP(D865,Tabela66[#All],2,0),\"\")","v":""},{"$f":"IFERROR(VLOOKUP(D865,Tabela.cadastro[[ID]:[CP ou M]],5,0),\"\")","v":""},{"$f":"IFERROR(VLOOKUP(D865,Cadastros!A:F,6,0),\"\")","v":""},{"$f":"IFERROR(VLOOKUP(D865,Cadastros!A:I,9,0),\"\")","v":""},{"$f":"IFERROR(VLOOKUP(D865,Cadastros!A:J,10,0),\"\")","v":""},{"$f":"IF(COUNTIF(Tabela66[id],D865)=0,\"\",COUNTIF(Tabela66[id],D865))","v":""},null,"",null,null,{"$f":"IFERROR(VLOOKUP(O865,Cadastros!A:B,2),\"\")","v":""},"",{"$f":"IFERROR(VLOOKUP(O865,Cadastros!A:E,5,0),\"\")","v":""},{"$f":"IFERROR(VLOOKUP(O865,Cadastros!A:F,6,0),\"\")","v":""},{"$f":"IFERROR(VLOOKUP(O865,Cadastros!A:I,9,0),\"\")","v":""},"","","",null,{"$f":"INDEX(Tabela.abordagens[],SMALL(IF(Tabela.abordagens[Mês]=$L$2,ROW(Tabela.abordagens[id])-2),ROW(A818)),1)","v":{"$error":"#NUM!"}},{"$f":"INDEX(Tabela.abordagens[],SMALL(IF(Tabela.abordagens[Mês]=$L$2,ROW(Tabela.abordagens[Idade])-2),ROW(A818)),6)","v":{"$error":"#NUM!"}},{"$f":"INDEX(Tabela.abordagens[],SMALL(IF(Tabela.abordagens[Mês]=$L$2,ROW(Tabela.abordagens[Idade])-2),ROW(A818)),4)","v":{"$error":"#NUM!"}},{"$f":"INDEX(Tabela.abordagens[],SMALL(IF(Tabela.abordagens[Mês]=$L$2,ROW(Tabela.abordagens[Idade])-2),ROW(A818)),5)","v":{"$error":"#NUM!"}}]
[null,null,null,null,null,null,null,null,null,null,null,null,null,null,null,{"$f":"IFERROR(VLOOKUP(O866,Cadastros!A:B,2),\"\")","v":""},{"$f":"IFERROR(VLOOKUP(O866,$Y$33:$Z$866,2,0),\"\")","v":""},{"$f":"IFERROR(VLOOKUP(O866,Cadastros!A:E,5,0),\"\")","v":""},{"$f":"IFERROR(VLOOKUP(O866,Cadastros!A:F,6,0),\"\")","v":""},{"$f":"IFERROR(VLOOKUP(O866,Cadastros!A:I,9,0),\"\")","v":""},{"$f":"IFERROR(VLOOKUP(O866,Y$33:AB$866,3,0),\"\")","v":""},{"$f":"IFERROR(VLOOKUP(O866,Y$33:AB$866,4,0),\"\")","v":""},{"$f":"IF(COUNTIF(Y$33:Y$866,O866)=0,\"\",COUNTIF(Y$33:Y$866,O866))","v":""},null,{"$f":"INDEX(Tabela.abordagens[],SMALL(IF(Tabela.abordagens[Mês]=$L$2,ROW(Tabela.abordagens[id])-2),ROW(A819)),1)","v":{"$error":"#NUM!"}},{"$f":"INDEX(Tabela.abordagens[],SMALL(IF(Tabela.abordagens[Mês]=$L$2,ROW(Tabela.abordagens[Idade])-2),ROW(A819)),6)","v":{"$error":"#NUM!"}},{"$f":"INDEX(Tabela.abordagens[],SMALL(IF(Tabela.abordagens[Mês]=$L$2,ROW(Tabela.abordagens[Idade])-2),ROW(A819)),4)","v":{"$error":"#NUM!"}},{"$f":"INDEX(Tabela.abordagens[],SMALL(IF(Tabela.abordagens[Mês]=$L$2,ROW(Tabela.abordagens[Idade])-2),ROW(A819)),5)","v":{"$error":"#NUM!"}}]
[null,"RESUMO"]
[null,"Migrantes",null,null,{"$f":"COUNTIF(G33:G865,\"M\")","v":15}]
[null,"Centro POP",null,null,{"$f":"COUNTIF(G33:G865,\"CP\")","v":5}]
[]
[null,"Em Acompanhamento",null,null,{"$f":"COUNTIF(L33:L865,\"Sim\")","v":0}]
[null,"Sem Acompanhamento",null,null,{"$f":"COUNTIF(L33:L865,\"Não\")","v":0}]
[]
[null,"Frequência"]
[null,"até 5",null,null,{"$f":"COUNTIF(K33:K865,\"<=5\")","v":17}]
[null,"6 a 10",null,null,{"$f":"COUNTIFS(K33:K865,\">=6\",K33:K865,\"<=10\")","v":1}]
[null,"11 a 15",null,null,{"$f":"COUNTIFS(K33:K865,\">=11\",K33:K865,\"<=15\")","v":3}]
[null,"mais que 15",null,null,{"$f":"COUNTIF(K33:K865,\">=15\")","v":1}]
[]
[null,"hist.","Anos"]
[null,"Mês","2016","2017","2015","2014"]
[null,"jan",13,13,15]
[null,"fev",null,20]
[null,"jun",null,null,17]
[null,"jul",null,null,null,59]
[null,"ago",null,null,null,50]
[null,"T. Geral",13,33,32,109]

{"sheet":"Sobre","index":6,"n_rows":0,"n_cols":0,"rows_kept":0,"cut":false,"hidden":false,"merged":[]}